{"text_format":"1","workbook":"xlsx","n_sheets":13,"sheets":["Förbehandling (Sep)","Produktion","Uppgradering","Distribution","Rapport HBL","Rapport DML","Rapport Ej Slutkund","Substrat","Data","Resultat","Avfall Web","Egna Data 1","Egna Data 2"],"not_rendered":{"charts":0,"images":69,"macros":1,"external_links":0,"defined_names":31,"comments":10,"pivot_tables":0},"unopened":[],"bounds":{"document_bytes":16777216,"sheet_cells":100000,"rows_first":2000,"rows_last":500,"rows_between":2000,"halvings":0,"cell_chars":16384,"cell_head_chars":4096},"cells_cut":0,"cells_raw":0,"read":"whole","date_system":"1900"}

{"sheet":"Förbehandling (Sep)","index":0,"n_rows":133,"n_cols":19,"rows_kept":133,"cut":false,"hidden":false,"merged":[[110,0,110,7],[110,8,110,17],[62,6,62,7],[84,0,84,4],[66,1,66,4],[72,1,72,4],[73,1,73,4],[79,1,79,4],[80,1,80,4],[67,1,67,4],[68,1,68,4],[69,1,69,4],[70,1,70,4],[71,1,71,4],[74,1,74,4],[75,1,75,4],[86,2,86,7],[86,8,86,12],[0,0,0,13],[27,7,27,8],[27,0,27,6],[1,1,1,5],[2,1,2,5],[3,9,3,11],[3,0,3,8],[25,0,25,6],[76,1,76,4],[77,1,77,4],[78,1,78,4]]}
["HBK Biogasredovisning, ver 4.2 - Förbehandling av substrat (separat anläggning)"]
["Företag:","NNNN"]
["Rapportperiod","2023-01-01 -- 2023-12-31"]
["Substrat till förbehandling",null,null,null,null,null,null,null,null,"Växthusgasberäkning"]
["Substrat","Region","Parti nr","Ursprung","Substrat, typ","Kategori","Torrsubstans-halt, %","Mängd till förbehandling, ton (våtvikt)","Mängd slurry till biogas-produktion, ton (våtvikt)","Faktor, gCO2eq/ton ts","Gödselbonus, kg CO2eq/ton gödsel","Mängd CO2eq, ton"]
[null,null,1,null,{"$f":"IF(A6<>\"\",VLOOKUP(A6,Substrat!$A$3:$E$68,2,FALSE),\"\")","v":""},{"$f":"IF(A6<>\"\",VLOOKUP(A6,Substrat!$A$3:$I$84,3,FALSE),\"\")","v":""},null,null,{"$f":"IF(A6<>\"\",$F$84/$H$26*H6,\"\")","v":""},{"$f":"IF(A6<>\"\",IF(B6<>\"\",INDEX(Substrat!$B$98:$M$118,MATCH(B6,Region,0),MATCH(A6,Substrat!$B$97:$M$97,0)),VLOOKUP(A6,Substrat!$A$3:$E$68,5,FALSE)),\"\")","v":""},{"$f":"IF(A6<>\"\",VLOOKUP(A6,Substrat!$A$3:$I$84,8,FALSE),\"\")","v":""},{"$f":"IF(A6<>\"\",  IF(K6<0,H6*K6/1000,  IF(AND(NOT(G6>0), J6>0),  #N/A,  H6*G6*J6/1000/1000)), \"\")","v":""}]
[null,null,2,null,{"$f":"IF(A7<>\"\",VLOOKUP(A7,Substrat!$A$3:$E$68,2,FALSE),\"\")","v":""},{"$f":"IF(A7<>\"\",VLOOKUP(A7,Substrat!$A$3:$I$84,3,FALSE),\"\")","v":""},null,null,{"$f":"IF(A7<>\"\",$F$84/$H$26*H7,\"\")","v":""},{"$f":"IF(A7<>\"\",IF(B7<>\"\",INDEX(Substrat!$B$98:$M$118,MATCH(B7,Region,0),MATCH(A7,Substrat!$B$97:$M$97,0)),VLOOKUP(A7,Substrat!$A$3:$E$68,5,FALSE)),\"\")","v":""},{"$f":"IF(A7<>\"\",VLOOKUP(A7,Substrat!$A$3:$I$84,8,FALSE),\"\")","v":""},{"$f":"IF(A7<>\"\",  IF(K7<0,H7*K7/1000,  IF(AND(NOT(G7>0), J7>0),  #N/A,  H7*G7*J7/1000/1000)), \"\")","v":""}]
[null,null,3,null,{"$f":"IF(A8<>\"\",VLOOKUP(A8,Substrat!$A$3:$E$68,2,FALSE),\"\")","v":""},{"$f":"IF(A8<>\"\",VLOOKUP(A8,Substrat!$A$3:$I$84,3,FALSE),\"\")","v":""},null,null,"",{"$f":"IF(A8<>\"\",IF(B8<>\"\",INDEX(Substrat!$B$98:$M$118,MATCH(B8,Region,0),MATCH(A8,Substrat!$B$97:$M$97,0)),VLOOKUP(A8,Substrat!$A$3:$E$68,5,FALSE)),\"\")","v":""},{"$f":"IF(A8<>\"\",VLOOKUP(A8,Substrat!$A$3:$I$84,8,FALSE),\"\")","v":""},""]
[null,null,4,null,{"$f":"IF(A9<>\"\",VLOOKUP(A9,Substrat!$A$3:$E$68,2,FALSE),\"\")","v":""},{"$f":"IF(A9<>\"\",VLOOKUP(A9,Substrat!$A$3:$I$84,3,FALSE),\"\")","v":""},null,null,"",{"$f":"IF(A9<>\"\",IF(B9<>\"\",INDEX(Substrat!$B$98:$M$118,MATCH(B9,Region,0),MATCH(A9,Substrat!$B$97:$M$97,0)),VLOOKUP(A9,Substrat!$A$3:$E$68,5,FALSE)),\"\")","v":""},{"$f":"IF(A9<>\"\",VLOOKUP(A9,Substrat!$A$3:$I$84,8,FALSE),\"\")","v":""},""]
[null,null,5,null,{"$f":"IF(A10<>\"\",VLOOKUP(A10,Substrat!$A$3:$E$68,2,FALSE),\"\")","v":""},{"$f":"IF(A10<>\"\",VLOOKUP(A10,Substrat!$A$3:$I$84,3,FALSE),\"\")","v":""},null,null,"",{"$f":"IF(A10<>\"\",IF(B10<>\"\",INDEX(Substrat!$B$98:$M$118,MATCH(B10,Region,0),MATCH(A10,Substrat!$B$97:$M$97,0)),VLOOKUP(A10,Substrat!$A$3:$E$68,5,FALSE)),\"\")","v":""},{"$f":"IF(A10<>\"\",VLOOKUP(A10,Substrat!$A$3:$I$84,8,FALSE),\"\")","v":""},""]
[null,null,6,null,{"$f":"IF(A11<>\"\",VLOOKUP(A11,Substrat!$A$3:$E$68,2,FALSE),\"\")","v":""},{"$f":"IF(A11<>\"\",VLOOKUP(A11,Substrat!$A$3:$I$84,3,FALSE),\"\")","v":""},null,null,"",{"$f":"IF(A11<>\"\",IF(B11<>\"\",INDEX(Substrat!$B$98:$M$118,MATCH(B11,Region,0),MATCH(A11,Substrat!$B$97:$M$97,0)),VLOOKUP(A11,Substrat!$A$3:$E$68,5,FALSE)),\"\")","v":""},{"$f":"IF(A11<>\"\",VLOOKUP(A11,Substrat!$A$3:$I$84,8,FALSE),\"\")","v":""},""]
[null,null,7,null,{"$f":"IF(A12<>\"\",VLOOKUP(A12,Substrat!$A$3:$E$68,2,FALSE),\"\")","v":""},{"$f":"IF(A12<>\"\",VLOOKUP(A12,Substrat!$A$3:$I$84,3,FALSE),\"\")","v":""},null,null,"",{"$f":"IF(A12<>\"\",IF(B12<>\"\",INDEX(Substrat!$B$98:$M$118,MATCH(B12,Region,0),MATCH(A12,Substrat!$B$97:$M$97,0)),VLOOKUP(A12,Substrat!$A$3:$E$68,5,FALSE)),\"\")","v":""},{"$f":"IF(A12<>\"\",VLOOKUP(A12,Substrat!$A$3:$I$84,8,FALSE),\"\")","v":""},""]
[null,null,8,null,{"$f":"IF(A13<>\"\",VLOOKUP(A13,Substrat!$A$3:$E$68,2,FALSE),\"\")","v":""},{"$f":"IF(A13<>\"\",VLOOKUP(A13,Substrat!$A$3:$I$84,3,FALSE),\"\")","v":""},null,null,"",{"$f":"IF(A13<>\"\",IF(B13<>\"\",INDEX(Substrat!$B$98:$M$118,MATCH(B13,Region,0),MATCH(A13,Substrat!$B$97:$M$97,0)),VLOOKUP(A13,Substrat!$A$3:$E$68,5,FALSE)),\"\")","v":""},{"$f":"IF(A13<>\"\",VLOOKUP(A13,Substrat!$A$3:$I$84,8,FALSE),\"\")","v":""},""]
[null,null,9,null,{"$f":"IF(A14<>\"\",VLOOKUP(A14,Substrat!$A$3:$E$68,2,FALSE),\"\")","v":""},{"$f":"IF(A14<>\"\",VLOOKUP(A14,Substrat!$A$3:$I$84,3,FALSE),\"\")","v":""},null,null,"",{"$f":"IF(A14<>\"\",IF(B14<>\"\",INDEX(Substrat!$B$98:$M$118,MATCH(B14,Region,0),MATCH(A14,Substrat!$B$97:$M$97,0)),VLOOKUP(A14,Substrat!$A$3:$E$68,5,FALSE)),\"\")","v":""},{"$f":"IF(A14<>\"\",VLOOKUP(A14,Substrat!$A$3:$I$84,8,FALSE),\"\")","v":""},""]
[null,null,10,null,{"$f":"IF(A15<>\"\",VLOOKUP(A15,Substrat!$A$3:$E$68,2,FALSE),\"\")","v":""},{"$f":"IF(A15<>\"\",VLOOKUP(A15,Substrat!$A$3:$I$84,3,FALSE),\"\")","v":""},null,null,"",{"$f":"IF(A15<>\"\",IF(B15<>\"\",INDEX(Substrat!$B$98:$M$118,MATCH(B15,Region,0),MATCH(A15,Substrat!$B$97:$M$97,0)),VLOOKUP(A15,Substrat!$A$3:$E$68,5,FALSE)),\"\")","v":""},{"$f":"IF(A15<>\"\",VLOOKUP(A15,Substrat!$A$3:$I$84,8,FALSE),\"\")","v":""},""]
[null,null,11,null,{"$f":"IF(A16<>\"\",VLOOKUP(A16,Substrat!$A$3:$E$68,2,FALSE),\"\")","v":""},{"$f":"IF(A16<>\"\",VLOOKUP(A16,Substrat!$A$3:$I$84,3,FALSE),\"\")","v":""},null,null,"",{"$f":"IF(A16<>\"\",IF(B16<>\"\",INDEX(Substrat!$B$98:$M$118,MATCH(B16,Region,0),MATCH(A16,Substrat!$B$97:$M$97,0)),VLOOKUP(A16,Substrat!$A$3:$E$68,5,FALSE)),\"\")","v":""},{"$f":"IF(A16<>\"\",VLOOKUP(A16,Substrat!$A$3:$I$84,8,FALSE),\"\")","v":""},""]
[null,null,12,null,{"$f":"IF(A17<>\"\",VLOOKUP(A17,Substrat!$A$3:$E$68,2,FALSE),\"\")","v":""},{"$f":"IF(A17<>\"\",VLOOKUP(A17,Substrat!$A$3:$I$84,3,FALSE),\"\")","v":""},null,null,"",{"$f":"IF(A17<>\"\",IF(B17<>\"\",INDEX(Substrat!$B$98:$M$118,MATCH(B17,Region,0),MATCH(A17,Substrat!$B$97:$M$97,0)),VLOOKUP(A17,Substrat!$A$3:$E$68,5,FALSE)),\"\")","v":""},{"$f":"IF(A17<>\"\",VLOOKUP(A17,Substrat!$A$3:$I$84,8,FALSE),\"\")","v":""},""]
[null,null,13,null,{"$f":"IF(A18<>\"\",VLOOKUP(A18,Substrat!$A$3:$E$68,2,FALSE),\"\")","v":""},{"$f":"IF(A18<>\"\",VLOOKUP(A18,Substrat!$A$3:$I$84,3,FALSE),\"\")","v":""},null,null,"",{"$f":"IF(A18<>\"\",IF(B18<>\"\",INDEX(Substrat!$B$98:$M$118,MATCH(B18,Region,0),MATCH(A18,Substrat!$B$97:$M$97,0)),VLOOKUP(A18,Substrat!$A$3:$E$68,5,FALSE)),\"\")","v":""},{"$f":"IF(A18<>\"\",VLOOKUP(A18,Substrat!$A$3:$I$84,8,FALSE),\"\")","v":""},""]
[null,null,14,null,{"$f":"IF(A19<>\"\",VLOOKUP(A19,Substrat!$A$3:$E$68,2,FALSE),\"\")","v":""},{"$f":"IF(A19<>\"\",VLOOKUP(A19,Substrat!$A$3:$I$84,3,FALSE),\"\")","v":""},null,null,"",{"$f":"IF(A19<>\"\",IF(B19<>\"\",INDEX(Substrat!$B$98:$M$118,MATCH(B19,Region,0),MATCH(A19,Substrat!$B$97:$M$97,0)),VLOOKUP(A19,Substrat!$A$3:$E$68,5,FALSE)),\"\")","v":""},{"$f":"IF(A19<>\"\",VLOOKUP(A19,Substrat!$A$3:$I$84,8,FALSE),\"\")","v":""},""]
[null,null,15,null,{"$f":"IF(A20<>\"\",VLOOKUP(A20,Substrat!$A$3:$E$68,2,FALSE),\"\")","v":""},{"$f":"IF(A20<>\"\",VLOOKUP(A20,Substrat!$A$3:$I$84,3,FALSE),\"\")","v":""},null,null,"",{"$f":"IF(A20<>\"\",IF(B20<>\"\",INDEX(Substrat!$B$98:$M$118,MATCH(B20,Region,0),MATCH(A20,Substrat!$B$97:$M$97,0)),VLOOKUP(A20,Substrat!$A$3:$E$68,5,FALSE)),\"\")","v":""},{"$f":"IF(A20<>\"\",VLOOKUP(A20,Substrat!$A$3:$I$84,8,FALSE),\"\")","v":""},""]
[null,null,16,null,{"$f":"IF(A21<>\"\",VLOOKUP(A21,Substrat!$A$3:$E$68,2,FALSE),\"\")","v":""},{"$f":"IF(A21<>\"\",VLOOKUP(A21,Substrat!$A$3:$I$84,3,FALSE),\"\")","v":""},null,null,"",{"$f":"IF(A21<>\"\",IF(B21<>\"\",INDEX(Substrat!$B$98:$M$118,MATCH(B21,Region,0),MATCH(A21,Substrat!$B$97:$M$97,0)),VLOOKUP(A21,Substrat!$A$3:$E$68,5,FALSE)),\"\")","v":""},{"$f":"IF(A21<>\"\",VLOOKUP(A21,Substrat!$A$3:$I$84,8,FALSE),\"\")","v":""},""]
[null,null,17,null,{"$f":"IF(A22<>\"\",VLOOKUP(A22,Substrat!$A$3:$E$68,2,FALSE),\"\")","v":""},{"$f":"IF(A22<>\"\",VLOOKUP(A22,Substrat!$A$3:$I$84,3,FALSE),\"\")","v":""},null,null,"",{"$f":"IF(A22<>\"\",IF(B22<>\"\",INDEX(Substrat!$B$98:$M$118,MATCH(B22,Region,0),MATCH(A22,Substrat!$B$97:$M$97,0)),VLOOKUP(A22,Substrat!$A$3:$E$68,5,FALSE)),\"\")","v":""},{"$f":"IF(A22<>\"\",VLOOKUP(A22,Substrat!$A$3:$I$84,8,FALSE),\"\")","v":""},""]
[null,null,18,null,{"$f":"IF(A23<>\"\",VLOOKUP(A23,Substrat!$A$3:$E$68,2,FALSE),\"\")","v":""},{"$f":"IF(A23<>\"\",VLOOKUP(A23,Substrat!$A$3:$I$84,3,FALSE),\"\")","v":""},null,null,"",{"$f":"IF(A23<>\"\",IF(B23<>\"\",INDEX(Substrat!$B$98:$M$118,MATCH(B23,Region,0),MATCH(A23,Substrat!$B$97:$M$97,0)),VLOOKUP(A23,Substrat!$A$3:$E$68,5,FALSE)),\"\")","v":""},{"$f":"IF(A23<>\"\",VLOOKUP(A23,Substrat!$A$3:$I$84,8,FALSE),\"\")","v":""},""]
[null,null,19,null,{"$f":"IF(A24<>\"\",VLOOKUP(A24,Substrat!$A$3:$E$68,2,FALSE),\"\")","v":""},{"$f":"IF(A24<>\"\",VLOOKUP(A24,Substrat!$A$3:$I$84,3,FALSE),\"\")","v":""},null,null,"",{"$f":"IF(A24<>\"\",IF(B24<>\"\",INDEX(Substrat!$B$98:$M$118,MATCH(B24,Region,0),MATCH(A24,Substrat!$B$97:$M$97,0)),VLOOKUP(A24,Substrat!$A$3:$E$68,5,FALSE)),\"\")","v":""},{"$f":"IF(A24<>\"\",VLOOKUP(A24,Substrat!$A$3:$I$84,8,FALSE),\"\")","v":""},""]
[null,null,20,null,{"$f":"IF(A25<>\"\",VLOOKUP(A25,Substrat!$A$3:$E$68,2,FALSE),\"\")","v":""},{"$f":"IF(A25<>\"\",VLOOKUP(A25,Substrat!$A$3:$I$84,3,FALSE),\"\")","v":""},null,null,"",{"$f":"IF(A25<>\"\",IF(B25<>\"\",INDEX(Substrat!$B$98:$M$118,MATCH(B25,Region,0),MATCH(A25,Substrat!$B$97:$M$97,0)),VLOOKUP(A25,Substrat!$A$3:$E$68,5,FALSE)),\"\")","v":""},{"$f":"IF(A25<>\"\",VLOOKUP(A25,Substrat!$A$3:$I$84,8,FALSE),\"\")","v":""},""]
["Summa ",null,null,null,null,null,null,{"$f":"SUM(H6:H25)","v":0},{"$f":"SUM(I6:I25)","v":0}]
[]
["Transporter av substrat till anläggning eller till lager på anläggning",null,null,null,null,null,null,"Växthusgasberäkning"]
["Substrat    OBS! Dubbelklicka i de gröna fälten för att få upp en lista med substrat","Parti nr","Mängd substrat, ton","Avstånd, km (MWh el)","Transportsätt","Bränsle","Returfrakt, ja/nej","Faktor, gCO2eq/tonkm (/ MWh)","Mängd CO2eq, ton"]
[null,null,null,null,null,null,null,{"$f":"IF(A30<>\"\", IF(E30=\"Rörledning\",Data!$B$49,   IF(G30=\"Ja\", VLOOKUP(E30,Data!$A$132:$C$151,2,FALSE),  IF(G30=\"Nej\", (VLOOKUP(E30,Data!$A$132:$C$151,2,FALSE)+VLOOKUP(E30,Data!$A$132:$C$151,3,FALSE)), #N/A)) * VLOOKUP(F30,Data!$A$51:$C$70,3,FALSE)),\"\")","v":""},{"$f":"IF(E30=\"Rörledning\",D30*H30/1000/1000,     IF(A30<>\"\", C30*D30*H30/1000/1000,\"\"))","v":""}]
[null,null,null,null,null,null,null,{"$f":"IF(A31<>\"\", IF(E31=\"Rörledning\",Data!$B$49,   IF(G31=\"Ja\", VLOOKUP(E31,Data!$A$132:$C$151,2,FALSE),  IF(G31=\"Nej\", (VLOOKUP(E31,Data!$A$132:$C$151,2,FALSE)+VLOOKUP(E31,Data!$A$132:$C$151,3,FALSE)), #N/A)) * VLOOKUP(F31,Data!$A$51:$C$70,3,FALSE)),\"\")","v":""},{"$f":"IF(E31=\"Rörledning\",D31*H31/1000/1000,     IF(A31<>\"\", C31*D31*H31/1000/1000,\"\"))","v":""}]
[null,null,null,null,null,null,null,{"$f":"IF(A32<>\"\", IF(E32=\"Rörledning\",Data!$B$49,   IF(G32=\"Ja\", VLOOKUP(E32,Data!$A$132:$C$151,2,FALSE),  IF(G32=\"Nej\", (VLOOKUP(E32,Data!$A$132:$C$151,2,FALSE)+VLOOKUP(E32,Data!$A$132:$C$151,3,FALSE)), #N/A)) * VLOOKUP(F32,Data!$A$51:$C$70,3,FALSE)),\"\")","v":""},""]
[null,null,null,null,null,null,null,{"$f":"IF(A33<>\"\", IF(E33=\"Rörledning\",Data!$B$49,   IF(G33=\"Ja\", VLOOKUP(E33,Data!$A$132:$C$151,2,FALSE),  IF(G33=\"Nej\", (VLOOKUP(E33,Data!$A$132:$C$151,2,FALSE)+VLOOKUP(E33,Data!$A$132:$C$151,3,FALSE)), #N/A)) * VLOOKUP(F33,Data!$A$51:$C$70,3,FALSE)),\"\")","v":""},""]
[null,null,null,null,null,null,null,{"$f":"IF(A34<>\"\", IF(E34=\"Rörledning\",Data!$B$49,   IF(G34=\"Ja\", VLOOKUP(E34,Data!$A$132:$C$151,2,FALSE),  IF(G34=\"Nej\", (VLOOKUP(E34,Data!$A$132:$C$151,2,FALSE)+VLOOKUP(E34,Data!$A$132:$C$151,3,FALSE)), #N/A)) * VLOOKUP(F34,Data!$A$51:$C$70,3,FALSE)),\"\")","v":""},""]
[null,null,null,null,null,null,null,{"$f":"IF(A35<>\"\", IF(E35=\"Rörledning\",Data!$B$49,   IF(G35=\"Ja\", VLOOKUP(E35,Data!$A$132:$C$151,2,FALSE),  IF(G35=\"Nej\", (VLOOKUP(E35,Data!$A$132:$C$151,2,FALSE)+VLOOKUP(E35,Data!$A$132:$C$151,3,FALSE)), #N/A)) * VLOOKUP(F35,Data!$A$51:$C$70,3,FALSE)),\"\")","v":""},""]
[null,null,null,null,null,null,null,{"$f":"IF(A36<>\"\", IF(E36=\"Rörledning\",Data!$B$49,   IF(G36=\"Ja\", VLOOKUP(E36,Data!$A$132:$C$151,2,FALSE),  IF(G36=\"Nej\", (VLOOKUP(E36,Data!$A$132:$C$151,2,FALSE)+VLOOKUP(E36,Data!$A$132:$C$151,3,FALSE)), #N/A)) * VLOOKUP(F36,Data!$A$51:$C$70,3,FALSE)),\"\")","v":""},""]
[null,null,null,null,null,null,null,{"$f":"IF(A37<>\"\", IF(E37=\"Rörledning\",Data!$B$49,   IF(G37=\"Ja\", VLOOKUP(E37,Data!$A$132:$C$151,2,FALSE),  IF(G37=\"Nej\", (VLOOKUP(E37,Data!$A$132:$C$151,2,FALSE)+VLOOKUP(E37,Data!$A$132:$C$151,3,FALSE)), #N/A)) * VLOOKUP(F37,Data!$A$51:$C$70,3,FALSE)),\"\")","v":""},""]
[null,null,null,null,null,null,null,{"$f":"IF(A38<>\"\", IF(E38=\"Rörledning\",Data!$B$49,   IF(G38=\"Ja\", VLOOKUP(E38,Data!$A$132:$C$151,2,FALSE),  IF(G38=\"Nej\", (VLOOKUP(E38,Data!$A$132:$C$151,2,FALSE)+VLOOKUP(E38,Data!$A$132:$C$151,3,FALSE)), #N/A)) * VLOOKUP(F38,Data!$A$51:$C$70,3,FALSE)),\"\")","v":""},""]
[null,null,null,null,null,null,null,{"$f":"IF(A39<>\"\", IF(E39=\"Rörledning\",Data!$B$49,   IF(G39=\"Ja\", VLOOKUP(E39,Data!$A$132:$C$151,2,FALSE),  IF(G39=\"Nej\", (VLOOKUP(E39,Data!$A$132:$C$151,2,FALSE)+VLOOKUP(E39,Data!$A$132:$C$151,3,FALSE)), #N/A)) * VLOOKUP(F39,Data!$A$51:$C$70,3,FALSE)),\"\")","v":""},""]
[null,null,null,null,null,null,null,{"$f":"IF(A40<>\"\", IF(E40=\"Rörledning\",Data!$B$49,   IF(G40=\"Ja\", VLOOKUP(E40,Data!$A$132:$C$151,2,FALSE),  IF(G40=\"Nej\", (VLOOKUP(E40,Data!$A$132:$C$151,2,FALSE)+VLOOKUP(E40,Data!$A$132:$C$151,3,FALSE)), #N/A)) * VLOOKUP(F40,Data!$A$51:$C$70,3,FALSE)),\"\")","v":""},""]
[null,null,null,null,null,null,null,{"$f":"IF(A41<>\"\", IF(E41=\"Rörledning\",Data!$B$49,   IF(G41=\"Ja\", VLOOKUP(E41,Data!$A$132:$C$151,2,FALSE),  IF(G41=\"Nej\", (VLOOKUP(E41,Data!$A$132:$C$151,2,FALSE)+VLOOKUP(E41,Data!$A$132:$C$151,3,FALSE)), #N/A)) * VLOOKUP(F41,Data!$A$51:$C$70,3,FALSE)),\"\")","v":""},""]
[null,null,null,null,null,null,null,{"$f":"IF(A42<>\"\", IF(E42=\"Rörledning\",Data!$B$49,   IF(G42=\"Ja\", VLOOKUP(E42,Data!$A$132:$C$151,2,FALSE),  IF(G42=\"Nej\", (VLOOKUP(E42,Data!$A$132:$C$151,2,FALSE)+VLOOKUP(E42,Data!$A$132:$C$151,3,FALSE)), #N/A)) * VLOOKUP(F42,Data!$A$51:$C$70,3,FALSE)),\"\")","v":""},""]
[null,null,null,null,null,null,null,{"$f":"IF(A43<>\"\", IF(E43=\"Rörledning\",Data!$B$49,   IF(G43=\"Ja\", VLOOKUP(E43,Data!$A$132:$C$151,2,FALSE),  IF(G43=\"Nej\", (VLOOKUP(E43,Data!$A$132:$C$151,2,FALSE)+VLOOKUP(E43,Data!$A$132:$C$151,3,FALSE)), #N/A)) * VLOOKUP(F43,Data!$A$51:$C$70,3,FALSE)),\"\")","v":""},""]
[null,null,null,null,null,null,null,{"$f":"IF(A44<>\"\", IF(E44=\"Rörledning\",Data!$B$49,   IF(G44=\"Ja\", VLOOKUP(E44,Data!$A$132:$C$151,2,FALSE),  IF(G44=\"Nej\", (VLOOKUP(E44,Data!$A$132:$C$151,2,FALSE)+VLOOKUP(E44,Data!$A$132:$C$151,3,FALSE)), #N/A)) * VLOOKUP(F44,Data!$A$51:$C$70,3,FALSE)),\"\")","v":""},""]
[null,null,null,null,null,null,null,{"$f":"IF(A45<>\"\", IF(E45=\"Rörledning\",Data!$B$49,   IF(G45=\"Ja\", VLOOKUP(E45,Data!$A$132:$C$151,2,FALSE),  IF(G45=\"Nej\", (VLOOKUP(E45,Data!$A$132:$C$151,2,FALSE)+VLOOKUP(E45,Data!$A$132:$C$151,3,FALSE)), #N/A)) * VLOOKUP(F45,Data!$A$51:$C$70,3,FALSE)),\"\")","v":""},""]
[null,null,null,null,null,null,null,{"$f":"IF(A46<>\"\", IF(E46=\"Rörledning\",Data!$B$49,   IF(G46=\"Ja\", VLOOKUP(E46,Data!$A$132:$C$151,2,FALSE),  IF(G46=\"Nej\", (VLOOKUP(E46,Data!$A$132:$C$151,2,FALSE)+VLOOKUP(E46,Data!$A$132:$C$151,3,FALSE)), #N/A)) * VLOOKUP(F46,Data!$A$51:$C$70,3,FALSE)),\"\")","v":""},""]
[null,null,null,null,null,null,null,{"$f":"IF(A47<>\"\", IF(E47=\"Rörledning\",Data!$B$49,   IF(G47=\"Ja\", VLOOKUP(E47,Data!$A$132:$C$151,2,FALSE),  IF(G47=\"Nej\", (VLOOKUP(E47,Data!$A$132:$C$151,2,FALSE)+VLOOKUP(E47,Data!$A$132:$C$151,3,FALSE)), #N/A)) * VLOOKUP(F47,Data!$A$51:$C$70,3,FALSE)),\"\")","v":""},""]
[null,null,null,null,null,null,null,{"$f":"IF(A48<>\"\", IF(E48=\"Rörledning\",Data!$B$49,   IF(G48=\"Ja\", VLOOKUP(E48,Data!$A$132:$C$151,2,FALSE),  IF(G48=\"Nej\", (VLOOKUP(E48,Data!$A$132:$C$151,2,FALSE)+VLOOKUP(E48,Data!$A$132:$C$151,3,FALSE)), #N/A)) * VLOOKUP(F48,Data!$A$51:$C$70,3,FALSE)),\"\")","v":""},""]
[null,null,null,null,null,null,null,{"$f":"IF(A49<>\"\", IF(E49=\"Rörledning\",Data!$B$49,   IF(G49=\"Ja\", VLOOKUP(E49,Data!$A$132:$C$151,2,FALSE),  IF(G49=\"Nej\", (VLOOKUP(E49,Data!$A$132:$C$151,2,FALSE)+VLOOKUP(E49,Data!$A$132:$C$151,3,FALSE)), #N/A)) * VLOOKUP(F49,Data!$A$51:$C$70,3,FALSE)),\"\")","v":""},""]
[null,null,null,null,null,null,null,{"$f":"IF(A50<>\"\", IF(E50=\"Rörledning\",Data!$B$49,   IF(G50=\"Ja\", VLOOKUP(E50,Data!$A$132:$C$151,2,FALSE),  IF(G50=\"Nej\", (VLOOKUP(E50,Data!$A$132:$C$151,2,FALSE)+VLOOKUP(E50,Data!$A$132:$C$151,3,FALSE)), #N/A)) * VLOOKUP(F50,Data!$A$51:$C$70,3,FALSE)),\"\")","v":""},""]
[null,null,null,null,null,null,null,{"$f":"IF(A51<>\"\", IF(E51=\"Rörledning\",Data!$B$49,   IF(G51=\"Ja\", VLOOKUP(E51,Data!$A$132:$C$151,2,FALSE),  IF(G51=\"Nej\", (VLOOKUP(E51,Data!$A$132:$C$151,2,FALSE)+VLOOKUP(E51,Data!$A$132:$C$151,3,FALSE)), #N/A)) * VLOOKUP(F51,Data!$A$51:$C$70,3,FALSE)),\"\")","v":""},""]
[null,null,null,null,null,null,null,{"$f":"IF(A52<>\"\", IF(E52=\"Rörledning\",Data!$B$49,   IF(G52=\"Ja\", VLOOKUP(E52,Data!$A$132:$C$151,2,FALSE),  IF(G52=\"Nej\", (VLOOKUP(E52,Data!$A$132:$C$151,2,FALSE)+VLOOKUP(E52,Data!$A$132:$C$151,3,FALSE)), #N/A)) * VLOOKUP(F52,Data!$A$51:$C$70,3,FALSE)),\"\")","v":""},""]
[null,null,null,null,null,null,null,{"$f":"IF(A53<>\"\", IF(E53=\"Rörledning\",Data!$B$49,   IF(G53=\"Ja\", VLOOKUP(E53,Data!$A$132:$C$151,2,FALSE),  IF(G53=\"Nej\", (VLOOKUP(E53,Data!$A$132:$C$151,2,FALSE)+VLOOKUP(E53,Data!$A$132:$C$151,3,FALSE)), #N/A)) * VLOOKUP(F53,Data!$A$51:$C$70,3,FALSE)),\"\")","v":""},""]
[null,null,null,null,null,null,null,{"$f":"IF(A54<>\"\", IF(E54=\"Rörledning\",Data!$B$49,   IF(G54=\"Ja\", VLOOKUP(E54,Data!$A$132:$C$151,2,FALSE),  IF(G54=\"Nej\", (VLOOKUP(E54,Data!$A$132:$C$151,2,FALSE)+VLOOKUP(E54,Data!$A$132:$C$151,3,FALSE)), #N/A)) * VLOOKUP(F54,Data!$A$51:$C$70,3,FALSE)),\"\")","v":""},""]
[null,null,null,null,null,null,null,{"$f":"IF(A55<>\"\", IF(E55=\"Rörledning\",Data!$B$49,   IF(G55=\"Ja\", VLOOKUP(E55,Data!$A$132:$C$151,2,FALSE),  IF(G55=\"Nej\", (VLOOKUP(E55,Data!$A$132:$C$151,2,FALSE)+VLOOKUP(E55,Data!$A$132:$C$151,3,FALSE)), #N/A)) * VLOOKUP(F55,Data!$A$51:$C$70,3,FALSE)),\"\")","v":""},""]
[null,null,null,null,null,null,null,{"$f":"IF(A56<>\"\", IF(E56=\"Rörledning\",Data!$B$49,   IF(G56=\"Ja\", VLOOKUP(E56,Data!$A$132:$C$151,2,FALSE),  IF(G56=\"Nej\", (VLOOKUP(E56,Data!$A$132:$C$151,2,FALSE)+VLOOKUP(E56,Data!$A$132:$C$151,3,FALSE)), #N/A)) * VLOOKUP(F56,Data!$A$51:$C$70,3,FALSE)),\"\")","v":""},""]
[null,null,null,null,null,null,null,{"$f":"IF(A57<>\"\", IF(E57=\"Rörledning\",Data!$B$49,   IF(G57=\"Ja\", VLOOKUP(E57,Data!$A$132:$C$151,2,FALSE),  IF(G57=\"Nej\", (VLOOKUP(E57,Data!$A$132:$C$151,2,FALSE)+VLOOKUP(E57,Data!$A$132:$C$151,3,FALSE)), #N/A)) * VLOOKUP(F57,Data!$A$51:$C$70,3,FALSE)),\"\")","v":""},""]
[null,null,null,null,null,null,null,{"$f":"IF(A58<>\"\", IF(E58=\"Rörledning\",Data!$B$49,   IF(G58=\"Ja\", VLOOKUP(E58,Data!$A$132:$C$151,2,FALSE),  IF(G58=\"Nej\", (VLOOKUP(E58,Data!$A$132:$C$151,2,FALSE)+VLOOKUP(E58,Data!$A$132:$C$151,3,FALSE)), #N/A)) * VLOOKUP(F58,Data!$A$51:$C$70,3,FALSE)),\"\")","v":""},""]
[null,null,null,null,null,null,null,{"$f":"IF(A59<>\"\", IF(E59=\"Rörledning\",Data!$B$49,   IF(G59=\"Ja\", VLOOKUP(E59,Data!$A$132:$C$151,2,FALSE),  IF(G59=\"Nej\", (VLOOKUP(E59,Data!$A$132:$C$151,2,FALSE)+VLOOKUP(E59,Data!$A$132:$C$151,3,FALSE)), #N/A)) * VLOOKUP(F59,Data!$A$51:$C$70,3,FALSE)),\"\")","v":""},""]
["Summa transport",null,{"$f":"SUM(C30:C59)","v":0},null,null,null,null,null,{"$f":"SUM(I30:I59)","v":0}]
[]
[]
["Förbehandling (process)",null,null,null,null,null,"Växthusgasberäkning"]
[null,null,null,null,null,"Mängd","Faktor, gCO2eq/enhet","Mängd CO2eq, ton"]
["Elenergi, MWh",null,null,null,null,null,{"$f":"Data!$B$49","v":26000},{"$f":"F65*G65/1000/1000","v":0}]
["Värme (MWh):"]
[null,null,null,null,null,null,{"$f":"IF(A67<>\"\",VLOOKUP(A67,Data!$A$19:$B$47,2,FALSE),\"\")","v":""},{"$f":"IF(A67<>\"\",F67*G67/1000/1000,\"\")","v":""}]
[null,null,null,null,null,null,{"$f":"IF(A68<>\"\",VLOOKUP(A68,Data!$A$19:$B$47,2,FALSE),\"\")","v":""},""]
[null,null,null,null,null,null,{"$f":"IF(A69<>\"\",VLOOKUP(A69,Data!$A$19:$B$47,2,FALSE),\"\")","v":""},""]
[null,null,null,null,null,null,{"$f":"IF(A70<>\"\",VLOOKUP(A70,Data!$A$19:$B$47,2,FALSE),\"\")","v":""},""]
[null,null,null,null,null,null,{"$f":"IF(A71<>\"\",VLOOKUP(A71,Data!$A$19:$B$47,2,FALSE),\"\")","v":""},""]
[null,null,null,null,null,null,{"$f":"IF(A72<>\"\",VLOOKUP(A72,Data!$A$19:$B$47,2,FALSE),\"\")","v":""},""]
["Insatsvaror:"]
[null,null,null,null,null,null,{"$f":"IF(A74<>\"\",VLOOKUP(A74,Data!$A$72:$B$113,2,FALSE),\"\")","v":""},{"$f":"IF(A74<>\"\",F74*G74/1000/1000,\"\")","v":""}]
[null,null,null,null,null,null,{"$f":"IF(A75<>\"\",VLOOKUP(A75,Data!$A$72:$B$113,2,FALSE),\"\")","v":""},""]
[null,null,null,null,null,null,{"$f":"IF(A76<>\"\",VLOOKUP(A76,Data!$A$72:$B$113,2,FALSE),\"\")","v":""},""]
[null,null,null,null,null,null,{"$f":"IF(A77<>\"\",VLOOKUP(A77,Data!$A$72:$B$113,2,FALSE),\"\")","v":""},""]
[null,null,null,null,null,null,{"$f":"IF(A78<>\"\",VLOOKUP(A78,Data!$A$72:$B$113,2,FALSE),\"\")","v":""},""]
[null,null,null,null,null,null,{"$f":"IF(A79<>\"\",VLOOKUP(A79,Data!$A$72:$B$113,2,FALSE),\"\")","v":""},""]
["Bränsle till arbetsmaskiner"]
[null,null,null,null,null,null,{"$f":"IF(A81<>\"\",VLOOKUP(A81,Data!$A$51:$B$70,2,FALSE),\"\")","v":""},{"$f":"IF(A81<>\"\",F81*G81/1000/1000,\"\")","v":""}]
["Summa produktion",null,null,null,null,null,null,{"$f":"SUM(H65:H81)","v":0}]
[]
["Summa slurry levererat till biogasproduktion, ton våtvikt"]
["Slurryns TS-halt, %"]
[]
["Biogasproduktion, sammanställning","Parti nr","Mängder",null,null,null,null,null,"Växthusgasutsläpp"]
["Substrat",null,"Ursprung","Substrat, typ","Kategori","Torrsubstans-halt, intervall, %","Torrsubstanshalt, genomsnitt","Mängd slurry till biogas-produktion, ton (våtvikt)","Från substrat, mängd CO2eq, ton","Från transporter av substrat, mängd CO2eq, ton","Från process, mängd CO2eq, ton","Summa växthusgasut-släpp, CO2eq, ton","Växthusgas-utsläpp, g CO2eq/ton substrat till biogasproduktion (våtvikt)"]
[{"$f":"IF(A6<>\"\",A6,\"\")","v":""},{"$f":"IF(C6<>\"\",C6,\"\")","v":1},{"$f":"IF(D6<>\"\",D6,\"\")","v":""},{"$f":"IF(E6<>\"\",E6,\"\")","v":""},{"$f":"IF(A89<>\"\",F6,\"\")","v":""},{"$f":"IF(A89<>\"\",VLOOKUP(A89,Substrat!$A$3:$M$68,6,FALSE),\"\")","v":""},{"$f":"IF(F89<>\"\",((VALUE(LEFT(F89,FIND(\"-\",F89,1)-1))+VALUE(RIGHT(F89,LEN(F89)-FIND(\"-\",F89,1))))/2)/100,\"\")","v":""},{"$f":"IF(A89<>\"\",I6,\"\")","v":""},{"$f":"IF(A89<>\"\",L6,\"\")","v":""},{"$f":"IF(A89<>\"\",SUMIF($B$30:$B$59,B89,$I$30:$I$59),\"\")","v":""},{"$f":"IF(A89<>\"\",$H$82/$F$84*H89,\"\")","v":""},{"$f":"IF(A89<>\"\",SUM(I89:K89),\"\")","v":""},{"$f":"IF(A89<>\"\",  L89*1000*1000/H89,  \"\")","v":""}]
["",{"$f":"IF(C7<>\"\",C7,\"\")","v":2},{"$f":"IF(D7<>\"\",D7,\"\")","v":""},{"$f":"IF(E7<>\"\",E7,\"\")","v":""},{"$f":"IF(A90<>\"\",F7,\"\")","v":""},{"$f":"IF(A90<>\"\",VLOOKUP(A90,Substrat!$A$3:$M$68,6,FALSE),\"\")","v":""},{"$f":"IF(F90<>\"\",((VALUE(LEFT(F90,FIND(\"-\",F90,1)-1))+VALUE(RIGHT(F90,LEN(F90)-FIND(\"-\",F90,1))))/2)/100,\"\")","v":""},{"$f":"IF(A90<>\"\",I7,\"\")","v":""},{"$f":"IF(A90<>\"\",L7,\"\")","v":""},{"$f":"IF(A90<>\"\",SUMIF($B$30:$B$59,B90,$I$30:$I$59),\"\")","v":""},{"$f":"IF(A90<>\"\",$H$82/$F$84*H90,\"\")","v":""},{"$f":"IF(A90<>\"\",SUM(I90:K90),\"\")","v":""},{"$f":"IF(A90<>\"\",  L90*1000*1000/H90,  \"\")","v":""}]
["",3,"","","",{"$f":"IF(A91<>\"\",VLOOKUP(A91,Substrat!$A$3:$M$68,6,FALSE),\"\")","v":""},"","","","","","",""]
["",4,"","","",{"$f":"IF(A92<>\"\",VLOOKUP(A92,Substrat!$A$3:$M$68,6,FALSE),\"\")","v":""},"","","","","","",""]
["",5,"","","",{"$f":"IF(A93<>\"\",VLOOKUP(A93,Substrat!$A$3:$M$68,6,FALSE),\"\")","v":""},"","","","","","",""]
["",6,"","","",{"$f":"IF(A94<>\"\",VLOOKUP(A94,Substrat!$A$3:$M$68,6,FALSE),\"\")","v":""},"","","","","","",""]
["",7,"","","",{"$f":"IF(A95<>\"\",VLOOKUP(A95,Substrat!$A$3:$M$68,6,FALSE),\"\")","v":""},"","","","","","",""]
["",8,"","","",{"$f":"IF(A96<>\"\",VLOOKUP(A96,Substrat!$A$3:$M$68,6,FALSE),\"\")","v":""},"","","","","","",""]
["",9,"","","",{"$f":"IF(A97<>\"\",VLOOKUP(A97,Substrat!$A$3:$M$68,6,FALSE),\"\")","v":""},"","","","","","",""]
["",10,"","","",{"$f":"IF(A98<>\"\",VLOOKUP(A98,Substrat!$A$3:$M$68,6,FALSE),\"\")","v":""},"","","","","","",""]
["",11,"","","",{"$f":"IF(A99<>\"\",VLOOKUP(A99,Substrat!$A$3:$M$68,6,FALSE),\"\")","v":""},"","","","","","",""]
["",12,"","","",{"$f":"IF(A100<>\"\",VLOOKUP(A100,Substrat!$A$3:$M$68,6,FALSE),\"\")","v":""},"","","","","","",""]
["",13,"","","",{"$f":"IF(A101<>\"\",VLOOKUP(A101,Substrat!$A$3:$M$68,6,FALSE),\"\")","v":""},"","","","","","",""]
["",14,"","","",{"$f":"IF(A102<>\"\",VLOOKUP(A102,Substrat!$A$3:$M$68,6,FALSE),\"\")","v":""},"","","","","","",""]
["",15,"","","",{"$f":"IF(A103<>\"\",VLOOKUP(A103,Substrat!$A$3:$M$68,6,FALSE),\"\")","v":""},"","","","","","",""]
["",16,"","","",{"$f":"IF(A104<>\"\",VLOOKUP(A104,Substrat!$A$3:$M$68,6,FALSE),\"\")","v":""},"","","","","","",""]
["",17,"","","",{"$f":"IF(A105<>\"\",VLOOKUP(A105,Substrat!$A$3:$M$68,6,FALSE),\"\")","v":""},"","","","","","",""]
["",18,"","","",{"$f":"IF(A106<>\"\",VLOOKUP(A106,Substrat!$A$3:$M$68,6,FALSE),\"\")","v":""},"","","","","","",""]
["",19,"","","",{"$f":"IF(A107<>\"\",VLOOKUP(A107,Substrat!$A$3:$M$68,6,FALSE),\"\")","v":""},"","","","","","",""]
["",20,"","","",{"$f":"IF(A108<>\"\",VLOOKUP(A108,Substrat!$A$3:$M$68,6,FALSE),\"\")","v":""},"","","","","","",""]
["Summa",null,null,null,null,null,null,{"$f":"SUM(H89:H108)","v":0},{"$f":"SUM(I89:I108)","v":0},{"$f":"SUM(J89:J108)","v":0},{"$f":"SUM(K89:K108)","v":0},{"$f":"SUM(L89:L108)","v":0}]
[1]
["Hållbarhetsdata till annan aktör som producerar biogas av slurry",null,null,null,null,null,null,null,"Fördelning av slurry på kunder"]
["Substrat","Ursprung","Substrat, typ","Kategori","Mängd slurry till biogas-produktion, ton (våtvikt)","Torrsubstanshalt hos slury, %","Teoretiskt gasproduktion, Nm3/ton våtvikt","Växthusgasutsläpp, g CO2eq/ton torrsubstans","Kund 1","Kund 2","Kund 3","Kund 4","Kund 5","Kund 6","Kund 7","Kund 8","Kund 9","Kund 10","Avvikelse"]
[{"$f":"IF(H89<>\"\",A89 & \" Förb.\",\"\")","v":""},{"$f":"IF(H89<>\"\",C89,\"\")","v":""},{"$f":"IF(H89<>\"\",D89,\"\")","v":""},{"$f":"IF(H89<>\"\",E89,\"\")","v":""},{"$f":"IF(H89<>\"\",H89,\"\")","v":""},{"$f":"IF(H89<>\"\",F$85,\"\")","v":""},{"$f":"IF(A89<>\"\",   VLOOKUP(A89,Substrat!$A$3:$D$84,4,FALSE)/G89*F113,    \"\")","v":""},{"$f":"IF(H89<>\"\",M89/F$85,\"\")","v":""},null,null,null,null,null,null,null,null,null,null,{"$f":"IF(A113<>\"\",  E113-SUM(I113:R113),  \"\")","v":""}]
[{"$f":"IF(H90<>\"\",A90 & \" Förb.\",\"\")","v":""},{"$f":"IF(H90<>\"\",C90,\"\")","v":""},{"$f":"IF(H90<>\"\",D90,\"\")","v":""},{"$f":"IF(H90<>\"\",E90,\"\")","v":""},{"$f":"IF(H90<>\"\",H90,\"\")","v":""},{"$f":"IF(H90<>\"\",F$85,\"\")","v":""},{"$f":"IF(A90<>\"\",   VLOOKUP(A90,Substrat!$A$3:$D$84,4,FALSE)/G90*F114,    \"\")","v":""},{"$f":"IF(H90<>\"\",M90/F$85,\"\")","v":""},null,null,null,null,null,null,null,null,null,null,{"$f":"IF(A114<>\"\",  E114-SUM(I114:R114),  \"\")","v":""}]
["","","","","","",{"$f":"IF(A91<>\"\",   VLOOKUP(A91,Substrat!$A$3:$D$84,4,FALSE)/G91*F115,    \"\")","v":""},"",null,null,null,null,null,null,null,null,null,null,""]
["","","","","","",{"$f":"IF(A92<>\"\",   VLOOKUP(A92,Substrat!$A$3:$D$84,4,FALSE)/G92*F116,    \"\")","v":""},"",null,null,null,null,null,null,null,null,null,null,""]
["","","","","","",{"$f":"IF(A93<>\"\",   VLOOKUP(A93,Substrat!$A$3:$D$84,4,FALSE)/G93*F117,    \"\")","v":""},"",null,null,null,null,null,null,null,null,null,null,""]
["","","","","","",{"$f":"IF(A94<>\"\",   VLOOKUP(A94,Substrat!$A$3:$D$84,4,FALSE)/G94*F118,    \"\")","v":""},"",null,null,null,null,null,null,null,null,null,null,""]
["","","","","","",{"$f":"IF(A95<>\"\",   VLOOKUP(A95,Substrat!$A$3:$D$84,4,FALSE)/G95*F119,    \"\")","v":""},"",null,null,null,null,null,null,null,null,null,null,""]
["","","","","","",{"$f":"IF(A96<>\"\",   VLOOKUP(A96,Substrat!$A$3:$D$84,4,FALSE)/G96*F120,    \"\")","v":""},"",null,null,null,null,null,null,null,null,null,null,""]
["","","","","","",{"$f":"IF(A97<>\"\",   VLOOKUP(A97,Substrat!$A$3:$D$84,4,FALSE)/G97*F121,    \"\")","v":""},"",null,null,null,null,null,null,null,null,null,null,""]
["","","","","","",{"$f":"IF(A98<>\"\",   VLOOKUP(A98,Substrat!$A$3:$D$84,4,FALSE)/G98*F122,    \"\")","v":""},"",null,null,null,null,null,null,null,null,null,null,""]
["","","","","","",{"$f":"IF(A99<>\"\",   VLOOKUP(A99,Substrat!$A$3:$D$84,4,FALSE)/G99*F123,    \"\")","v":""},"",null,null,null,null,null,null,null,null,null,null,""]
["","","","","","",{"$f":"IF(A100<>\"\",   VLOOKUP(A100,Substrat!$A$3:$D$84,4,FALSE)/G100*F124,    \"\")","v":""},"",null,null,null,null,null,null,null,null,null,null,""]
["","","","","","",{"$f":"IF(A101<>\"\",   VLOOKUP(A101,Substrat!$A$3:$D$84,4,FALSE)/G101*F125,    \"\")","v":""},"",null,null,null,null,null,null,null,null,null,null,""]
["","","","","","",{"$f":"IF(A102<>\"\",   VLOOKUP(A102,Substrat!$A$3:$D$84,4,FALSE)/G102*F126,    \"\")","v":""},"",null,null,null,null,null,null,null,null,null,null,""]
["","","","","","",{"$f":"IF(A103<>\"\",   VLOOKUP(A103,Substrat!$A$3:$D$84,4,FALSE)/G103*F127,    \"\")","v":""},"",null,null,null,null,null,null,null,null,null,null,""]
["","","","","","",{"$f":"IF(A104<>\"\",   VLOOKUP(A104,Substrat!$A$3:$D$84,4,FALSE)/G104*F128,    \"\")","v":""},"",null,null,null,null,null,null,null,null,null,null,""]
["","","","","","",{"$f":"IF(A105<>\"\",   VLOOKUP(A105,Substrat!$A$3:$D$84,4,FALSE)/G105*F129,    \"\")","v":""},"",null,null,null,null,null,null,null,null,null,null,""]
["","","","","","",{"$f":"IF(A106<>\"\",   VLOOKUP(A106,Substrat!$A$3:$D$84,4,FALSE)/G106*F130,    \"\")","v":""},"",null,null,null,null,null,null,null,null,null,null,""]
["","","","","","",{"$f":"IF(A107<>\"\",   VLOOKUP(A107,Substrat!$A$3:$D$84,4,FALSE)/G107*F131,    \"\")","v":""},"",null,null,null,null,null,null,null,null,null,null,""]
["","","","","","",{"$f":"IF(A108<>\"\",   VLOOKUP(A108,Substrat!$A$3:$D$84,4,FALSE)/G108*F132,    \"\")","v":""},"",null,null,null,null,null,null,null,null,null,null,""]
["Summa",null,null,null,{"$f":"SUM(E113:E132)","v":0},null,null,null,{"$f":"SUM(I113:I132)","v":0},0,0,0,0,0,0,0,0,0]

{"sheet":"Produktion","index":1,"n_rows":198,"n_cols":24,"rows_kept":198,"cut":false,"hidden":false,"merged":[[121,9,122,9],[121,11,121,17],[123,11,123,16],[123,0,123,4],[122,0,122,4],[121,0,121,7],[121,8,122,8],[130,19,130,23],[130,8,130,18],[165,0,165,9],[124,0,124,4],[125,0,125,4],[128,0,128,4],[126,0,126,4],[127,0,127,4],[130,1,130,7],[125,11,125,16],[127,11,127,12],[127,14,127,15],[124,11,124,16],[117,0,117,1],[93,3,93,5],[3,12,3,14],[38,11,38,14],[93,6,93,7],[3,15,3,17],[37,0,37,6],[37,7,37,8],[97,0,97,1],[96,0,96,1],[95,0,95,1],[1,1,1,4],[2,1,2,4],[3,9,3,11],[3,0,3,8],[2,5,2,7],[2,8,2,9],[1,8,1,9],[1,5,1,7]]}
["HBK Biogasredovisning, ver 4.2 - Produktion av biogas"]
["Företag:","företagsnamn",null,null,null,"Organisationsnummer:",null,null,"xxxxxx-xxxx"]
["Rapportperiod","2023-01-01 -- 2023-12-31",null,null,null,"Anläggningen togs i drift",null,null,"20xx-xx-xx"]
["Substrat till biogasproduktion",null,null,null,null,null,null,null,null,"Gasproduktion",null,null,"Växthusgasberäkning",null,null,"Avfall Web",null,null,"Noteringar"]
["Substrat","Region","Parti nr","Kompletterande information","Ursprung","Substrat, typ","Kategori","Mängd till biogasproduktion, ton (våtvikt)","Torrsubstans-halt, %",{"$f":"IF($G$126=\"Nm3\",\"Specifik gasproduktion, Nm3/ton\",\"Specifik gasproduktion, kg/ton\")","v":"Specifik gasproduktion, Nm3/ton"},{"$f":"IF($G$126=\"Nm3\",\"Gasproduktion, teoretisk, tusental Nm3\",\"Gasproduktion, teoretisk, tusental kg\")","v":"Gasproduktion, teoretisk, tusental Nm3"},{"$f":"IF($G$126=\"Nm3\",\"Gasproduktion, justerad, tusental Nm3\",\"Gasproduktion, justerad, tusental kg\")","v":"Gasproduktion, justerad, tusental Nm3"},"Uppsstöms utsläpp (odling), gCO2eq/ton ts","Gödselbonus, kg CO2eq/ton gödsel","Mängd CO2eq, ton","Kod","Normerad mängd, ton (våtvikt)","Korrigering p.g.a. normering, ton","För egna noteringar länkar till dokument etc"]
[null,"",1,null,null,{"$f":"IF(A6<>\"\",VLOOKUP(A6,Substrat!$A$3:$H$84,2,FALSE),\"\")","v":""},{"$f":"IF(A6<>\"\",VLOOKUP(A6,Substrat!$A$3:$H$84,3,FALSE),\"\")","v":""},null,null,{"$f":"IF(A6<>\"\",IF($G$126=\"Nm3\",VLOOKUP(A6,Substrat!$A$3:$I$84,4,FALSE),VLOOKUP(A6,Substrat!$A$3:$I$84,4,FALSE)/$H$126),\"\")","v":""},{"$f":"IF(A6<>\"\",H6*J6/1000,\"\")","v":""},{"$f":"IF(A6<>\"\",$F$126/$K$36*K6,\"\")","v":""},{"$f":"IF(A6<>\"\",IF(G6=\"Mellangröda\", Substrat!E$38, IF(OR(F6=\"Gröda\", F6=\"Livsmedel/fodergröda\"),  INDEX(Substrat!$B$98:$M$118,MATCH(B6,Region,0),MATCH(A6,Substrat!$B$97:$M$97,0)),VLOOKUP(A6,Substrat!$A$3:$I$84,5,FALSE))                 ),\"\")","v":""},{"$f":"IF(A6<>\"\",VLOOKUP(A6,Substrat!$A$3:$I$84,8,FALSE),\"\")","v":""},{"$f":"IF(A6<>\"\",  IF(M6>0,  IF(I6>0,  H6*I6*M6/1000/1000, #N/A),  IF(N6<0,  H6*N6/1000, \"\")),\"\")","v":""},{"$f":"IF(A6<>\"\",VLOOKUP(A6,Substrat!$A$3:$I$84,9,FALSE),\"\")","v":""},{"$f":"IF(A6<>\"\", IF(P6=\"EB8\", IF(A6<>\"Fett från hushåll, restauranger och storkök\",  H6*((VALUE(LEFT(VLOOKUP(A6,Substrat!$A$3:$M$84,6,FALSE),FIND(\"-\",VLOOKUP(A6,Substrat!$A$3:$M$84,6,FALSE),1)-1))+VALUE(RIGHT(VLOOKUP(A6,Substrat!$A$3:$M$84,6,FALSE),LEN(VLOOKUP(A6,Substrat!$A$3:$M$84,6,FALSE))-FIND(\"-\",VLOOKUP(A6,Substrat!$A$3:$M$84,6,FALSE),1))))/2/100)/0.3, H6),H6),\"\")","v":""},{"$f":"IF(A6<>\"\", Q6-H6, \"\")","v":""}]
[null,"",2,null,null,{"$f":"IF(A7<>\"\",VLOOKUP(A7,Substrat!$A$3:$H$84,2,FALSE),\"\")","v":""},{"$f":"IF(A7<>\"\",VLOOKUP(A7,Substrat!$A$3:$H$84,3,FALSE),\"\")","v":""},null,null,{"$f":"IF(A7<>\"\",IF($G$126=\"Nm3\",VLOOKUP(A7,Substrat!$A$3:$I$84,4,FALSE),VLOOKUP(A7,Substrat!$A$3:$I$84,4,FALSE)/$H$126),\"\")","v":""},{"$f":"IF(A7<>\"\",H7*J7/1000,\"\")","v":""},"",{"$f":"IF(A7<>\"\",IF(G7=\"Mellangröda\", Substrat!E$38, IF(OR(F7=\"Gröda\", F7=\"Livsmedel/fodergröda\"),  INDEX(Substrat!$B$98:$M$118,MATCH(B7,Region,0),MATCH(A7,Substrat!$B$97:$M$97,0)),VLOOKUP(A7,Substrat!$A$3:$I$84,5,FALSE))                 ),\"\")","v":""},{"$f":"IF(A7<>\"\",VLOOKUP(A7,Substrat!$A$3:$I$84,8,FALSE),\"\")","v":""},"",{"$f":"IF(A7<>\"\",VLOOKUP(A7,Substrat!$A$3:$I$84,9,FALSE),\"\")","v":""},{"$f":"IF(A7<>\"\", IF(P7=\"EB8\", IF(A7<>\"Fett från hushåll, restauranger och storkök\",  H7*((VALUE(LEFT(VLOOKUP(A7,Substrat!$A$3:$M$84,6,FALSE),FIND(\"-\",VLOOKUP(A7,Substrat!$A$3:$M$84,6,FALSE),1)-1))+VALUE(RIGHT(VLOOKUP(A7,Substrat!$A$3:$M$84,6,FALSE),LEN(VLOOKUP(A7,Substrat!$A$3:$M$84,6,FALSE))-FIND(\"-\",VLOOKUP(A7,Substrat!$A$3:$M$84,6,FALSE),1))))/2/100)/0.3, H7),H7),\"\")","v":""},{"$f":"IF(A7<>\"\", Q7-H7, \"\")","v":""}]
[null,"",3,null,null,{"$f":"IF(A8<>\"\",VLOOKUP(A8,Substrat!$A$3:$H$84,2,FALSE),\"\")","v":""},{"$f":"IF(A8<>\"\",VLOOKUP(A8,Substrat!$A$3:$H$84,3,FALSE),\"\")","v":""},null,null,{"$f":"IF(A8<>\"\",IF($G$126=\"Nm3\",VLOOKUP(A8,Substrat!$A$3:$I$84,4,FALSE),VLOOKUP(A8,Substrat!$A$3:$I$84,4,FALSE)/$H$126),\"\")","v":""},"","",{"$f":"IF(A8<>\"\",IF(G8=\"Mellangröda\", Substrat!E$38, IF(OR(F8=\"Gröda\", F8=\"Livsmedel/fodergröda\"),  INDEX(Substrat!$B$98:$M$118,MATCH(B8,Region,0),MATCH(A8,Substrat!$B$97:$M$97,0)),VLOOKUP(A8,Substrat!$A$3:$I$84,5,FALSE))                 ),\"\")","v":""},{"$f":"IF(A8<>\"\",VLOOKUP(A8,Substrat!$A$3:$I$84,8,FALSE),\"\")","v":""},"",{"$f":"IF(A8<>\"\",VLOOKUP(A8,Substrat!$A$3:$I$84,9,FALSE),\"\")","v":""},{"$f":"IF(A8<>\"\", IF(P8=\"EB8\", IF(A8<>\"Fett från hushåll, restauranger och storkök\",  H8*((VALUE(LEFT(VLOOKUP(A8,Substrat!$A$3:$M$84,6,FALSE),FIND(\"-\",VLOOKUP(A8,Substrat!$A$3:$M$84,6,FALSE),1)-1))+VALUE(RIGHT(VLOOKUP(A8,Substrat!$A$3:$M$84,6,FALSE),LEN(VLOOKUP(A8,Substrat!$A$3:$M$84,6,FALSE))-FIND(\"-\",VLOOKUP(A8,Substrat!$A$3:$M$84,6,FALSE),1))))/2/100)/0.3, H8),H8),\"\")","v":""},""]
[null,"",4,null,null,{"$f":"IF(A9<>\"\",VLOOKUP(A9,Substrat!$A$3:$H$84,2,FALSE),\"\")","v":""},{"$f":"IF(A9<>\"\",VLOOKUP(A9,Substrat!$A$3:$H$84,3,FALSE),\"\")","v":""},null,null,{"$f":"IF(A9<>\"\",IF($G$126=\"Nm3\",VLOOKUP(A9,Substrat!$A$3:$I$84,4,FALSE),VLOOKUP(A9,Substrat!$A$3:$I$84,4,FALSE)/$H$126),\"\")","v":""},"","",{"$f":"IF(A9<>\"\",IF(G9=\"Mellangröda\", Substrat!E$38, IF(OR(F9=\"Gröda\", F9=\"Livsmedel/fodergröda\"),  INDEX(Substrat!$B$98:$M$118,MATCH(B9,Region,0),MATCH(A9,Substrat!$B$97:$M$97,0)),VLOOKUP(A9,Substrat!$A$3:$I$84,5,FALSE))                 ),\"\")","v":""},{"$f":"IF(A9<>\"\",VLOOKUP(A9,Substrat!$A$3:$I$84,8,FALSE),\"\")","v":""},"",{"$f":"IF(A9<>\"\",VLOOKUP(A9,Substrat!$A$3:$I$84,9,FALSE),\"\")","v":""},{"$f":"IF(A9<>\"\", IF(P9=\"EB8\", IF(A9<>\"Fett från hushåll, restauranger och storkök\",  H9*((VALUE(LEFT(VLOOKUP(A9,Substrat!$A$3:$M$84,6,FALSE),FIND(\"-\",VLOOKUP(A9,Substrat!$A$3:$M$84,6,FALSE),1)-1))+VALUE(RIGHT(VLOOKUP(A9,Substrat!$A$3:$M$84,6,FALSE),LEN(VLOOKUP(A9,Substrat!$A$3:$M$84,6,FALSE))-FIND(\"-\",VLOOKUP(A9,Substrat!$A$3:$M$84,6,FALSE),1))))/2/100)/0.3, H9),H9),\"\")","v":""},""]
[null,"",5,null,null,{"$f":"IF(A10<>\"\",VLOOKUP(A10,Substrat!$A$3:$H$84,2,FALSE),\"\")","v":""},{"$f":"IF(A10<>\"\",VLOOKUP(A10,Substrat!$A$3:$H$84,3,FALSE),\"\")","v":""},null,null,{"$f":"IF(A10<>\"\",IF($G$126=\"Nm3\",VLOOKUP(A10,Substrat!$A$3:$I$84,4,FALSE),VLOOKUP(A10,Substrat!$A$3:$I$84,4,FALSE)/$H$126),\"\")","v":""},"","",{"$f":"IF(A10<>\"\",IF(G10=\"Mellangröda\", Substrat!E$38, IF(OR(F10=\"Gröda\", F10=\"Livsmedel/fodergröda\"),  INDEX(Substrat!$B$98:$M$118,MATCH(B10,Region,0),MATCH(A10,Substrat!$B$97:$M$97,0)),VLOOKUP(A10,Substrat!$A$3:$I$84,5,FALSE))                 ),\"\")","v":""},{"$f":"IF(A10<>\"\",VLOOKUP(A10,Substrat!$A$3:$I$84,8,FALSE),\"\")","v":""},"",{"$f":"IF(A10<>\"\",VLOOKUP(A10,Substrat!$A$3:$I$84,9,FALSE),\"\")","v":""},{"$f":"IF(A10<>\"\", IF(P10=\"EB8\", IF(A10<>\"Fett från hushåll, restauranger och storkök\",  H10*((VALUE(LEFT(VLOOKUP(A10,Substrat!$A$3:$M$84,6,FALSE),FIND(\"-\",VLOOKUP(A10,Substrat!$A$3:$M$84,6,FALSE),1)-1))+VALUE(RIGHT(VLOOKUP(A10,Substrat!$A$3:$M$84,6,FALSE),LEN(VLOOKUP(A10,Substrat!$A$3:$M$84,6,FALSE))-FIND(\"-\",VLOOKUP(A10,Substrat!$A$3:$M$84,6,FALSE),1))))/2/100)/0.3, H10),H10),\"\")","v":""},""]
[null,"",6,null,null,{"$f":"IF(A11<>\"\",VLOOKUP(A11,Substrat!$A$3:$H$84,2,FALSE),\"\")","v":""},{"$f":"IF(A11<>\"\",VLOOKUP(A11,Substrat!$A$3:$H$84,3,FALSE),\"\")","v":""},null,null,{"$f":"IF(A11<>\"\",IF($G$126=\"Nm3\",VLOOKUP(A11,Substrat!$A$3:$I$84,4,FALSE),VLOOKUP(A11,Substrat!$A$3:$I$84,4,FALSE)/$H$126),\"\")","v":""},"","",{"$f":"IF(A11<>\"\",IF(G11=\"Mellangröda\", Substrat!E$38, IF(OR(F11=\"Gröda\", F11=\"Livsmedel/fodergröda\"),  INDEX(Substrat!$B$98:$M$118,MATCH(B11,Region,0),MATCH(A11,Substrat!$B$97:$M$97,0)),VLOOKUP(A11,Substrat!$A$3:$I$84,5,FALSE))                 ),\"\")","v":""},{"$f":"IF(A11<>\"\",VLOOKUP(A11,Substrat!$A$3:$I$84,8,FALSE),\"\")","v":""},"",{"$f":"IF(A11<>\"\",VLOOKUP(A11,Substrat!$A$3:$I$84,9,FALSE),\"\")","v":""},{"$f":"IF(A11<>\"\", IF(P11=\"EB8\", IF(A11<>\"Fett från hushåll, restauranger och storkök\",  H11*((VALUE(LEFT(VLOOKUP(A11,Substrat!$A$3:$M$84,6,FALSE),FIND(\"-\",VLOOKUP(A11,Substrat!$A$3:$M$84,6,FALSE),1)-1))+VALUE(RIGHT(VLOOKUP(A11,Substrat!$A$3:$M$84,6,FALSE),LEN(VLOOKUP(A11,Substrat!$A$3:$M$84,6,FALSE))-FIND(\"-\",VLOOKUP(A11,Substrat!$A$3:$M$84,6,FALSE),1))))/2/100)/0.3, H11),H11),\"\")","v":""},""]
[null,"",7,null,null,{"$f":"IF(A12<>\"\",VLOOKUP(A12,Substrat!$A$3:$H$84,2,FALSE),\"\")","v":""},{"$f":"IF(A12<>\"\",VLOOKUP(A12,Substrat!$A$3:$H$84,3,FALSE),\"\")","v":""},null,null,{"$f":"IF(A12<>\"\",IF($G$126=\"Nm3\",VLOOKUP(A12,Substrat!$A$3:$I$84,4,FALSE),VLOOKUP(A12,Substrat!$A$3:$I$84,4,FALSE)/$H$126),\"\")","v":""},"","",{"$f":"IF(A12<>\"\",IF(G12=\"Mellangröda\", Substrat!E$38, IF(OR(F12=\"Gröda\", F12=\"Livsmedel/fodergröda\"),  INDEX(Substrat!$B$98:$M$118,MATCH(B12,Region,0),MATCH(A12,Substrat!$B$97:$M$97,0)),VLOOKUP(A12,Substrat!$A$3:$I$84,5,FALSE))                 ),\"\")","v":""},{"$f":"IF(A12<>\"\",VLOOKUP(A12,Substrat!$A$3:$I$84,8,FALSE),\"\")","v":""},"",{"$f":"IF(A12<>\"\",VLOOKUP(A12,Substrat!$A$3:$I$84,9,FALSE),\"\")","v":""},{"$f":"IF(A12<>\"\", IF(P12=\"EB8\", IF(A12<>\"Fett från hushåll, restauranger och storkök\",  H12*((VALUE(LEFT(VLOOKUP(A12,Substrat!$A$3:$M$84,6,FALSE),FIND(\"-\",VLOOKUP(A12,Substrat!$A$3:$M$84,6,FALSE),1)-1))+VALUE(RIGHT(VLOOKUP(A12,Substrat!$A$3:$M$84,6,FALSE),LEN(VLOOKUP(A12,Substrat!$A$3:$M$84,6,FALSE))-FIND(\"-\",VLOOKUP(A12,Substrat!$A$3:$M$84,6,FALSE),1))))/2/100)/0.3, H12),H12),\"\")","v":""},""]
[null,"",8,null,null,{"$f":"IF(A13<>\"\",VLOOKUP(A13,Substrat!$A$3:$H$84,2,FALSE),\"\")","v":""},{"$f":"IF(A13<>\"\",VLOOKUP(A13,Substrat!$A$3:$H$84,3,FALSE),\"\")","v":""},null,null,{"$f":"IF(A13<>\"\",IF($G$126=\"Nm3\",VLOOKUP(A13,Substrat!$A$3:$I$84,4,FALSE),VLOOKUP(A13,Substrat!$A$3:$I$84,4,FALSE)/$H$126),\"\")","v":""},"","",{"$f":"IF(A13<>\"\",IF(G13=\"Mellangröda\", Substrat!E$38, IF(OR(F13=\"Gröda\", F13=\"Livsmedel/fodergröda\"),  INDEX(Substrat!$B$98:$M$118,MATCH(B13,Region,0),MATCH(A13,Substrat!$B$97:$M$97,0)),VLOOKUP(A13,Substrat!$A$3:$I$84,5,FALSE))                 ),\"\")","v":""},{"$f":"IF(A13<>\"\",VLOOKUP(A13,Substrat!$A$3:$I$84,8,FALSE),\"\")","v":""},"",{"$f":"IF(A13<>\"\",VLOOKUP(A13,Substrat!$A$3:$I$84,9,FALSE),\"\")","v":""},{"$f":"IF(A13<>\"\", IF(P13=\"EB8\", IF(A13<>\"Fett från hushåll, restauranger och storkök\",  H13*((VALUE(LEFT(VLOOKUP(A13,Substrat!$A$3:$M$84,6,FALSE),FIND(\"-\",VLOOKUP(A13,Substrat!$A$3:$M$84,6,FALSE),1)-1))+VALUE(RIGHT(VLOOKUP(A13,Substrat!$A$3:$M$84,6,FALSE),LEN(VLOOKUP(A13,Substrat!$A$3:$M$84,6,FALSE))-FIND(\"-\",VLOOKUP(A13,Substrat!$A$3:$M$84,6,FALSE),1))))/2/100)/0.3, H13),H13),\"\")","v":""},""]
[null,"",9,null,null,{"$f":"IF(A14<>\"\",VLOOKUP(A14,Substrat!$A$3:$H$84,2,FALSE),\"\")","v":""},{"$f":"IF(A14<>\"\",VLOOKUP(A14,Substrat!$A$3:$H$84,3,FALSE),\"\")","v":""},null,null,{"$f":"IF(A14<>\"\",IF($G$126=\"Nm3\",VLOOKUP(A14,Substrat!$A$3:$I$84,4,FALSE),VLOOKUP(A14,Substrat!$A$3:$I$84,4,FALSE)/$H$126),\"\")","v":""},"","",{"$f":"IF(A14<>\"\",IF(G14=\"Mellangröda\", Substrat!E$38, IF(OR(F14=\"Gröda\", F14=\"Livsmedel/fodergröda\"),  INDEX(Substrat!$B$98:$M$118,MATCH(B14,Region,0),MATCH(A14,Substrat!$B$97:$M$97,0)),VLOOKUP(A14,Substrat!$A$3:$I$84,5,FALSE))                 ),\"\")","v":""},{"$f":"IF(A14<>\"\",VLOOKUP(A14,Substrat!$A$3:$I$84,8,FALSE),\"\")","v":""},"",{"$f":"IF(A14<>\"\",VLOOKUP(A14,Substrat!$A$3:$I$84,9,FALSE),\"\")","v":""},{"$f":"IF(A14<>\"\", IF(P14=\"EB8\", IF(A14<>\"Fett från hushåll, restauranger och storkök\",  H14*((VALUE(LEFT(VLOOKUP(A14,Substrat!$A$3:$M$84,6,FALSE),FIND(\"-\",VLOOKUP(A14,Substrat!$A$3:$M$84,6,FALSE),1)-1))+VALUE(RIGHT(VLOOKUP(A14,Substrat!$A$3:$M$84,6,FALSE),LEN(VLOOKUP(A14,Substrat!$A$3:$M$84,6,FALSE))-FIND(\"-\",VLOOKUP(A14,Substrat!$A$3:$M$84,6,FALSE),1))))/2/100)/0.3, H14),H14),\"\")","v":""},""]
[null,"",10,null,null,{"$f":"IF(A15<>\"\",VLOOKUP(A15,Substrat!$A$3:$H$84,2,FALSE),\"\")","v":""},{"$f":"IF(A15<>\"\",VLOOKUP(A15,Substrat!$A$3:$H$84,3,FALSE),\"\")","v":""},null,null,{"$f":"IF(A15<>\"\",IF($G$126=\"Nm3\",VLOOKUP(A15,Substrat!$A$3:$I$84,4,FALSE),VLOOKUP(A15,Substrat!$A$3:$I$84,4,FALSE)/$H$126),\"\")","v":""},"","",{"$f":"IF(A15<>\"\",IF(G15=\"Mellangröda\", Substrat!E$38, IF(OR(F15=\"Gröda\", F15=\"Livsmedel/fodergröda\"),  INDEX(Substrat!$B$98:$M$118,MATCH(B15,Region,0),MATCH(A15,Substrat!$B$97:$M$97,0)),VLOOKUP(A15,Substrat!$A$3:$I$84,5,FALSE))                 ),\"\")","v":""},{"$f":"IF(A15<>\"\",VLOOKUP(A15,Substrat!$A$3:$I$84,8,FALSE),\"\")","v":""},"",{"$f":"IF(A15<>\"\",VLOOKUP(A15,Substrat!$A$3:$I$84,9,FALSE),\"\")","v":""},{"$f":"IF(A15<>\"\", IF(P15=\"EB8\", IF(A15<>\"Fett från hushåll, restauranger och storkök\",  H15*((VALUE(LEFT(VLOOKUP(A15,Substrat!$A$3:$M$84,6,FALSE),FIND(\"-\",VLOOKUP(A15,Substrat!$A$3:$M$84,6,FALSE),1)-1))+VALUE(RIGHT(VLOOKUP(A15,Substrat!$A$3:$M$84,6,FALSE),LEN(VLOOKUP(A15,Substrat!$A$3:$M$84,6,FALSE))-FIND(\"-\",VLOOKUP(A15,Substrat!$A$3:$M$84,6,FALSE),1))))/2/100)/0.3, H15),H15),\"\")","v":""},""]
[null,"",11,null,null,{"$f":"IF(A16<>\"\",VLOOKUP(A16,Substrat!$A$3:$H$84,2,FALSE),\"\")","v":""},{"$f":"IF(A16<>\"\",VLOOKUP(A16,Substrat!$A$3:$H$84,3,FALSE),\"\")","v":""},null,null,{"$f":"IF(A16<>\"\",IF($G$126=\"Nm3\",VLOOKUP(A16,Substrat!$A$3:$I$84,4,FALSE),VLOOKUP(A16,Substrat!$A$3:$I$84,4,FALSE)/$H$126),\"\")","v":""},"","",{"$f":"IF(A16<>\"\",IF(G16=\"Mellangröda\", Substrat!E$38, IF(OR(F16=\"Gröda\", F16=\"Livsmedel/fodergröda\"),  INDEX(Substrat!$B$98:$M$118,MATCH(B16,Region,0),MATCH(A16,Substrat!$B$97:$M$97,0)),VLOOKUP(A16,Substrat!$A$3:$I$84,5,FALSE))                 ),\"\")","v":""},{"$f":"IF(A16<>\"\",VLOOKUP(A16,Substrat!$A$3:$I$84,8,FALSE),\"\")","v":""},"",{"$f":"IF(A16<>\"\",VLOOKUP(A16,Substrat!$A$3:$I$84,9,FALSE),\"\")","v":""},{"$f":"IF(A16<>\"\", IF(P16=\"EB8\", IF(A16<>\"Fett från hushåll, restauranger och storkök\",  H16*((VALUE(LEFT(VLOOKUP(A16,Substrat!$A$3:$M$84,6,FALSE),FIND(\"-\",VLOOKUP(A16,Substrat!$A$3:$M$84,6,FALSE),1)-1))+VALUE(RIGHT(VLOOKUP(A16,Substrat!$A$3:$M$84,6,FALSE),LEN(VLOOKUP(A16,Substrat!$A$3:$M$84,6,FALSE))-FIND(\"-\",VLOOKUP(A16,Substrat!$A$3:$M$84,6,FALSE),1))))/2/100)/0.3, H16),H16),\"\")","v":""},""]
[null,"",12,null,null,{"$f":"IF(A17<>\"\",VLOOKUP(A17,Substrat!$A$3:$H$84,2,FALSE),\"\")","v":""},{"$f":"IF(A17<>\"\",VLOOKUP(A17,Substrat!$A$3:$H$84,3,FALSE),\"\")","v":""},null,null,{"$f":"IF(A17<>\"\",IF($G$126=\"Nm3\",VLOOKUP(A17,Substrat!$A$3:$I$84,4,FALSE),VLOOKUP(A17,Substrat!$A$3:$I$84,4,FALSE)/$H$126),\"\")","v":""},"","",{"$f":"IF(A17<>\"\",IF(G17=\"Mellangröda\", Substrat!E$38, IF(OR(F17=\"Gröda\", F17=\"Livsmedel/fodergröda\"),  INDEX(Substrat!$B$98:$M$118,MATCH(B17,Region,0),MATCH(A17,Substrat!$B$97:$M$97,0)),VLOOKUP(A17,Substrat!$A$3:$I$84,5,FALSE))                 ),\"\")","v":""},{"$f":"IF(A17<>\"\",VLOOKUP(A17,Substrat!$A$3:$I$84,8,FALSE),\"\")","v":""},"",{"$f":"IF(A17<>\"\",VLOOKUP(A17,Substrat!$A$3:$I$84,9,FALSE),\"\")","v":""},{"$f":"IF(A17<>\"\", IF(P17=\"EB8\", IF(A17<>\"Fett från hushåll, restauranger och storkök\",  H17*((VALUE(LEFT(VLOOKUP(A17,Substrat!$A$3:$M$84,6,FALSE),FIND(\"-\",VLOOKUP(A17,Substrat!$A$3:$M$84,6,FALSE),1)-1))+VALUE(RIGHT(VLOOKUP(A17,Substrat!$A$3:$M$84,6,FALSE),LEN(VLOOKUP(A17,Substrat!$A$3:$M$84,6,FALSE))-FIND(\"-\",VLOOKUP(A17,Substrat!$A$3:$M$84,6,FALSE),1))))/2/100)/0.3, H17),H17),\"\")","v":""},""]
[null,"",13,null,null,{"$f":"IF(A18<>\"\",VLOOKUP(A18,Substrat!$A$3:$H$84,2,FALSE),\"\")","v":""},{"$f":"IF(A18<>\"\",VLOOKUP(A18,Substrat!$A$3:$H$84,3,FALSE),\"\")","v":""},null,null,{"$f":"IF(A18<>\"\",IF($G$126=\"Nm3\",VLOOKUP(A18,Substrat!$A$3:$I$84,4,FALSE),VLOOKUP(A18,Substrat!$A$3:$I$84,4,FALSE)/$H$126),\"\")","v":""},"","",{"$f":"IF(A18<>\"\",IF(G18=\"Mellangröda\", Substrat!E$38, IF(OR(F18=\"Gröda\", F18=\"Livsmedel/fodergröda\"),  INDEX(Substrat!$B$98:$M$118,MATCH(B18,Region,0),MATCH(A18,Substrat!$B$97:$M$97,0)),VLOOKUP(A18,Substrat!$A$3:$I$84,5,FALSE))                 ),\"\")","v":""},{"$f":"IF(A18<>\"\",VLOOKUP(A18,Substrat!$A$3:$I$84,8,FALSE),\"\")","v":""},"",{"$f":"IF(A18<>\"\",VLOOKUP(A18,Substrat!$A$3:$I$84,9,FALSE),\"\")","v":""},{"$f":"IF(A18<>\"\", IF(P18=\"EB8\", IF(A18<>\"Fett från hushåll, restauranger och storkök\",  H18*((VALUE(LEFT(VLOOKUP(A18,Substrat!$A$3:$M$84,6,FALSE),FIND(\"-\",VLOOKUP(A18,Substrat!$A$3:$M$84,6,FALSE),1)-1))+VALUE(RIGHT(VLOOKUP(A18,Substrat!$A$3:$M$84,6,FALSE),LEN(VLOOKUP(A18,Substrat!$A$3:$M$84,6,FALSE))-FIND(\"-\",VLOOKUP(A18,Substrat!$A$3:$M$84,6,FALSE),1))))/2/100)/0.3, H18),H18),\"\")","v":""},""]
[null,"",14,null,null,{"$f":"IF(A19<>\"\",VLOOKUP(A19,Substrat!$A$3:$H$84,2,FALSE),\"\")","v":""},{"$f":"IF(A19<>\"\",VLOOKUP(A19,Substrat!$A$3:$H$84,3,FALSE),\"\")","v":""},null,null,{"$f":"IF(A19<>\"\",IF($G$126=\"Nm3\",VLOOKUP(A19,Substrat!$A$3:$I$84,4,FALSE),VLOOKUP(A19,Substrat!$A$3:$I$84,4,FALSE)/$H$126),\"\")","v":""},"","",{"$f":"IF(A19<>\"\",IF(G19=\"Mellangröda\", Substrat!E$38, IF(OR(F19=\"Gröda\", F19=\"Livsmedel/fodergröda\"),  INDEX(Substrat!$B$98:$M$118,MATCH(B19,Region,0),MATCH(A19,Substrat!$B$97:$M$97,0)),VLOOKUP(A19,Substrat!$A$3:$I$84,5,FALSE))                 ),\"\")","v":""},{"$f":"IF(A19<>\"\",VLOOKUP(A19,Substrat!$A$3:$I$84,8,FALSE),\"\")","v":""},"",{"$f":"IF(A19<>\"\",VLOOKUP(A19,Substrat!$A$3:$I$84,9,FALSE),\"\")","v":""},{"$f":"IF(A19<>\"\", IF(P19=\"EB8\", IF(A19<>\"Fett från hushåll, restauranger och storkök\",  H19*((VALUE(LEFT(VLOOKUP(A19,Substrat!$A$3:$M$84,6,FALSE),FIND(\"-\",VLOOKUP(A19,Substrat!$A$3:$M$84,6,FALSE),1)-1))+VALUE(RIGHT(VLOOKUP(A19,Substrat!$A$3:$M$84,6,FALSE),LEN(VLOOKUP(A19,Substrat!$A$3:$M$84,6,FALSE))-FIND(\"-\",VLOOKUP(A19,Substrat!$A$3:$M$84,6,FALSE),1))))/2/100)/0.3, H19),H19),\"\")","v":""},""]
[null,"",15,null,null,{"$f":"IF(A20<>\"\",VLOOKUP(A20,Substrat!$A$3:$H$84,2,FALSE),\"\")","v":""},{"$f":"IF(A20<>\"\",VLOOKUP(A20,Substrat!$A$3:$H$84,3,FALSE),\"\")","v":""},null,null,{"$f":"IF(A20<>\"\",IF($G$126=\"Nm3\",VLOOKUP(A20,Substrat!$A$3:$I$84,4,FALSE),VLOOKUP(A20,Substrat!$A$3:$I$84,4,FALSE)/$H$126),\"\")","v":""},"","",{"$f":"IF(A20<>\"\",IF(G20=\"Mellangröda\", Substrat!E$38, IF(OR(F20=\"Gröda\", F20=\"Livsmedel/fodergröda\"),  INDEX(Substrat!$B$98:$M$118,MATCH(B20,Region,0),MATCH(A20,Substrat!$B$97:$M$97,0)),VLOOKUP(A20,Substrat!$A$3:$I$84,5,FALSE))                 ),\"\")","v":""},{"$f":"IF(A20<>\"\",VLOOKUP(A20,Substrat!$A$3:$I$84,8,FALSE),\"\")","v":""},"",{"$f":"IF(A20<>\"\",VLOOKUP(A20,Substrat!$A$3:$I$84,9,FALSE),\"\")","v":""},{"$f":"IF(A20<>\"\", IF(P20=\"EB8\", IF(A20<>\"Fett från hushåll, restauranger och storkök\",  H20*((VALUE(LEFT(VLOOKUP(A20,Substrat!$A$3:$M$84,6,FALSE),FIND(\"-\",VLOOKUP(A20,Substrat!$A$3:$M$84,6,FALSE),1)-1))+VALUE(RIGHT(VLOOKUP(A20,Substrat!$A$3:$M$84,6,FALSE),LEN(VLOOKUP(A20,Substrat!$A$3:$M$84,6,FALSE))-FIND(\"-\",VLOOKUP(A20,Substrat!$A$3:$M$84,6,FALSE),1))))/2/100)/0.3, H20),H20),\"\")","v":""},""]
[null,"",16,null,null,{"$f":"IF(A21<>\"\",VLOOKUP(A21,Substrat!$A$3:$H$84,2,FALSE),\"\")","v":""},{"$f":"IF(A21<>\"\",VLOOKUP(A21,Substrat!$A$3:$H$84,3,FALSE),\"\")","v":""},null,null,{"$f":"IF(A21<>\"\",IF($G$126=\"Nm3\",VLOOKUP(A21,Substrat!$A$3:$I$84,4,FALSE),VLOOKUP(A21,Substrat!$A$3:$I$84,4,FALSE)/$H$126),\"\")","v":""},"","",{"$f":"IF(A21<>\"\",IF(G21=\"Mellangröda\", Substrat!E$38, IF(OR(F21=\"Gröda\", F21=\"Livsmedel/fodergröda\"),  INDEX(Substrat!$B$98:$M$118,MATCH(B21,Region,0),MATCH(A21,Substrat!$B$97:$M$97,0)),VLOOKUP(A21,Substrat!$A$3:$I$84,5,FALSE))                 ),\"\")","v":""},{"$f":"IF(A21<>\"\",VLOOKUP(A21,Substrat!$A$3:$I$84,8,FALSE),\"\")","v":""},"",{"$f":"IF(A21<>\"\",VLOOKUP(A21,Substrat!$A$3:$I$84,9,FALSE),\"\")","v":""},{"$f":"IF(A21<>\"\", IF(P21=\"EB8\", IF(A21<>\"Fett från hushåll, restauranger och storkök\",  H21*((VALUE(LEFT(VLOOKUP(A21,Substrat!$A$3:$M$84,6,FALSE),FIND(\"-\",VLOOKUP(A21,Substrat!$A$3:$M$84,6,FALSE),1)-1))+VALUE(RIGHT(VLOOKUP(A21,Substrat!$A$3:$M$84,6,FALSE),LEN(VLOOKUP(A21,Substrat!$A$3:$M$84,6,FALSE))-FIND(\"-\",VLOOKUP(A21,Substrat!$A$3:$M$84,6,FALSE),1))))/2/100)/0.3, H21),H21),\"\")","v":""},""]
[null,"",17,null,null,{"$f":"IF(A22<>\"\",VLOOKUP(A22,Substrat!$A$3:$H$84,2,FALSE),\"\")","v":""},{"$f":"IF(A22<>\"\",VLOOKUP(A22,Substrat!$A$3:$H$84,3,FALSE),\"\")","v":""},null,null,{"$f":"IF(A22<>\"\",IF($G$126=\"Nm3\",VLOOKUP(A22,Substrat!$A$3:$I$84,4,FALSE),VLOOKUP(A22,Substrat!$A$3:$I$84,4,FALSE)/$H$126),\"\")","v":""},"","",{"$f":"IF(A22<>\"\",IF(G22=\"Mellangröda\", Substrat!E$38, IF(OR(F22=\"Gröda\", F22=\"Livsmedel/fodergröda\"),  INDEX(Substrat!$B$98:$M$118,MATCH(B22,Region,0),MATCH(A22,Substrat!$B$97:$M$97,0)),VLOOKUP(A22,Substrat!$A$3:$I$84,5,FALSE))                 ),\"\")","v":""},{"$f":"IF(A22<>\"\",VLOOKUP(A22,Substrat!$A$3:$I$84,8,FALSE),\"\")","v":""},"",{"$f":"IF(A22<>\"\",VLOOKUP(A22,Substrat!$A$3:$I$84,9,FALSE),\"\")","v":""},{"$f":"IF(A22<>\"\", IF(P22=\"EB8\", IF(A22<>\"Fett från hushåll, restauranger och storkök\",  H22*((VALUE(LEFT(VLOOKUP(A22,Substrat!$A$3:$M$84,6,FALSE),FIND(\"-\",VLOOKUP(A22,Substrat!$A$3:$M$84,6,FALSE),1)-1))+VALUE(RIGHT(VLOOKUP(A22,Substrat!$A$3:$M$84,6,FALSE),LEN(VLOOKUP(A22,Substrat!$A$3:$M$84,6,FALSE))-FIND(\"-\",VLOOKUP(A22,Substrat!$A$3:$M$84,6,FALSE),1))))/2/100)/0.3, H22),H22),\"\")","v":""},""]
[null,"",18,null,null,{"$f":"IF(A23<>\"\",VLOOKUP(A23,Substrat!$A$3:$H$84,2,FALSE),\"\")","v":""},{"$f":"IF(A23<>\"\",VLOOKUP(A23,Substrat!$A$3:$H$84,3,FALSE),\"\")","v":""},null,null,{"$f":"IF(A23<>\"\",IF($G$126=\"Nm3\",VLOOKUP(A23,Substrat!$A$3:$I$84,4,FALSE),VLOOKUP(A23,Substrat!$A$3:$I$84,4,FALSE)/$H$126),\"\")","v":""},"","",{"$f":"IF(A23<>\"\",IF(G23=\"Mellangröda\", Substrat!E$38, IF(OR(F23=\"Gröda\", F23=\"Livsmedel/fodergröda\"),  INDEX(Substrat!$B$98:$M$118,MATCH(B23,Region,0),MATCH(A23,Substrat!$B$97:$M$97,0)),VLOOKUP(A23,Substrat!$A$3:$I$84,5,FALSE))                 ),\"\")","v":""},{"$f":"IF(A23<>\"\",VLOOKUP(A23,Substrat!$A$3:$I$84,8,FALSE),\"\")","v":""},"",{"$f":"IF(A23<>\"\",VLOOKUP(A23,Substrat!$A$3:$I$84,9,FALSE),\"\")","v":""},{"$f":"IF(A23<>\"\", IF(P23=\"EB8\", IF(A23<>\"Fett från hushåll, restauranger och storkök\",  H23*((VALUE(LEFT(VLOOKUP(A23,Substrat!$A$3:$M$84,6,FALSE),FIND(\"-\",VLOOKUP(A23,Substrat!$A$3:$M$84,6,FALSE),1)-1))+VALUE(RIGHT(VLOOKUP(A23,Substrat!$A$3:$M$84,6,FALSE),LEN(VLOOKUP(A23,Substrat!$A$3:$M$84,6,FALSE))-FIND(\"-\",VLOOKUP(A23,Substrat!$A$3:$M$84,6,FALSE),1))))/2/100)/0.3, H23),H23),\"\")","v":""},""]
[null,"",19,null,null,{"$f":"IF(A24<>\"\",VLOOKUP(A24,Substrat!$A$3:$H$84,2,FALSE),\"\")","v":""},{"$f":"IF(A24<>\"\",VLOOKUP(A24,Substrat!$A$3:$H$84,3,FALSE),\"\")","v":""},null,null,{"$f":"IF(A24<>\"\",IF($G$126=\"Nm3\",VLOOKUP(A24,Substrat!$A$3:$I$84,4,FALSE),VLOOKUP(A24,Substrat!$A$3:$I$84,4,FALSE)/$H$126),\"\")","v":""},"","",{"$f":"IF(A24<>\"\",IF(G24=\"Mellangröda\", Substrat!E$38, IF(OR(F24=\"Gröda\", F24=\"Livsmedel/fodergröda\"),  INDEX(Substrat!$B$98:$M$118,MATCH(B24,Region,0),MATCH(A24,Substrat!$B$97:$M$97,0)),VLOOKUP(A24,Substrat!$A$3:$I$84,5,FALSE))                 ),\"\")","v":""},{"$f":"IF(A24<>\"\",VLOOKUP(A24,Substrat!$A$3:$I$84,8,FALSE),\"\")","v":""},"",{"$f":"IF(A24<>\"\",VLOOKUP(A24,Substrat!$A$3:$I$84,9,FALSE),\"\")","v":""},{"$f":"IF(A24<>\"\", IF(P24=\"EB8\", IF(A24<>\"Fett från hushåll, restauranger och storkök\",  H24*((VALUE(LEFT(VLOOKUP(A24,Substrat!$A$3:$M$84,6,FALSE),FIND(\"-\",VLOOKUP(A24,Substrat!$A$3:$M$84,6,FALSE),1)-1))+VALUE(RIGHT(VLOOKUP(A24,Substrat!$A$3:$M$84,6,FALSE),LEN(VLOOKUP(A24,Substrat!$A$3:$M$84,6,FALSE))-FIND(\"-\",VLOOKUP(A24,Substrat!$A$3:$M$84,6,FALSE),1))))/2/100)/0.3, H24),H24),\"\")","v":""},""]
[null,"",20,null,null,{"$f":"IF(A25<>\"\",VLOOKUP(A25,Substrat!$A$3:$H$84,2,FALSE),\"\")","v":""},{"$f":"IF(A25<>\"\",VLOOKUP(A25,Substrat!$A$3:$H$84,3,FALSE),\"\")","v":""},null,null,{"$f":"IF(A25<>\"\",IF($G$126=\"Nm3\",VLOOKUP(A25,Substrat!$A$3:$I$84,4,FALSE),VLOOKUP(A25,Substrat!$A$3:$I$84,4,FALSE)/$H$126),\"\")","v":""},"","",{"$f":"IF(A25<>\"\",IF(G25=\"Mellangröda\", Substrat!E$38, IF(OR(F25=\"Gröda\", F25=\"Livsmedel/fodergröda\"),  INDEX(Substrat!$B$98:$M$118,MATCH(B25,Region,0),MATCH(A25,Substrat!$B$97:$M$97,0)),VLOOKUP(A25,Substrat!$A$3:$I$84,5,FALSE))                 ),\"\")","v":""},{"$f":"IF(A25<>\"\",VLOOKUP(A25,Substrat!$A$3:$I$84,8,FALSE),\"\")","v":""},"",{"$f":"IF(A25<>\"\",VLOOKUP(A25,Substrat!$A$3:$I$84,9,FALSE),\"\")","v":""},{"$f":"IF(A25<>\"\", IF(P25=\"EB8\", IF(A25<>\"Fett från hushåll, restauranger och storkök\",  H25*((VALUE(LEFT(VLOOKUP(A25,Substrat!$A$3:$M$84,6,FALSE),FIND(\"-\",VLOOKUP(A25,Substrat!$A$3:$M$84,6,FALSE),1)-1))+VALUE(RIGHT(VLOOKUP(A25,Substrat!$A$3:$M$84,6,FALSE),LEN(VLOOKUP(A25,Substrat!$A$3:$M$84,6,FALSE))-FIND(\"-\",VLOOKUP(A25,Substrat!$A$3:$M$84,6,FALSE),1))))/2/100)/0.3, H25),H25),\"\")","v":""},""]
[null,"",21,null,null,{"$f":"IF(A26<>\"\",VLOOKUP(A26,Substrat!$A$3:$H$84,2,FALSE),\"\")","v":""},{"$f":"IF(A26<>\"\",VLOOKUP(A26,Substrat!$A$3:$H$84,3,FALSE),\"\")","v":""},null,null,{"$f":"IF(A26<>\"\",IF($G$126=\"Nm3\",VLOOKUP(A26,Substrat!$A$3:$I$84,4,FALSE),VLOOKUP(A26,Substrat!$A$3:$I$84,4,FALSE)/$H$126),\"\")","v":""},"","",{"$f":"IF(A26<>\"\",IF(G26=\"Mellangröda\", Substrat!E$38, IF(OR(F26=\"Gröda\", F26=\"Livsmedel/fodergröda\"),  INDEX(Substrat!$B$98:$M$118,MATCH(B26,Region,0),MATCH(A26,Substrat!$B$97:$M$97,0)),VLOOKUP(A26,Substrat!$A$3:$I$84,5,FALSE))                 ),\"\")","v":""},{"$f":"IF(A26<>\"\",VLOOKUP(A26,Substrat!$A$3:$I$84,8,FALSE),\"\")","v":""},"",{"$f":"IF(A26<>\"\",VLOOKUP(A26,Substrat!$A$3:$I$84,9,FALSE),\"\")","v":""},{"$f":"IF(A26<>\"\", IF(P26=\"EB8\", IF(A26<>\"Fett från hushåll, restauranger och storkök\",  H26*((VALUE(LEFT(VLOOKUP(A26,Substrat!$A$3:$M$84,6,FALSE),FIND(\"-\",VLOOKUP(A26,Substrat!$A$3:$M$84,6,FALSE),1)-1))+VALUE(RIGHT(VLOOKUP(A26,Substrat!$A$3:$M$84,6,FALSE),LEN(VLOOKUP(A26,Substrat!$A$3:$M$84,6,FALSE))-FIND(\"-\",VLOOKUP(A26,Substrat!$A$3:$M$84,6,FALSE),1))))/2/100)/0.3, H26),H26),\"\")","v":""},""]
[null,"",22,null,null,{"$f":"IF(A27<>\"\",VLOOKUP(A27,Substrat!$A$3:$H$84,2,FALSE),\"\")","v":""},{"$f":"IF(A27<>\"\",VLOOKUP(A27,Substrat!$A$3:$H$84,3,FALSE),\"\")","v":""},null,null,{"$f":"IF(A27<>\"\",IF($G$126=\"Nm3\",VLOOKUP(A27,Substrat!$A$3:$I$84,4,FALSE),VLOOKUP(A27,Substrat!$A$3:$I$84,4,FALSE)/$H$126),\"\")","v":""},"","",{"$f":"IF(A27<>\"\",IF(G27=\"Mellangröda\", Substrat!E$38, IF(OR(F27=\"Gröda\", F27=\"Livsmedel/fodergröda\"),  INDEX(Substrat!$B$98:$M$118,MATCH(B27,Region,0),MATCH(A27,Substrat!$B$97:$M$97,0)),VLOOKUP(A27,Substrat!$A$3:$I$84,5,FALSE))                 ),\"\")","v":""},{"$f":"IF(A27<>\"\",VLOOKUP(A27,Substrat!$A$3:$I$84,8,FALSE),\"\")","v":""},"",{"$f":"IF(A27<>\"\",VLOOKUP(A27,Substrat!$A$3:$I$84,9,FALSE),\"\")","v":""},{"$f":"IF(A27<>\"\", IF(P27=\"EB8\", IF(A27<>\"Fett från hushåll, restauranger och storkök\",  H27*((VALUE(LEFT(VLOOKUP(A27,Substrat!$A$3:$M$84,6,FALSE),FIND(\"-\",VLOOKUP(A27,Substrat!$A$3:$M$84,6,FALSE),1)-1))+VALUE(RIGHT(VLOOKUP(A27,Substrat!$A$3:$M$84,6,FALSE),LEN(VLOOKUP(A27,Substrat!$A$3:$M$84,6,FALSE))-FIND(\"-\",VLOOKUP(A27,Substrat!$A$3:$M$84,6,FALSE),1))))/2/100)/0.3, H27),H27),\"\")","v":""},""]
[null,"",23,null,null,{"$f":"IF(A28<>\"\",VLOOKUP(A28,Substrat!$A$3:$H$84,2,FALSE),\"\")","v":""},{"$f":"IF(A28<>\"\",VLOOKUP(A28,Substrat!$A$3:$H$84,3,FALSE),\"\")","v":""},null,null,{"$f":"IF(A28<>\"\",IF($G$126=\"Nm3\",VLOOKUP(A28,Substrat!$A$3:$I$84,4,FALSE),VLOOKUP(A28,Substrat!$A$3:$I$84,4,FALSE)/$H$126),\"\")","v":""},"","",{"$f":"IF(A28<>\"\",IF(G28=\"Mellangröda\", Substrat!E$38, IF(OR(F28=\"Gröda\", F28=\"Livsmedel/fodergröda\"),  INDEX(Substrat!$B$98:$M$118,MATCH(B28,Region,0),MATCH(A28,Substrat!$B$97:$M$97,0)),VLOOKUP(A28,Substrat!$A$3:$I$84,5,FALSE))                 ),\"\")","v":""},{"$f":"IF(A28<>\"\",VLOOKUP(A28,Substrat!$A$3:$I$84,8,FALSE),\"\")","v":""},"",{"$f":"IF(A28<>\"\",VLOOKUP(A28,Substrat!$A$3:$I$84,9,FALSE),\"\")","v":""},{"$f":"IF(A28<>\"\", IF(P28=\"EB8\", IF(A28<>\"Fett från hushåll, restauranger och storkök\",  H28*((VALUE(LEFT(VLOOKUP(A28,Substrat!$A$3:$M$84,6,FALSE),FIND(\"-\",VLOOKUP(A28,Substrat!$A$3:$M$84,6,FALSE),1)-1))+VALUE(RIGHT(VLOOKUP(A28,Substrat!$A$3:$M$84,6,FALSE),LEN(VLOOKUP(A28,Substrat!$A$3:$M$84,6,FALSE))-FIND(\"-\",VLOOKUP(A28,Substrat!$A$3:$M$84,6,FALSE),1))))/2/100)/0.3, H28),H28),\"\")","v":""},""]
[null,"",24,null,null,{"$f":"IF(A29<>\"\",VLOOKUP(A29,Substrat!$A$3:$H$84,2,FALSE),\"\")","v":""},{"$f":"IF(A29<>\"\",VLOOKUP(A29,Substrat!$A$3:$H$84,3,FALSE),\"\")","v":""},null,null,{"$f":"IF(A29<>\"\",IF($G$126=\"Nm3\",VLOOKUP(A29,Substrat!$A$3:$I$84,4,FALSE),VLOOKUP(A29,Substrat!$A$3:$I$84,4,FALSE)/$H$126),\"\")","v":""},"","",{"$f":"IF(A29<>\"\",IF(G29=\"Mellangröda\", Substrat!E$38, IF(OR(F29=\"Gröda\", F29=\"Livsmedel/fodergröda\"),  INDEX(Substrat!$B$98:$M$118,MATCH(B29,Region,0),MATCH(A29,Substrat!$B$97:$M$97,0)),VLOOKUP(A29,Substrat!$A$3:$I$84,5,FALSE))                 ),\"\")","v":""},{"$f":"IF(A29<>\"\",VLOOKUP(A29,Substrat!$A$3:$I$84,8,FALSE),\"\")","v":""},"",{"$f":"IF(A29<>\"\",VLOOKUP(A29,Substrat!$A$3:$I$84,9,FALSE),\"\")","v":""},{"$f":"IF(A29<>\"\", IF(P29=\"EB8\", IF(A29<>\"Fett från hushåll, restauranger och storkök\",  H29*((VALUE(LEFT(VLOOKUP(A29,Substrat!$A$3:$M$84,6,FALSE),FIND(\"-\",VLOOKUP(A29,Substrat!$A$3:$M$84,6,FALSE),1)-1))+VALUE(RIGHT(VLOOKUP(A29,Substrat!$A$3:$M$84,6,FALSE),LEN(VLOOKUP(A29,Substrat!$A$3:$M$84,6,FALSE))-FIND(\"-\",VLOOKUP(A29,Substrat!$A$3:$M$84,6,FALSE),1))))/2/100)/0.3, H29),H29),\"\")","v":""},""]
[null,"",25,null,null,{"$f":"IF(A30<>\"\",VLOOKUP(A30,Substrat!$A$3:$H$84,2,FALSE),\"\")","v":""},{"$f":"IF(A30<>\"\",VLOOKUP(A30,Substrat!$A$3:$H$84,3,FALSE),\"\")","v":""},null,null,{"$f":"IF(A30<>\"\",IF($G$126=\"Nm3\",VLOOKUP(A30,Substrat!$A$3:$I$84,4,FALSE),VLOOKUP(A30,Substrat!$A$3:$I$84,4,FALSE)/$H$126),\"\")","v":""},"","",{"$f":"IF(A30<>\"\",IF(G30=\"Mellangröda\", Substrat!E$38, IF(OR(F30=\"Gröda\", F30=\"Livsmedel/fodergröda\"),  INDEX(Substrat!$B$98:$M$118,MATCH(B30,Region,0),MATCH(A30,Substrat!$B$97:$M$97,0)),VLOOKUP(A30,Substrat!$A$3:$I$84,5,FALSE))                 ),\"\")","v":""},{"$f":"IF(A30<>\"\",VLOOKUP(A30,Substrat!$A$3:$I$84,8,FALSE),\"\")","v":""},"",{"$f":"IF(A30<>\"\",VLOOKUP(A30,Substrat!$A$3:$I$84,9,FALSE),\"\")","v":""},{"$f":"IF(A30<>\"\", IF(P30=\"EB8\", IF(A30<>\"Fett från hushåll, restauranger och storkök\",  H30*((VALUE(LEFT(VLOOKUP(A30,Substrat!$A$3:$M$84,6,FALSE),FIND(\"-\",VLOOKUP(A30,Substrat!$A$3:$M$84,6,FALSE),1)-1))+VALUE(RIGHT(VLOOKUP(A30,Substrat!$A$3:$M$84,6,FALSE),LEN(VLOOKUP(A30,Substrat!$A$3:$M$84,6,FALSE))-FIND(\"-\",VLOOKUP(A30,Substrat!$A$3:$M$84,6,FALSE),1))))/2/100)/0.3, H30),H30),\"\")","v":""},""]
[null,"",26,null,null,{"$f":"IF(A31<>\"\",VLOOKUP(A31,Substrat!$A$3:$H$84,2,FALSE),\"\")","v":""},{"$f":"IF(A31<>\"\",VLOOKUP(A31,Substrat!$A$3:$H$84,3,FALSE),\"\")","v":""},null,null,{"$f":"IF(A31<>\"\",IF($G$126=\"Nm3\",VLOOKUP(A31,Substrat!$A$3:$I$84,4,FALSE),VLOOKUP(A31,Substrat!$A$3:$I$84,4,FALSE)/$H$126),\"\")","v":""},"","",{"$f":"IF(A31<>\"\",IF(G31=\"Mellangröda\", Substrat!E$38, IF(OR(F31=\"Gröda\", F31=\"Livsmedel/fodergröda\"),  INDEX(Substrat!$B$98:$M$118,MATCH(B31,Region,0),MATCH(A31,Substrat!$B$97:$M$97,0)),VLOOKUP(A31,Substrat!$A$3:$I$84,5,FALSE))                 ),\"\")","v":""},{"$f":"IF(A31<>\"\",VLOOKUP(A31,Substrat!$A$3:$I$84,8,FALSE),\"\")","v":""},"",{"$f":"IF(A31<>\"\",VLOOKUP(A31,Substrat!$A$3:$I$84,9,FALSE),\"\")","v":""},{"$f":"IF(A31<>\"\", IF(P31=\"EB8\", IF(A31<>\"Fett från hushåll, restauranger och storkök\",  H31*((VALUE(LEFT(VLOOKUP(A31,Substrat!$A$3:$M$84,6,FALSE),FIND(\"-\",VLOOKUP(A31,Substrat!$A$3:$M$84,6,FALSE),1)-1))+VALUE(RIGHT(VLOOKUP(A31,Substrat!$A$3:$M$84,6,FALSE),LEN(VLOOKUP(A31,Substrat!$A$3:$M$84,6,FALSE))-FIND(\"-\",VLOOKUP(A31,Substrat!$A$3:$M$84,6,FALSE),1))))/2/100)/0.3, H31),H31),\"\")","v":""},""]
[null,"",27,null,null,{"$f":"IF(A32<>\"\",VLOOKUP(A32,Substrat!$A$3:$H$84,2,FALSE),\"\")","v":""},{"$f":"IF(A32<>\"\",VLOOKUP(A32,Substrat!$A$3:$H$84,3,FALSE),\"\")","v":""},null,null,{"$f":"IF(A32<>\"\",IF($G$126=\"Nm3\",VLOOKUP(A32,Substrat!$A$3:$I$84,4,FALSE),VLOOKUP(A32,Substrat!$A$3:$I$84,4,FALSE)/$H$126),\"\")","v":""},"","",{"$f":"IF(A32<>\"\",IF(G32=\"Mellangröda\", Substrat!E$38, IF(OR(F32=\"Gröda\", F32=\"Livsmedel/fodergröda\"),  INDEX(Substrat!$B$98:$M$118,MATCH(B32,Region,0),MATCH(A32,Substrat!$B$97:$M$97,0)),VLOOKUP(A32,Substrat!$A$3:$I$84,5,FALSE))                 ),\"\")","v":""},{"$f":"IF(A32<>\"\",VLOOKUP(A32,Substrat!$A$3:$I$84,8,FALSE),\"\")","v":""},"",{"$f":"IF(A32<>\"\",VLOOKUP(A32,Substrat!$A$3:$I$84,9,FALSE),\"\")","v":""},{"$f":"IF(A32<>\"\", IF(P32=\"EB8\", IF(A32<>\"Fett från hushåll, restauranger och storkök\",  H32*((VALUE(LEFT(VLOOKUP(A32,Substrat!$A$3:$M$84,6,FALSE),FIND(\"-\",VLOOKUP(A32,Substrat!$A$3:$M$84,6,FALSE),1)-1))+VALUE(RIGHT(VLOOKUP(A32,Substrat!$A$3:$M$84,6,FALSE),LEN(VLOOKUP(A32,Substrat!$A$3:$M$84,6,FALSE))-FIND(\"-\",VLOOKUP(A32,Substrat!$A$3:$M$84,6,FALSE),1))))/2/100)/0.3, H32),H32),\"\")","v":""},""]
[null,"",28,null,null,{"$f":"IF(A33<>\"\",VLOOKUP(A33,Substrat!$A$3:$H$84,2,FALSE),\"\")","v":""},{"$f":"IF(A33<>\"\",VLOOKUP(A33,Substrat!$A$3:$H$84,3,FALSE),\"\")","v":""},null,null,{"$f":"IF(A33<>\"\",IF($G$126=\"Nm3\",VLOOKUP(A33,Substrat!$A$3:$I$84,4,FALSE),VLOOKUP(A33,Substrat!$A$3:$I$84,4,FALSE)/$H$126),\"\")","v":""},"","",{"$f":"IF(A33<>\"\",IF(G33=\"Mellangröda\", Substrat!E$38, IF(OR(F33=\"Gröda\", F33=\"Livsmedel/fodergröda\"),  INDEX(Substrat!$B$98:$M$118,MATCH(B33,Region,0),MATCH(A33,Substrat!$B$97:$M$97,0)),VLOOKUP(A33,Substrat!$A$3:$I$84,5,FALSE))                 ),\"\")","v":""},{"$f":"IF(A33<>\"\",VLOOKUP(A33,Substrat!$A$3:$I$84,8,FALSE),\"\")","v":""},"",{"$f":"IF(A33<>\"\",VLOOKUP(A33,Substrat!$A$3:$I$84,9,FALSE),\"\")","v":""},{"$f":"IF(A33<>\"\", IF(P33=\"EB8\", IF(A33<>\"Fett från hushåll, restauranger och storkök\",  H33*((VALUE(LEFT(VLOOKUP(A33,Substrat!$A$3:$M$84,6,FALSE),FIND(\"-\",VLOOKUP(A33,Substrat!$A$3:$M$84,6,FALSE),1)-1))+VALUE(RIGHT(VLOOKUP(A33,Substrat!$A$3:$M$84,6,FALSE),LEN(VLOOKUP(A33,Substrat!$A$3:$M$84,6,FALSE))-FIND(\"-\",VLOOKUP(A33,Substrat!$A$3:$M$84,6,FALSE),1))))/2/100)/0.3, H33),H33),\"\")","v":""},""]
[null,"",29,null,null,{"$f":"IF(A34<>\"\",VLOOKUP(A34,Substrat!$A$3:$H$84,2,FALSE),\"\")","v":""},{"$f":"IF(A34<>\"\",VLOOKUP(A34,Substrat!$A$3:$H$84,3,FALSE),\"\")","v":""},null,null,{"$f":"IF(A34<>\"\",IF($G$126=\"Nm3\",VLOOKUP(A34,Substrat!$A$3:$I$84,4,FALSE),VLOOKUP(A34,Substrat!$A$3:$I$84,4,FALSE)/$H$126),\"\")","v":""},"","",{"$f":"IF(A34<>\"\",IF(G34=\"Mellangröda\", Substrat!E$38, IF(OR(F34=\"Gröda\", F34=\"Livsmedel/fodergröda\"),  INDEX(Substrat!$B$98:$M$118,MATCH(B34,Region,0),MATCH(A34,Substrat!$B$97:$M$97,0)),VLOOKUP(A34,Substrat!$A$3:$I$84,5,FALSE))                 ),\"\")","v":""},{"$f":"IF(A34<>\"\",VLOOKUP(A34,Substrat!$A$3:$I$84,8,FALSE),\"\")","v":""},"",{"$f":"IF(A34<>\"\",VLOOKUP(A34,Substrat!$A$3:$I$84,9,FALSE),\"\")","v":""},{"$f":"IF(A34<>\"\", IF(P34=\"EB8\", IF(A34<>\"Fett från hushåll, restauranger och storkök\",  H34*((VALUE(LEFT(VLOOKUP(A34,Substrat!$A$3:$M$84,6,FALSE),FIND(\"-\",VLOOKUP(A34,Substrat!$A$3:$M$84,6,FALSE),1)-1))+VALUE(RIGHT(VLOOKUP(A34,Substrat!$A$3:$M$84,6,FALSE),LEN(VLOOKUP(A34,Substrat!$A$3:$M$84,6,FALSE))-FIND(\"-\",VLOOKUP(A34,Substrat!$A$3:$M$84,6,FALSE),1))))/2/100)/0.3, H34),H34),\"\")","v":""},""]
[null,"",30,null,null,{"$f":"IF(A35<>\"\",VLOOKUP(A35,Substrat!$A$3:$H$84,2,FALSE),\"\")","v":""},{"$f":"IF(A35<>\"\",VLOOKUP(A35,Substrat!$A$3:$H$84,3,FALSE),\"\")","v":""},null,null,{"$f":"IF(A35<>\"\",IF($G$126=\"Nm3\",VLOOKUP(A35,Substrat!$A$3:$I$84,4,FALSE),VLOOKUP(A35,Substrat!$A$3:$I$84,4,FALSE)/$H$126),\"\")","v":""},"","",{"$f":"IF(A35<>\"\",IF(G35=\"Mellangröda\", Substrat!E$38, IF(OR(F35=\"Gröda\", F35=\"Livsmedel/fodergröda\"),  INDEX(Substrat!$B$98:$M$118,MATCH(B35,Region,0),MATCH(A35,Substrat!$B$97:$M$97,0)),VLOOKUP(A35,Substrat!$A$3:$I$84,5,FALSE))                 ),\"\")","v":""},{"$f":"IF(A35<>\"\",VLOOKUP(A35,Substrat!$A$3:$I$84,8,FALSE),\"\")","v":""},"",{"$f":"IF(A35<>\"\",VLOOKUP(A35,Substrat!$A$3:$I$84,9,FALSE),\"\")","v":""},{"$f":"IF(A35<>\"\", IF(P35=\"EB8\", IF(A35<>\"Fett från hushåll, restauranger och storkök\",  H35*((VALUE(LEFT(VLOOKUP(A35,Substrat!$A$3:$M$84,6,FALSE),FIND(\"-\",VLOOKUP(A35,Substrat!$A$3:$M$84,6,FALSE),1)-1))+VALUE(RIGHT(VLOOKUP(A35,Substrat!$A$3:$M$84,6,FALSE),LEN(VLOOKUP(A35,Substrat!$A$3:$M$84,6,FALSE))-FIND(\"-\",VLOOKUP(A35,Substrat!$A$3:$M$84,6,FALSE),1))))/2/100)/0.3, H35),H35),\"\")","v":""},""]
["Summa till biogasproduktion",null,null,null,null,null,null,{"$f":"SUM(H6:H35)","v":0},null,null,{"$f":"SUM(K6:K35)","v":0},{"$f":"SUM(L6:L35)","v":0},null,null,{"$f":"SUM(O6:O35)","v":0},null,{"$f":"SUM(Q6:Q35)","v":0},0]
[]
["Transporter av substrat till anläggning eller till lager på anläggning",null,null,null,null,null,null,"Växthusgasberäkning",null,"Noteringar",null,"Gasproduktion jämfört med teoretisk",null,null,null,{"$f":"L36/K36 - 1","v":{"$error":"#DIV/0!"}}]
["Substrat    OBS! Dubbelklicka i de gröna fälten för att få upp en lista med substrat","Parti nr","Mängd substrat, ton","Avstånd, km (MWh el)","Transportsätt","Bränsle","Returfrakt, ja/nej","Faktor, gCO2eq/tonkm (/ MWh)","Mängd CO2eq, ton","För egna noteringar länkar etc",null,"Gränsvärde för markering",null,null,null,0.2]
[null,null,null,null,null,null,null,{"$f":"IF(A40<>\"\", IF(E40=\"Rörledning\",Data!$B$49,  IF(OR(E40=\"Renh.-Stad\",E40=\"Renh.-Landsbygd\",E40=\"Slamsugning - fettavskiljare \"),\"\", IF(G40=\"Ja\", VLOOKUP(E40,Data!$A$132:$C$151,2,FALSE),  IF(G40=\"Nej\", (VLOOKUP(E40,Data!$A$132:$C$151,2,FALSE)+VLOOKUP(E40,Data!$A$132:$C$151,3,FALSE)), #N/A)) * VLOOKUP(F40,Data!$A$51:$C$70,3,FALSE))),\"\")","v":""},{"$f":"IF(E40=\"Rörledning\",D40*H40/1000/1000,IF(OR(E40=\"Renh.-Stad\",E40=\"Renh.-Landsbygd\",E40=\"Slamsugning - fettavskiljare \"),C40*VLOOKUP(E40,Data!$A$144:$E$146,4,FALSE)*VLOOKUP(F40,Data!$A$51:$E$70,3,FALSE)/1000000, IF(A40<>\"\", C40*D40*H40/1000/1000,\"\")))","v":""}]
[null,null,null,null,null,null,null,{"$f":"IF(A41<>\"\", IF(E41=\"Rörledning\",Data!$B$49,  IF(OR(E41=\"Renh.-Stad\",E41=\"Renh.-Landsbygd\",E41=\"Slamsugning - fettavskiljare \"),\"\", IF(G41=\"Ja\", VLOOKUP(E41,Data!$A$132:$C$151,2,FALSE),  IF(G41=\"Nej\", (VLOOKUP(E41,Data!$A$132:$C$151,2,FALSE)+VLOOKUP(E41,Data!$A$132:$C$151,3,FALSE)), #N/A)) * VLOOKUP(F41,Data!$A$51:$C$70,3,FALSE))),\"\")","v":""},{"$f":"IF(E41=\"Rörledning\",D41*H41/1000/1000,IF(OR(E41=\"Renh.-Stad\",E41=\"Renh.-Landsbygd\",E41=\"Slamsugning - fettavskiljare \"),C41*VLOOKUP(E41,Data!$A$144:$E$146,4,FALSE)*VLOOKUP(F41,Data!$A$51:$E$70,3,FALSE)/1000000, IF(A41<>\"\", C41*D41*H41/1000/1000,\"\")))","v":""}]
[null,null,null,null,null,null,null,{"$f":"IF(A42<>\"\", IF(E42=\"Rörledning\",Data!$B$49,  IF(OR(E42=\"Renh.-Stad\",E42=\"Renh.-Landsbygd\",E42=\"Slamsugning - fettavskiljare \"),\"\", IF(G42=\"Ja\", VLOOKUP(E42,Data!$A$132:$C$151,2,FALSE),  IF(G42=\"Nej\", (VLOOKUP(E42,Data!$A$132:$C$151,2,FALSE)+VLOOKUP(E42,Data!$A$132:$C$151,3,FALSE)), #N/A)) * VLOOKUP(F42,Data!$A$51:$C$70,3,FALSE))),\"\")","v":""},{"$f":"IF(E42=\"Rörledning\",D42*H42/1000/1000,IF(OR(E42=\"Renh.-Stad\",E42=\"Renh.-Landsbygd\",E42=\"Slamsugning - fettavskiljare \"),C42*VLOOKUP(E42,Data!$A$144:$E$146,4,FALSE)*VLOOKUP(F42,Data!$A$51:$E$70,3,FALSE)/1000000, IF(A42<>\"\", C42*D42*H42/1000/1000,\"\")))","v":""}]
[null,null,null,null,null,null,null,{"$f":"IF(A43<>\"\", IF(E43=\"Rörledning\",Data!$B$49,  IF(OR(E43=\"Renh.-Stad\",E43=\"Renh.-Landsbygd\",E43=\"Slamsugning - fettavskiljare \"),\"\", IF(G43=\"Ja\", VLOOKUP(E43,Data!$A$132:$C$151,2,FALSE),  IF(G43=\"Nej\", (VLOOKUP(E43,Data!$A$132:$C$151,2,FALSE)+VLOOKUP(E43,Data!$A$132:$C$151,3,FALSE)), #N/A)) * VLOOKUP(F43,Data!$A$51:$C$70,3,FALSE))),\"\")","v":""},{"$f":"IF(E43=\"Rörledning\",D43*H43/1000/1000,IF(OR(E43=\"Renh.-Stad\",E43=\"Renh.-Landsbygd\",E43=\"Slamsugning - fettavskiljare \"),C43*VLOOKUP(E43,Data!$A$144:$E$146,4,FALSE)*VLOOKUP(F43,Data!$A$51:$E$70,3,FALSE)/1000000, IF(A43<>\"\", C43*D43*H43/1000/1000,\"\")))","v":""}]
[null,null,null,null,null,null,null,{"$f":"IF(A44<>\"\", IF(E44=\"Rörledning\",Data!$B$49,  IF(OR(E44=\"Renh.-Stad\",E44=\"Renh.-Landsbygd\",E44=\"Slamsugning - fettavskiljare \"),\"\", IF(G44=\"Ja\", VLOOKUP(E44,Data!$A$132:$C$151,2,FALSE),  IF(G44=\"Nej\", (VLOOKUP(E44,Data!$A$132:$C$151,2,FALSE)+VLOOKUP(E44,Data!$A$132:$C$151,3,FALSE)), #N/A)) * VLOOKUP(F44,Data!$A$51:$C$70,3,FALSE))),\"\")","v":""},{"$f":"IF(E44=\"Rörledning\",D44*H44/1000/1000,IF(OR(E44=\"Renh.-Stad\",E44=\"Renh.-Landsbygd\",E44=\"Slamsugning - fettavskiljare \"),C44*VLOOKUP(E44,Data!$A$144:$E$146,4,FALSE)*VLOOKUP(F44,Data!$A$51:$E$70,3,FALSE)/1000000, IF(A44<>\"\", C44*D44*H44/1000/1000,\"\")))","v":""}]
[null,null,null,null,null,null,null,{"$f":"IF(A45<>\"\", IF(E45=\"Rörledning\",Data!$B$49,  IF(OR(E45=\"Renh.-Stad\",E45=\"Renh.-Landsbygd\",E45=\"Slamsugning - fettavskiljare \"),\"\", IF(G45=\"Ja\", VLOOKUP(E45,Data!$A$132:$C$151,2,FALSE),  IF(G45=\"Nej\", (VLOOKUP(E45,Data!$A$132:$C$151,2,FALSE)+VLOOKUP(E45,Data!$A$132:$C$151,3,FALSE)), #N/A)) * VLOOKUP(F45,Data!$A$51:$C$70,3,FALSE))),\"\")","v":""},{"$f":"IF(E45=\"Rörledning\",D45*H45/1000/1000,IF(OR(E45=\"Renh.-Stad\",E45=\"Renh.-Landsbygd\",E45=\"Slamsugning - fettavskiljare \"),C45*VLOOKUP(E45,Data!$A$144:$E$146,4,FALSE)*VLOOKUP(F45,Data!$A$51:$E$70,3,FALSE)/1000000, IF(A45<>\"\", C45*D45*H45/1000/1000,\"\")))","v":""}]
[null,null,null,null,null,null,null,{"$f":"IF(A46<>\"\", IF(E46=\"Rörledning\",Data!$B$49,  IF(OR(E46=\"Renh.-Stad\",E46=\"Renh.-Landsbygd\",E46=\"Slamsugning - fettavskiljare \"),\"\", IF(G46=\"Ja\", VLOOKUP(E46,Data!$A$132:$C$151,2,FALSE),  IF(G46=\"Nej\", (VLOOKUP(E46,Data!$A$132:$C$151,2,FALSE)+VLOOKUP(E46,Data!$A$132:$C$151,3,FALSE)), #N/A)) * VLOOKUP(F46,Data!$A$51:$C$70,3,FALSE))),\"\")","v":""},{"$f":"IF(E46=\"Rörledning\",D46*H46/1000/1000,IF(OR(E46=\"Renh.-Stad\",E46=\"Renh.-Landsbygd\",E46=\"Slamsugning - fettavskiljare \"),C46*VLOOKUP(E46,Data!$A$144:$E$146,4,FALSE)*VLOOKUP(F46,Data!$A$51:$E$70,3,FALSE)/1000000, IF(A46<>\"\", C46*D46*H46/1000/1000,\"\")))","v":""}]
[null,null,null,null,null,null,null,{"$f":"IF(A47<>\"\", IF(E47=\"Rörledning\",Data!$B$49,  IF(OR(E47=\"Renh.-Stad\",E47=\"Renh.-Landsbygd\",E47=\"Slamsugning - fettavskiljare \"),\"\", IF(G47=\"Ja\", VLOOKUP(E47,Data!$A$132:$C$151,2,FALSE),  IF(G47=\"Nej\", (VLOOKUP(E47,Data!$A$132:$C$151,2,FALSE)+VLOOKUP(E47,Data!$A$132:$C$151,3,FALSE)), #N/A)) * VLOOKUP(F47,Data!$A$51:$C$70,3,FALSE))),\"\")","v":""},{"$f":"IF(E47=\"Rörledning\",D47*H47/1000/1000,IF(OR(E47=\"Renh.-Stad\",E47=\"Renh.-Landsbygd\",E47=\"Slamsugning - fettavskiljare \"),C47*VLOOKUP(E47,Data!$A$144:$E$146,4,FALSE)*VLOOKUP(F47,Data!$A$51:$E$70,3,FALSE)/1000000, IF(A47<>\"\", C47*D47*H47/1000/1000,\"\")))","v":""}]
[null,null,null,null,null,null,null,{"$f":"IF(A48<>\"\", IF(E48=\"Rörledning\",Data!$B$49,  IF(OR(E48=\"Renh.-Stad\",E48=\"Renh.-Landsbygd\",E48=\"Slamsugning - fettavskiljare \"),\"\", IF(G48=\"Ja\", VLOOKUP(E48,Data!$A$132:$C$151,2,FALSE),  IF(G48=\"Nej\", (VLOOKUP(E48,Data!$A$132:$C$151,2,FALSE)+VLOOKUP(E48,Data!$A$132:$C$151,3,FALSE)), #N/A)) * VLOOKUP(F48,Data!$A$51:$C$70,3,FALSE))),\"\")","v":""},{"$f":"IF(E48=\"Rörledning\",D48*H48/1000/1000,IF(OR(E48=\"Renh.-Stad\",E48=\"Renh.-Landsbygd\",E48=\"Slamsugning - fettavskiljare \"),C48*VLOOKUP(E48,Data!$A$144:$E$146,4,FALSE)*VLOOKUP(F48,Data!$A$51:$E$70,3,FALSE)/1000000, IF(A48<>\"\", C48*D48*H48/1000/1000,\"\")))","v":""}]
[null,null,null,null,null,null,null,{"$f":"IF(A49<>\"\", IF(E49=\"Rörledning\",Data!$B$49,  IF(OR(E49=\"Renh.-Stad\",E49=\"Renh.-Landsbygd\",E49=\"Slamsugning - fettavskiljare \"),\"\", IF(G49=\"Ja\", VLOOKUP(E49,Data!$A$132:$C$151,2,FALSE),  IF(G49=\"Nej\", (VLOOKUP(E49,Data!$A$132:$C$151,2,FALSE)+VLOOKUP(E49,Data!$A$132:$C$151,3,FALSE)), #N/A)) * VLOOKUP(F49,Data!$A$51:$C$70,3,FALSE))),\"\")","v":""},{"$f":"IF(E49=\"Rörledning\",D49*H49/1000/1000,IF(OR(E49=\"Renh.-Stad\",E49=\"Renh.-Landsbygd\",E49=\"Slamsugning - fettavskiljare \"),C49*VLOOKUP(E49,Data!$A$144:$E$146,4,FALSE)*VLOOKUP(F49,Data!$A$51:$E$70,3,FALSE)/1000000, IF(A49<>\"\", C49*D49*H49/1000/1000,\"\")))","v":""}]
[null,null,null,null,null,null,null,{"$f":"IF(A50<>\"\", IF(E50=\"Rörledning\",Data!$B$49,  IF(OR(E50=\"Renh.-Stad\",E50=\"Renh.-Landsbygd\",E50=\"Slamsugning - fettavskiljare \"),\"\", IF(G50=\"Ja\", VLOOKUP(E50,Data!$A$132:$C$151,2,FALSE),  IF(G50=\"Nej\", (VLOOKUP(E50,Data!$A$132:$C$151,2,FALSE)+VLOOKUP(E50,Data!$A$132:$C$151,3,FALSE)), #N/A)) * VLOOKUP(F50,Data!$A$51:$C$70,3,FALSE))),\"\")","v":""},{"$f":"IF(E50=\"Rörledning\",D50*H50/1000/1000,IF(OR(E50=\"Renh.-Stad\",E50=\"Renh.-Landsbygd\",E50=\"Slamsugning - fettavskiljare \"),C50*VLOOKUP(E50,Data!$A$144:$E$146,4,FALSE)*VLOOKUP(F50,Data!$A$51:$E$70,3,FALSE)/1000000, IF(A50<>\"\", C50*D50*H50/1000/1000,\"\")))","v":""}]
[null,null,null,null,null,null,null,{"$f":"IF(A51<>\"\", IF(E51=\"Rörledning\",Data!$B$49,  IF(OR(E51=\"Renh.-Stad\",E51=\"Renh.-Landsbygd\",E51=\"Slamsugning - fettavskiljare \"),\"\", IF(G51=\"Ja\", VLOOKUP(E51,Data!$A$132:$C$151,2,FALSE),  IF(G51=\"Nej\", (VLOOKUP(E51,Data!$A$132:$C$151,2,FALSE)+VLOOKUP(E51,Data!$A$132:$C$151,3,FALSE)), #N/A)) * VLOOKUP(F51,Data!$A$51:$C$70,3,FALSE))),\"\")","v":""},{"$f":"IF(E51=\"Rörledning\",D51*H51/1000/1000,IF(OR(E51=\"Renh.-Stad\",E51=\"Renh.-Landsbygd\",E51=\"Slamsugning - fettavskiljare \"),C51*VLOOKUP(E51,Data!$A$144:$E$146,4,FALSE)*VLOOKUP(F51,Data!$A$51:$E$70,3,FALSE)/1000000, IF(A51<>\"\", C51*D51*H51/1000/1000,\"\")))","v":""}]
[null,null,null,null,null,null,null,{"$f":"IF(A52<>\"\", IF(E52=\"Rörledning\",Data!$B$49,  IF(OR(E52=\"Renh.-Stad\",E52=\"Renh.-Landsbygd\",E52=\"Slamsugning - fettavskiljare \"),\"\", IF(G52=\"Ja\", VLOOKUP(E52,Data!$A$132:$C$151,2,FALSE),  IF(G52=\"Nej\", (VLOOKUP(E52,Data!$A$132:$C$151,2,FALSE)+VLOOKUP(E52,Data!$A$132:$C$151,3,FALSE)), #N/A)) * VLOOKUP(F52,Data!$A$51:$C$70,3,FALSE))),\"\")","v":""},{"$f":"IF(E52=\"Rörledning\",D52*H52/1000/1000,IF(OR(E52=\"Renh.-Stad\",E52=\"Renh.-Landsbygd\",E52=\"Slamsugning - fettavskiljare \"),C52*VLOOKUP(E52,Data!$A$144:$E$146,4,FALSE)*VLOOKUP(F52,Data!$A$51:$E$70,3,FALSE)/1000000, IF(A52<>\"\", C52*D52*H52/1000/1000,\"\")))","v":""}]
[null,null,null,null,null,null,null,{"$f":"IF(A53<>\"\", IF(E53=\"Rörledning\",Data!$B$49,  IF(OR(E53=\"Renh.-Stad\",E53=\"Renh.-Landsbygd\",E53=\"Slamsugning - fettavskiljare \"),\"\", IF(G53=\"Ja\", VLOOKUP(E53,Data!$A$132:$C$151,2,FALSE),  IF(G53=\"Nej\", (VLOOKUP(E53,Data!$A$132:$C$151,2,FALSE)+VLOOKUP(E53,Data!$A$132:$C$151,3,FALSE)), #N/A)) * VLOOKUP(F53,Data!$A$51:$C$70,3,FALSE))),\"\")","v":""},{"$f":"IF(E53=\"Rörledning\",D53*H53/1000/1000,IF(OR(E53=\"Renh.-Stad\",E53=\"Renh.-Landsbygd\",E53=\"Slamsugning - fettavskiljare \"),C53*VLOOKUP(E53,Data!$A$144:$E$146,4,FALSE)*VLOOKUP(F53,Data!$A$51:$E$70,3,FALSE)/1000000, IF(A53<>\"\", C53*D53*H53/1000/1000,\"\")))","v":""}]
[null,null,null,null,null,null,null,{"$f":"IF(A54<>\"\", IF(E54=\"Rörledning\",Data!$B$49,  IF(OR(E54=\"Renh.-Stad\",E54=\"Renh.-Landsbygd\",E54=\"Slamsugning - fettavskiljare \"),\"\", IF(G54=\"Ja\", VLOOKUP(E54,Data!$A$132:$C$151,2,FALSE),  IF(G54=\"Nej\", (VLOOKUP(E54,Data!$A$132:$C$151,2,FALSE)+VLOOKUP(E54,Data!$A$132:$C$151,3,FALSE)), #N/A)) * VLOOKUP(F54,Data!$A$51:$C$70,3,FALSE))),\"\")","v":""},{"$f":"IF(E54=\"Rörledning\",D54*H54/1000/1000,IF(OR(E54=\"Renh.-Stad\",E54=\"Renh.-Landsbygd\",E54=\"Slamsugning - fettavskiljare \"),C54*VLOOKUP(E54,Data!$A$144:$E$146,4,FALSE)*VLOOKUP(F54,Data!$A$51:$E$70,3,FALSE)/1000000, IF(A54<>\"\", C54*D54*H54/1000/1000,\"\")))","v":""}]
[null,null,null,null,null,null,null,{"$f":"IF(A55<>\"\", IF(E55=\"Rörledning\",Data!$B$49,  IF(OR(E55=\"Renh.-Stad\",E55=\"Renh.-Landsbygd\",E55=\"Slamsugning - fettavskiljare \"),\"\", IF(G55=\"Ja\", VLOOKUP(E55,Data!$A$132:$C$151,2,FALSE),  IF(G55=\"Nej\", (VLOOKUP(E55,Data!$A$132:$C$151,2,FALSE)+VLOOKUP(E55,Data!$A$132:$C$151,3,FALSE)), #N/A)) * VLOOKUP(F55,Data!$A$51:$C$70,3,FALSE))),\"\")","v":""},{"$f":"IF(E55=\"Rörledning\",D55*H55/1000/1000,IF(OR(E55=\"Renh.-Stad\",E55=\"Renh.-Landsbygd\",E55=\"Slamsugning - fettavskiljare \"),C55*VLOOKUP(E55,Data!$A$144:$E$146,4,FALSE)*VLOOKUP(F55,Data!$A$51:$E$70,3,FALSE)/1000000, IF(A55<>\"\", C55*D55*H55/1000/1000,\"\")))","v":""}]
[null,null,null,null,null,null,null,{"$f":"IF(A56<>\"\", IF(E56=\"Rörledning\",Data!$B$49,  IF(OR(E56=\"Renh.-Stad\",E56=\"Renh.-Landsbygd\",E56=\"Slamsugning - fettavskiljare \"),\"\", IF(G56=\"Ja\", VLOOKUP(E56,Data!$A$132:$C$151,2,FALSE),  IF(G56=\"Nej\", (VLOOKUP(E56,Data!$A$132:$C$151,2,FALSE)+VLOOKUP(E56,Data!$A$132:$C$151,3,FALSE)), #N/A)) * VLOOKUP(F56,Data!$A$51:$C$70,3,FALSE))),\"\")","v":""},{"$f":"IF(E56=\"Rörledning\",D56*H56/1000/1000,IF(OR(E56=\"Renh.-Stad\",E56=\"Renh.-Landsbygd\",E56=\"Slamsugning - fettavskiljare \"),C56*VLOOKUP(E56,Data!$A$144:$E$146,4,FALSE)*VLOOKUP(F56,Data!$A$51:$E$70,3,FALSE)/1000000, IF(A56<>\"\", C56*D56*H56/1000/1000,\"\")))","v":""}]
[null,null,null,null,null,null,null,{"$f":"IF(A57<>\"\", IF(E57=\"Rörledning\",Data!$B$49,  IF(OR(E57=\"Renh.-Stad\",E57=\"Renh.-Landsbygd\",E57=\"Slamsugning - fettavskiljare \"),\"\", IF(G57=\"Ja\", VLOOKUP(E57,Data!$A$132:$C$151,2,FALSE),  IF(G57=\"Nej\", (VLOOKUP(E57,Data!$A$132:$C$151,2,FALSE)+VLOOKUP(E57,Data!$A$132:$C$151,3,FALSE)), #N/A)) * VLOOKUP(F57,Data!$A$51:$C$70,3,FALSE))),\"\")","v":""},{"$f":"IF(E57=\"Rörledning\",D57*H57/1000/1000,IF(OR(E57=\"Renh.-Stad\",E57=\"Renh.-Landsbygd\",E57=\"Slamsugning - fettavskiljare \"),C57*VLOOKUP(E57,Data!$A$144:$E$146,4,FALSE)*VLOOKUP(F57,Data!$A$51:$E$70,3,FALSE)/1000000, IF(A57<>\"\", C57*D57*H57/1000/1000,\"\")))","v":""}]
[null,null,null,null,null,null,null,{"$f":"IF(A58<>\"\", IF(E58=\"Rörledning\",Data!$B$49,  IF(OR(E58=\"Renh.-Stad\",E58=\"Renh.-Landsbygd\",E58=\"Slamsugning - fettavskiljare \"),\"\", IF(G58=\"Ja\", VLOOKUP(E58,Data!$A$132:$C$151,2,FALSE),  IF(G58=\"Nej\", (VLOOKUP(E58,Data!$A$132:$C$151,2,FALSE)+VLOOKUP(E58,Data!$A$132:$C$151,3,FALSE)), #N/A)) * VLOOKUP(F58,Data!$A$51:$C$70,3,FALSE))),\"\")","v":""},{"$f":"IF(E58=\"Rörledning\",D58*H58/1000/1000,IF(OR(E58=\"Renh.-Stad\",E58=\"Renh.-Landsbygd\",E58=\"Slamsugning - fettavskiljare \"),C58*VLOOKUP(E58,Data!$A$144:$E$146,4,FALSE)*VLOOKUP(F58,Data!$A$51:$E$70,3,FALSE)/1000000, IF(A58<>\"\", C58*D58*H58/1000/1000,\"\")))","v":""}]
[null,null,null,null,null,null,null,{"$f":"IF(A59<>\"\", IF(E59=\"Rörledning\",Data!$B$49,  IF(OR(E59=\"Renh.-Stad\",E59=\"Renh.-Landsbygd\",E59=\"Slamsugning - fettavskiljare \"),\"\", IF(G59=\"Ja\", VLOOKUP(E59,Data!$A$132:$C$151,2,FALSE),  IF(G59=\"Nej\", (VLOOKUP(E59,Data!$A$132:$C$151,2,FALSE)+VLOOKUP(E59,Data!$A$132:$C$151,3,FALSE)), #N/A)) * VLOOKUP(F59,Data!$A$51:$C$70,3,FALSE))),\"\")","v":""},{"$f":"IF(E59=\"Rörledning\",D59*H59/1000/1000,IF(OR(E59=\"Renh.-Stad\",E59=\"Renh.-Landsbygd\",E59=\"Slamsugning - fettavskiljare \"),C59*VLOOKUP(E59,Data!$A$144:$E$146,4,FALSE)*VLOOKUP(F59,Data!$A$51:$E$70,3,FALSE)/1000000, IF(A59<>\"\", C59*D59*H59/1000/1000,\"\")))","v":""}]
[null,null,null,null,null,null,null,{"$f":"IF(A60<>\"\", IF(E60=\"Rörledning\",Data!$B$49,  IF(OR(E60=\"Renh.-Stad\",E60=\"Renh.-Landsbygd\",E60=\"Slamsugning - fettavskiljare \"),\"\", IF(G60=\"Ja\", VLOOKUP(E60,Data!$A$132:$C$151,2,FALSE),  IF(G60=\"Nej\", (VLOOKUP(E60,Data!$A$132:$C$151,2,FALSE)+VLOOKUP(E60,Data!$A$132:$C$151,3,FALSE)), #N/A)) * VLOOKUP(F60,Data!$A$51:$C$70,3,FALSE))),\"\")","v":""},{"$f":"IF(E60=\"Rörledning\",D60*H60/1000/1000,IF(OR(E60=\"Renh.-Stad\",E60=\"Renh.-Landsbygd\",E60=\"Slamsugning - fettavskiljare \"),C60*VLOOKUP(E60,Data!$A$144:$E$146,4,FALSE)*VLOOKUP(F60,Data!$A$51:$E$70,3,FALSE)/1000000, IF(A60<>\"\", C60*D60*H60/1000/1000,\"\")))","v":""}]
[null,null,null,null,null,null,null,{"$f":"IF(A61<>\"\", IF(E61=\"Rörledning\",Data!$B$49,  IF(OR(E61=\"Renh.-Stad\",E61=\"Renh.-Landsbygd\",E61=\"Slamsugning - fettavskiljare \"),\"\", IF(G61=\"Ja\", VLOOKUP(E61,Data!$A$132:$C$151,2,FALSE),  IF(G61=\"Nej\", (VLOOKUP(E61,Data!$A$132:$C$151,2,FALSE)+VLOOKUP(E61,Data!$A$132:$C$151,3,FALSE)), #N/A)) * VLOOKUP(F61,Data!$A$51:$C$70,3,FALSE))),\"\")","v":""},{"$f":"IF(E61=\"Rörledning\",D61*H61/1000/1000,IF(OR(E61=\"Renh.-Stad\",E61=\"Renh.-Landsbygd\",E61=\"Slamsugning - fettavskiljare \"),C61*VLOOKUP(E61,Data!$A$144:$E$146,4,FALSE)*VLOOKUP(F61,Data!$A$51:$E$70,3,FALSE)/1000000, IF(A61<>\"\", C61*D61*H61/1000/1000,\"\")))","v":""}]
[null,null,null,null,null,null,null,{"$f":"IF(A62<>\"\", IF(E62=\"Rörledning\",Data!$B$49,  IF(OR(E62=\"Renh.-Stad\",E62=\"Renh.-Landsbygd\",E62=\"Slamsugning - fettavskiljare \"),\"\", IF(G62=\"Ja\", VLOOKUP(E62,Data!$A$132:$C$151,2,FALSE),  IF(G62=\"Nej\", (VLOOKUP(E62,Data!$A$132:$C$151,2,FALSE)+VLOOKUP(E62,Data!$A$132:$C$151,3,FALSE)), #N/A)) * VLOOKUP(F62,Data!$A$51:$C$70,3,FALSE))),\"\")","v":""},{"$f":"IF(E62=\"Rörledning\",D62*H62/1000/1000,IF(OR(E62=\"Renh.-Stad\",E62=\"Renh.-Landsbygd\",E62=\"Slamsugning - fettavskiljare \"),C62*VLOOKUP(E62,Data!$A$144:$E$146,4,FALSE)*VLOOKUP(F62,Data!$A$51:$E$70,3,FALSE)/1000000, IF(A62<>\"\", C62*D62*H62/1000/1000,\"\")))","v":""}]
[null,null,null,null,null,null,null,{"$f":"IF(A63<>\"\", IF(E63=\"Rörledning\",Data!$B$49,  IF(OR(E63=\"Renh.-Stad\",E63=\"Renh.-Landsbygd\",E63=\"Slamsugning - fettavskiljare \"),\"\", IF(G63=\"Ja\", VLOOKUP(E63,Data!$A$132:$C$151,2,FALSE),  IF(G63=\"Nej\", (VLOOKUP(E63,Data!$A$132:$C$151,2,FALSE)+VLOOKUP(E63,Data!$A$132:$C$151,3,FALSE)), #N/A)) * VLOOKUP(F63,Data!$A$51:$C$70,3,FALSE))),\"\")","v":""},{"$f":"IF(E63=\"Rörledning\",D63*H63/1000/1000,IF(OR(E63=\"Renh.-Stad\",E63=\"Renh.-Landsbygd\",E63=\"Slamsugning - fettavskiljare \"),C63*VLOOKUP(E63,Data!$A$144:$E$146,4,FALSE)*VLOOKUP(F63,Data!$A$51:$E$70,3,FALSE)/1000000, IF(A63<>\"\", C63*D63*H63/1000/1000,\"\")))","v":""}]
[null,null,null,null,null,null,null,{"$f":"IF(A64<>\"\", IF(E64=\"Rörledning\",Data!$B$49,  IF(OR(E64=\"Renh.-Stad\",E64=\"Renh.-Landsbygd\",E64=\"Slamsugning - fettavskiljare \"),\"\", IF(G64=\"Ja\", VLOOKUP(E64,Data!$A$132:$C$151,2,FALSE),  IF(G64=\"Nej\", (VLOOKUP(E64,Data!$A$132:$C$151,2,FALSE)+VLOOKUP(E64,Data!$A$132:$C$151,3,FALSE)), #N/A)) * VLOOKUP(F64,Data!$A$51:$C$70,3,FALSE))),\"\")","v":""},{"$f":"IF(E64=\"Rörledning\",D64*H64/1000/1000,IF(OR(E64=\"Renh.-Stad\",E64=\"Renh.-Landsbygd\",E64=\"Slamsugning - fettavskiljare \"),C64*VLOOKUP(E64,Data!$A$144:$E$146,4,FALSE)*VLOOKUP(F64,Data!$A$51:$E$70,3,FALSE)/1000000, IF(A64<>\"\", C64*D64*H64/1000/1000,\"\")))","v":""}]
[null,null,null,null,null,null,null,{"$f":"IF(A65<>\"\", IF(E65=\"Rörledning\",Data!$B$49,  IF(OR(E65=\"Renh.-Stad\",E65=\"Renh.-Landsbygd\",E65=\"Slamsugning - fettavskiljare \"),\"\", IF(G65=\"Ja\", VLOOKUP(E65,Data!$A$132:$C$151,2,FALSE),  IF(G65=\"Nej\", (VLOOKUP(E65,Data!$A$132:$C$151,2,FALSE)+VLOOKUP(E65,Data!$A$132:$C$151,3,FALSE)), #N/A)) * VLOOKUP(F65,Data!$A$51:$C$70,3,FALSE))),\"\")","v":""},{"$f":"IF(E65=\"Rörledning\",D65*H65/1000/1000,IF(OR(E65=\"Renh.-Stad\",E65=\"Renh.-Landsbygd\",E65=\"Slamsugning - fettavskiljare \"),C65*VLOOKUP(E65,Data!$A$144:$E$146,4,FALSE)*VLOOKUP(F65,Data!$A$51:$E$70,3,FALSE)/1000000, IF(A65<>\"\", C65*D65*H65/1000/1000,\"\")))","v":""}]
[null,null,null,null,null,null,null,{"$f":"IF(A66<>\"\", IF(E66=\"Rörledning\",Data!$B$49,  IF(OR(E66=\"Renh.-Stad\",E66=\"Renh.-Landsbygd\",E66=\"Slamsugning - fettavskiljare \"),\"\", IF(G66=\"Ja\", VLOOKUP(E66,Data!$A$132:$C$151,2,FALSE),  IF(G66=\"Nej\", (VLOOKUP(E66,Data!$A$132:$C$151,2,FALSE)+VLOOKUP(E66,Data!$A$132:$C$151,3,FALSE)), #N/A)) * VLOOKUP(F66,Data!$A$51:$C$70,3,FALSE))),\"\")","v":""},{"$f":"IF(E66=\"Rörledning\",D66*H66/1000/1000,IF(OR(E66=\"Renh.-Stad\",E66=\"Renh.-Landsbygd\",E66=\"Slamsugning - fettavskiljare \"),C66*VLOOKUP(E66,Data!$A$144:$E$146,4,FALSE)*VLOOKUP(F66,Data!$A$51:$E$70,3,FALSE)/1000000, IF(A66<>\"\", C66*D66*H66/1000/1000,\"\")))","v":""}]
[null,null,null,null,null,null,null,{"$f":"IF(A67<>\"\", IF(E67=\"Rörledning\",Data!$B$49,  IF(OR(E67=\"Renh.-Stad\",E67=\"Renh.-Landsbygd\",E67=\"Slamsugning - fettavskiljare \"),\"\", IF(G67=\"Ja\", VLOOKUP(E67,Data!$A$132:$C$151,2,FALSE),  IF(G67=\"Nej\", (VLOOKUP(E67,Data!$A$132:$C$151,2,FALSE)+VLOOKUP(E67,Data!$A$132:$C$151,3,FALSE)), #N/A)) * VLOOKUP(F67,Data!$A$51:$C$70,3,FALSE))),\"\")","v":""},{"$f":"IF(E67=\"Rörledning\",D67*H67/1000/1000,IF(OR(E67=\"Renh.-Stad\",E67=\"Renh.-Landsbygd\",E67=\"Slamsugning - fettavskiljare \"),C67*VLOOKUP(E67,Data!$A$144:$E$146,4,FALSE)*VLOOKUP(F67,Data!$A$51:$E$70,3,FALSE)/1000000, IF(A67<>\"\", C67*D67*H67/1000/1000,\"\")))","v":""}]
[null,null,null,null,null,null,null,{"$f":"IF(A68<>\"\", IF(E68=\"Rörledning\",Data!$B$49,  IF(OR(E68=\"Renh.-Stad\",E68=\"Renh.-Landsbygd\",E68=\"Slamsugning - fettavskiljare \"),\"\", IF(G68=\"Ja\", VLOOKUP(E68,Data!$A$132:$C$151,2,FALSE),  IF(G68=\"Nej\", (VLOOKUP(E68,Data!$A$132:$C$151,2,FALSE)+VLOOKUP(E68,Data!$A$132:$C$151,3,FALSE)), #N/A)) * VLOOKUP(F68,Data!$A$51:$C$70,3,FALSE))),\"\")","v":""},{"$f":"IF(E68=\"Rörledning\",D68*H68/1000/1000,IF(OR(E68=\"Renh.-Stad\",E68=\"Renh.-Landsbygd\",E68=\"Slamsugning - fettavskiljare \"),C68*VLOOKUP(E68,Data!$A$144:$E$146,4,FALSE)*VLOOKUP(F68,Data!$A$51:$E$70,3,FALSE)/1000000, IF(A68<>\"\", C68*D68*H68/1000/1000,\"\")))","v":""}]
[null,null,null,null,null,null,null,{"$f":"IF(A69<>\"\", IF(E69=\"Rörledning\",Data!$B$49,  IF(OR(E69=\"Renh.-Stad\",E69=\"Renh.-Landsbygd\",E69=\"Slamsugning - fettavskiljare \"),\"\", IF(G69=\"Ja\", VLOOKUP(E69,Data!$A$132:$C$151,2,FALSE),  IF(G69=\"Nej\", (VLOOKUP(E69,Data!$A$132:$C$151,2,FALSE)+VLOOKUP(E69,Data!$A$132:$C$151,3,FALSE)), #N/A)) * VLOOKUP(F69,Data!$A$51:$C$70,3,FALSE))),\"\")","v":""},{"$f":"IF(E69=\"Rörledning\",D69*H69/1000/1000,IF(OR(E69=\"Renh.-Stad\",E69=\"Renh.-Landsbygd\",E69=\"Slamsugning - fettavskiljare \"),C69*VLOOKUP(E69,Data!$A$144:$E$146,4,FALSE)*VLOOKUP(F69,Data!$A$51:$E$70,3,FALSE)/1000000, IF(A69<>\"\", C69*D69*H69/1000/1000,\"\")))","v":""}]
[null,null,null,null,null,null,null,{"$f":"IF(A70<>\"\", IF(E70=\"Rörledning\",Data!$B$49,  IF(OR(E70=\"Renh.-Stad\",E70=\"Renh.-Landsbygd\",E70=\"Slamsugning - fettavskiljare \"),\"\", IF(G70=\"Ja\", VLOOKUP(E70,Data!$A$132:$C$151,2,FALSE),  IF(G70=\"Nej\", (VLOOKUP(E70,Data!$A$132:$C$151,2,FALSE)+VLOOKUP(E70,Data!$A$132:$C$151,3,FALSE)), #N/A)) * VLOOKUP(F70,Data!$A$51:$C$70,3,FALSE))),\"\")","v":""},{"$f":"IF(E70=\"Rörledning\",D70*H70/1000/1000,IF(OR(E70=\"Renh.-Stad\",E70=\"Renh.-Landsbygd\",E70=\"Slamsugning - fettavskiljare \"),C70*VLOOKUP(E70,Data!$A$144:$E$146,4,FALSE)*VLOOKUP(F70,Data!$A$51:$E$70,3,FALSE)/1000000, IF(A70<>\"\", C70*D70*H70/1000/1000,\"\")))","v":""}]
[null,null,null,null,null,null,null,{"$f":"IF(A71<>\"\", IF(E71=\"Rörledning\",Data!$B$49,  IF(OR(E71=\"Renh.-Stad\",E71=\"Renh.-Landsbygd\",E71=\"Slamsugning - fettavskiljare \"),\"\", IF(G71=\"Ja\", VLOOKUP(E71,Data!$A$132:$C$151,2,FALSE),  IF(G71=\"Nej\", (VLOOKUP(E71,Data!$A$132:$C$151,2,FALSE)+VLOOKUP(E71,Data!$A$132:$C$151,3,FALSE)), #N/A)) * VLOOKUP(F71,Data!$A$51:$C$70,3,FALSE))),\"\")","v":""},{"$f":"IF(E71=\"Rörledning\",D71*H71/1000/1000,IF(OR(E71=\"Renh.-Stad\",E71=\"Renh.-Landsbygd\",E71=\"Slamsugning - fettavskiljare \"),C71*VLOOKUP(E71,Data!$A$144:$E$146,4,FALSE)*VLOOKUP(F71,Data!$A$51:$E$70,3,FALSE)/1000000, IF(A71<>\"\", C71*D71*H71/1000/1000,\"\")))","v":""}]
[null,null,null,null,null,null,null,{"$f":"IF(A72<>\"\", IF(E72=\"Rörledning\",Data!$B$49,  IF(OR(E72=\"Renh.-Stad\",E72=\"Renh.-Landsbygd\",E72=\"Slamsugning - fettavskiljare \"),\"\", IF(G72=\"Ja\", VLOOKUP(E72,Data!$A$132:$C$151,2,FALSE),  IF(G72=\"Nej\", (VLOOKUP(E72,Data!$A$132:$C$151,2,FALSE)+VLOOKUP(E72,Data!$A$132:$C$151,3,FALSE)), #N/A)) * VLOOKUP(F72,Data!$A$51:$C$70,3,FALSE))),\"\")","v":""},{"$f":"IF(E72=\"Rörledning\",D72*H72/1000/1000,IF(OR(E72=\"Renh.-Stad\",E72=\"Renh.-Landsbygd\",E72=\"Slamsugning - fettavskiljare \"),C72*VLOOKUP(E72,Data!$A$144:$E$146,4,FALSE)*VLOOKUP(F72,Data!$A$51:$E$70,3,FALSE)/1000000, IF(A72<>\"\", C72*D72*H72/1000/1000,\"\")))","v":""}]
[null,null,null,null,null,null,null,{"$f":"IF(A73<>\"\", IF(E73=\"Rörledning\",Data!$B$49,  IF(OR(E73=\"Renh.-Stad\",E73=\"Renh.-Landsbygd\",E73=\"Slamsugning - fettavskiljare \"),\"\", IF(G73=\"Ja\", VLOOKUP(E73,Data!$A$132:$C$151,2,FALSE),  IF(G73=\"Nej\", (VLOOKUP(E73,Data!$A$132:$C$151,2,FALSE)+VLOOKUP(E73,Data!$A$132:$C$151,3,FALSE)), #N/A)) * VLOOKUP(F73,Data!$A$51:$C$70,3,FALSE))),\"\")","v":""},{"$f":"IF(E73=\"Rörledning\",D73*H73/1000/1000,IF(OR(E73=\"Renh.-Stad\",E73=\"Renh.-Landsbygd\",E73=\"Slamsugning - fettavskiljare \"),C73*VLOOKUP(E73,Data!$A$144:$E$146,4,FALSE)*VLOOKUP(F73,Data!$A$51:$E$70,3,FALSE)/1000000, IF(A73<>\"\", C73*D73*H73/1000/1000,\"\")))","v":""}]
[null,null,null,null,null,null,null,{"$f":"IF(A74<>\"\", IF(E74=\"Rörledning\",Data!$B$49,  IF(OR(E74=\"Renh.-Stad\",E74=\"Renh.-Landsbygd\",E74=\"Slamsugning - fettavskiljare \"),\"\", IF(G74=\"Ja\", VLOOKUP(E74,Data!$A$132:$C$151,2,FALSE),  IF(G74=\"Nej\", (VLOOKUP(E74,Data!$A$132:$C$151,2,FALSE)+VLOOKUP(E74,Data!$A$132:$C$151,3,FALSE)), #N/A)) * VLOOKUP(F74,Data!$A$51:$C$70,3,FALSE))),\"\")","v":""},{"$f":"IF(E74=\"Rörledning\",D74*H74/1000/1000,IF(OR(E74=\"Renh.-Stad\",E74=\"Renh.-Landsbygd\",E74=\"Slamsugning - fettavskiljare \"),C74*VLOOKUP(E74,Data!$A$144:$E$146,4,FALSE)*VLOOKUP(F74,Data!$A$51:$E$70,3,FALSE)/1000000, IF(A74<>\"\", C74*D74*H74/1000/1000,\"\")))","v":""}]
[null,null,null,null,null,null,null,{"$f":"IF(A75<>\"\", IF(E75=\"Rörledning\",Data!$B$49,  IF(OR(E75=\"Renh.-Stad\",E75=\"Renh.-Landsbygd\",E75=\"Slamsugning - fettavskiljare \"),\"\", IF(G75=\"Ja\", VLOOKUP(E75,Data!$A$132:$C$151,2,FALSE),  IF(G75=\"Nej\", (VLOOKUP(E75,Data!$A$132:$C$151,2,FALSE)+VLOOKUP(E75,Data!$A$132:$C$151,3,FALSE)), #N/A)) * VLOOKUP(F75,Data!$A$51:$C$70,3,FALSE))),\"\")","v":""},{"$f":"IF(E75=\"Rörledning\",D75*H75/1000/1000,IF(OR(E75=\"Renh.-Stad\",E75=\"Renh.-Landsbygd\",E75=\"Slamsugning - fettavskiljare \"),C75*VLOOKUP(E75,Data!$A$144:$E$146,4,FALSE)*VLOOKUP(F75,Data!$A$51:$E$70,3,FALSE)/1000000, IF(A75<>\"\", C75*D75*H75/1000/1000,\"\")))","v":""}]
[null,null,null,null,null,null,null,{"$f":"IF(A76<>\"\", IF(E76=\"Rörledning\",Data!$B$49,  IF(OR(E76=\"Renh.-Stad\",E76=\"Renh.-Landsbygd\",E76=\"Slamsugning - fettavskiljare \"),\"\", IF(G76=\"Ja\", VLOOKUP(E76,Data!$A$132:$C$151,2,FALSE),  IF(G76=\"Nej\", (VLOOKUP(E76,Data!$A$132:$C$151,2,FALSE)+VLOOKUP(E76,Data!$A$132:$C$151,3,FALSE)), #N/A)) * VLOOKUP(F76,Data!$A$51:$C$70,3,FALSE))),\"\")","v":""},{"$f":"IF(E76=\"Rörledning\",D76*H76/1000/1000,IF(OR(E76=\"Renh.-Stad\",E76=\"Renh.-Landsbygd\",E76=\"Slamsugning - fettavskiljare \"),C76*VLOOKUP(E76,Data!$A$144:$E$146,4,FALSE)*VLOOKUP(F76,Data!$A$51:$E$70,3,FALSE)/1000000, IF(A76<>\"\", C76*D76*H76/1000/1000,\"\")))","v":""}]
[null,null,null,null,null,null,null,{"$f":"IF(A77<>\"\", IF(E77=\"Rörledning\",Data!$B$49,  IF(OR(E77=\"Renh.-Stad\",E77=\"Renh.-Landsbygd\",E77=\"Slamsugning - fettavskiljare \"),\"\", IF(G77=\"Ja\", VLOOKUP(E77,Data!$A$132:$C$151,2,FALSE),  IF(G77=\"Nej\", (VLOOKUP(E77,Data!$A$132:$C$151,2,FALSE)+VLOOKUP(E77,Data!$A$132:$C$151,3,FALSE)), #N/A)) * VLOOKUP(F77,Data!$A$51:$C$70,3,FALSE))),\"\")","v":""},{"$f":"IF(E77=\"Rörledning\",D77*H77/1000/1000,IF(OR(E77=\"Renh.-Stad\",E77=\"Renh.-Landsbygd\",E77=\"Slamsugning - fettavskiljare \"),C77*VLOOKUP(E77,Data!$A$144:$E$146,4,FALSE)*VLOOKUP(F77,Data!$A$51:$E$70,3,FALSE)/1000000, IF(A77<>\"\", C77*D77*H77/1000/1000,\"\")))","v":""}]
[null,null,null,null,null,null,null,{"$f":"IF(A78<>\"\", IF(E78=\"Rörledning\",Data!$B$49,  IF(OR(E78=\"Renh.-Stad\",E78=\"Renh.-Landsbygd\",E78=\"Slamsugning - fettavskiljare \"),\"\", IF(G78=\"Ja\", VLOOKUP(E78,Data!$A$132:$C$151,2,FALSE),  IF(G78=\"Nej\", (VLOOKUP(E78,Data!$A$132:$C$151,2,FALSE)+VLOOKUP(E78,Data!$A$132:$C$151,3,FALSE)), #N/A)) * VLOOKUP(F78,Data!$A$51:$C$70,3,FALSE))),\"\")","v":""},{"$f":"IF(E78=\"Rörledning\",D78*H78/1000/1000,IF(OR(E78=\"Renh.-Stad\",E78=\"Renh.-Landsbygd\",E78=\"Slamsugning - fettavskiljare \"),C78*VLOOKUP(E78,Data!$A$144:$E$146,4,FALSE)*VLOOKUP(F78,Data!$A$51:$E$70,3,FALSE)/1000000, IF(A78<>\"\", C78*D78*H78/1000/1000,\"\")))","v":""}]
[null,null,null,null,null,null,null,{"$f":"IF(A79<>\"\", IF(E79=\"Rörledning\",Data!$B$49,  IF(OR(E79=\"Renh.-Stad\",E79=\"Renh.-Landsbygd\",E79=\"Slamsugning - fettavskiljare \"),\"\", IF(G79=\"Ja\", VLOOKUP(E79,Data!$A$132:$C$151,2,FALSE),  IF(G79=\"Nej\", (VLOOKUP(E79,Data!$A$132:$C$151,2,FALSE)+VLOOKUP(E79,Data!$A$132:$C$151,3,FALSE)), #N/A)) * VLOOKUP(F79,Data!$A$51:$C$70,3,FALSE))),\"\")","v":""},{"$f":"IF(E79=\"Rörledning\",D79*H79/1000/1000,IF(OR(E79=\"Renh.-Stad\",E79=\"Renh.-Landsbygd\",E79=\"Slamsugning - fettavskiljare \"),C79*VLOOKUP(E79,Data!$A$144:$E$146,4,FALSE)*VLOOKUP(F79,Data!$A$51:$E$70,3,FALSE)/1000000, IF(A79<>\"\", C79*D79*H79/1000/1000,\"\")))","v":""}]
[null,null,null,null,null,null,null,{"$f":"IF(A80<>\"\", IF(E80=\"Rörledning\",Data!$B$49,  IF(OR(E80=\"Renh.-Stad\",E80=\"Renh.-Landsbygd\",E80=\"Slamsugning - fettavskiljare \"),\"\", IF(G80=\"Ja\", VLOOKUP(E80,Data!$A$132:$C$151,2,FALSE),  IF(G80=\"Nej\", (VLOOKUP(E80,Data!$A$132:$C$151,2,FALSE)+VLOOKUP(E80,Data!$A$132:$C$151,3,FALSE)), #N/A)) * VLOOKUP(F80,Data!$A$51:$C$70,3,FALSE))),\"\")","v":""},{"$f":"IF(E80=\"Rörledning\",D80*H80/1000/1000,IF(OR(E80=\"Renh.-Stad\",E80=\"Renh.-Landsbygd\",E80=\"Slamsugning - fettavskiljare \"),C80*VLOOKUP(E80,Data!$A$144:$E$146,4,FALSE)*VLOOKUP(F80,Data!$A$51:$E$70,3,FALSE)/1000000, IF(A80<>\"\", C80*D80*H80/1000/1000,\"\")))","v":""}]
[null,null,null,null,null,null,null,{"$f":"IF(A81<>\"\", IF(E81=\"Rörledning\",Data!$B$49,  IF(OR(E81=\"Renh.-Stad\",E81=\"Renh.-Landsbygd\",E81=\"Slamsugning - fettavskiljare \"),\"\", IF(G81=\"Ja\", VLOOKUP(E81,Data!$A$132:$C$151,2,FALSE),  IF(G81=\"Nej\", (VLOOKUP(E81,Data!$A$132:$C$151,2,FALSE)+VLOOKUP(E81,Data!$A$132:$C$151,3,FALSE)), #N/A)) * VLOOKUP(F81,Data!$A$51:$C$70,3,FALSE))),\"\")","v":""},{"$f":"IF(E81=\"Rörledning\",D81*H81/1000/1000,IF(OR(E81=\"Renh.-Stad\",E81=\"Renh.-Landsbygd\",E81=\"Slamsugning - fettavskiljare \"),C81*VLOOKUP(E81,Data!$A$144:$E$146,4,FALSE)*VLOOKUP(F81,Data!$A$51:$E$70,3,FALSE)/1000000, IF(A81<>\"\", C81*D81*H81/1000/1000,\"\")))","v":""}]
[null,null,null,null,null,null,null,{"$f":"IF(A82<>\"\", IF(E82=\"Rörledning\",Data!$B$49,  IF(OR(E82=\"Renh.-Stad\",E82=\"Renh.-Landsbygd\",E82=\"Slamsugning - fettavskiljare \"),\"\", IF(G82=\"Ja\", VLOOKUP(E82,Data!$A$132:$C$151,2,FALSE),  IF(G82=\"Nej\", (VLOOKUP(E82,Data!$A$132:$C$151,2,FALSE)+VLOOKUP(E82,Data!$A$132:$C$151,3,FALSE)), #N/A)) * VLOOKUP(F82,Data!$A$51:$C$70,3,FALSE))),\"\")","v":""},{"$f":"IF(E82=\"Rörledning\",D82*H82/1000/1000,IF(OR(E82=\"Renh.-Stad\",E82=\"Renh.-Landsbygd\",E82=\"Slamsugning - fettavskiljare \"),C82*VLOOKUP(E82,Data!$A$144:$E$146,4,FALSE)*VLOOKUP(F82,Data!$A$51:$E$70,3,FALSE)/1000000, IF(A82<>\"\", C82*D82*H82/1000/1000,\"\")))","v":""}]
[null,null,null,null,null,null,null,{"$f":"IF(A83<>\"\", IF(E83=\"Rörledning\",Data!$B$49,  IF(OR(E83=\"Renh.-Stad\",E83=\"Renh.-Landsbygd\",E83=\"Slamsugning - fettavskiljare \"),\"\", IF(G83=\"Ja\", VLOOKUP(E83,Data!$A$132:$C$151,2,FALSE),  IF(G83=\"Nej\", (VLOOKUP(E83,Data!$A$132:$C$151,2,FALSE)+VLOOKUP(E83,Data!$A$132:$C$151,3,FALSE)), #N/A)) * VLOOKUP(F83,Data!$A$51:$C$70,3,FALSE))),\"\")","v":""},{"$f":"IF(E83=\"Rörledning\",D83*H83/1000/1000,IF(OR(E83=\"Renh.-Stad\",E83=\"Renh.-Landsbygd\",E83=\"Slamsugning - fettavskiljare \"),C83*VLOOKUP(E83,Data!$A$144:$E$146,4,FALSE)*VLOOKUP(F83,Data!$A$51:$E$70,3,FALSE)/1000000, IF(A83<>\"\", C83*D83*H83/1000/1000,\"\")))","v":""}]
[null,null,null,null,null,null,null,{"$f":"IF(A84<>\"\", IF(E84=\"Rörledning\",Data!$B$49,  IF(OR(E84=\"Renh.-Stad\",E84=\"Renh.-Landsbygd\",E84=\"Slamsugning - fettavskiljare \"),\"\", IF(G84=\"Ja\", VLOOKUP(E84,Data!$A$132:$C$151,2,FALSE),  IF(G84=\"Nej\", (VLOOKUP(E84,Data!$A$132:$C$151,2,FALSE)+VLOOKUP(E84,Data!$A$132:$C$151,3,FALSE)), #N/A)) * VLOOKUP(F84,Data!$A$51:$C$70,3,FALSE))),\"\")","v":""},{"$f":"IF(E84=\"Rörledning\",D84*H84/1000/1000,IF(OR(E84=\"Renh.-Stad\",E84=\"Renh.-Landsbygd\",E84=\"Slamsugning - fettavskiljare \"),C84*VLOOKUP(E84,Data!$A$144:$E$146,4,FALSE)*VLOOKUP(F84,Data!$A$51:$E$70,3,FALSE)/1000000, IF(A84<>\"\", C84*D84*H84/1000/1000,\"\")))","v":""}]
[null,null,null,null,null,null,null,{"$f":"IF(A85<>\"\", IF(E85=\"Rörledning\",Data!$B$49,  IF(OR(E85=\"Renh.-Stad\",E85=\"Renh.-Landsbygd\",E85=\"Slamsugning - fettavskiljare \"),\"\", IF(G85=\"Ja\", VLOOKUP(E85,Data!$A$132:$C$151,2,FALSE),  IF(G85=\"Nej\", (VLOOKUP(E85,Data!$A$132:$C$151,2,FALSE)+VLOOKUP(E85,Data!$A$132:$C$151,3,FALSE)), #N/A)) * VLOOKUP(F85,Data!$A$51:$C$70,3,FALSE))),\"\")","v":""},{"$f":"IF(E85=\"Rörledning\",D85*H85/1000/1000,IF(OR(E85=\"Renh.-Stad\",E85=\"Renh.-Landsbygd\",E85=\"Slamsugning - fettavskiljare \"),C85*VLOOKUP(E85,Data!$A$144:$E$146,4,FALSE)*VLOOKUP(F85,Data!$A$51:$E$70,3,FALSE)/1000000, IF(A85<>\"\", C85*D85*H85/1000/1000,\"\")))","v":""}]
[null,null,null,null,null,null,null,{"$f":"IF(A86<>\"\", IF(E86=\"Rörledning\",Data!$B$49,  IF(OR(E86=\"Renh.-Stad\",E86=\"Renh.-Landsbygd\",E86=\"Slamsugning - fettavskiljare \"),\"\", IF(G86=\"Ja\", VLOOKUP(E86,Data!$A$132:$C$151,2,FALSE),  IF(G86=\"Nej\", (VLOOKUP(E86,Data!$A$132:$C$151,2,FALSE)+VLOOKUP(E86,Data!$A$132:$C$151,3,FALSE)), #N/A)) * VLOOKUP(F86,Data!$A$51:$C$70,3,FALSE))),\"\")","v":""},{"$f":"IF(E86=\"Rörledning\",D86*H86/1000/1000,IF(OR(E86=\"Renh.-Stad\",E86=\"Renh.-Landsbygd\",E86=\"Slamsugning - fettavskiljare \"),C86*VLOOKUP(E86,Data!$A$144:$E$146,4,FALSE)*VLOOKUP(F86,Data!$A$51:$E$70,3,FALSE)/1000000, IF(A86<>\"\", C86*D86*H86/1000/1000,\"\")))","v":""}]
[null,null,null,null,null,null,null,{"$f":"IF(A87<>\"\", IF(E87=\"Rörledning\",Data!$B$49,  IF(OR(E87=\"Renh.-Stad\",E87=\"Renh.-Landsbygd\",E87=\"Slamsugning - fettavskiljare \"),\"\", IF(G87=\"Ja\", VLOOKUP(E87,Data!$A$132:$C$151,2,FALSE),  IF(G87=\"Nej\", (VLOOKUP(E87,Data!$A$132:$C$151,2,FALSE)+VLOOKUP(E87,Data!$A$132:$C$151,3,FALSE)), #N/A)) * VLOOKUP(F87,Data!$A$51:$C$70,3,FALSE))),\"\")","v":""},{"$f":"IF(E87=\"Rörledning\",D87*H87/1000/1000,IF(OR(E87=\"Renh.-Stad\",E87=\"Renh.-Landsbygd\",E87=\"Slamsugning - fettavskiljare \"),C87*VLOOKUP(E87,Data!$A$144:$E$146,4,FALSE)*VLOOKUP(F87,Data!$A$51:$E$70,3,FALSE)/1000000, IF(A87<>\"\", C87*D87*H87/1000/1000,\"\")))","v":""}]
[null,null,null,null,null,null,null,{"$f":"IF(A88<>\"\", IF(E88=\"Rörledning\",Data!$B$49,  IF(OR(E88=\"Renh.-Stad\",E88=\"Renh.-Landsbygd\",E88=\"Slamsugning - fettavskiljare \"),\"\", IF(G88=\"Ja\", VLOOKUP(E88,Data!$A$132:$C$151,2,FALSE),  IF(G88=\"Nej\", (VLOOKUP(E88,Data!$A$132:$C$151,2,FALSE)+VLOOKUP(E88,Data!$A$132:$C$151,3,FALSE)), #N/A)) * VLOOKUP(F88,Data!$A$51:$C$70,3,FALSE))),\"\")","v":""},{"$f":"IF(E88=\"Rörledning\",D88*H88/1000/1000,IF(OR(E88=\"Renh.-Stad\",E88=\"Renh.-Landsbygd\",E88=\"Slamsugning - fettavskiljare \"),C88*VLOOKUP(E88,Data!$A$144:$E$146,4,FALSE)*VLOOKUP(F88,Data!$A$51:$E$70,3,FALSE)/1000000, IF(A88<>\"\", C88*D88*H88/1000/1000,\"\")))","v":""}]
[null,null,null,null,null,null,null,{"$f":"IF(A89<>\"\", IF(E89=\"Rörledning\",Data!$B$49,  IF(OR(E89=\"Renh.-Stad\",E89=\"Renh.-Landsbygd\",E89=\"Slamsugning - fettavskiljare \"),\"\", IF(G89=\"Ja\", VLOOKUP(E89,Data!$A$132:$C$151,2,FALSE),  IF(G89=\"Nej\", (VLOOKUP(E89,Data!$A$132:$C$151,2,FALSE)+VLOOKUP(E89,Data!$A$132:$C$151,3,FALSE)), #N/A)) * VLOOKUP(F89,Data!$A$51:$C$70,3,FALSE))),\"\")","v":""},{"$f":"IF(E89=\"Rörledning\",D89*H89/1000/1000,IF(OR(E89=\"Renh.-Stad\",E89=\"Renh.-Landsbygd\",E89=\"Slamsugning - fettavskiljare \"),C89*VLOOKUP(E89,Data!$A$144:$E$146,4,FALSE)*VLOOKUP(F89,Data!$A$51:$E$70,3,FALSE)/1000000, IF(A89<>\"\", C89*D89*H89/1000/1000,\"\")))","v":""}]
[null,null,null,null,null,null,null,{"$f":"IF(A90<>\"\", IF(E90=\"Rörledning\",Data!$B$49,  IF(OR(E90=\"Renh.-Stad\",E90=\"Renh.-Landsbygd\",E90=\"Slamsugning - fettavskiljare \"),\"\", IF(G90=\"Ja\", VLOOKUP(E90,Data!$A$132:$C$151,2,FALSE),  IF(G90=\"Nej\", (VLOOKUP(E90,Data!$A$132:$C$151,2,FALSE)+VLOOKUP(E90,Data!$A$132:$C$151,3,FALSE)), #N/A)) * VLOOKUP(F90,Data!$A$51:$C$70,3,FALSE))),\"\")","v":""},{"$f":"IF(E90=\"Rörledning\",D90*H90/1000/1000,IF(OR(E90=\"Renh.-Stad\",E90=\"Renh.-Landsbygd\",E90=\"Slamsugning - fettavskiljare \"),C90*VLOOKUP(E90,Data!$A$144:$E$146,4,FALSE)*VLOOKUP(F90,Data!$A$51:$E$70,3,FALSE)/1000000, IF(A90<>\"\", C90*D90*H90/1000/1000,\"\")))","v":""}]
["Summa transport",null,{"$f":"SUM(C40:C90)","v":0},null,null,null,null,null,{"$f":"SUM(I40:I90)","v":0}]
[]
[]
["Växthusgasutsläpp från biogasproduktion (process)",null,null,"Växthusgasberäkning",null,null,"Förbrukning",null,"Noteringar"]
[null,null,"Mängd","Faktor, gCO2eq / enhet","Mängd CO2eq, ton","Mängd g CO2eq/MJ","Förbrukning, kWh/ton substrat",{"$f":"\"Förbrukning kWh/Nm3 metan\"","v":"Förbrukning kWh/Nm3 metan"},"För egna noteringar länkar etc"]
["Elenergi"]
["Inköpt el, MWh",null,null,{"$f":"Data!$B$49","v":26000},{"$f":"C97*D97/1000/1000","v":0},{"$f":"IF(E97<>\"\",((E97*1000*1000/($F$129*1000*$F$123)) / Data!$B$6),\"\")","v":{"$error":"#DIV/0!"}},{"$f":"C97*1000/$H$36","v":{"$error":"#DIV/0!"}},{"$f":"IF($G$126=\"Nm3\",C97/(($F$126+$F$124)*$F$123),C97/(($F$126+$F$124)*$F$123/$H$126))","v":{"$error":"#DIV/0!"}}]
["El producerad internt i anläggningen med gasmotor/gasturbin",null,null,0,{"$f":"C98*D98/1000/1000","v":0},{"$f":"IF(E98<>\"\",((E98*1000*1000/($F$129*1000*$F$123)) / Data!$B$6),\"\")","v":{"$error":"#DIV/0!"}}]
["Summa el (fördelas på partier i sammanställningen nedan)",null,null,null,{"$f":"SUMIF(F97:F98,\">0,1\",E97:E98)","v":0}]
["Bränsle till arbetsmaskiner, flytande i liter, gas i kg"]
[null,null,null,{"$f":"IF(A101<>\"\",VLOOKUP(A101,Data!$A$51:$B$70,2,FALSE),\"\")","v":""},{"$f":"IF(A101<>\"\",C101*D101/1000/1000,\"\")","v":""},{"$f":"IF(E101<>\"\",((E101*1000*1000/($F$129*1000*$F$123)) / Data!$B$6),\"\")","v":""}]
["Summa bränsle till arbetsmaskiner (fördelas på partier i sammanställningen nedan)",null,null,null,{"$f":"SUMIF(F101,\">0,1\",E101)","v":0}]
["Värme (MWh):"]
[null,null,null,{"$f":"IF(A104<>\"\",VLOOKUP(A104,Data!$A$19:$B$47,2,FALSE),\"\")","v":""},{"$f":"IF(A104<>\"\",C104*D104/1000/1000,\"\")","v":""},{"$f":"IF(E104<>\"\",((E104*1000*1000/($F$129*1000*$F$123)) / Data!$B$6),\"\")","v":""},{"$f":"C104*1000/$H$36","v":{"$error":"#DIV/0!"}},{"$f":"IF($G$126=\"Nm3\",C104/(($F$126+$F$124)*$F$123),C104/(($F$126+$F$124)*$F$123/$H$126))","v":{"$error":"#DIV/0!"}}]
[null,null,null,{"$f":"IF(A105<>\"\",VLOOKUP(A105,Data!$A$19:$B$47,2,FALSE),\"\")","v":""},"",{"$f":"IF(E105<>\"\",((E105*1000*1000/($F$129*1000*$F$123)) / Data!$B$6),\"\")","v":""},{"$error":"#DIV/0!"},{"$error":"#DIV/0!"}]
[null,null,null,{"$f":"IF(A106<>\"\",VLOOKUP(A106,Data!$A$19:$B$47,2,FALSE),\"\")","v":""},"",{"$f":"IF(E106<>\"\",((E106*1000*1000/($F$129*1000*$F$123)) / Data!$B$6),\"\")","v":""},{"$error":"#DIV/0!"},{"$error":"#DIV/0!"}]
[null,null,null,{"$f":"IF(A107<>\"\",VLOOKUP(A107,Data!$A$19:$B$47,2,FALSE),\"\")","v":""},"",{"$f":"IF(E107<>\"\",((E107*1000*1000/($F$129*1000*$F$123)) / Data!$B$6),\"\")","v":""},{"$error":"#DIV/0!"},{"$error":"#DIV/0!"}]
[null,null,null,{"$f":"IF(A108<>\"\",VLOOKUP(A108,Data!$A$19:$B$47,2,FALSE),\"\")","v":""},"",{"$f":"IF(E108<>\"\",((E108*1000*1000/($F$129*1000*$F$123)) / Data!$B$6),\"\")","v":""},{"$error":"#DIV/0!"},{"$error":"#DIV/0!"}]
[null,null,null,{"$f":"IF(A109<>\"\",VLOOKUP(A109,Data!$A$19:$B$47,2,FALSE),\"\")","v":""},"",{"$f":"IF(E109<>\"\",((E109*1000*1000/($F$129*1000*$F$123)) / Data!$B$6),\"\")","v":""},{"$error":"#DIV/0!"},{"$error":"#DIV/0!"}]
["Summa värme (fördelas på partier i sammanställningen nedan)",null,null,null,{"$f":"SUMIF(F104:F109,\">0,1\",E104:E109)","v":0}]
["Insatsvaror:"]
[null,null,null,{"$f":"IF(A112<>\"\",VLOOKUP(A112,Data!$A$72:$B$113,2,FALSE),\"\")","v":""},{"$f":"IF(A112<>\"\",C112*D112/1000/1000,\"\")","v":""},{"$f":"IF(E112<>\"\",((E112*1000*1000/($F$129*1000*$F$123)) / Data!$B$6),\"\")","v":""}]
[null,null,null,{"$f":"IF(A113<>\"\",VLOOKUP(A113,Data!$A$72:$B$113,2,FALSE),\"\")","v":""},"",{"$f":"IF(E113<>\"\",((E113*1000*1000/($F$129*1000*$F$123)) / Data!$B$6),\"\")","v":""}]
[null,null,null,{"$f":"IF(A114<>\"\",VLOOKUP(A114,Data!$A$72:$B$113,2,FALSE),\"\")","v":""},"",{"$f":"IF(E114<>\"\",((E114*1000*1000/($F$129*1000*$F$123)) / Data!$B$6),\"\")","v":""}]
[null,null,null,{"$f":"IF(A115<>\"\",VLOOKUP(A115,Data!$A$72:$B$113,2,FALSE),\"\")","v":""},"",{"$f":"IF(E115<>\"\",((E115*1000*1000/($F$129*1000*$F$123)) / Data!$B$6),\"\")","v":""}]
[null,null,null,{"$f":"IF(A116<>\"\",VLOOKUP(A116,Data!$A$72:$B$113,2,FALSE),\"\")","v":""},"",{"$f":"IF(E116<>\"\",((E116*1000*1000/($F$129*1000*$F$123)) / Data!$B$6),\"\")","v":""}]
[null,null,null,{"$f":"IF(A117<>\"\",VLOOKUP(A117,Data!$A$72:$B$113,2,FALSE),\"\")","v":""},"",{"$f":"IF(E117<>\"\",((E117*1000*1000/($F$129*1000*$F$123)) / Data!$B$6),\"\")","v":""}]
["Metanförlust"]
["Uppmätt värde, % ",{"$f":"IF(A119<>\"\",VLOOKUP(A119,Data!A116:B121,2,FALSE),\"\")","v":0.99},{"$f":"IF($G$126=\"Nm3\",$B$119*($F$126*$F$123), $B$119*($F$126*$F$123/$H$126))","v":0},{"$f":"Data!$B$3","v":25},{"$f":"C119*Data!$B$5*D119","v":0},{"$f":"IF(E119<>\"\",((E119*1000*1000/($F$129*1000*$F$123)) / Data!$B$6),\"\")","v":{"$error":"#DIV/0!"}}]
["Summa utsläpp från insatsvaror och metanförlust",null,null,null,{"$f":"SUMIF(F112:F119,\">0,1\",E112:E119)","v":0}]
[]
["Biogasproduktion och användning",null,null,null,null,null,null,null,{"$f":"IF(G126=\"Nm3\", \"Energiinne- håll, MJ/Nm3 (rågas)\", \"Energiinne- håll MJ/kg (rågas)\")","v":"Energiinne- håll, MJ/Nm3 (rågas)"},"Noteringar",null,"Beräkning av effektivt värmevärde hos biogödseln och slam från avloppsrening",null,null,null,null,null,null,"Noteringar"]
["Producerad biogas, metanhalt, %  (volym-procent)",null,null,null,null,null,"Enhet","Densitet",null,null,null,"Effektivt värmevärde, torr vara, MJ/kg",null,null,null,null,null,17]
[{"$f":"IF($G$124=\"Nm3\",\"Fackling, tusental Nm3\",\"Fackling, tusental kg\")","v":"Fackling, tusental Nm3"},null,null,null,null,null,{"$f":"G126","v":"Nm3"},{"$f":"H126","v":1.9406000375747681},null,null,null,"Effektivt värmevärde, våt vara, MJ/kg ",null,null,null,null,null,{"$f":"IF(R123*R126-(1-R126)*2.44>0, R123*R126-(1-R126)*2.44,0)","v":0}]
[{"$f":"IF($G$125=\"Nm3\",\"Intern användning för uppvärmning eller för produktion av el och värme med gasmotor, tusental Nm3 \",\"Intern användning för uppvärmning eller för produktion av el och värme med gasmotor, tusental kg\")","v":"Intern användning för uppvärmning eller för produktion av el och värme med gasmotor, tusental Nm3 "},null,null,null,null,null,{"$f":"G126","v":"Nm3"},{"$f":"H126","v":1.9406000375747681},null,null,null,"Mängd biogödsel eller slam, ton"]
[{"$f":"IF($G$126=\"Nm3\",\"Biogasproduktion till uppgradering och extern användning, tusental Nm3 \",\"Biogasproduktion till uppgradering och extern användning, tusental kg\")","v":"Biogasproduktion till uppgradering och extern användning, tusental Nm3 "},null,null,null,null,null,"Nm3",{"$f":"Denscalc(F123)","v":1.9406000375747681},{"$f":"IF(G126=\"Nm3\", Data!B6*F123, (1/H126)*F123*Data!B6)","v":0},null,null,"Gödselns eller slammets torrsubstanshalt, %"]
[{"$f":"IF($G$126=\"Nm3\",\"Försäljning av rågas till extern industriell användning, tusental Nm3 \",\"Försäljning av rågas till extern industriell användning, tusental kg\")","v":"Försäljning av rågas till extern industriell användning, tusental Nm3 "},null,null,null,null,null,{"$f":"G126","v":"Nm3"},{"$f":"H126","v":1.9406000375747681}]
[{"$f":"IF($G$126=\"Nm3\",\"Försäljning av rågas till extern värmeproduktion, tusental Nm3 \",\"Försäljning av rågas till extern värmeproduktion, tusental kg\")","v":"Försäljning av rågas till extern värmeproduktion, tusental Nm3 "},null,null,null,null,null,{"$f":"G126","v":"Nm3"},{"$f":"H126","v":1.9406000375747681}]
[{"$f":"IF($G$126=\"Nm3\",\"Producerad biogas till uppgradering, tusental Nm3\",\"Producerad biogas till uppgradering, tusental kg\")","v":"Producerad biogas till uppgradering, tusental Nm3"},null,null,null,null,{"$f":"F126-F127-F128","v":0},{"$f":"G127","v":"Nm3"},{"$f":"H126","v":1.9406000375747681}]
[]
["Biogasproduktion, sammanställning","Substrat",null,null,null,null,null,null,"Växthusgasutsläpp",null,null,null,null,null,null,null,null,null,null,"Mängd biogas"]
["Substrat","Parti nr","Kompl. Info","Produktionsanläggning, startdatum","Ursprungsland","Substrat, typ","Substrat kategori","Mängd substrat till biogas-produktion, ton (våtvikt)","Vägningsvaktor, Sn","Från substrat / gödselbonus, CO2eq, ton","Från transporter av substrat, mängd CO2eq, ton","Från förbrukning av el, mängd CO2eq, ton","Från bränsle till arbetsmaskiner, mängd CO2eq, ton","Från förbrukning av värme, mängd CO2eq, ton","Från process övrigt, mängd CO2eq, ton","Summa växthusgasut-släpp, ton CO2eq","Växthusgasutsläpp, g  CO2eq/MJ","Allokering till biogödsel","Allokering till biogas",{"$f":"IF(G126=\"Nm3\", \"Gasproduktion per parti, Nm3 (tusental)\", \"Gasproduktion per parti, kg (tusental)\")","v":"Gasproduktion per parti, Nm3 (tusental)"},{"$f":"IF(G126=\"Nm3\", \"Annan användning än till fordonsbränsle, Nm3 (tusental) \", \"Annan användning än till fordonsbränsle, kg (tusental) \")","v":"Annan användning än till fordonsbränsle, Nm3 (tusental) "},{"$f":"IF(G126=\"Nm3\", \"Sålt till annan aktör (med skatteuppskov), Nm3 (tusental) \", \"Sålt till annan aktör (med skatteuppskov), kg (tusental) \")","v":"Sålt till annan aktör (med skatteuppskov), Nm3 (tusental) "},{"$f":"IF(G126=\"Nm3\", \"Mängd biogas till uppgradering, Nm3 (tusental) \", \"Mängd biogas till uppgradering, kg (tusental) \")","v":"Mängd biogas till uppgradering, Nm3 (tusental) "},"Enhet"]
[{"$f":"IF(A6<>\"\",A6,\"\")","v":""},{"$f":"IF(C6<>\"\",C6,\"\")","v":1},"",{"$f":"IF(A133<>\"\",$I$3, \"\")","v":""},{"$f":"IF(E6<>\"\",E6,\"\")","v":""},"","",{"$f":"IF(A133<>\"\",H6, 0.001)","v":1E-3},{"$f":"(H133/H$163*T133*1000*$I$126/(H133*1000))/SUMPRODUCT(H$133:H$162/H$163, T$133:T$162*1000*$I$126/(H$133:H$162*1000))","v":{"$error":"#DIV/0!"}},{"$f":"IF(AND(A133<>\"\", ISNUMBER(O6)),O6, 0.001)","v":1E-3},{"$f":"IF(A133<>\"\",IF(slam(A133),0, SUMIF($B$40:$B$90,B133,$I$40:$I$90)), 0.0001)","v":1E-4},{"$f":"IF(A133<>\"\",IF(slam(A133),0, $E$99/$H$163*H133),\"\")","v":""},{"$f":"IF(A133<>\"\",IF(slam(A133),0, $E$102/$H$163*H133),\"\")","v":""},{"$f":"IF(A133<>\"\",IF(slam(A133),0, $E$110/$H$163*H133),\"\")","v":""},{"$f":"IF(A133<>\"\",IF(slam(A133),0, $E$120/$T$163*T133),\"\")","v":""},{"$f":"IF(A133<>\"\",SUM(L133:O133),\"\")","v":""},{"$f":"IF(A133<>\"\",Q$164,\"\")","v":""},{"$f":"IF(A133<>\"\", (IF($G$126=\"Nm3\",  Q133*((($R$125*1000*$R$124/$H$163)*$H133)/($T133*1000*$F$123*Data!$B$6+($R$125*1000*$R$124/$H$163)*$H133)),  Q133*((($R$125*1000*$R$124/$H$163)*$H133)/($T133*1000*$F$123/$H$126*Data!$B$6+($R$125*1000*$R$124/$H$163)*$H133)) )), \"\")","v":""},{"$f":"IF(A133<>\"\", (IF($G$126=\"Nm3\",  Q133*(($T133*1000*$F$123*Data!$B$6)/($T133*1000*$F$123*Data!$B$6+($R$125*1000*$R$124/$H$163)*$H133)),   Q133*(($T133/$H$126*1000*$F$123*Data!$B$6)/($T133*1000*$F$123/$H$126*Data!$B$6+($R$125*1000*$R$124/$H$163)*$H133)) )), \"\")","v":""},{"$f":"IF(A133<>\"\",L6, 0.001)","v":1E-3},{"$f":"IF(A133<>\"\",$F$127/$F$126*T133+$F$128/$F$126*T133,\"\")","v":""},null,{"$f":"IF(A133<>\"\",T133-U133-V133,\"\")","v":""},{"$f":"IF(A133<>\"\",$G$126,\"\")","v":""}]
["",2,"",{"$f":"IF(A134<>\"\",$I$3, \"\")","v":""},"","","",1E-3,{"$f":"(H134/H$163*T134*1000*$I$126/(H134*1000))/SUMPRODUCT(H$133:H$162/H$163, T$133:T$162*1000*$I$126/(H$133:H$162*1000))","v":{"$error":"#DIV/0!"}},1E-3,{"$f":"IF(A134<>\"\",IF(slam(A134),0, SUMIF($B$40:$B$90,B134,$I$40:$I$90)), 0.0001)","v":1E-4},{"$f":"IF(A134<>\"\",IF(slam(A134),0, $E$99/$H$163*H134),\"\")","v":""},{"$f":"IF(A134<>\"\",IF(slam(A134),0, $E$102/$H$163*H134),\"\")","v":""},{"$f":"IF(A134<>\"\",IF(slam(A134),0, $E$110/$H$163*H134),\"\")","v":""},{"$f":"IF(A134<>\"\",IF(slam(A134),0, $E$120/$T$163*T134),\"\")","v":""},{"$f":"IF(A134<>\"\",SUM(L134:O134),\"\")","v":""},{"$f":"IF(A134<>\"\",Q$164,\"\")","v":""},{"$f":"IF(A134<>\"\", (IF($G$126=\"Nm3\",  Q134*((($R$125*1000*$R$124/$H$163)*$H134)/($T134*1000*$F$123*Data!$B$6+($R$125*1000*$R$124/$H$163)*$H134)),  Q134*((($R$125*1000*$R$124/$H$163)*$H134)/($T134*1000*$F$123/$H$126*Data!$B$6+($R$125*1000*$R$124/$H$163)*$H134)) )), \"\")","v":""},{"$f":"IF(A134<>\"\", (IF($G$126=\"Nm3\",  Q134*(($T134*1000*$F$123*Data!$B$6)/($T134*1000*$F$123*Data!$B$6+($R$125*1000*$R$124/$H$163)*$H134)),   Q134*(($T134/$H$126*1000*$F$123*Data!$B$6)/($T134*1000*$F$123/$H$126*Data!$B$6+($R$125*1000*$R$124/$H$163)*$H134)) )), \"\")","v":""},1E-3,"",null,"",""]
["",3,"","","","","",1E-3,{"$f":"(H135/H$163*T135*1000*$I$126/(H135*1000))/SUMPRODUCT(H$133:H$162/H$163, T$133:T$162*1000*$I$126/(H$133:H$162*1000))","v":{"$error":"#DIV/0!"}},1E-3,{"$f":"IF(A135<>\"\",IF(slam(A135),0, SUMIF($B$40:$B$90,B135,$I$40:$I$90)), 0.0001)","v":1E-4},{"$f":"IF(A135<>\"\",IF(slam(A135),0, $E$99/$H$163*H135),\"\")","v":""},{"$f":"IF(A135<>\"\",IF(slam(A135),0, $E$102/$H$163*H135),\"\")","v":""},{"$f":"IF(A135<>\"\",IF(slam(A135),0, $E$110/$H$163*H135),\"\")","v":""},{"$f":"IF(A135<>\"\",IF(slam(A135),0, $E$120/$T$163*T135),\"\")","v":""},"","",{"$f":"IF(A135<>\"\", (IF($G$126=\"Nm3\",  Q135*((($R$125*1000*$R$124/$H$163)*$H135)/($T135*1000*$F$123*Data!$B$6+($R$125*1000*$R$124/$H$163)*$H135)),  Q135*((($R$125*1000*$R$124/$H$163)*$H135)/($T135*1000*$F$123/$H$126*Data!$B$6+($R$125*1000*$R$124/$H$163)*$H135)) )), \"\")","v":""},{"$f":"IF(A135<>\"\", (IF($G$126=\"Nm3\",  Q135*(($T135*1000*$F$123*Data!$B$6)/($T135*1000*$F$123*Data!$B$6+($R$125*1000*$R$124/$H$163)*$H135)),   Q135*(($T135/$H$126*1000*$F$123*Data!$B$6)/($T135*1000*$F$123/$H$126*Data!$B$6+($R$125*1000*$R$124/$H$163)*$H135)) )), \"\")","v":""},1E-3,"",null,"",""]
["",4,"","","","","",1E-3,{"$f":"(H136/H$163*T136*1000*$I$126/(H136*1000))/SUMPRODUCT(H$133:H$162/H$163, T$133:T$162*1000*$I$126/(H$133:H$162*1000))","v":{"$error":"#DIV/0!"}},1E-3,{"$f":"IF(A136<>\"\",IF(slam(A136),0, SUMIF($B$40:$B$90,B136,$I$40:$I$90)), 0.0001)","v":1E-4},{"$f":"IF(A136<>\"\",IF(slam(A136),0, $E$99/$H$163*H136),\"\")","v":""},{"$f":"IF(A136<>\"\",IF(slam(A136),0, $E$102/$H$163*H136),\"\")","v":""},{"$f":"IF(A136<>\"\",IF(slam(A136),0, $E$110/$H$163*H136),\"\")","v":""},{"$f":"IF(A136<>\"\",IF(slam(A136),0, $E$120/$T$163*T136),\"\")","v":""},"","",{"$f":"IF(A136<>\"\", (IF($G$126=\"Nm3\",  Q136*((($R$125*1000*$R$124/$H$163)*$H136)/($T136*1000*$F$123*Data!$B$6+($R$125*1000*$R$124/$H$163)*$H136)),  Q136*((($R$125*1000*$R$124/$H$163)*$H136)/($T136*1000*$F$123/$H$126*Data!$B$6+($R$125*1000*$R$124/$H$163)*$H136)) )), \"\")","v":""},{"$f":"IF(A136<>\"\", (IF($G$126=\"Nm3\",  Q136*(($T136*1000*$F$123*Data!$B$6)/($T136*1000*$F$123*Data!$B$6+($R$125*1000*$R$124/$H$163)*$H136)),   Q136*(($T136/$H$126*1000*$F$123*Data!$B$6)/($T136*1000*$F$123/$H$126*Data!$B$6+($R$125*1000*$R$124/$H$163)*$H136)) )), \"\")","v":""},1E-3,"",null,"",""]
["",5,"","","","","",1E-3,{"$f":"(H137/H$163*T137*1000*$I$126/(H137*1000))/SUMPRODUCT(H$133:H$162/H$163, T$133:T$162*1000*$I$126/(H$133:H$162*1000))","v":{"$error":"#DIV/0!"}},1E-3,{"$f":"IF(A137<>\"\",IF(slam(A137),0, SUMIF($B$40:$B$90,B137,$I$40:$I$90)), 0.0001)","v":1E-4},{"$f":"IF(A137<>\"\",IF(slam(A137),0, $E$99/$H$163*H137),\"\")","v":""},{"$f":"IF(A137<>\"\",IF(slam(A137),0, $E$102/$H$163*H137),\"\")","v":""},{"$f":"IF(A137<>\"\",IF(slam(A137),0, $E$110/$H$163*H137),\"\")","v":""},{"$f":"IF(A137<>\"\",IF(slam(A137),0, $E$120/$T$163*T137),\"\")","v":""},"","",{"$f":"IF(A137<>\"\", (IF($G$126=\"Nm3\",  Q137*((($R$125*1000*$R$124/$H$163)*$H137)/($T137*1000*$F$123*Data!$B$6+($R$125*1000*$R$124/$H$163)*$H137)),  Q137*((($R$125*1000*$R$124/$H$163)*$H137)/($T137*1000*$F$123/$H$126*Data!$B$6+($R$125*1000*$R$124/$H$163)*$H137)) )), \"\")","v":""},{"$f":"IF(A137<>\"\", (IF($G$126=\"Nm3\",  Q137*(($T137*1000*$F$123*Data!$B$6)/($T137*1000*$F$123*Data!$B$6+($R$125*1000*$R$124/$H$163)*$H137)),   Q137*(($T137/$H$126*1000*$F$123*Data!$B$6)/($T137*1000*$F$123/$H$126*Data!$B$6+($R$125*1000*$R$124/$H$163)*$H137)) )), \"\")","v":""},1E-3,"",null,"",""]
["",6,"","","","","",1E-3,{"$f":"(H138/H$163*T138*1000*$I$126/(H138*1000))/SUMPRODUCT(H$133:H$162/H$163, T$133:T$162*1000*$I$126/(H$133:H$162*1000))","v":{"$error":"#DIV/0!"}},1E-3,{"$f":"IF(A138<>\"\",IF(slam(A138),0, SUMIF($B$40:$B$90,B138,$I$40:$I$90)), 0.0001)","v":1E-4},{"$f":"IF(A138<>\"\",IF(slam(A138),0, $E$99/$H$163*H138),\"\")","v":""},{"$f":"IF(A138<>\"\",IF(slam(A138),0, $E$102/$H$163*H138),\"\")","v":""},{"$f":"IF(A138<>\"\",IF(slam(A138),0, $E$110/$H$163*H138),\"\")","v":""},{"$f":"IF(A138<>\"\",IF(slam(A138),0, $E$120/$T$163*T138),\"\")","v":""},"","",{"$f":"IF(A138<>\"\", (IF($G$126=\"Nm3\",  Q138*((($R$125*1000*$R$124/$H$163)*$H138)/($T138*1000*$F$123*Data!$B$6+($R$125*1000*$R$124/$H$163)*$H138)),  Q138*((($R$125*1000*$R$124/$H$163)*$H138)/($T138*1000*$F$123/$H$126*Data!$B$6+($R$125*1000*$R$124/$H$163)*$H138)) )), \"\")","v":""},{"$f":"IF(A138<>\"\", (IF($G$126=\"Nm3\",  Q138*(($T138*1000*$F$123*Data!$B$6)/($T138*1000*$F$123*Data!$B$6+($R$125*1000*$R$124/$H$163)*$H138)),   Q138*(($T138/$H$126*1000*$F$123*Data!$B$6)/($T138*1000*$F$123/$H$126*Data!$B$6+($R$125*1000*$R$124/$H$163)*$H138)) )), \"\")","v":""},1E-3,"",null,"",""]
["",7,"","","","","",1E-3,{"$f":"(H139/H$163*T139*1000*$I$126/(H139*1000))/SUMPRODUCT(H$133:H$162/H$163, T$133:T$162*1000*$I$126/(H$133:H$162*1000))","v":{"$error":"#DIV/0!"}},1E-3,{"$f":"IF(A139<>\"\",IF(slam(A139),0, SUMIF($B$40:$B$90,B139,$I$40:$I$90)), 0.0001)","v":1E-4},{"$f":"IF(A139<>\"\",IF(slam(A139),0, $E$99/$H$163*H139),\"\")","v":""},{"$f":"IF(A139<>\"\",IF(slam(A139),0, $E$102/$H$163*H139),\"\")","v":""},{"$f":"IF(A139<>\"\",IF(slam(A139),0, $E$110/$H$163*H139),\"\")","v":""},{"$f":"IF(A139<>\"\",IF(slam(A139),0, $E$120/$T$163*T139),\"\")","v":""},"","",{"$f":"IF(A139<>\"\", (IF($G$126=\"Nm3\",  Q139*((($R$125*1000*$R$124/$H$163)*$H139)/($T139*1000*$F$123*Data!$B$6+($R$125*1000*$R$124/$H$163)*$H139)),  Q139*((($R$125*1000*$R$124/$H$163)*$H139)/($T139*1000*$F$123/$H$126*Data!$B$6+($R$125*1000*$R$124/$H$163)*$H139)) )), \"\")","v":""},{"$f":"IF(A139<>\"\", (IF($G$126=\"Nm3\",  Q139*(($T139*1000*$F$123*Data!$B$6)/($T139*1000*$F$123*Data!$B$6+($R$125*1000*$R$124/$H$163)*$H139)),   Q139*(($T139/$H$126*1000*$F$123*Data!$B$6)/($T139*1000*$F$123/$H$126*Data!$B$6+($R$125*1000*$R$124/$H$163)*$H139)) )), \"\")","v":""},1E-3,"",null,"",""]
["",8,"","","","","",1E-3,{"$f":"(H140/H$163*T140*1000*$I$126/(H140*1000))/SUMPRODUCT(H$133:H$162/H$163, T$133:T$162*1000*$I$126/(H$133:H$162*1000))","v":{"$error":"#DIV/0!"}},1E-3,{"$f":"IF(A140<>\"\",IF(slam(A140),0, SUMIF($B$40:$B$90,B140,$I$40:$I$90)), 0.0001)","v":1E-4},{"$f":"IF(A140<>\"\",IF(slam(A140),0, $E$99/$H$163*H140),\"\")","v":""},{"$f":"IF(A140<>\"\",IF(slam(A140),0, $E$102/$H$163*H140),\"\")","v":""},{"$f":"IF(A140<>\"\",IF(slam(A140),0, $E$110/$H$163*H140),\"\")","v":""},{"$f":"IF(A140<>\"\",IF(slam(A140),0, $E$120/$T$163*T140),\"\")","v":""},"","",{"$f":"IF(A140<>\"\", (IF($G$126=\"Nm3\",  Q140*((($R$125*1000*$R$124/$H$163)*$H140)/($T140*1000*$F$123*Data!$B$6+($R$125*1000*$R$124/$H$163)*$H140)),  Q140*((($R$125*1000*$R$124/$H$163)*$H140)/($T140*1000*$F$123/$H$126*Data!$B$6+($R$125*1000*$R$124/$H$163)*$H140)) )), \"\")","v":""},{"$f":"IF(A140<>\"\", (IF($G$126=\"Nm3\",  Q140*(($T140*1000*$F$123*Data!$B$6)/($T140*1000*$F$123*Data!$B$6+($R$125*1000*$R$124/$H$163)*$H140)),   Q140*(($T140/$H$126*1000*$F$123*Data!$B$6)/($T140*1000*$F$123/$H$126*Data!$B$6+($R$125*1000*$R$124/$H$163)*$H140)) )), \"\")","v":""},1E-3,"",null,"",""]
["",9,"","","","","",1E-3,{"$f":"(H141/H$163*T141*1000*$I$126/(H141*1000))/SUMPRODUCT(H$133:H$162/H$163, T$133:T$162*1000*$I$126/(H$133:H$162*1000))","v":{"$error":"#DIV/0!"}},1E-3,{"$f":"IF(A141<>\"\",IF(slam(A141),0, SUMIF($B$40:$B$90,B141,$I$40:$I$90)), 0.0001)","v":1E-4},{"$f":"IF(A141<>\"\",IF(slam(A141),0, $E$99/$H$163*H141),\"\")","v":""},{"$f":"IF(A141<>\"\",IF(slam(A141),0, $E$102/$H$163*H141),\"\")","v":""},{"$f":"IF(A141<>\"\",IF(slam(A141),0, $E$110/$H$163*H141),\"\")","v":""},{"$f":"IF(A141<>\"\",IF(slam(A141),0, $E$120/$T$163*T141),\"\")","v":""},"","",{"$f":"IF(A141<>\"\", (IF($G$126=\"Nm3\",  Q141*((($R$125*1000*$R$124/$H$163)*$H141)/($T141*1000*$F$123*Data!$B$6+($R$125*1000*$R$124/$H$163)*$H141)),  Q141*((($R$125*1000*$R$124/$H$163)*$H141)/($T141*1000*$F$123/$H$126*Data!$B$6+($R$125*1000*$R$124/$H$163)*$H141)) )), \"\")","v":""},{"$f":"IF(A141<>\"\", (IF($G$126=\"Nm3\",  Q141*(($T141*1000*$F$123*Data!$B$6)/($T141*1000*$F$123*Data!$B$6+($R$125*1000*$R$124/$H$163)*$H141)),   Q141*(($T141/$H$126*1000*$F$123*Data!$B$6)/($T141*1000*$F$123/$H$126*Data!$B$6+($R$125*1000*$R$124/$H$163)*$H141)) )), \"\")","v":""},1E-3,"",null,"",""]
["",10,"","","","","",1E-3,{"$f":"(H142/H$163*T142*1000*$I$126/(H142*1000))/SUMPRODUCT(H$133:H$162/H$163, T$133:T$162*1000*$I$126/(H$133:H$162*1000))","v":{"$error":"#DIV/0!"}},1E-3,{"$f":"IF(A142<>\"\",IF(slam(A142),0, SUMIF($B$40:$B$90,B142,$I$40:$I$90)), 0.0001)","v":1E-4},{"$f":"IF(A142<>\"\",IF(slam(A142),0, $E$99/$H$163*H142),\"\")","v":""},{"$f":"IF(A142<>\"\",IF(slam(A142),0, $E$102/$H$163*H142),\"\")","v":""},{"$f":"IF(A142<>\"\",IF(slam(A142),0, $E$110/$H$163*H142),\"\")","v":""},{"$f":"IF(A142<>\"\",IF(slam(A142),0, $E$120/$T$163*T142),\"\")","v":""},"","",{"$f":"IF(A142<>\"\", (IF($G$126=\"Nm3\",  Q142*((($R$125*1000*$R$124/$H$163)*$H142)/($T142*1000*$F$123*Data!$B$6+($R$125*1000*$R$124/$H$163)*$H142)),  Q142*((($R$125*1000*$R$124/$H$163)*$H142)/($T142*1000*$F$123/$H$126*Data!$B$6+($R$125*1000*$R$124/$H$163)*$H142)) )), \"\")","v":""},{"$f":"IF(A142<>\"\", (IF($G$126=\"Nm3\",  Q142*(($T142*1000*$F$123*Data!$B$6)/($T142*1000*$F$123*Data!$B$6+($R$125*1000*$R$124/$H$163)*$H142)),   Q142*(($T142/$H$126*1000*$F$123*Data!$B$6)/($T142*1000*$F$123/$H$126*Data!$B$6+($R$125*1000*$R$124/$H$163)*$H142)) )), \"\")","v":""},1E-3,"",null,"",""]
["",11,"","","","","",1E-3,{"$f":"(H143/H$163*T143*1000*$I$126/(H143*1000))/SUMPRODUCT(H$133:H$162/H$163, T$133:T$162*1000*$I$126/(H$133:H$162*1000))","v":{"$error":"#DIV/0!"}},1E-3,{"$f":"IF(A143<>\"\",IF(slam(A143),0, SUMIF($B$40:$B$90,B143,$I$40:$I$90)), 0.0001)","v":1E-4},{"$f":"IF(A143<>\"\",IF(slam(A143),0, $E$99/$H$163*H143),\"\")","v":""},{"$f":"IF(A143<>\"\",IF(slam(A143),0, $E$102/$H$163*H143),\"\")","v":""},{"$f":"IF(A143<>\"\",IF(slam(A143),0, $E$110/$H$163*H143),\"\")","v":""},{"$f":"IF(A143<>\"\",IF(slam(A143),0, $E$120/$T$163*T143),\"\")","v":""},"","",{"$f":"IF(A143<>\"\", (IF($G$126=\"Nm3\",  Q143*((($R$125*1000*$R$124/$H$163)*$H143)/($T143*1000*$F$123*Data!$B$6+($R$125*1000*$R$124/$H$163)*$H143)),  Q143*((($R$125*1000*$R$124/$H$163)*$H143)/($T143*1000*$F$123/$H$126*Data!$B$6+($R$125*1000*$R$124/$H$163)*$H143)) )), \"\")","v":""},{"$f":"IF(A143<>\"\", (IF($G$126=\"Nm3\",  Q143*(($T143*1000*$F$123*Data!$B$6)/($T143*1000*$F$123*Data!$B$6+($R$125*1000*$R$124/$H$163)*$H143)),   Q143*(($T143/$H$126*1000*$F$123*Data!$B$6)/($T143*1000*$F$123/$H$126*Data!$B$6+($R$125*1000*$R$124/$H$163)*$H143)) )), \"\")","v":""},1E-3,"",null,"",""]
["",12,"","","","","",1E-3,{"$f":"(H144/H$163*T144*1000*$I$126/(H144*1000))/SUMPRODUCT(H$133:H$162/H$163, T$133:T$162*1000*$I$126/(H$133:H$162*1000))","v":{"$error":"#DIV/0!"}},1E-3,{"$f":"IF(A144<>\"\",IF(slam(A144),0, SUMIF($B$40:$B$90,B144,$I$40:$I$90)), 0.0001)","v":1E-4},{"$f":"IF(A144<>\"\",IF(slam(A144),0, $E$99/$H$163*H144),\"\")","v":""},{"$f":"IF(A144<>\"\",IF(slam(A144),0, $E$102/$H$163*H144),\"\")","v":""},{"$f":"IF(A144<>\"\",IF(slam(A144),0, $E$110/$H$163*H144),\"\")","v":""},{"$f":"IF(A144<>\"\",IF(slam(A144),0, $E$120/$T$163*T144),\"\")","v":""},"","",{"$f":"IF(A144<>\"\", (IF($G$126=\"Nm3\",  Q144*((($R$125*1000*$R$124/$H$163)*$H144)/($T144*1000*$F$123*Data!$B$6+($R$125*1000*$R$124/$H$163)*$H144)),  Q144*((($R$125*1000*$R$124/$H$163)*$H144)/($T144*1000*$F$123/$H$126*Data!$B$6+($R$125*1000*$R$124/$H$163)*$H144)) )), \"\")","v":""},{"$f":"IF(A144<>\"\", (IF($G$126=\"Nm3\",  Q144*(($T144*1000*$F$123*Data!$B$6)/($T144*1000*$F$123*Data!$B$6+($R$125*1000*$R$124/$H$163)*$H144)),   Q144*(($T144/$H$126*1000*$F$123*Data!$B$6)/($T144*1000*$F$123/$H$126*Data!$B$6+($R$125*1000*$R$124/$H$163)*$H144)) )), \"\")","v":""},1E-3,"",null,"",""]
["",13,"","","","","",1E-3,{"$f":"(H145/H$163*T145*1000*$I$126/(H145*1000))/SUMPRODUCT(H$133:H$162/H$163, T$133:T$162*1000*$I$126/(H$133:H$162*1000))","v":{"$error":"#DIV/0!"}},1E-3,{"$f":"IF(A145<>\"\",IF(slam(A145),0, SUMIF($B$40:$B$90,B145,$I$40:$I$90)), 0.0001)","v":1E-4},{"$f":"IF(A145<>\"\",IF(slam(A145),0, $E$99/$H$163*H145),\"\")","v":""},{"$f":"IF(A145<>\"\",IF(slam(A145),0, $E$102/$H$163*H145),\"\")","v":""},{"$f":"IF(A145<>\"\",IF(slam(A145),0, $E$110/$H$163*H145),\"\")","v":""},{"$f":"IF(A145<>\"\",IF(slam(A145),0, $E$120/$T$163*T145),\"\")","v":""},"","",{"$f":"IF(A145<>\"\", (IF($G$126=\"Nm3\",  Q145*((($R$125*1000*$R$124/$H$163)*$H145)/($T145*1000*$F$123*Data!$B$6+($R$125*1000*$R$124/$H$163)*$H145)),  Q145*((($R$125*1000*$R$124/$H$163)*$H145)/($T145*1000*$F$123/$H$126*Data!$B$6+($R$125*1000*$R$124/$H$163)*$H145)) )), \"\")","v":""},{"$f":"IF(A145<>\"\", (IF($G$126=\"Nm3\",  Q145*(($T145*1000*$F$123*Data!$B$6)/($T145*1000*$F$123*Data!$B$6+($R$125*1000*$R$124/$H$163)*$H145)),   Q145*(($T145/$H$126*1000*$F$123*Data!$B$6)/($T145*1000*$F$123/$H$126*Data!$B$6+($R$125*1000*$R$124/$H$163)*$H145)) )), \"\")","v":""},1E-3,"",null,"",""]
["",14,"","","","","",1E-3,{"$f":"(H146/H$163*T146*1000*$I$126/(H146*1000))/SUMPRODUCT(H$133:H$162/H$163, T$133:T$162*1000*$I$126/(H$133:H$162*1000))","v":{"$error":"#DIV/0!"}},1E-3,{"$f":"IF(A146<>\"\",IF(slam(A146),0, SUMIF($B$40:$B$90,B146,$I$40:$I$90)), 0.0001)","v":1E-4},{"$f":"IF(A146<>\"\",IF(slam(A146),0, $E$99/$H$163*H146),\"\")","v":""},{"$f":"IF(A146<>\"\",IF(slam(A146),0, $E$102/$H$163*H146),\"\")","v":""},{"$f":"IF(A146<>\"\",IF(slam(A146),0, $E$110/$H$163*H146),\"\")","v":""},{"$f":"IF(A146<>\"\",IF(slam(A146),0, $E$120/$T$163*T146),\"\")","v":""},"","",{"$f":"IF(A146<>\"\", (IF($G$126=\"Nm3\",  Q146*((($R$125*1000*$R$124/$H$163)*$H146)/($T146*1000*$F$123*Data!$B$6+($R$125*1000*$R$124/$H$163)*$H146)),  Q146*((($R$125*1000*$R$124/$H$163)*$H146)/($T146*1000*$F$123/$H$126*Data!$B$6+($R$125*1000*$R$124/$H$163)*$H146)) )), \"\")","v":""},{"$f":"IF(A146<>\"\", (IF($G$126=\"Nm3\",  Q146*(($T146*1000*$F$123*Data!$B$6)/($T146*1000*$F$123*Data!$B$6+($R$125*1000*$R$124/$H$163)*$H146)),   Q146*(($T146/$H$126*1000*$F$123*Data!$B$6)/($T146*1000*$F$123/$H$126*Data!$B$6+($R$125*1000*$R$124/$H$163)*$H146)) )), \"\")","v":""},1E-3,"",null,"",""]
["",15,"","","","","",1E-3,{"$f":"(H147/H$163*T147*1000*$I$126/(H147*1000))/SUMPRODUCT(H$133:H$162/H$163, T$133:T$162*1000*$I$126/(H$133:H$162*1000))","v":{"$error":"#DIV/0!"}},1E-3,{"$f":"IF(A147<>\"\",IF(slam(A147),0, SUMIF($B$40:$B$90,B147,$I$40:$I$90)), 0.0001)","v":1E-4},{"$f":"IF(A147<>\"\",IF(slam(A147),0, $E$99/$H$163*H147),\"\")","v":""},{"$f":"IF(A147<>\"\",IF(slam(A147),0, $E$102/$H$163*H147),\"\")","v":""},{"$f":"IF(A147<>\"\",IF(slam(A147),0, $E$110/$H$163*H147),\"\")","v":""},{"$f":"IF(A147<>\"\",IF(slam(A147),0, $E$120/$T$163*T147),\"\")","v":""},"","",{"$f":"IF(A147<>\"\", (IF($G$126=\"Nm3\",  Q147*((($R$125*1000*$R$124/$H$163)*$H147)/($T147*1000*$F$123*Data!$B$6+($R$125*1000*$R$124/$H$163)*$H147)),  Q147*((($R$125*1000*$R$124/$H$163)*$H147)/($T147*1000*$F$123/$H$126*Data!$B$6+($R$125*1000*$R$124/$H$163)*$H147)) )), \"\")","v":""},{"$f":"IF(A147<>\"\", (IF($G$126=\"Nm3\",  Q147*(($T147*1000*$F$123*Data!$B$6)/($T147*1000*$F$123*Data!$B$6+($R$125*1000*$R$124/$H$163)*$H147)),   Q147*(($T147/$H$126*1000*$F$123*Data!$B$6)/($T147*1000*$F$123/$H$126*Data!$B$6+($R$125*1000*$R$124/$H$163)*$H147)) )), \"\")","v":""},1E-3,"",null,"",""]
["",16,"","","","","",1E-3,{"$f":"(H148/H$163*T148*1000*$I$126/(H148*1000))/SUMPRODUCT(H$133:H$162/H$163, T$133:T$162*1000*$I$126/(H$133:H$162*1000))","v":{"$error":"#DIV/0!"}},1E-3,{"$f":"IF(A148<>\"\",IF(slam(A148),0, SUMIF($B$40:$B$90,B148,$I$40:$I$90)), 0.0001)","v":1E-4},{"$f":"IF(A148<>\"\",IF(slam(A148),0, $E$99/$H$163*H148),\"\")","v":""},{"$f":"IF(A148<>\"\",IF(slam(A148),0, $E$102/$H$163*H148),\"\")","v":""},{"$f":"IF(A148<>\"\",IF(slam(A148),0, $E$110/$H$163*H148),\"\")","v":""},{"$f":"IF(A148<>\"\",IF(slam(A148),0, $E$120/$T$163*T148),\"\")","v":""},"","",{"$f":"IF(A148<>\"\", (IF($G$126=\"Nm3\",  Q148*((($R$125*1000*$R$124/$H$163)*$H148)/($T148*1000*$F$123*Data!$B$6+($R$125*1000*$R$124/$H$163)*$H148)),  Q148*((($R$125*1000*$R$124/$H$163)*$H148)/($T148*1000*$F$123/$H$126*Data!$B$6+($R$125*1000*$R$124/$H$163)*$H148)) )), \"\")","v":""},{"$f":"IF(A148<>\"\", (IF($G$126=\"Nm3\",  Q148*(($T148*1000*$F$123*Data!$B$6)/($T148*1000*$F$123*Data!$B$6+($R$125*1000*$R$124/$H$163)*$H148)),   Q148*(($T148/$H$126*1000*$F$123*Data!$B$6)/($T148*1000*$F$123/$H$126*Data!$B$6+($R$125*1000*$R$124/$H$163)*$H148)) )), \"\")","v":""},1E-3,"",null,"",""]
["",17,"","","","","",1E-3,{"$f":"(H149/H$163*T149*1000*$I$126/(H149*1000))/SUMPRODUCT(H$133:H$162/H$163, T$133:T$162*1000*$I$126/(H$133:H$162*1000))","v":{"$error":"#DIV/0!"}},1E-3,{"$f":"IF(A149<>\"\",IF(slam(A149),0, SUMIF($B$40:$B$90,B149,$I$40:$I$90)), 0.0001)","v":1E-4},{"$f":"IF(A149<>\"\",IF(slam(A149),0, $E$99/$H$163*H149),\"\")","v":""},{"$f":"IF(A149<>\"\",IF(slam(A149),0, $E$102/$H$163*H149),\"\")","v":""},{"$f":"IF(A149<>\"\",IF(slam(A149),0, $E$110/$H$163*H149),\"\")","v":""},{"$f":"IF(A149<>\"\",IF(slam(A149),0, $E$120/$T$163*T149),\"\")","v":""},"","",{"$f":"IF(A149<>\"\", (IF($G$126=\"Nm3\",  Q149*((($R$125*1000*$R$124/$H$163)*$H149)/($T149*1000*$F$123*Data!$B$6+($R$125*1000*$R$124/$H$163)*$H149)),  Q149*((($R$125*1000*$R$124/$H$163)*$H149)/($T149*1000*$F$123/$H$126*Data!$B$6+($R$125*1000*$R$124/$H$163)*$H149)) )), \"\")","v":""},{"$f":"IF(A149<>\"\", (IF($G$126=\"Nm3\",  Q149*(($T149*1000*$F$123*Data!$B$6)/($T149*1000*$F$123*Data!$B$6+($R$125*1000*$R$124/$H$163)*$H149)),   Q149*(($T149/$H$126*1000*$F$123*Data!$B$6)/($T149*1000*$F$123/$H$126*Data!$B$6+($R$125*1000*$R$124/$H$163)*$H149)) )), \"\")","v":""},1E-3,"",null,"",""]
["",18,"","","","","",1E-3,{"$f":"(H150/H$163*T150*1000*$I$126/(H150*1000))/SUMPRODUCT(H$133:H$162/H$163, T$133:T$162*1000*$I$126/(H$133:H$162*1000))","v":{"$error":"#DIV/0!"}},1E-3,{"$f":"IF(A150<>\"\",IF(slam(A150),0, SUMIF($B$40:$B$90,B150,$I$40:$I$90)), 0.0001)","v":1E-4},{"$f":"IF(A150<>\"\",IF(slam(A150),0, $E$99/$H$163*H150),\"\")","v":""},{"$f":"IF(A150<>\"\",IF(slam(A150),0, $E$102/$H$163*H150),\"\")","v":""},{"$f":"IF(A150<>\"\",IF(slam(A150),0, $E$110/$H$163*H150),\"\")","v":""},{"$f":"IF(A150<>\"\",IF(slam(A150),0, $E$120/$T$163*T150),\"\")","v":""},"","",{"$f":"IF(A150<>\"\", (IF($G$126=\"Nm3\",  Q150*((($R$125*1000*$R$124/$H$163)*$H150)/($T150*1000*$F$123*Data!$B$6+($R$125*1000*$R$124/$H$163)*$H150)),  Q150*((($R$125*1000*$R$124/$H$163)*$H150)/($T150*1000*$F$123/$H$126*Data!$B$6+($R$125*1000*$R$124/$H$163)*$H150)) )), \"\")","v":""},{"$f":"IF(A150<>\"\", (IF($G$126=\"Nm3\",  Q150*(($T150*1000*$F$123*Data!$B$6)/($T150*1000*$F$123*Data!$B$6+($R$125*1000*$R$124/$H$163)*$H150)),   Q150*(($T150/$H$126*1000*$F$123*Data!$B$6)/($T150*1000*$F$123/$H$126*Data!$B$6+($R$125*1000*$R$124/$H$163)*$H150)) )), \"\")","v":""},1E-3,"",null,"",""]
["",19,"","","","","",1E-3,{"$f":"(H151/H$163*T151*1000*$I$126/(H151*1000))/SUMPRODUCT(H$133:H$162/H$163, T$133:T$162*1000*$I$126/(H$133:H$162*1000))","v":{"$error":"#DIV/0!"}},1E-3,{"$f":"IF(A151<>\"\",IF(slam(A151),0, SUMIF($B$40:$B$90,B151,$I$40:$I$90)), 0.0001)","v":1E-4},{"$f":"IF(A151<>\"\",IF(slam(A151),0, $E$99/$H$163*H151),\"\")","v":""},{"$f":"IF(A151<>\"\",IF(slam(A151),0, $E$102/$H$163*H151),\"\")","v":""},{"$f":"IF(A151<>\"\",IF(slam(A151),0, $E$110/$H$163*H151),\"\")","v":""},{"$f":"IF(A151<>\"\",IF(slam(A151),0, $E$120/$T$163*T151),\"\")","v":""},"","",{"$f":"IF(A151<>\"\", (IF($G$126=\"Nm3\",  Q151*((($R$125*1000*$R$124/$H$163)*$H151)/($T151*1000*$F$123*Data!$B$6+($R$125*1000*$R$124/$H$163)*$H151)),  Q151*((($R$125*1000*$R$124/$H$163)*$H151)/($T151*1000*$F$123/$H$126*Data!$B$6+($R$125*1000*$R$124/$H$163)*$H151)) )), \"\")","v":""},{"$f":"IF(A151<>\"\", (IF($G$126=\"Nm3\",  Q151*(($T151*1000*$F$123*Data!$B$6)/($T151*1000*$F$123*Data!$B$6+($R$125*1000*$R$124/$H$163)*$H151)),   Q151*(($T151/$H$126*1000*$F$123*Data!$B$6)/($T151*1000*$F$123/$H$126*Data!$B$6+($R$125*1000*$R$124/$H$163)*$H151)) )), \"\")","v":""},1E-3,"",null,"",""]
["",20,"","","","","",1E-3,{"$f":"(H152/H$163*T152*1000*$I$126/(H152*1000))/SUMPRODUCT(H$133:H$162/H$163, T$133:T$162*1000*$I$126/(H$133:H$162*1000))","v":{"$error":"#DIV/0!"}},1E-3,{"$f":"IF(A152<>\"\",IF(slam(A152),0, SUMIF($B$40:$B$90,B152,$I$40:$I$90)), 0.0001)","v":1E-4},{"$f":"IF(A152<>\"\",IF(slam(A152),0, $E$99/$H$163*H152),\"\")","v":""},{"$f":"IF(A152<>\"\",IF(slam(A152),0, $E$102/$H$163*H152),\"\")","v":""},{"$f":"IF(A152<>\"\",IF(slam(A152),0, $E$110/$H$163*H152),\"\")","v":""},{"$f":"IF(A152<>\"\",IF(slam(A152),0, $E$120/$T$163*T152),\"\")","v":""},"","",{"$f":"IF(A152<>\"\", (IF($G$126=\"Nm3\",  Q152*((($R$125*1000*$R$124/$H$163)*$H152)/($T152*1000*$F$123*Data!$B$6+($R$125*1000*$R$124/$H$163)*$H152)),  Q152*((($R$125*1000*$R$124/$H$163)*$H152)/($T152*1000*$F$123/$H$126*Data!$B$6+($R$125*1000*$R$124/$H$163)*$H152)) )), \"\")","v":""},{"$f":"IF(A152<>\"\", (IF($G$126=\"Nm3\",  Q152*(($T152*1000*$F$123*Data!$B$6)/($T152*1000*$F$123*Data!$B$6+($R$125*1000*$R$124/$H$163)*$H152)),   Q152*(($T152/$H$126*1000*$F$123*Data!$B$6)/($T152*1000*$F$123/$H$126*Data!$B$6+($R$125*1000*$R$124/$H$163)*$H152)) )), \"\")","v":""},1E-3,"",null,"",""]
["",21,"","","","","",1E-3,{"$f":"(H153/H$163*T153*1000*$I$126/(H153*1000))/SUMPRODUCT(H$133:H$162/H$163, T$133:T$162*1000*$I$126/(H$133:H$162*1000))","v":{"$error":"#DIV/0!"}},1E-3,{"$f":"IF(A153<>\"\",IF(slam(A153),0, SUMIF($B$40:$B$90,B153,$I$40:$I$90)), 0.0001)","v":1E-4},{"$f":"IF(A153<>\"\",IF(slam(A153),0, $E$99/$H$163*H153),\"\")","v":""},{"$f":"IF(A153<>\"\",IF(slam(A153),0, $E$102/$H$163*H153),\"\")","v":""},{"$f":"IF(A153<>\"\",IF(slam(A153),0, $E$110/$H$163*H153),\"\")","v":""},{"$f":"IF(A153<>\"\",IF(slam(A153),0, $E$120/$T$163*T153),\"\")","v":""},"","",{"$f":"IF(A153<>\"\", (IF($G$126=\"Nm3\",  Q153*((($R$125*1000*$R$124/$H$163)*$H153)/($T153*1000*$F$123*Data!$B$6+($R$125*1000*$R$124/$H$163)*$H153)),  Q153*((($R$125*1000*$R$124/$H$163)*$H153)/($T153*1000*$F$123/$H$126*Data!$B$6+($R$125*1000*$R$124/$H$163)*$H153)) )), \"\")","v":""},{"$f":"IF(A153<>\"\", (IF($G$126=\"Nm3\",  Q153*(($T153*1000*$F$123*Data!$B$6)/($T153*1000*$F$123*Data!$B$6+($R$125*1000*$R$124/$H$163)*$H153)),   Q153*(($T153/$H$126*1000*$F$123*Data!$B$6)/($T153*1000*$F$123/$H$126*Data!$B$6+($R$125*1000*$R$124/$H$163)*$H153)) )), \"\")","v":""},1E-3,"",null,"",""]
["",22,"","","","","",1E-3,{"$f":"(H154/H$163*T154*1000*$I$126/(H154*1000))/SUMPRODUCT(H$133:H$162/H$163, T$133:T$162*1000*$I$126/(H$133:H$162*1000))","v":{"$error":"#DIV/0!"}},1E-3,{"$f":"IF(A154<>\"\",IF(slam(A154),0, SUMIF($B$40:$B$90,B154,$I$40:$I$90)), 0.0001)","v":1E-4},{"$f":"IF(A154<>\"\",IF(slam(A154),0, $E$99/$H$163*H154),\"\")","v":""},{"$f":"IF(A154<>\"\",IF(slam(A154),0, $E$102/$H$163*H154),\"\")","v":""},{"$f":"IF(A154<>\"\",IF(slam(A154),0, $E$110/$H$163*H154),\"\")","v":""},{"$f":"IF(A154<>\"\",IF(slam(A154),0, $E$120/$T$163*T154),\"\")","v":""},"","",{"$f":"IF(A154<>\"\", (IF($G$126=\"Nm3\",  Q154*((($R$125*1000*$R$124/$H$163)*$H154)/($T154*1000*$F$123*Data!$B$6+($R$125*1000*$R$124/$H$163)*$H154)),  Q154*((($R$125*1000*$R$124/$H$163)*$H154)/($T154*1000*$F$123/$H$126*Data!$B$6+($R$125*1000*$R$124/$H$163)*$H154)) )), \"\")","v":""},{"$f":"IF(A154<>\"\", (IF($G$126=\"Nm3\",  Q154*(($T154*1000*$F$123*Data!$B$6)/($T154*1000*$F$123*Data!$B$6+($R$125*1000*$R$124/$H$163)*$H154)),   Q154*(($T154/$H$126*1000*$F$123*Data!$B$6)/($T154*1000*$F$123/$H$126*Data!$B$6+($R$125*1000*$R$124/$H$163)*$H154)) )), \"\")","v":""},1E-3,"",null,"",""]
["",23,"","","","","",1E-3,{"$f":"(H155/H$163*T155*1000*$I$126/(H155*1000))/SUMPRODUCT(H$133:H$162/H$163, T$133:T$162*1000*$I$126/(H$133:H$162*1000))","v":{"$error":"#DIV/0!"}},1E-3,{"$f":"IF(A155<>\"\",IF(slam(A155),0, SUMIF($B$40:$B$90,B155,$I$40:$I$90)), 0.0001)","v":1E-4},{"$f":"IF(A155<>\"\",IF(slam(A155),0, $E$99/$H$163*H155),\"\")","v":""},{"$f":"IF(A155<>\"\",IF(slam(A155),0, $E$102/$H$163*H155),\"\")","v":""},{"$f":"IF(A155<>\"\",IF(slam(A155),0, $E$110/$H$163*H155),\"\")","v":""},{"$f":"IF(A155<>\"\",IF(slam(A155),0, $E$120/$T$163*T155),\"\")","v":""},"","",{"$f":"IF(A155<>\"\", (IF($G$126=\"Nm3\",  Q155*((($R$125*1000*$R$124/$H$163)*$H155)/($T155*1000*$F$123*Data!$B$6+($R$125*1000*$R$124/$H$163)*$H155)),  Q155*((($R$125*1000*$R$124/$H$163)*$H155)/($T155*1000*$F$123/$H$126*Data!$B$6+($R$125*1000*$R$124/$H$163)*$H155)) )), \"\")","v":""},{"$f":"IF(A155<>\"\", (IF($G$126=\"Nm3\",  Q155*(($T155*1000*$F$123*Data!$B$6)/($T155*1000*$F$123*Data!$B$6+($R$125*1000*$R$124/$H$163)*$H155)),   Q155*(($T155/$H$126*1000*$F$123*Data!$B$6)/($T155*1000*$F$123/$H$126*Data!$B$6+($R$125*1000*$R$124/$H$163)*$H155)) )), \"\")","v":""},1E-3,"",null,"",""]
["",24,"","","","","",1E-3,{"$f":"(H156/H$163*T156*1000*$I$126/(H156*1000))/SUMPRODUCT(H$133:H$162/H$163, T$133:T$162*1000*$I$126/(H$133:H$162*1000))","v":{"$error":"#DIV/0!"}},1E-3,{"$f":"IF(A156<>\"\",IF(slam(A156),0, SUMIF($B$40:$B$90,B156,$I$40:$I$90)), 0.0001)","v":1E-4},{"$f":"IF(A156<>\"\",IF(slam(A156),0, $E$99/$H$163*H156),\"\")","v":""},{"$f":"IF(A156<>\"\",IF(slam(A156),0, $E$102/$H$163*H156),\"\")","v":""},{"$f":"IF(A156<>\"\",IF(slam(A156),0, $E$110/$H$163*H156),\"\")","v":""},{"$f":"IF(A156<>\"\",IF(slam(A156),0, $E$120/$T$163*T156),\"\")","v":""},"","",{"$f":"IF(A156<>\"\", (IF($G$126=\"Nm3\",  Q156*((($R$125*1000*$R$124/$H$163)*$H156)/($T156*1000*$F$123*Data!$B$6+($R$125*1000*$R$124/$H$163)*$H156)),  Q156*((($R$125*1000*$R$124/$H$163)*$H156)/($T156*1000*$F$123/$H$126*Data!$B$6+($R$125*1000*$R$124/$H$163)*$H156)) )), \"\")","v":""},{"$f":"IF(A156<>\"\", (IF($G$126=\"Nm3\",  Q156*(($T156*1000*$F$123*Data!$B$6)/($T156*1000*$F$123*Data!$B$6+($R$125*1000*$R$124/$H$163)*$H156)),   Q156*(($T156/$H$126*1000*$F$123*Data!$B$6)/($T156*1000*$F$123/$H$126*Data!$B$6+($R$125*1000*$R$124/$H$163)*$H156)) )), \"\")","v":""},1E-3,"",null,"",""]
["",25,"","","","","",1E-3,{"$f":"(H157/H$163*T157*1000*$I$126/(H157*1000))/SUMPRODUCT(H$133:H$162/H$163, T$133:T$162*1000*$I$126/(H$133:H$162*1000))","v":{"$error":"#DIV/0!"}},1E-3,{"$f":"IF(A157<>\"\",IF(slam(A157),0, SUMIF($B$40:$B$90,B157,$I$40:$I$90)), 0.0001)","v":1E-4},{"$f":"IF(A157<>\"\",IF(slam(A157),0, $E$99/$H$163*H157),\"\")","v":""},{"$f":"IF(A157<>\"\",IF(slam(A157),0, $E$102/$H$163*H157),\"\")","v":""},{"$f":"IF(A157<>\"\",IF(slam(A157),0, $E$110/$H$163*H157),\"\")","v":""},{"$f":"IF(A157<>\"\",IF(slam(A157),0, $E$120/$T$163*T157),\"\")","v":""},"","",{"$f":"IF(A157<>\"\", (IF($G$126=\"Nm3\",  Q157*((($R$125*1000*$R$124/$H$163)*$H157)/($T157*1000*$F$123*Data!$B$6+($R$125*1000*$R$124/$H$163)*$H157)),  Q157*((($R$125*1000*$R$124/$H$163)*$H157)/($T157*1000*$F$123/$H$126*Data!$B$6+($R$125*1000*$R$124/$H$163)*$H157)) )), \"\")","v":""},{"$f":"IF(A157<>\"\", (IF($G$126=\"Nm3\",  Q157*(($T157*1000*$F$123*Data!$B$6)/($T157*1000*$F$123*Data!$B$6+($R$125*1000*$R$124/$H$163)*$H157)),   Q157*(($T157/$H$126*1000*$F$123*Data!$B$6)/($T157*1000*$F$123/$H$126*Data!$B$6+($R$125*1000*$R$124/$H$163)*$H157)) )), \"\")","v":""},1E-3,"",null,"",""]
["",26,"","","","","",1E-3,{"$f":"(H158/H$163*T158*1000*$I$126/(H158*1000))/SUMPRODUCT(H$133:H$162/H$163, T$133:T$162*1000*$I$126/(H$133:H$162*1000))","v":{"$error":"#DIV/0!"}},1E-3,{"$f":"IF(A158<>\"\",IF(slam(A158),0, SUMIF($B$40:$B$90,B158,$I$40:$I$90)), 0.0001)","v":1E-4},{"$f":"IF(A158<>\"\",IF(slam(A158),0, $E$99/$H$163*H158),\"\")","v":""},{"$f":"IF(A158<>\"\",IF(slam(A158),0, $E$102/$H$163*H158),\"\")","v":""},{"$f":"IF(A158<>\"\",IF(slam(A158),0, $E$110/$H$163*H158),\"\")","v":""},{"$f":"IF(A158<>\"\",IF(slam(A158),0, $E$120/$T$163*T158),\"\")","v":""},"","",{"$f":"IF(A158<>\"\", (IF($G$126=\"Nm3\",  Q158*((($R$125*1000*$R$124/$H$163)*$H158)/($T158*1000*$F$123*Data!$B$6+($R$125*1000*$R$124/$H$163)*$H158)),  Q158*((($R$125*1000*$R$124/$H$163)*$H158)/($T158*1000*$F$123/$H$126*Data!$B$6+($R$125*1000*$R$124/$H$163)*$H158)) )), \"\")","v":""},{"$f":"IF(A158<>\"\", (IF($G$126=\"Nm3\",  Q158*(($T158*1000*$F$123*Data!$B$6)/($T158*1000*$F$123*Data!$B$6+($R$125*1000*$R$124/$H$163)*$H158)),   Q158*(($T158/$H$126*1000*$F$123*Data!$B$6)/($T158*1000*$F$123/$H$126*Data!$B$6+($R$125*1000*$R$124/$H$163)*$H158)) )), \"\")","v":""},1E-3,"",null,"",""]
["",27,"","","","","",1E-3,{"$f":"(H159/H$163*T159*1000*$I$126/(H159*1000))/SUMPRODUCT(H$133:H$162/H$163, T$133:T$162*1000*$I$126/(H$133:H$162*1000))","v":{"$error":"#DIV/0!"}},1E-3,{"$f":"IF(A159<>\"\",IF(slam(A159),0, SUMIF($B$40:$B$90,B159,$I$40:$I$90)), 0.0001)","v":1E-4},{"$f":"IF(A159<>\"\",IF(slam(A159),0, $E$99/$H$163*H159),\"\")","v":""},{"$f":"IF(A159<>\"\",IF(slam(A159),0, $E$102/$H$163*H159),\"\")","v":""},{"$f":"IF(A159<>\"\",IF(slam(A159),0, $E$110/$H$163*H159),\"\")","v":""},{"$f":"IF(A159<>\"\",IF(slam(A159),0, $E$120/$T$163*T159),\"\")","v":""},"","",{"$f":"IF(A159<>\"\", (IF($G$126=\"Nm3\",  Q159*((($R$125*1000*$R$124/$H$163)*$H159)/($T159*1000*$F$123*Data!$B$6+($R$125*1000*$R$124/$H$163)*$H159)),  Q159*((($R$125*1000*$R$124/$H$163)*$H159)/($T159*1000*$F$123/$H$126*Data!$B$6+($R$125*1000*$R$124/$H$163)*$H159)) )), \"\")","v":""},{"$f":"IF(A159<>\"\", (IF($G$126=\"Nm3\",  Q159*(($T159*1000*$F$123*Data!$B$6)/($T159*1000*$F$123*Data!$B$6+($R$125*1000*$R$124/$H$163)*$H159)),   Q159*(($T159/$H$126*1000*$F$123*Data!$B$6)/($T159*1000*$F$123/$H$126*Data!$B$6+($R$125*1000*$R$124/$H$163)*$H159)) )), \"\")","v":""},1E-3,"",null,"",""]
["",28,"","","","","",1E-3,{"$f":"(H160/H$163*T160*1000*$I$126/(H160*1000))/SUMPRODUCT(H$133:H$162/H$163, T$133:T$162*1000*$I$126/(H$133:H$162*1000))","v":{"$error":"#DIV/0!"}},1E-3,{"$f":"IF(A160<>\"\",IF(slam(A160),0, SUMIF($B$40:$B$90,B160,$I$40:$I$90)), 0.0001)","v":1E-4},{"$f":"IF(A160<>\"\",IF(slam(A160),0, $E$99/$H$163*H160),\"\")","v":""},{"$f":"IF(A160<>\"\",IF(slam(A160),0, $E$102/$H$163*H160),\"\")","v":""},{"$f":"IF(A160<>\"\",IF(slam(A160),0, $E$110/$H$163*H160),\"\")","v":""},{"$f":"IF(A160<>\"\",IF(slam(A160),0, $E$120/$T$163*T160),\"\")","v":""},"","",{"$f":"IF(A160<>\"\", (IF($G$126=\"Nm3\",  Q160*((($R$125*1000*$R$124/$H$163)*$H160)/($T160*1000*$F$123*Data!$B$6+($R$125*1000*$R$124/$H$163)*$H160)),  Q160*((($R$125*1000*$R$124/$H$163)*$H160)/($T160*1000*$F$123/$H$126*Data!$B$6+($R$125*1000*$R$124/$H$163)*$H160)) )), \"\")","v":""},{"$f":"IF(A160<>\"\", (IF($G$126=\"Nm3\",  Q160*(($T160*1000*$F$123*Data!$B$6)/($T160*1000*$F$123*Data!$B$6+($R$125*1000*$R$124/$H$163)*$H160)),   Q160*(($T160/$H$126*1000*$F$123*Data!$B$6)/($T160*1000*$F$123/$H$126*Data!$B$6+($R$125*1000*$R$124/$H$163)*$H160)) )), \"\")","v":""},1E-3,"",null,"",""]
["",29,"","","","","",1E-3,{"$f":"(H161/H$163*T161*1000*$I$126/(H161*1000))/SUMPRODUCT(H$133:H$162/H$163, T$133:T$162*1000*$I$126/(H$133:H$162*1000))","v":{"$error":"#DIV/0!"}},1E-3,{"$f":"IF(A161<>\"\",IF(slam(A161),0, SUMIF($B$40:$B$90,B161,$I$40:$I$90)), 0.0001)","v":1E-4},{"$f":"IF(A161<>\"\",IF(slam(A161),0, $E$99/$H$163*H161),\"\")","v":""},{"$f":"IF(A161<>\"\",IF(slam(A161),0, $E$102/$H$163*H161),\"\")","v":""},{"$f":"IF(A161<>\"\",IF(slam(A161),0, $E$110/$H$163*H161),\"\")","v":""},{"$f":"IF(A161<>\"\",IF(slam(A161),0, $E$120/$T$163*T161),\"\")","v":""},"","",{"$f":"IF(A161<>\"\", (IF($G$126=\"Nm3\",  Q161*((($R$125*1000*$R$124/$H$163)*$H161)/($T161*1000*$F$123*Data!$B$6+($R$125*1000*$R$124/$H$163)*$H161)),  Q161*((($R$125*1000*$R$124/$H$163)*$H161)/($T161*1000*$F$123/$H$126*Data!$B$6+($R$125*1000*$R$124/$H$163)*$H161)) )), \"\")","v":""},{"$f":"IF(A161<>\"\", (IF($G$126=\"Nm3\",  Q161*(($T161*1000*$F$123*Data!$B$6)/($T161*1000*$F$123*Data!$B$6+($R$125*1000*$R$124/$H$163)*$H161)),   Q161*(($T161/$H$126*1000*$F$123*Data!$B$6)/($T161*1000*$F$123/$H$126*Data!$B$6+($R$125*1000*$R$124/$H$163)*$H161)) )), \"\")","v":""},1E-3,"",null,"",""]
["",30,"","","","","",1E-3,{"$f":"(H162/H$163*T162*1000*$I$126/(H162*1000))/SUMPRODUCT(H$133:H$162/H$163, T$133:T$162*1000*$I$126/(H$133:H$162*1000))","v":{"$error":"#DIV/0!"}},1E-3,{"$f":"IF(A162<>\"\",IF(slam(A162),0, SUMIF($B$40:$B$90,B162,$I$40:$I$90)), 0.0001)","v":1E-4},{"$f":"IF(A162<>\"\",IF(slam(A162),0, $E$99/$H$163*H162),\"\")","v":""},{"$f":"IF(A162<>\"\",IF(slam(A162),0, $E$102/$H$163*H162),\"\")","v":""},{"$f":"IF(A162<>\"\",IF(slam(A162),0, $E$110/$H$163*H162),\"\")","v":""},{"$f":"IF(A162<>\"\",IF(slam(A162),0, $E$120/$T$163*T162),\"\")","v":""},"","",{"$f":"IF(A162<>\"\", (IF($G$126=\"Nm3\",  Q162*((($R$125*1000*$R$124/$H$163)*$H162)/($T162*1000*$F$123*Data!$B$6+($R$125*1000*$R$124/$H$163)*$H162)),  Q162*((($R$125*1000*$R$124/$H$163)*$H162)/($T162*1000*$F$123/$H$126*Data!$B$6+($R$125*1000*$R$124/$H$163)*$H162)) )), \"\")","v":""},{"$f":"IF(A162<>\"\", (IF($G$126=\"Nm3\",  Q162*(($T162*1000*$F$123*Data!$B$6)/($T162*1000*$F$123*Data!$B$6+($R$125*1000*$R$124/$H$163)*$H162)),   Q162*(($T162/$H$126*1000*$F$123*Data!$B$6)/($T162*1000*$F$123/$H$126*Data!$B$6+($R$125*1000*$R$124/$H$163)*$H162)) )), \"\")","v":""},1E-3,"",null,"",""]
["Summa",null,null,null,null,null,null,{"$f":"SUM(H133:H162)","v":3.000000000000002E-2},{"$f":"SUM(I133:I162)","v":{"$error":"#DIV/0!"}},3.000000000000002E-2,{"$f":"SUM(K133:K162)","v":2.9999999999999988E-3},0,0,0,0,0,null,null,null,{"$f":"SUM(T133:T162)","v":3.000000000000002E-2},{"$f":"SUM(U133:U162)","v":0},{"$f":"SUM(V133:V162)","v":0},{"$f":"SUM(W133:W162)","v":0}]
[null,null,null,null,null,null,null,"Växthusgasutsläpp, gram CO2eq/MJ",null,null,{"$f":"SUMPRODUCT(I133:I162,(J133:J162*1000*1000/(T133:T162*1000*$I$126)+K133:K162*1000*1000/(T133:T162*1000*$I$126)))","v":{"$error":"#DIV/0!"}},null,null,null,null,{"$f":"P163*1000*1000/(T163*1000*$I$126)","v":{"$error":"#DIV/0!"}},{"$f":"K164+P164","v":{"$error":"#DIV/0!"}}]
[]
["Underlag för redovisning av hållbarhetsdata till annan aktör som uppgraderar biogasen "]
["Substrat","Kompl. information","Produktionsanläggning, startdatum","Ursprungsland","Substrat, typ","Substratkategori",{"$f":"V132","v":"Sålt till annan aktör (med skatteuppskov), Nm3 (tusental) "},"Enhet","Metanhalt, %","Växthusgasutsläpp, g CO2eq/MJ"]
[{"$f":"IF(V133>0,A133,\"\")","v":""},{"$f":"IF(V133>0,C133,\"\")","v":""},{"$f":"IF(A168<>\"\",$I$3, \"\")","v":""},{"$f":"IF(V133>0,E133,\"\")","v":""},{"$f":"IF(V133>0,F133,\"\")","v":""},{"$f":"IF(V133>0,G133,\"\")","v":""},{"$f":"IF(V133>0,V133,\"\")","v":""},{"$f":"IF(V133>0,$G$126,\"\")","v":""},{"$f":"IF(V133>0,F$123,\"\")","v":""},{"$f":"IF($V133>0,$S133,\"\")","v":""}]
["","",{"$f":"IF(A169<>\"\",$I$3, \"\")","v":""},"","","",{"$f":"IF(V134>0,V134,\"\")","v":""},"","",{"$f":"IF($V134>0,$S134,\"\")","v":""}]
["","","","","","","","","",""]
["","","","","","","","","",""]
["","","","","","","","","",""]
["","","","","","","","","",""]
["","","","","","","","","",""]
["","","","","","","","","",""]
["","","","","","","","","",""]
["","","","","","","","","",""]
["","","","","","","","","",""]
["","","","","","","","","",""]
["","","","","","","","","",""]
["","","","","","","","","",""]
["","","","","","","","","",""]
["","","","","","","","","",""]
["","","","","","","","","",""]
["","","","","","","","","",""]
["","","","","","","","","",""]
["","","","","","","","","",""]
["","","","","","","","","",""]
["","","","","","","","","",""]
["","","","","","","","","",""]
["","","","","","","","","",""]
["","","","","","","","","",""]
["","","","","","","","","",""]
["","","","","","","","","",""]
["","","","","","","","","",""]
["","","","","","","","","",""]
["","","","","","","","","",""]
["Summa",null,null,null,null,null,{"$f":"SUM(G168:G197)","v":0}]

{"sheet":"Uppgradering","index":2,"n_rows":163,"n_cols":62,"rows_kept":163,"cut":false,"hidden":false,"merged":[[162,0,162,1],[3,31,3,35],[140,0,140,1],[116,0,116,1],[3,13,3,17],[3,19,3,23],[3,25,3,29],[0,50,0,61],[1,51,1,61],[2,51,2,61],[2,1,2,5],[94,4,94,6],[70,4,70,6],[1,1,1,5],[70,37,70,38],[68,37,68,38],[69,37,69,38]]}
["HBK Biogasredovisning, ver 4.2 - Uppgradering av biogas till fordonskvalitet",null,null,null,null,null,null,null,null,null,null,null,null,null,null,null,null,null,null,null,null,null,null,null,null,null,null,null,null,null,null,null,null,null,null,null,null,null,null,null,null,null,null,null,null,null,null,null,null,null,"Underlag för redovisning av hållbarhetsdata till annan aktör som distribuerar biogasen "]
["Företag (länkad från bladet produktion):",{"$f":"Produktion!B2","v":"företagsnamn"},null,null,null,null,null,null,null,null,null,null,null,null,null,null,null,null,null,null,null,null,null,null,null,null,null,null,null,null,null,null,null,null,null,null,null,null,null,null,null,null,null,null,null,null,null,null,null,null,{"$f":"A2","v":"Företag (länkad från bladet produktion):"},{"$f":"B2","v":"företagsnamn"}]
["Rapportperiod (länkad från bladet produktion):",{"$f":"Produktion!B3","v":"2023-01-01 -- 2023-12-31"},null,null,null,null,null,null,null,null,null,null,null,null,null,null,null,null,null,null,null,null,null,null,null,null,null,null,null,null,null,null,null,null,null,null,null,null,null,null,null,null,null,null,null,null,null,null,null,null,{"$f":"A3","v":"Rapportperiod (länkad från bladet produktion):"},{"$f":"B3","v":"2023-01-01 -- 2023-12-31"}]
["Inkommande rågas",null,null,null,null,null,null,null,null,null,null,null,null,"Uppgradering anläggning 1",null,null,null,null,null,"Uppgradering anläggning 2",null,null,null,null,null,"Uppgradering anläggning 3",null,null,null,null,null,"Uppgradering - flytande biogas (LBG)",null,null,null,null,null,"Uppgraderad gas - sammanfattning, länkas till distribution"]
[null,"Parti nr","Kompletterande information","Produktionsanläggning, startdatum","Ursprung","Substrat, typ","Substrat kategori",{"$f":"IF(Produktion!G126=\"Nm3\", \"Mängd, Nm3 (tusental) \", \"Mängd, kg (tusental) \")","v":"Mängd, Nm3 (tusental) "},"Enhet, Nm3/kg","Metanhalt, %","Växthusgas-utsläpp, g CO2eq/MJ","Biogas till uppgradering, Nm3 (tusental)","Parti nr","Mängd rågas in, Nm3 (tusental)",{"$f":"IF(C76=\"Nm3\", \"Mängd uppgraderad, Nm3 (tusental) \", \"Mängd uppgraderad biogas, kg (tusental)\")","v":"Mängd uppgraderad, Nm3 (tusental) "},"Enhet, Nm3/kg","Metanhalt uppgraderad gas, %","Växthusgas-utsläpp, g CO2eq/MJ","Parti nr","Mängd rågas in, Nm3 (tusental)","Mängd uppgraderad gas, Nm3 (tusental)","Enhet, Nm3/kg","Metanhalt uppgraderad gas, %","Växthusgas-utsläpp, g CO2eq/MJ","Parti nr","Mängd rågas in, Nm3 (tusental)","Mängd uppgraderad gas, Nm3 (tusental)","Enhet, Nm3/kg","Metanhalt uppgraderad gas, %","Växthusgas-utsläpp, g CO2eq/MJ","Parti nr","Mängd rågas in, Nm3 (tusental)","Mängd uppgraderad gas, kg (tusental)","Enhet, kg","Metanhalt uppgraderad gas, %","Växthusgas-utsläpp, g CO2eq/MJ","Parti nr","Summa rågas till uppgradering, Nm3 (tusental)","Avvikelse rågasfördelning, Nm3 (tusental)","Summa uppgraderad gas, Nm3 / kg (tusental)","Enhet, Nm3/kg","Form, Gas/flytande","Sålt till annan aktör med skatteuppskov,  Nm3 / kg (tusental)","Till förvätskning,  Nm3 / kg (tusental)","Till distribution i egna anläggningar,  Nm3 / kg (tusental)","Metanhalt, %","Substrat kategori","Växthusgasutsläpp, uppgradering, g CO2eq/MJ","Växthusgasutsläpp, summa produktion och uppgradering CO2eq/MJ","Parti nr","Substrat","Kompletterande information","Produktionsanläggning, startdatum","Ursprung","Substrat, typ","Substrat kategori","Mängd biogas, Nm3 / kg(tusental)","Form, Gas / flytande","Enhet","Metanhalt, %","Växthusgasutsläpp, summa produktion och uppgradering CO2eq/MJ","Beräkning, Faktisk, F. Esca om gödselbonus tillämpats"]
["Egen produktion av biogas (från bladet Produktion)"]
[{"$f":"Produktion!A133","v":""},1,{"$f":"Produktion!C133","v":""},{"$f":"Produktion!D133","v":""},{"$f":"Produktion!E133","v":""},{"$f":"Produktion!F133","v":""},{"$f":"Produktion!G133","v":""},{"$f":"Produktion!W133","v":""},{"$f":"IF(A7<>\"\",Produktion!$G$126,\"\")","v":""},{"$f":"IF(A7<>\"\",Produktion!$F$123,\"\")","v":""},{"$f":"Produktion!S133","v":""},{"$f":"IF(I7=\"kg\",H7/Denscalc(J7),H7)","v":""},1,null,{"$f":"IF(N7<>\"\",$C$75/$N$68*N7,\"\")","v":""},{"$f":"IF(N7>0,$C$76,\"\")","v":""},{"$f":"IF(N7<>\"\",$B$77,\"\")","v":""},{"$f":"IF(N7<>\"\",  $G$93,\"\")","v":""},1,null,{"$f":"IF(T7<>\"\",$C$99/$T$68*T7,\"\")","v":""},{"$f":"IF(T7>0,$C$100,\"\")","v":""},{"$f":"IF(T7<>\"\",$B$101,\"\")","v":""},{"$f":"IF(T7<>\"\", $G$117,\"\")","v":""},1,null,{"$f":"IF(Z7<>\"\",$C$123/$Z$68*Z7,\"\")","v":""},{"$f":"IF(Z7>0, $C$124,\"\")","v":""},{"$f":"IF(Z7<>\"\",$B$125,\"\")","v":""},{"$f":"IF(Z7<>\"\",  $G$141,\"\")","v":""},1,null,{"$f":"IF(AF7<>\"\",$C$147/$AF$68*AF7,\"\")","v":""},{"$f":"IF(AF7>0,\"kg\",\"\")","v":""},{"$f":"IF(AF7<>\"\",$B$148,\"\")","v":""},{"$f":"IF(AF7<>\"\",  $G$163,\"\")","v":""},1,{"$f":"IF(A7<>\"\",IF(AF7>0, AF7, (N7+T7+Z7)),\"\")","v":""},{"$f":"IF(A7<>\"\",L7-AL7,\"\")","v":""},{"$f":"IF(A7<>\"\",IF(AF7>0, AG7, SUM(O7,U7,AA7)),\"\")","v":""},{"$f":"IF(A7<>\"\",IF(OR(AB7=\"kg\",V7=\"kg\",P7=\"kg\",AH7=\"kg\"),\"kg\",\"Nm3\"),\"\")","v":""},{"$f":"IF(A7<>\"\", IF(OR(AG7=0,AG7=\"\"), \"Gas\", \"Flytande\"),\"\")","v":""},null,null,{"$f":"IF(A7<>\"\",(AN7-AQ7-AR7),\"\")","v":""},{"$f":"IF(A7<>\"\",IF(AF7>0,AI7, IF(AN7>0,(IF(O7<>\"\",O7*Q7,0)+IF(U7<>\"\",U7*W7,0)+IF(AA7<>\"\",AA7*AC7,0))/AN7,0)),\"\")","v":""},{"$f":"IF(G7<>0,G7,\"\")","v":""},{"$f":"IF(A7<>\"\",IF(AF7>0,AJ7, IF(AN7>0,(IF(O7<>\"\",R7*O7*Q7,0)+IF(U7<>\"\",X7*U7*W7,0)+IF(AA7<>\"\",AD7*AA7*AC7,0))/(AN7*AT7),0)),\"\")","v":""},{"$f":"IF(A7<>\"\", SUM(K7+AV7), \"\")","v":""},1,{"$f":"IF($AQ7>0,A7,\"\")","v":""},{"$f":"IF($AQ7>0,C7,\"\")","v":""},{"$f":"IF($AQ7>0,D7,\"\")","v":""},"","","",{"$f":"IF(AQ7>0,AQ7,\"\")","v":""},{"$f":"IF(AQ7>0,AP7,\"\")","v":""},{"$f":"IF(AQ7>0,AO7,\"\")","v":""},{"$f":"IF(AQ7>0,AT7,\"\")","v":""},{"$f":"IF(AQ7>0,AW7,\"\")","v":""},{"$f":"IF(AND(A7<>\"\",AQ7>0),IF(G7=\"Gödsel\",\"F, Esca\",\"F\"),\"\")","v":""}]
[{"$f":"Produktion!A134","v":""},2,{"$f":"Produktion!C134","v":""},{"$f":"Produktion!D134","v":""},{"$f":"Produktion!E134","v":""},{"$f":"Produktion!F134","v":""},{"$f":"Produktion!G134","v":""},{"$f":"Produktion!W134","v":""},{"$f":"IF(A8<>\"\",Produktion!$G$126,\"\")","v":""},{"$f":"IF(A8<>\"\",Produktion!$F$123,\"\")","v":""},{"$f":"Produktion!S134","v":""},{"$f":"IF(I8=\"kg\",H8/Denscalc(J8),H8)","v":""},2,null,"","","","",2,null,"",{"$f":"IF(T8>0,$C$100,\"\")","v":""},{"$f":"IF(T8<>\"\",$B$101,\"\")","v":""},{"$f":"IF(T8<>\"\", $G$117,\"\")","v":""},2,null,"","","","",2,null,"",{"$f":"IF(AF8>0,\"kg\",\"\")","v":""},{"$f":"IF(AF8<>\"\",$B$148,\"\")","v":""},{"$f":"IF(AF8<>\"\",  $G$163,\"\")","v":""},2,{"$f":"IF(A8<>\"\",IF(AF8>0, AF8, (N8+T8+Z8)),\"\")","v":""},{"$f":"IF(A8<>\"\",L8-AL8,\"\")","v":""},{"$f":"IF(A8<>\"\",IF(AF8>0, AG8, SUM(O8,U8,AA8)),\"\")","v":""},{"$f":"IF(A8<>\"\",IF(OR(AB8=\"kg\",V8=\"kg\",P8=\"kg\",AH8=\"kg\"),\"kg\",\"Nm3\"),\"\")","v":""},{"$f":"IF(A8<>\"\", IF(OR(AG8=0,AG8=\"\"), \"Gas\", \"Flytande\"),\"\")","v":""},null,null,{"$f":"IF(A8<>\"\",(AN8-AQ8-AR8),\"\")","v":""},{"$f":"IF(A8<>\"\",IF(AF8>0,AI8, IF(AN8>0,(IF(O8<>\"\",O8*Q8,0)+IF(U8<>\"\",U8*W8,0)+IF(AA8<>\"\",AA8*AC8,0))/AN8,0)),\"\")","v":""},{"$f":"IF(G8<>0,G8,\"\")","v":""},{"$f":"IF(A8<>\"\",IF(AF8>0,AJ8, IF(AN8>0,(IF(O8<>\"\",R8*O8*Q8,0)+IF(U8<>\"\",X8*U8*W8,0)+IF(AA8<>\"\",AD8*AA8*AC8,0))/(AN8*AT8),0)),\"\")","v":""},{"$f":"IF(A8<>\"\", SUM(K8+AV8), \"\")","v":""},2,{"$f":"IF($AQ8>0,A8,\"\")","v":""},{"$f":"IF($AQ8>0,C8,\"\")","v":""},{"$f":"IF($AQ8>0,D8,\"\")","v":""},{"$f":"IF($AQ8>0,E8,\"\")","v":""},{"$f":"IF($AQ8>0,F8,\"\")","v":""},{"$f":"IF($AQ8>0,G8,\"\")","v":""},{"$f":"IF(AQ8>0,AQ8,\"\")","v":""},{"$f":"IF(AQ8>0,AP8,\"\")","v":""},{"$f":"IF(AQ8>0,AO8,\"\")","v":""},{"$f":"IF(AQ8>0,AT8,\"\")","v":""},{"$f":"IF(AQ8>0,AW8,\"\")","v":""},{"$f":"IF(AND(A8<>\"\",AQ8>0),IF(G8=\"Gödsel\",\"F, Esca\",\"F\"),\"\")","v":""}]
[{"$f":"Produktion!A135","v":""},3,{"$f":"Produktion!C135","v":""},{"$f":"Produktion!D135","v":""},{"$f":"Produktion!E135","v":""},{"$f":"Produktion!F135","v":""},{"$f":"Produktion!G135","v":""},{"$f":"Produktion!W135","v":""},{"$f":"IF(A9<>\"\",Produktion!$G$126,\"\")","v":""},{"$f":"IF(A9<>\"\",Produktion!$F$123,\"\")","v":""},{"$f":"Produktion!S135","v":""},"",3,null,"","","","",3,null,"","","","",3,null,"","","","",3,null,"","","","",3,"","","","","",null,null,"","","","","",3,"","","","","","","","","","","",""]
[{"$f":"Produktion!A136","v":""},4,{"$f":"Produktion!C136","v":""},{"$f":"Produktion!D136","v":""},{"$f":"Produktion!E136","v":""},{"$f":"Produktion!F136","v":""},{"$f":"Produktion!G136","v":""},{"$f":"Produktion!W136","v":""},{"$f":"IF(A10<>\"\",Produktion!$G$126,\"\")","v":""},{"$f":"IF(A10<>\"\",Produktion!$F$123,\"\")","v":""},{"$f":"Produktion!S136","v":""},"",4,null,"","","","",4,null,"","","","",4,null,"","","","",4,null,"","","","",4,"","","","","",null,null,"","","","","",4,"","","","","","","","","","","",{"$f":"IF(AND(A10<>\"\",AQ10>0),IF(G10=\"Gödsel\",\"F, Esca\",\"F\"),\"\")","v":""}]
[{"$f":"Produktion!A137","v":""},5,{"$f":"Produktion!C137","v":""},{"$f":"Produktion!D137","v":""},{"$f":"Produktion!E137","v":""},{"$f":"Produktion!F137","v":""},{"$f":"Produktion!G137","v":""},{"$f":"Produktion!W137","v":""},{"$f":"IF(A11<>\"\",Produktion!$G$126,\"\")","v":""},{"$f":"IF(A11<>\"\",Produktion!$F$123,\"\")","v":""},{"$f":"Produktion!S137","v":""},"",5,null,"","","","",5,null,"","","","",5,null,"","","","",5,null,"","","","",5,"","","","","",null,null,"","","","","",5,"","","","","","","","","","","",{"$f":"IF(AND(A11<>\"\",AQ11>0),IF(G11=\"Gödsel\",\"F, Esca\",\"F\"),\"\")","v":""}]
[{"$f":"Produktion!A138","v":""},6,{"$f":"Produktion!C138","v":""},{"$f":"Produktion!D138","v":""},{"$f":"Produktion!E138","v":""},{"$f":"Produktion!F138","v":""},{"$f":"Produktion!G138","v":""},{"$f":"Produktion!W138","v":""},{"$f":"IF(A12<>\"\",Produktion!$G$126,\"\")","v":""},{"$f":"IF(A12<>\"\",Produktion!$F$123,\"\")","v":""},{"$f":"Produktion!S138","v":""},"",6,null,"","","","",6,null,"","","","",6,null,"","","","",6,null,"","","","",6,"","","","","",null,null,"","","","","",6,"","","","","","","","","","","",""]
[{"$f":"Produktion!A139","v":""},7,{"$f":"Produktion!C139","v":""},{"$f":"Produktion!D139","v":""},{"$f":"Produktion!E139","v":""},{"$f":"Produktion!F139","v":""},{"$f":"Produktion!G139","v":""},{"$f":"Produktion!W139","v":""},{"$f":"IF(A13<>\"\",Produktion!$G$126,\"\")","v":""},{"$f":"IF(A13<>\"\",Produktion!$F$123,\"\")","v":""},{"$f":"Produktion!S139","v":""},"",7,null,"","","","",7,null,"","","","",7,null,"","","","",7,null,"","","","",7,"","","","","",null,null,"","","","","",7,"","","","","","","","","","","",""]
[{"$f":"Produktion!A140","v":""},8,{"$f":"Produktion!C140","v":""},{"$f":"Produktion!D140","v":""},{"$f":"Produktion!E140","v":""},{"$f":"Produktion!F140","v":""},{"$f":"Produktion!G140","v":""},{"$f":"Produktion!W140","v":""},{"$f":"IF(A14<>\"\",Produktion!$G$126,\"\")","v":""},{"$f":"IF(A14<>\"\",Produktion!$F$123,\"\")","v":""},{"$f":"Produktion!S140","v":""},"",8,null,"","","","",8,null,"","","","",8,null,"","","","",8,null,"","","","",8,"","","","","",null,null,"","","","","",8,"","","","","","","","","","","",""]
[{"$f":"Produktion!A141","v":""},9,{"$f":"Produktion!C141","v":""},{"$f":"Produktion!D141","v":""},{"$f":"Produktion!E141","v":""},{"$f":"Produktion!F141","v":""},{"$f":"Produktion!G141","v":""},{"$f":"Produktion!W141","v":""},{"$f":"IF(A15<>\"\",Produktion!$G$126,\"\")","v":""},{"$f":"IF(A15<>\"\",Produktion!$F$123,\"\")","v":""},{"$f":"Produktion!S141","v":""},"",9,null,"","","","",9,null,"","","","",9,null,"","","","",9,null,"","","","",9,"","","","","",null,null,"","","","","",9,"","","","","","","","","","","",""]
[{"$f":"Produktion!A142","v":""},10,{"$f":"Produktion!C142","v":""},{"$f":"Produktion!D142","v":""},{"$f":"Produktion!E142","v":""},{"$f":"Produktion!F142","v":""},{"$f":"Produktion!G142","v":""},{"$f":"Produktion!W142","v":""},{"$f":"IF(A16<>\"\",Produktion!$G$126,\"\")","v":""},{"$f":"IF(A16<>\"\",Produktion!$F$123,\"\")","v":""},{"$f":"Produktion!S142","v":""},"",10,null,"","","","",10,null,"","","","",10,null,"","","","",10,null,"","","","",10,"","","","","",null,null,"","","","","",10,"","","","","","","","","","","",""]
[{"$f":"Produktion!A143","v":""},11,{"$f":"Produktion!C143","v":""},{"$f":"Produktion!D143","v":""},{"$f":"Produktion!E143","v":""},{"$f":"Produktion!F143","v":""},{"$f":"Produktion!G143","v":""},{"$f":"Produktion!W143","v":""},{"$f":"IF(A17<>\"\",Produktion!$G$126,\"\")","v":""},{"$f":"IF(A17<>\"\",Produktion!$F$123,\"\")","v":""},{"$f":"Produktion!S143","v":""},"",11,null,"","","","",11,null,"","","","",11,null,"","","","",11,null,"","","","",11,"","","","","",null,null,"","","","","",11,"","","","","","","","","","","",""]
[{"$f":"Produktion!A144","v":""},12,{"$f":"Produktion!C144","v":""},{"$f":"Produktion!D144","v":""},{"$f":"Produktion!E144","v":""},{"$f":"Produktion!F144","v":""},{"$f":"Produktion!G144","v":""},{"$f":"Produktion!W144","v":""},{"$f":"IF(A18<>\"\",Produktion!$G$126,\"\")","v":""},{"$f":"IF(A18<>\"\",Produktion!$F$123,\"\")","v":""},{"$f":"Produktion!S144","v":""},"",12,null,"","","","",12,null,"","","","",12,null,"","","","",12,null,"","","","",12,"","","","","",null,null,"","","","","",12,"","","","","","","","","","","",""]
[{"$f":"Produktion!A145","v":""},13,{"$f":"Produktion!C145","v":""},{"$f":"Produktion!D145","v":""},{"$f":"Produktion!E145","v":""},{"$f":"Produktion!F145","v":""},{"$f":"Produktion!G145","v":""},{"$f":"Produktion!W145","v":""},{"$f":"IF(A19<>\"\",Produktion!$G$126,\"\")","v":""},{"$f":"IF(A19<>\"\",Produktion!$F$123,\"\")","v":""},{"$f":"Produktion!S145","v":""},"",13,null,"","","","",13,null,"","","","",13,null,"","","","",13,null,"","","","",13,"","","","","",null,null,"","","","","",13,"","","","","","","","","","","",""]
[{"$f":"Produktion!A146","v":""},14,{"$f":"Produktion!C146","v":""},{"$f":"Produktion!D146","v":""},{"$f":"Produktion!E146","v":""},{"$f":"Produktion!F146","v":""},{"$f":"Produktion!G146","v":""},{"$f":"Produktion!W146","v":""},{"$f":"IF(A20<>\"\",Produktion!$G$126,\"\")","v":""},{"$f":"IF(A20<>\"\",Produktion!$F$123,\"\")","v":""},{"$f":"Produktion!S146","v":""},"",14,null,{"$f":"IF(N20<>\"\",$C$75/$N$68*N20,\"\")","v":""},{"$f":"IF(N20>0,$C$76,\"\")","v":""},{"$f":"IF(N20<>\"\",$B$77,\"\")","v":""},{"$f":"IF(N20<>\"\",  $G$93,\"\")","v":""},14,null,"","","","",14,null,"","","","",14,null,"","","","",14,"","","","","",null,null,"","","","","",14,"","","","","","","","","","","",""]
[{"$f":"Produktion!A147","v":""},15,{"$f":"Produktion!C147","v":""},{"$f":"Produktion!D147","v":""},{"$f":"Produktion!E147","v":""},{"$f":"Produktion!F147","v":""},{"$f":"Produktion!G147","v":""},{"$f":"Produktion!W147","v":""},{"$f":"IF(A21<>\"\",Produktion!$G$126,\"\")","v":""},{"$f":"IF(A21<>\"\",Produktion!$F$123,\"\")","v":""},{"$f":"Produktion!S147","v":""},"",15,null,"","","","",15,null,"","","","",15,null,"","","","",15,null,"","","","",15,"","","","","",null,null,"","","","","",15,"","","","","","","","","","","",""]
[{"$f":"Produktion!A148","v":""},16,{"$f":"Produktion!C148","v":""},{"$f":"Produktion!D148","v":""},{"$f":"Produktion!E148","v":""},{"$f":"Produktion!F148","v":""},{"$f":"Produktion!G148","v":""},{"$f":"Produktion!W148","v":""},{"$f":"IF(A22<>\"\",Produktion!$G$126,\"\")","v":""},{"$f":"IF(A22<>\"\",Produktion!$F$123,\"\")","v":""},{"$f":"Produktion!S148","v":""},"",16,null,"","","","",16,null,"","","","",16,null,"","","","",16,null,"","","","",16,"","","","","",null,null,"","","","","",16,"","","","","","","","","","","",""]
[{"$f":"Produktion!A149","v":""},17,{"$f":"Produktion!C149","v":""},{"$f":"Produktion!D149","v":""},{"$f":"Produktion!E149","v":""},{"$f":"Produktion!F149","v":""},{"$f":"Produktion!G149","v":""},{"$f":"Produktion!W149","v":""},{"$f":"IF(A23<>\"\",Produktion!$G$126,\"\")","v":""},{"$f":"IF(A23<>\"\",Produktion!$F$123,\"\")","v":""},{"$f":"Produktion!S149","v":""},"",17,null,"","","","",17,null,"","","","",17,null,"","","","",17,null,"","","","",17,"","","","","",null,null,"","","","","",17,"","","","","","","","","","","",""]
[{"$f":"Produktion!A150","v":""},18,{"$f":"Produktion!C150","v":""},{"$f":"Produktion!D150","v":""},{"$f":"Produktion!E150","v":""},{"$f":"Produktion!F150","v":""},{"$f":"Produktion!G150","v":""},{"$f":"Produktion!W150","v":""},{"$f":"IF(A24<>\"\",Produktion!$G$126,\"\")","v":""},{"$f":"IF(A24<>\"\",Produktion!$F$123,\"\")","v":""},{"$f":"Produktion!S150","v":""},"",18,null,"","","","",18,null,"","","","",18,null,"","","","",18,null,"","","","",18,"","","","","",null,null,"","","","","",18,"","","","","","","","","","","",""]
[{"$f":"Produktion!A151","v":""},19,{"$f":"Produktion!C151","v":""},{"$f":"Produktion!D151","v":""},{"$f":"Produktion!E151","v":""},{"$f":"Produktion!F151","v":""},{"$f":"Produktion!G151","v":""},{"$f":"Produktion!W151","v":""},{"$f":"IF(A25<>\"\",Produktion!$G$126,\"\")","v":""},{"$f":"IF(A25<>\"\",Produktion!$F$123,\"\")","v":""},{"$f":"Produktion!S151","v":""},"",19,null,"","","","",19,null,"","","","",19,null,"","","","",19,null,"","","","",19,"","","","","",null,null,"","","","","",19,"","","","","","","","","","","",""]
[{"$f":"Produktion!A152","v":""},20,{"$f":"Produktion!C152","v":""},{"$f":"Produktion!D152","v":""},{"$f":"Produktion!E152","v":""},{"$f":"Produktion!F152","v":""},{"$f":"Produktion!G152","v":""},{"$f":"Produktion!W152","v":""},{"$f":"IF(A26<>\"\",Produktion!$G$126,\"\")","v":""},{"$f":"IF(A26<>\"\",Produktion!$F$123,\"\")","v":""},{"$f":"Produktion!S152","v":""},"",20,null,"","","","",20,null,"","","","",20,null,"","","","",20,null,"","","","",20,"","","","","",null,null,"","","","","",20,"","","","","","","","","","","",""]
[{"$f":"Produktion!A153","v":""},21,{"$f":"Produktion!C153","v":""},{"$f":"Produktion!D153","v":""},{"$f":"Produktion!E153","v":""},{"$f":"Produktion!F153","v":""},{"$f":"Produktion!G153","v":""},{"$f":"Produktion!W153","v":""},{"$f":"IF(A27<>\"\",Produktion!$G$126,\"\")","v":""},{"$f":"IF(A27<>\"\",Produktion!$F$123,\"\")","v":""},{"$f":"Produktion!S153","v":""},"",21,null,"","","","",21,null,"","","","",21,null,"","","","",21,null,"","","","",21,"","","","","",null,null,"","","","","",21,"","","","","","","","","","","",""]
[{"$f":"Produktion!A154","v":""},22,{"$f":"Produktion!C154","v":""},{"$f":"Produktion!D154","v":""},{"$f":"Produktion!E154","v":""},{"$f":"Produktion!F154","v":""},{"$f":"Produktion!G154","v":""},{"$f":"Produktion!W154","v":""},{"$f":"IF(A28<>\"\",Produktion!$G$126,\"\")","v":""},{"$f":"IF(A28<>\"\",Produktion!$F$123,\"\")","v":""},{"$f":"Produktion!S154","v":""},"",22,null,"","","","",22,null,"","","","",22,null,"","","","",22,null,"","","","",22,"","","","","",null,null,"","","","","",22,"","","","","","","","","","","",""]
[{"$f":"Produktion!A155","v":""},23,{"$f":"Produktion!C155","v":""},{"$f":"Produktion!D155","v":""},{"$f":"Produktion!E155","v":""},{"$f":"Produktion!F155","v":""},{"$f":"Produktion!G155","v":""},{"$f":"Produktion!W155","v":""},{"$f":"IF(A29<>\"\",Produktion!$G$126,\"\")","v":""},{"$f":"IF(A29<>\"\",Produktion!$F$123,\"\")","v":""},{"$f":"Produktion!S155","v":""},"",23,null,"","","","",23,null,"","","","",23,null,"","","","",23,null,"","","","",23,"","","","","",null,null,"","","","","",23,"","","","","","","","","","","",""]
[{"$f":"Produktion!A156","v":""},24,{"$f":"Produktion!C156","v":""},{"$f":"Produktion!D156","v":""},{"$f":"Produktion!E156","v":""},{"$f":"Produktion!F156","v":""},{"$f":"Produktion!G156","v":""},{"$f":"Produktion!W156","v":""},{"$f":"IF(A30<>\"\",Produktion!$G$126,\"\")","v":""},{"$f":"IF(A30<>\"\",Produktion!$F$123,\"\")","v":""},{"$f":"Produktion!S156","v":""},"",24,null,"","","","",24,null,"","","","",24,null,"","","","",24,null,"","","","",24,"","","","","",null,null,"","","","","",24,"","","","","","","","","","","",""]
[{"$f":"Produktion!A157","v":""},25,{"$f":"Produktion!C157","v":""},{"$f":"Produktion!D157","v":""},{"$f":"Produktion!E157","v":""},{"$f":"Produktion!F157","v":""},{"$f":"Produktion!G157","v":""},{"$f":"Produktion!W157","v":""},{"$f":"IF(A31<>\"\",Produktion!$G$126,\"\")","v":""},{"$f":"IF(A31<>\"\",Produktion!$F$123,\"\")","v":""},{"$f":"Produktion!S157","v":""},"",25,null,"","","","",25,null,"","","","",25,null,"","","","",25,null,"","","","",25,"","","","","",null,null,"","","","","",25,"","","","","","","","","","","",""]
[{"$f":"Produktion!A158","v":""},26,{"$f":"Produktion!C158","v":""},{"$f":"Produktion!D158","v":""},{"$f":"Produktion!E158","v":""},{"$f":"Produktion!F158","v":""},{"$f":"Produktion!G158","v":""},{"$f":"Produktion!W158","v":""},{"$f":"IF(A32<>\"\",Produktion!$G$126,\"\")","v":""},{"$f":"IF(A32<>\"\",Produktion!$F$123,\"\")","v":""},{"$f":"Produktion!S158","v":""},"",26,null,"","","","",26,null,"","","","",26,null,"","","","",26,null,"","","","",26,"","","","","",null,null,"","","","","",26,"","","","","","","","","","","",""]
[{"$f":"Produktion!A159","v":""},27,{"$f":"Produktion!C159","v":""},{"$f":"Produktion!D159","v":""},{"$f":"Produktion!E159","v":""},{"$f":"Produktion!F159","v":""},{"$f":"Produktion!G159","v":""},{"$f":"Produktion!W159","v":""},{"$f":"IF(A33<>\"\",Produktion!$G$126,\"\")","v":""},{"$f":"IF(A33<>\"\",Produktion!$F$123,\"\")","v":""},{"$f":"Produktion!S159","v":""},"",27,null,"","","","",27,null,"","","","",27,null,"","","","",27,null,"","","","",27,"","","","","",null,null,"","","","","",27,"","","","","","","","","","","",""]
[{"$f":"Produktion!A160","v":""},28,{"$f":"Produktion!C160","v":""},{"$f":"Produktion!D160","v":""},{"$f":"Produktion!E160","v":""},{"$f":"Produktion!F160","v":""},{"$f":"Produktion!G160","v":""},{"$f":"Produktion!W160","v":""},{"$f":"IF(A34<>\"\",Produktion!$G$126,\"\")","v":""},{"$f":"IF(A34<>\"\",Produktion!$F$123,\"\")","v":""},{"$f":"Produktion!S160","v":""},"",28,null,"","","","",28,null,"","","","",28,null,"","","","",28,null,"","","","",28,"","","","","",null,null,"","","","","",28,"","","","","","","","","","","",""]
[{"$f":"Produktion!A161","v":""},29,{"$f":"Produktion!C161","v":""},{"$f":"Produktion!D161","v":""},{"$f":"Produktion!E161","v":""},{"$f":"Produktion!F161","v":""},{"$f":"Produktion!G161","v":""},{"$f":"Produktion!W161","v":""},{"$f":"IF(A35<>\"\",Produktion!$G$126,\"\")","v":""},{"$f":"IF(A35<>\"\",Produktion!$F$123,\"\")","v":""},{"$f":"Produktion!S161","v":""},"",29,null,"","","","",29,null,"","","","",29,null,"","","","",29,null,"","","","",29,"","","","","",null,null,"","","","","",29,"","","","","","","","","","","",""]
[{"$f":"Produktion!A162","v":""},30,{"$f":"Produktion!C162","v":""},{"$f":"Produktion!D162","v":""},{"$f":"Produktion!E162","v":""},{"$f":"Produktion!F162","v":""},{"$f":"Produktion!G162","v":""},{"$f":"Produktion!W162","v":""},{"$f":"IF(A36<>\"\",Produktion!$G$126,\"\")","v":""},{"$f":"IF(A36<>\"\",Produktion!$F$123,\"\")","v":""},{"$f":"Produktion!S162","v":""},"",30,null,"","","","",30,null,"","","","",30,null,"","",{"$f":"IF(Z36<>\"\",$B$125,\"\")","v":""},{"$f":"IF(Z36<>\"\",  $G$141,\"\")","v":""},30,null,"","","","",30,"","","","","",null,null,"","","","","",30,"","","","","","","","","","","",""]
["Inköpt rågas / Uppgraderad gas till förvätskning",null,null,null,null,null,null,null,null,null,null,null,null,null,"",null,{"$f":"IF(N37<>\"\",$B$77,\"\")","v":""},null,null,null,{"$f":"IF(T37<>\"\",$C$75/$N$68*T37,\"\")","v":""},null,{"$f":"IF(T37<>\"\",$B$77,\"\")","v":""},null,null,null,{"$f":"IF(Z37<>\"\",$C$75/$N$68*Z37,\"\")","v":""},null,{"$f":"IF(Z37<>\"\",$B$77,\"\")","v":""}]
[null,31,null,null,"",null,null,null,null,null,null,{"$f":"IF(I38=\"kg\",H38/Denscalc(J38),H38)","v":0},31,null,{"$f":"IF(N38<>\"\",$C$75/$N$68*N38,\"\")","v":""},{"$f":"IF(N38>0,$C$76,\"\")","v":""},{"$f":"IF(N38<>\"\",$B$77,\"\")","v":""},{"$f":"IF(N38<>\"\",  $G$93,\"\")","v":""},31,null,{"$f":"IF(T38<>\"\",$C$99/$T$68*T38,\"\")","v":""},{"$f":"IF(T38>0,$C$100,\"\")","v":""},{"$f":"IF(T38<>\"\",$B$101,\"\")","v":""},{"$f":"IF(T38<>\"\", $G$117,\"\")","v":""},31,null,{"$f":"IF(Z38<>\"\",$C$123/$Z$68*Z38,\"\")","v":""},{"$f":"IF(Z38>0, $C$124,\"\")","v":""},{"$f":"IF(Z38<>\"\",$B$125,\"\")","v":""},{"$f":"IF(Z38<>\"\",  $G$141,\"\")","v":""},31,null,{"$f":"IF(AF38<>\"\",$C$147/$AF$68*AF38,\"\")","v":""},{"$f":"IF(AF38>0,\"kg\",\"\")","v":""},{"$f":"IF(AF38<>\"\",$B$148,\"\")","v":""},{"$f":"IF(AF38<>\"\",  $G$163,\"\")","v":""},31,{"$f":"IF(A38<>\"\",IF(AF38>0, AF38, (N38+T38+Z38)),\"\")","v":""},{"$f":"IF(A38<>\"\",L38-AL38,\"\")","v":""},{"$f":"IF(A38<>\"\",IF(AF38>0, AG38, SUM(O38,U38,AA38)),\"\")","v":""},{"$f":"IF(A38<>\"\",IF(OR(AB38=\"kg\",V38=\"kg\",P38=\"kg\",AH38=\"kg\"),\"kg\",\"Nm3\"),\"\")","v":""},{"$f":"IF(A38<>\"\", IF(OR(AG38=0,AG38=\"\"), \"Gas\", \"Flytande\"),\"\")","v":""},null,null,{"$f":"IF(A38<>\"\",(AN38-AQ38-AR38),\"\")","v":""},{"$f":"IF(A38<>\"\",IF(AF38>0,AI38, IF(AN38>0,(IF(O38<>\"\",O38*Q38,0)+IF(U38<>\"\",U38*W38,0)+IF(AA38<>\"\",AA38*AC38,0))/AN38,0)),\"\")","v":""},{"$f":"IF(G38<>0,G38,\"\")","v":""},{"$f":"IF(A38<>\"\",IF(AF38>0,AJ38, IF(AN38>0,(IF(O38<>\"\",R38*O38*Q38,0)+IF(U38<>\"\",X38*U38*W38,0)+IF(AA38<>\"\",AD38*AA38*AC38,0))/(AN38*AT38),0)),\"\")","v":""},{"$f":"IF(A38<>\"\", SUM(K38+AV38), \"\")","v":""},31,{"$f":"IF($AQ38>0,A38,\"\")","v":""},{"$f":"IF($AQ38>0,C38,\"\")","v":""},{"$f":"IF($AQ38>0,D38,\"\")","v":""},{"$f":"IF($AQ38>0,E38,\"\")","v":""},{"$f":"IF($AQ38>0,F38,\"\")","v":""},{"$f":"IF($AQ38>0,G38,\"\")","v":""},{"$f":"IF(AQ38>0,AQ38,\"\")","v":""},{"$f":"IF(AQ38>0,AP38,\"\")","v":""},{"$f":"IF(AQ38>0,AO38,\"\")","v":""},{"$f":"IF(AQ38>0,AT38,\"\")","v":""},{"$f":"IF(AQ38>0,AW38,\"\")","v":""},""]
[null,32,null,null,"",null,null,null,null,null,null,0,32,null,"","","","",32,null,"","","","",32,null,"","","","",32,null,"","","","",32,{"$f":"IF(A39<>\"\",IF(AF39>0, AF39, (N39+T39+Z39)),\"\")","v":""},"","","","",null,null,"","","","",{"$f":"IF(A39<>\"\", SUM(K39+AV39), \"\")","v":""},32,{"$f":"IF($AQ39>0,A39,\"\")","v":""},{"$f":"IF($AQ39>0,C39,\"\")","v":""},"","","","",{"$f":"IF(AQ39>0,AQ39,\"\")","v":""},{"$f":"IF(AQ39>0,AP39,\"\")","v":""},{"$f":"IF(AQ39>0,AO39,\"\")","v":""},{"$f":"IF(AQ39>0,AT39,\"\")","v":""},{"$f":"IF(AQ39>0,AW39,\"\")","v":""},""]
[null,33,null,null,"",null,null,null,null,null,null,0,33,null,"","","","",33,null,"","","","",33,null,"","","","",33,null,"","","","",33,"","","","","",null,null,"","","","","",33,"","","","","","","","","","","",""]
[null,34,null,null,"",null,null,null,null,null,null,0,34,null,"","","","",34,null,"","","","",34,null,"","","","",34,null,"","","","",34,"","","","","",null,null,"","","","","",34,"","","","","","","","","","","",""]
[null,35,null,null,"",null,null,null,null,null,null,0,35,null,"","","","",35,null,"","","","",35,null,"","","","",35,null,"","","","",35,"","","","","",null,null,"","","","","",35,"","","","","","","","","","","",""]
[null,36,null,null,"",null,null,null,null,null,null,0,36,null,"","","","",36,null,"","","","",36,null,"","","","",36,null,"","","","",36,"","","","","",null,null,"","","","","",36,"","","","","","","","","","","",""]
[null,37,null,null,"",null,null,null,null,null,null,0,37,null,"","","","",37,null,"","","","",37,null,"","","","",37,null,"",{"$f":"IF(AF44>0,\"kg\",\"\")","v":""},{"$f":"IF(AF44<>\"\",$B$148,\"\")","v":""},{"$f":"IF(AF44<>\"\",  $G$163,\"\")","v":""},37,"","","","","",null,null,"","","","","",37,"","","","","","","","","","","",""]
[null,38,null,null,"",null,null,null,null,null,null,0,38,null,"","","","",38,null,"","","","",38,null,"","","","",38,null,"","","","",38,"","","","","",null,null,"","","","","",38,"","","","","","","","","","","",""]
[null,39,null,null,"",null,null,null,null,null,null,0,39,null,"","","","",39,null,"","","","",39,null,"","","","",39,null,"","","","",39,"","","","","",null,null,"","","","","",39,"","","","","","","","","","","",""]
[null,40,null,null,"",null,null,null,null,null,null,0,40,null,"","","","",40,null,"","","","",40,null,"","","","",40,null,"","","","",40,"","","","","",null,null,"","","","","",40,"","","","","","","","","","","",""]
[null,41,null,null,"",null,null,null,null,null,null,0,41,null,"","","","",41,null,"","","","",41,null,"","","","",41,null,"","","","",41,"","","","","",null,null,"","","","","",41,"","","","","","","","","","","",""]
[null,42,null,null,"",null,null,null,null,null,null,0,42,null,"","","","",42,null,"","","","",42,null,"","","","",42,null,"","","","",42,"","","","","",null,null,"","","","","",42,"","","","","","","","","","","",""]
[null,43,null,null,"",null,null,null,null,null,null,0,43,null,"","","","",43,null,"","","","",43,null,"","","","",43,null,"","","","",43,"","","","","",null,null,"","","","","",43,"","","","","","","","","","","",""]
[null,44,null,null,"",null,null,null,null,null,null,0,44,null,"","","","",44,null,"","","","",44,null,"","","","",44,null,"","","","",44,"","","","","",null,null,"","","","","",44,"","","","","","","","","","","",""]
[null,45,null,null,"",null,null,null,null,null,null,0,45,null,"","","","",45,null,"","","","",45,null,"","","","",45,null,"","","","",45,"","","","","",null,null,"","","","","",45,"","","","","","","","","","","",""]
[null,46,null,null,"",null,null,null,null,null,null,0,46,null,"","","","",46,null,"","","","",46,null,"","","","",46,null,"","","","",46,"","","","","",null,null,"","","","","",46,"","","","","","","","","","","",""]
[null,47,null,null,"",null,null,null,null,null,null,0,47,null,"","","","",47,null,"","","","",47,null,"","","","",47,null,"","","","",47,"","","","","",null,null,"","","","","",47,"","","","","","","","","","","",""]
[null,48,null,null,"",null,null,null,null,null,null,0,48,null,"","","","",48,null,"","","","",48,null,"","","","",48,null,"","","","",48,"","","","","",null,null,"","","","","",48,"","","","","","","","","","","",""]
[null,49,null,null,"",null,null,null,null,null,null,0,49,null,"","","","",49,null,"","","","",49,null,"","","","",49,null,"","","","",49,"","","","","",null,null,"","","","","",49,"","","","","","","","","","","",""]
[null,50,null,null,"",null,null,null,null,null,null,0,50,null,"","","","",50,null,"","","","",50,null,"","","","",50,null,"","","","",50,"","","","","",null,null,"","","","","",50,"","","","","","","","","","","",""]
[null,51,null,null,"",null,null,null,null,null,null,0,51,null,"","","","",51,null,"","","","",51,null,"","","","",51,null,"","","","",51,"","","","","",null,null,"","","","","",51,"","","","","","","","","","","",""]
[null,52,null,null,"",null,null,null,null,null,null,0,52,null,"","","","",52,null,"","","","",52,null,"","","","",52,null,"","","","",52,"","","","","",null,null,"","","","","",52,"","","","","","","","","","","",""]
[null,53,null,null,"",null,null,null,null,null,null,0,53,null,"","","","",53,null,"","","","",53,null,"","","","",53,null,"","","","",53,"","","","","",null,null,"","","","","",53,"","","","","","","","","","","",""]
[null,54,null,null,"",null,null,null,null,null,null,0,54,null,"","","","",54,null,"","","","",54,null,"","","","",54,null,"","","","",54,"","","","","",null,null,"","","","","",54,"","","","","","","","","","","",""]
[null,55,null,null,"",null,null,null,null,null,null,0,55,null,"","","","",55,null,"","","","",55,null,"","","","",55,null,"","","","",55,"","","","","",null,null,"","","","","",55,"","","","","","","","","","","",""]
[null,56,null,null,"",null,null,null,null,null,null,0,56,null,"","","","",56,null,"","","","",56,null,"","","","",56,null,"","","","",56,"","","","","",null,null,"","","","","",56,"","","","","","","","","","","",""]
[null,57,null,null,"",null,null,null,null,null,null,0,57,null,"","","","",57,null,"","","","",57,null,"","","","",57,null,"","","","",57,"","","","","",null,null,"","","","","",57,"","","","","","","","","","","",""]
[null,58,null,null,null,null,null,null,null,null,null,0,58,null,"","","","",58,null,"","","","",58,null,"","","","",58,null,"","","","",58,"","","","","",null,null,"","","","","",58,"","","","","","","","","","","",""]
[null,59,null,null,null,null,null,null,null,null,null,0,59,null,"","","","",59,null,"","","","",59,null,"","","","",59,null,"","","","",59,"","","","","",null,null,"","","","","",59,"","","","","","","","","","","",""]
[null,60,null,null,null,null,null,null,null,null,null,0,60,null,"","","","",60,null,"","","","",60,null,"","","","",60,null,"","","","",60,"","","","","",null,null,"","","","","",60,"","","","","","","","","","","",""]
["Summa gasformig gas",null,null,null,null,null,null,null,null,null,null,{"$f":"SUM(L7:L67)","v":0},null,{"$f":"SUM(N7:N67)","v":0},{"$f":"SUM(O7:O67)","v":0},null,null,null,null,{"$f":"SUM(T7:T67)","v":0},{"$f":"SUM(U7:U67)","v":0},null,null,null,null,{"$f":"SUM(Z7:Z67)","v":0},{"$f":"SUM(AA7:AA67)","v":0},null,null,null,null,{"$f":"SUM(AF7:AF67)","v":0},null,null,null,null,null,{"$f":"SUM(AL7:AL67)","v":0},{"$f":"SUM(AM7:AM67)","v":0},null,null,null,null,null,null,null,null,null,null,null,"Summa",null,null,null,null,null,{"$f":"SUM(BE7:BE67)","v":0}]
["Summa flytande gas (LBG)",null,null,null,null,null,null,null,null,null,null,null,null,null,null,null,null,null,null,null,null,null,null,null,null,null,null,null,null,null,null,null,{"$f":"SUM(AG7:AG67)","v":0},null,null,null,null,"Gasform",null,{"$f":"SUMIFS(AN7:AN67,AO7:AO67,\"Nm3\",AP7:AP67,\"Gas\")","v":0},"Nm3 ",null,{"$f":"SUMIFS(AQ7:AQ67,AO7:AO67,\"Nm3\",AP7:AP67,\"Gas\")","v":0},{"$f":"SUMIFS(AR7:AR67,AO7:AO67,\"Nm3\",AP7:AP67,\"Gas\")","v":0},{"$f":"SUMIFS(AS7:AS67,AO7:AO67,\"Nm3\",AP7:AP67,\"Gas\")","v":0},"Nm3 "]
[null,null,null,null,null,null,null,null,null,null,null,null,null,null,null,null,null,null,null,null,null,null,null,null,null,null,null,null,null,null,null,null,null,null,null,null,null,"Gasform",null,{"$f":"SUMIFS(AN7:AN67,AO7:AO67,\"kg\",AP7:AP67,\"Gas\")","v":0},"kg",null,{"$f":"SUMIFS(AQ7:AQ67,AO7:AO67,\"kg\",AP7:AP67,\"Gas\")","v":0},{"$f":"SUMIFS(AR7:AR67,AO7:AO67,\"kg\",AP7:AP67,\"Gas\")","v":0},{"$f":"SUMIFS(AS7:AS67,AO7:AO67,\"kg\",AP7:AP67,\"Gas\")","v":0},"kg"]
["Uppgradering, anläggning 1",null,null,null,"Växthusgasberäkning",null,null,"Förbrukning","Not",null,null,null,null,null,null,null,null,null,null,null,null,null,null,null,null,null,null,null,null,null,null,null,null,null,null,null,null,"LBG",null,{"$f":"SUMIFS(AN7:AN67,AO7:AO67,\"kg\",AP7:AP67,\"Flytande\")","v":0},"kg",null,{"$f":"SUMIFS(AQ7:AQ67,AO7:AO67,\"kg\",AP7:AP67,\"Flytande\")","v":0},{"$f":"SUMIFS(AR7:AR67,AO7:AO67,\"kg\",AP7:AP67,\"Flytande\")","v":0},{"$f":"SUMIFS(AS7:AS67,AO7:AO67,\"kg\",AP7:AP67,\"Flytande\")","v":0},"kg"]
[null,null,"Mängd biogas, Nm3 (tusental)","Mängd","Faktor, gCO2eq/enhet","Mängd CO2eq, ton","Mängd g CO2eq/MJ",{"$f":"IF(C76=\"Nm3\", \"kWh/Nm3 uppgraderad gas\", \"kWh/kg uppgraderad gas\")","v":"kWh/Nm3 uppgraderad gas"},"För egna noteringar länkar etc"]
["Inkommande mängd rågas (enligt summering ovan)",null,{"$f":"$N$68","v":0}]
["Metanhalt inkommande rågas, %,   Kolumn C: Masbalans, % ",null,{"$f":"IF(C75>0, IF(C76=\"Nm3\", (C75*B77)/(C73*B74)-1, ((C75/Denscalc(B77)*B77) / (C73*B74))-1), \"\")","v":""}]
["Mängd uppgraderad biogas (uppmätt), tusental"]
["Enhet som uppgraderad gas är mätt i, Nm3 eller kg",null,"Nm3"]
["Metanhalt uppgraderad gas, %"]
["Elenergi, MWh ",null,null,null,{"$f":"Data!$B$49","v":26000},{"$f":"D78*E78/1000/1000","v":0},{"$f":"IF(AND( F78<>\"\", $C$75>0), IF($C$76=\"Nm3\", ((F78*1000*1000/($C$75*1000*  $B$77)) / Data!$B$6),(F78*1000*1000/(($C$75*1000 / Denscalc($B$77))*  $B$77) / Data!$B$6)),\"\")","v":""},{"$f":"IF(C$75>0,(D78*1000/(C$75*1000)),\"\")","v":""}]
["Värme:",null,null,null,null,null,{"$f":"IF(F79<>\"\",(F79*1000*1000/($C$75*1000*$B$77)/Data!$B$6),\"\")","v":""}]
[null,null,null,null,{"$f":"IF(A80<>\"\",VLOOKUP(A80,Data!$A$19:$B$47,2,FALSE),\"\")","v":""},{"$f":"IF(A80<>\"\",D80*E80/1000/1000,\"\")","v":""},{"$f":"IF(AND( F80<>\"\", $C$75>0), IF($C$76=\"Nm3\", ((F80*1000*1000/($C$75*1000*  $B$77)) / Data!$B$6),(F80*1000*1000/(($C$75*1000 / Denscalc($B$77))*  $B$77) / Data!$B$6)),\"\")","v":""},{"$f":"IF(C$75>0,(D80*1000/(C$75*1000)),\"\")","v":""}]
[null,null,null,null,{"$f":"IF(A81<>\"\",VLOOKUP(A81,Data!$A$19:$B$47,2,FALSE),\"\")","v":""},{"$f":"IF(A81<>\"\",D81*E81/1000/1000,\"\")","v":""},{"$f":"IF(AND( F81<>\"\", $C$75>0), IF($C$76=\"Nm3\", ((F81*1000*1000/($C$75*1000*  $B$77)) / Data!$B$6),(F81*1000*1000/(($C$75*1000 / Denscalc($B$77))*  $B$77) / Data!$B$6)),\"\")","v":""},{"$f":"IF(C$75>0,(D81*1000/(C$75*1000)),\"\")","v":""}]
[null,null,null,null,{"$f":"IF(A82<>\"\",VLOOKUP(A82,Data!$A$19:$B$47,2,FALSE),\"\")","v":""},{"$f":"IF(A82<>\"\",D82*E82/1000/1000,\"\")","v":""},{"$f":"IF(AND( F82<>\"\", $C$75>0), IF($C$76=\"Nm3\", ((F82*1000*1000/($C$75*1000*  $B$77)) / Data!$B$6),(F82*1000*1000/(($C$75*1000 / Denscalc($B$77))*  $B$77) / Data!$B$6)),\"\")","v":""},{"$f":"IF(C$75>0,(D82*1000/(C$75*1000)),\"\")","v":""}]
[null,null,null,null,{"$f":"IF(A83<>\"\",VLOOKUP(A83,Data!$A$19:$B$47,2,FALSE),\"\")","v":""},{"$f":"IF(A83<>\"\",D83*E83/1000/1000,\"\")","v":""},{"$f":"IF(AND( F83<>\"\", $C$75>0), IF($C$76=\"Nm3\", ((F83*1000*1000/($C$75*1000*  $B$77)) / Data!$B$6),(F83*1000*1000/(($C$75*1000 / Denscalc($B$77))*  $B$77) / Data!$B$6)),\"\")","v":""},{"$f":"IF(C$75>0,(D83*1000/(C$75*1000)),\"\")","v":""}]
["Insatsvaror:",null,null,null,null,null,{"$f":"IF(F84<>\"\",(F84*1000*1000/($C$75*1000*$B$77)/Data!$B$6),\"\")","v":""}]
[null,null,null,null,{"$f":"IF(A85<>\"\",VLOOKUP(A85,Data!$A$153:$B$167,2,FALSE),\"\")","v":""},{"$f":"IF(A85<>\"\",D85*E85/1000/1000,\"\")","v":""},{"$f":"IF(AND( F85<>\"\", $C$75>0), IF($C$76=\"Nm3\", ((F85*1000*1000/($C$75*1000*  $B$77)) / Data!$B$6),(F85*1000*1000/(($C$75*1000 / Denscalc($B$77))*  $B$77) / Data!$B$6)),\"\")","v":""}]
[null,null,null,null,{"$f":"IF(A86<>\"\",VLOOKUP(A86,Data!$A$153:$B$167,2,FALSE),\"\")","v":""},{"$f":"IF(A86<>\"\",D86*E86/1000/1000,\"\")","v":""},{"$f":"IF(AND( F86<>\"\", $C$75>0), IF($C$76=\"Nm3\", ((F86*1000*1000/($C$75*1000*  $B$77)) / Data!$B$6),(F86*1000*1000/(($C$75*1000 / Denscalc($B$77))*  $B$77) / Data!$B$6)),\"\")","v":""}]
[null,null,null,null,{"$f":"IF(A87<>\"\",VLOOKUP(A87,Data!$A$153:$B$167,2,FALSE),\"\")","v":""},{"$f":"IF(A87<>\"\",D87*E87/1000/1000,\"\")","v":""},{"$f":"IF(AND( F87<>\"\", $C$75>0), IF($C$76=\"Nm3\", ((F87*1000*1000/($C$75*1000*  $B$77)) / Data!$B$6),(F87*1000*1000/(($C$75*1000 / Denscalc($B$77))*  $B$77) / Data!$B$6)),\"\")","v":""}]
[null,null,null,null,{"$f":"IF(A88<>\"\",VLOOKUP(A88,Data!$A$153:$B$167,2,FALSE),\"\")","v":""},{"$f":"IF(A88<>\"\",D88*E88/1000/1000,\"\")","v":""},{"$f":"IF(AND( F88<>\"\", $C$75>0), IF($C$76=\"Nm3\", ((F88*1000*1000/($C$75*1000*  $B$77)) / Data!$B$6),(F88*1000*1000/(($C$75*1000 / Denscalc($B$77))*  $B$77) / Data!$B$6)),\"\")","v":""}]
["Metanförlust",null,null,null,null,null,{"$f":"IF(F89<>\"\",(F89*1000*1000/($C$75*1000*$B$77)/Data!$B$6),\"\")","v":""}]
["Uppmätt värde för anläggning 1, % ",{"$f":"IF(A90<>\"\",VLOOKUP(A90,Data!$A$116:$B$126,2,FALSE),\"\")","v":0.99},null,{"$f":"$C$73*$B$74*$B$90","v":0},{"$f":"Data!$B$3","v":25},{"$f":"D90*Data!$B$5*$E$90","v":0},{"$f":"IF(AND( F90<>\"\", $C$75>0), IF($C$76=\"Nm3\", ((F90*1000*1000/($C$75*1000*  $B$77)) / Data!$B$6),(F90*1000*1000/(($C$75*1000 / Denscalc($B$77))*  $B$77) / Data!$B$6)),\"\")","v":""}]
["Ingen metanreducerande utrustning finns",null,null,null,{"$f":"Data!$B$3","v":25},{"$f":"IF(A91=\"Utrustning för reduktion av metanförluster, drifttid, %\", ($C$73*$B$74*(Data!$B$122-B90)*Data!$B$5*$E$91*(1-B91)),0)","v":0},{"$f":"IF(AND( F91<>\"\", $C$75>0), IF($C$76=\"Nm3\", ((F91*1000*1000/($C$75*1000*  $B$77)) / Data!$B$6),(F91*1000*1000/(($C$75*1000 / Denscalc($B$77))*  $B$77) / Data!$B$6)),\"\")","v":""}]
["Avskiljning av koldioxid, ton",null,null,null,null,null,{"$f":"IF(AND( F92<>\"\", $C$75>0), IF($C$76=\"Nm3\", ((F92*1000*1000/($C$75*1000*  $B$77)) / Data!$B$6),(F92*1000*1000/(($C$75*1000 / Denscalc($B$77))*  $B$77) / Data!$B$6)),\"\")","v":""}]
["Summa uppgraderad biogas anläggning 1",null,{"$f":"C75","v":0},null,null,{"$f":"SUMIF(G73:G91,\">0,1\", F73:F91)-F92","v":0},{"$f":"IF(AND( F93<>\"\", $C$75>0), IF($C$76=\"Nm3\", ((F93*1000*1000/($C$75*1000*  $B$77)) / Data!$B$6),(F93*1000*1000/(($C$75*1000 / Denscalc($B$77))*  $B$77) / Data!$B$6)),\"\")","v":""}]
[]
["Uppgradering, anläggning 2",null,null,null,"Växthusgasberäkning",null,null,"Förbrukning","Not"]
[null,null,"Mängd biogas, Nm3 (tusental)","Mängd","Faktor, gCO2eq/enhet","Mängd CO2eq, ton","Mängd g CO2eq/MJ",{"$f":"IF(C100=\"Nm3\", \"kWh/Nm3 uppgraderad gas\", \"kWh/kg uppgraderad gas\")","v":"kWh/Nm3 uppgraderad gas"},"För egna noteringar länkar etc"]
["Inkommande mängd rågas (enligt summering ovan)",null,{"$f":"$T$68","v":0}]
["Metanhalt inkommande rågas, %,   Kolumn C: Masbalans, % ",null,{"$f":"IF(C99>0, IF(C100=\"Nm3\", (C99*B101)/(C97*B98)-1, (C99/Denscalc(B101)*B101/(C97*B98))-1), \"\")","v":""}]
["Mängd uppgraderad biogas (uppmätt), tusental"]
["Enhet som uppgraderad gas är mätt i, Nm3 eller kg",null,"Nm3"]
["Metanhalt uppgraderad gas, %"]
["Elenergi, MWh ",null,null,null,{"$f":"Data!$B$49","v":26000},{"$f":"D102*E102/1000/1000","v":0},{"$f":"IF(AND( F102<>\"\", $C$99>0), IF($C$100=\"Nm3\", ((F102*1000*1000/($C$99*1000*  $B$101)) / Data!$B$6),(F102*1000*1000/(($C$99*1000 / Denscalc($B$101))*  $B$101) / Data!$B$6)),\"\")","v":""},{"$f":"IF(C$99>0,(D102*1000/(C$99*1000)),\"\")","v":""}]
["Värme:",null,null,null,null,null,{"$f":"IF(F103<>\"\",(F103*1000*1000/($C$75*1000*$B$77)/Data!$B$6),\"\")","v":""}]
[null,null,null,null,{"$f":"IF(A104<>\"\",VLOOKUP(A104,Data!$A$19:$B$47,2,FALSE),\"\")","v":""},{"$f":"IF(A104<>\"\",D104*E104/1000/1000,\"\")","v":""},{"$f":"IF(AND( F104<>\"\", $C$99>0), IF($C$100=\"Nm3\", ((F104*1000*1000/($C$99*1000*  $B$101)) / Data!$B$6),(F104*1000*1000/(($C$99*1000 / Denscalc($B$101))*  $B$101) / Data!$B$6)),\"\")","v":""},{"$f":"IF(C$99>0,(D104*1000/(C$99*1000)),\"\")","v":""}]
[null,null,null,null,{"$f":"IF(A105<>\"\",VLOOKUP(A105,Data!$A$19:$B$47,2,FALSE),\"\")","v":""},{"$f":"IF(A105<>\"\",D105*E105/1000/1000,\"\")","v":""},{"$f":"IF(AND( F105<>\"\", $C$99>0), IF($C$100=\"Nm3\", ((F105*1000*1000/($C$99*1000*  $B$101)) / Data!$B$6),(F105*1000*1000/(($C$99*1000 / Denscalc($B$101))*  $B$101) / Data!$B$6)),\"\")","v":""},{"$f":"IF(C$99>0,(D105*1000/(C$99*1000)),\"\")","v":""}]
[null,null,null,null,{"$f":"IF(A106<>\"\",VLOOKUP(A106,Data!$A$19:$B$47,2,FALSE),\"\")","v":""},{"$f":"IF(A106<>\"\",D106*E106/1000/1000,\"\")","v":""},{"$f":"IF(AND( F106<>\"\", $C$99>0), IF($C$100=\"Nm3\", ((F106*1000*1000/($C$99*1000*  $B$101)) / Data!$B$6),(F106*1000*1000/(($C$99*1000 / Denscalc($B$101))*  $B$101) / Data!$B$6)),\"\")","v":""},{"$f":"IF(C$99>0,(D106*1000/(C$99*1000)),\"\")","v":""}]
[null,null,null,null,{"$f":"IF(A107<>\"\",VLOOKUP(A107,Data!$A$19:$B$47,2,FALSE),\"\")","v":""},{"$f":"IF(A107<>\"\",D107*E107/1000/1000,\"\")","v":""},{"$f":"IF(AND( F107<>\"\", $C$99>0), IF($C$100=\"Nm3\", ((F107*1000*1000/($C$99*1000*  $B$101)) / Data!$B$6),(F107*1000*1000/(($C$99*1000 / Denscalc($B$101))*  $B$101) / Data!$B$6)),\"\")","v":""},{"$f":"IF(C$99>0,(D107*1000/(C$99*1000)),\"\")","v":""}]
["Insatsvaror:",null,null,null,null,null,{"$f":"IF(F108<>\"\",(F108*1000*1000/($C$75*1000*$B$77)/Data!$B$6),\"\")","v":""}]
[null,null,null,null,{"$f":"IF(A109<>\"\",VLOOKUP(A109,Data!$A$153:$B$167,2,FALSE),\"\")","v":""},{"$f":"IF(A109<>\"\",D109*E109/1000/1000,\"\")","v":""},{"$f":"IF(AND( F109<>\"\", $C$99>0), IF($C$100=\"Nm3\", ((F109*1000*1000/($C$99*1000*  $B$101)) / Data!$B$6),(F109*1000*1000/(($C$99*1000 / Denscalc($B$101))*  $B$101) / Data!$B$6)),\"\")","v":""}]
[null,null,null,null,{"$f":"IF(A110<>\"\",VLOOKUP(A110,Data!$A$153:$B$167,2,FALSE),\"\")","v":""},{"$f":"IF(A110<>\"\",D110*E110/1000/1000,\"\")","v":""},{"$f":"IF(AND( F110<>\"\", $C$99>0), IF($C$100=\"Nm3\", ((F110*1000*1000/($C$99*1000*  $B$101)) / Data!$B$6),(F110*1000*1000/(($C$99*1000 / Denscalc($B$101))*  $B$101) / Data!$B$6)),\"\")","v":""}]
[null,null,null,null,{"$f":"IF(A111<>\"\",VLOOKUP(A111,Data!$A$153:$B$167,2,FALSE),\"\")","v":""},{"$f":"IF(A111<>\"\",D111*E111/1000/1000,\"\")","v":""},{"$f":"IF(AND( F111<>\"\", $C$99>0), IF($C$100=\"Nm3\", ((F111*1000*1000/($C$99*1000*  $B$101)) / Data!$B$6),(F111*1000*1000/(($C$99*1000 / Denscalc($B$101))*  $B$101) / Data!$B$6)),\"\")","v":""}]
[null,null,null,null,{"$f":"IF(A112<>\"\",VLOOKUP(A112,Data!$A$153:$B$167,2,FALSE),\"\")","v":""},{"$f":"IF(A112<>\"\",D112*E112/1000/1000,\"\")","v":""},{"$f":"IF(AND( F112<>\"\", $C$99>0), IF($C$100=\"Nm3\", ((F112*1000*1000/($C$99*1000*  $B$101)) / Data!$B$6),(F112*1000*1000/(($C$99*1000 / Denscalc($B$101))*  $B$101) / Data!$B$6)),\"\")","v":""}]
["Metanförlust",null,null,null,null,null,{"$f":"IF(F113<>\"\",(F113*1000*1000/($C$75*1000*$B$77)/Data!$B$6),\"\")","v":""}]
["Uppmätt värde för anläggning 2, % ",{"$f":"IF(A114<>\"\",VLOOKUP(A114,Data!$A$116:$B$126,2,FALSE),\"\")","v":0.99},null,{"$f":"$C$97*$B$98*$B$114","v":0},{"$f":"Data!$B$3","v":25},{"$f":"D114*Data!$B$5*$E$114","v":0},{"$f":"IF(AND( F114<>\"\", $C$99>0), IF($C$100=\"Nm3\", ((F114*1000*1000/($C$99*1000*  $B$101)) / Data!$B$6),(F114*1000*1000/(($C$99*1000 / Denscalc($B$101))*  $B$101) / Data!$B$6)),\"\")","v":""}]
["Ingen metanreducerande utrustning finns",null,null,null,{"$f":"Data!$B$3","v":25},{"$f":"IF(A115=\"Utrustning för reduktion av metanförluster, drifttid, %\", ($C$97*$B$98*(Data!$B$122-B114)*Data!$B$5*$E$115*(1-B115)),0)","v":0},{"$f":"IF(AND( F115<>\"\", $C$99>0), IF($C$100=\"Nm3\", ((F115*1000*1000/($C$99*1000*  $B$101)) / Data!$B$6),(F115*1000*1000/(($C$99*1000 / Denscalc($B$101))*  $B$101) / Data!$B$6)),\"\")","v":""}]
["Avskiljning av koldioxid, ton",null,null,null,null,null,{"$f":"IF(AND( F116<>\"\", $C$99>0), IF($C$100=\"Nm3\", ((F116*1000*1000/($C$99*1000*  $B$101)) / Data!$B$6),(F116*1000*1000/(($C$99*1000 / Denscalc($B$101))*  $B$101) / Data!$B$6)),\"\")","v":""}]
["Summa uppgraderad biogas anläggning 2",null,{"$f":"C99","v":0},null,null,{"$f":"SUMIF(G97:G115,\">0,1\", F97:F115)-F116","v":0},{"$f":"IF(AND( F117<>\"\", $C$99>0), IF($C$100=\"Nm3\", ((F117*1000*1000/($C$99*1000*  $B$101)) / Data!$B$6),(F117*1000*1000/(($C$99*1000 / Denscalc($B$101))*  $B$101) / Data!$B$6)),\"\")","v":""}]
[]
["Uppgradering, anläggning 3",null,null,null,"Växthusgasberäkning",null,null,"Förbrukning","Not"]
[null,null,"Mängd biogas, Nm3 (tusental)","Mängd","Faktor, gCO2eq/enhet","Mängd CO2eq, ton","Mängd g CO2eq/MJ",{"$f":"IF(C124=\"Nm3\", \"kWh/Nm3 uppgraderad gas\", \"kWh/kg uppgraderad gas\")","v":"kWh/Nm3 uppgraderad gas"},"För egna noteringar länkar etc"]
["Inkommande mängd rågas (enligt summering ovan)",null,{"$f":"$Z$68","v":0}]
["Metanhalt inkommande rågas, %,   Kolumn C: Masbalans, % ",null,{"$f":"IF(C123>0, IF(C124=\"Nm3\", (C123*B125)/(C121*B122)-1, (C123/Denscalc(B125)*B125/(C121*B122)-1)), \"\")","v":""}]
["Mängd uppgraderad biogas (uppmätt), tusental"]
["Enhet som uppgraderad gas är mätt i, Nm3 eller kg",null,"Nm3"]
["Metanhalt uppgraderad gas, %"]
["Elenergi, MWh ",null,null,null,{"$f":"Data!$B$49","v":26000},{"$f":"D126*E126/1000/1000","v":0},{"$f":"IF(AND( F126<>\"\", $C$123>0), IF($C$124=\"Nm3\", ((F126*1000*1000/($C$123*1000*  $B$125)) / Data!$B$6),(F126*1000*1000/(($C$123*1000 / Denscalc($B$125))*  $B$125) / Data!$B$6)),\"\")","v":""},{"$f":"IF(C$123>0,(D126*1000/(C$123*1000)),\"\")","v":""}]
["Värme:"]
[null,null,null,null,{"$f":"IF(A128<>\"\",VLOOKUP(A128,Data!$A$19:$B$47,2,FALSE),\"\")","v":""},{"$f":"IF(A128<>\"\",D128*E128/1000/1000,\"\")","v":""},{"$f":"IF(AND( F128<>\"\", $C$123>0), IF($C$124=\"Nm3\", ((F128*1000*1000/($C$123*1000*  $B$125)) / Data!$B$6),(F128*1000*1000/(($C$123*1000 / Denscalc($B$125))*  $B$125) / Data!$B$6)),\"\")","v":""},{"$f":"IF(C$123>0,(D128*1000/(C$123*1000)),\"\")","v":""}]
[null,null,null,null,{"$f":"IF(A129<>\"\",VLOOKUP(A129,Data!$A$19:$B$47,2,FALSE),\"\")","v":""},{"$f":"IF(A129<>\"\",D129*E129/1000/1000,\"\")","v":""},{"$f":"IF(AND( F129<>\"\", $C$123>0), IF($C$124=\"Nm3\", ((F129*1000*1000/($C$123*1000*  $B$125)) / Data!$B$6),(F129*1000*1000/(($C$123*1000 / Denscalc($B$125))*  $B$125) / Data!$B$6)),\"\")","v":""},{"$f":"IF(C$123>0,(D129*1000/(C$123*1000)),\"\")","v":""}]
[null,null,null,null,{"$f":"IF(A130<>\"\",VLOOKUP(A130,Data!$A$19:$B$47,2,FALSE),\"\")","v":""},{"$f":"IF(A130<>\"\",D130*E130/1000/1000,\"\")","v":""},{"$f":"IF(AND( F130<>\"\", $C$123>0), IF($C$124=\"Nm3\", ((F130*1000*1000/($C$123*1000*  $B$125)) / Data!$B$6),(F130*1000*1000/(($C$123*1000 / Denscalc($B$125))*  $B$125) / Data!$B$6)),\"\")","v":""},{"$f":"IF(C$123>0,(D130*1000/(C$123*1000)),\"\")","v":""}]
[null,null,null,null,{"$f":"IF(A131<>\"\",VLOOKUP(A131,Data!$A$19:$B$47,2,FALSE),\"\")","v":""},{"$f":"IF(A131<>\"\",D131*E131/1000/1000,\"\")","v":""},{"$f":"IF(AND( F131<>\"\", $C$123>0), IF($C$124=\"Nm3\", ((F131*1000*1000/($C$123*1000*  $B$125)) / Data!$B$6),(F131*1000*1000/(($C$123*1000 / Denscalc($B$125))*  $B$125) / Data!$B$6)),\"\")","v":""},{"$f":"IF(C$123>0,(D131*1000/(C$123*1000)),\"\")","v":""}]
["Insatsvaror:"]
[null,null,null,null,{"$f":"IF(A133<>\"\",VLOOKUP(A133,Data!$A$153:$B$167,2,FALSE),\"\")","v":""},{"$f":"IF(A133<>\"\",D133*E133/1000/1000,\"\")","v":""},{"$f":"IF(AND( F133<>\"\", $C$123>0), IF($C$124=\"Nm3\", ((F133*1000*1000/($C$123*1000*  $B$125)) / Data!$B$6),(F133*1000*1000/(($C$123*1000 / Denscalc($B$125))*  $B$125) / Data!$B$6)),\"\")","v":""}]
[null,null,null,null,{"$f":"IF(A134<>\"\",VLOOKUP(A134,Data!$A$153:$B$167,2,FALSE),\"\")","v":""},{"$f":"IF(A134<>\"\",D134*E134/1000/1000,\"\")","v":""},{"$f":"IF(AND( F134<>\"\", $C$123>0), IF($C$124=\"Nm3\", ((F134*1000*1000/($C$123*1000*  $B$125)) / Data!$B$6),(F134*1000*1000/(($C$123*1000 / Denscalc($B$125))*  $B$125) / Data!$B$6)),\"\")","v":""}]
[null,null,null,null,{"$f":"IF(A135<>\"\",VLOOKUP(A135,Data!$A$153:$B$167,2,FALSE),\"\")","v":""},{"$f":"IF(A135<>\"\",D135*E135/1000/1000,\"\")","v":""},{"$f":"IF(AND( F135<>\"\", $C$123>0), IF($C$124=\"Nm3\", ((F135*1000*1000/($C$123*1000*  $B$125)) / Data!$B$6),(F135*1000*1000/(($C$123*1000 / Denscalc($B$125))*  $B$125) / Data!$B$6)),\"\")","v":""}]
[null,null,null,null,{"$f":"IF(A136<>\"\",VLOOKUP(A136,Data!$A$153:$B$167,2,FALSE),\"\")","v":""},{"$f":"IF(A136<>\"\",D136*E136/1000/1000,\"\")","v":""},{"$f":"IF(AND( F136<>\"\", $C$123>0), IF($C$124=\"Nm3\", ((F136*1000*1000/($C$123*1000*  $B$125)) / Data!$B$6),(F136*1000*1000/(($C$123*1000 / Denscalc($B$125))*  $B$125) / Data!$B$6)),\"\")","v":""}]
["Metanförlust"]
["Uppmätt värde för anläggning 3, % ",{"$f":"IF(A138<>\"\",VLOOKUP(A138,Data!$A$116:$B$126,2,FALSE),\"\")","v":0.99},null,{"$f":"$C$121*$B$122*$B$138","v":0},{"$f":"Data!$B$3","v":25},{"$f":"D138*Data!$B$5*$E$138","v":0},{"$f":"IF(AND( F138<>\"\", $C$123>0), IF($C$124=\"Nm3\", ((F138*1000*1000/($C$123*1000*  $B$125)) / Data!$B$6),   (F138*1000*1000/(($C$123*1000 / Denscalc($B$125))*  $B$125) / Data!$B$6)),\"\")","v":""}]
["Ingen metanreducerande utrustning finns",null,null,null,{"$f":"Data!$B$3","v":25},{"$f":"IF(A139=\"Utrustning för reduktion av metanförluster, drifttid, %\", ($C$121*$B$122*(Data!$B$122-B138)*Data!$B$5*$E$139*(1-B139)),0)","v":0},{"$f":"IF(AND( F139<>\"\", $C$123>0), IF($C$124=\"Nm3\", ((F139*1000*1000/($C$123*1000*  $B$125)) / Data!$B$6),(F139*1000*1000/(($C$123*1000 / Denscalc($B$125))*  $B$125) / Data!$B$6)),\"\")","v":""}]
["Avskiljning av koldioxid, ton",null,null,null,null,null,{"$f":"IF(AND( F140<>\"\", $C$123>0), IF($C$124=\"Nm3\", ((F140*1000*1000/($C$123*1000*  $B$125)) / Data!$B$6),   (F140*1000*1000/(($C$123*1000 / Denscalc($B$125))*  $B$125) / Data!$B$6)),\"\")","v":""}]
["Summa uppgraderad biogas anläggning 3",null,{"$f":"C123","v":0},null,null,{"$f":"SUMIF(G121:G139,\">0,1\", F121:F139)-F140","v":0},{"$f":"IF(AND( F141<>\"\", $C$123>0), IF($C$124=\"Nm3\", ((F141*1000*1000/($C$123*1000*  $B$125)) / Data!$B$6),   (F141*1000*1000/(($C$123*1000 / Denscalc($B$125))*  $B$125) / Data!$B$6)),\"\")","v":""}]
[]
["Uppgradering, anläggning 4 - Flytande biogas (LBG)",null,null,null,"Växthusgasberäkning",null,null,"Förbrukning","Not"]
[null,null,"Mängd biogas, inkommande i Nm3, utgående gas i kg (tusental)","Mängd","Faktor, gCO2eq/enhet","Mängd CO2eq, ton","Mängd g CO2eq/MJ","kWh/kg uppgraderad gas\"","För egna noteringar länkar etc"]
["Inkommande mängd rågas (enligt summering ovan), Nm3 (tusental)",null,{"$f":"$AF$68","v":0}]
["Metanhalt inkommande rågas, %"]
["Mängd uppgraderad biogas (uppmätt), kg (tusental)"]
["Metanhalt uppgraderad gas, %"]
["Elenergi, MWh ",null,null,null,{"$f":"Data!$B$49","v":26000},{"$f":"D149*E149/1000/1000","v":0},{"$f":"IF(AND( F149<>\"\", $C$147>0),(F149*1000*1000/($C$147*1000*$B$148)/Data!$B$7),\"\")","v":""},{"$f":"IF(C$147>0,(D149*1000/(C$147*1000)),\"\")","v":""}]
["Värme:"]
[null,null,null,null,{"$f":"IF(A151<>\"\",VLOOKUP(A151,Data!$A$19:$B$47,2,FALSE),\"\")","v":""},{"$f":"IF(A151<>\"\",D151*E151/1000/1000,\"\")","v":""},{"$f":"IF(AND( F151<>\"\", $C$147>0),(F151*1000*1000/($C$147*1000*$B$148)/Data!$B$7),\"\")","v":""},{"$f":"IF(C$147>0,(D151*1000/(C$147*1000)),\"\")","v":""}]
[null,null,null,null,{"$f":"IF(A152<>\"\",VLOOKUP(A152,Data!$A$19:$B$47,2,FALSE),\"\")","v":""},{"$f":"IF(A152<>\"\",D152*E152/1000/1000,\"\")","v":""},{"$f":"IF(AND( F152<>\"\", $C$147>0),(F152*1000*1000/($C$147*1000*$B$148)/Data!$B$7),\"\")","v":""},{"$f":"IF(C$147>0,(D152*1000/(C$147*1000)),\"\")","v":""}]
[null,null,null,null,{"$f":"IF(A153<>\"\",VLOOKUP(A153,Data!$A$19:$B$47,2,FALSE),\"\")","v":""},{"$f":"IF(A153<>\"\",D153*E153/1000/1000,\"\")","v":""},{"$f":"IF(AND( F153<>\"\", $C$147>0),(F153*1000*1000/($C$147*1000*$B$148)/Data!$B$7),\"\")","v":""},{"$f":"IF(C$147>0,(D153*1000/(C$147*1000)),\"\")","v":""}]
[null,null,null,null,{"$f":"IF(A154<>\"\",VLOOKUP(A154,Data!$A$19:$B$47,2,FALSE),\"\")","v":""},{"$f":"IF(A154<>\"\",D154*E154/1000/1000,\"\")","v":""},{"$f":"IF(AND( F154<>\"\", $C$147>0),(F154*1000*1000/($C$147*1000*$B$148)/Data!$B$7),\"\")","v":""},{"$f":"IF(C$147>0,(D154*1000/(C$147*1000)),\"\")","v":""}]
["Insatsvaror:"]
[null,null,null,null,{"$f":"IF(A156<>\"\",VLOOKUP(A156,Data!$A$153:$B$167,2,FALSE),\"\")","v":""},{"$f":"IF(A156<>\"\",D156*E156/1000/1000,\"\")","v":""},{"$f":"IF(AND( F156<>\"\", $C$147>0),(F156*1000*1000/($C$147*1000*$B$148)/Data!$B$7),\"\")","v":""}]
[null,null,null,null,{"$f":"IF(A157<>\"\",VLOOKUP(A157,Data!$A$153:$B$167,2,FALSE),\"\")","v":""},{"$f":"IF(A157<>\"\",D157*E157/1000/1000,\"\")","v":""},{"$f":"IF(AND( F157<>\"\", $C$147>0),(F157*1000*1000/($C$147*1000*$B$148)/Data!$B$7),\"\")","v":""}]
[null,null,null,null,{"$f":"IF(A158<>\"\",VLOOKUP(A158,Data!$A$153:$B$167,2,FALSE),\"\")","v":""},{"$f":"IF(A158<>\"\",D158*E158/1000/1000,\"\")","v":""},{"$f":"IF(AND( F158<>\"\", $C$147>0),(F158*1000*1000/($C$147*1000*$B$148)/Data!$B$7),\"\")","v":""}]
[null,null,null,null,{"$f":"IF(A159<>\"\",VLOOKUP(A159,Data!$A$153:$B$167,2,FALSE),\"\")","v":""},{"$f":"IF(A159<>\"\",D159*E159/1000/1000,\"\")","v":""},{"$f":"IF(AND( F159<>\"\", $C$147>0),(F159*1000*1000/($C$147*1000*$B$148)/Data!$B$7),\"\")","v":""}]
["Metanförlust"]
["Uppmätt värde för anläggning 4, % ",{"$f":"IF(A161<>\"\",VLOOKUP(A161,Data!$A$116:$B$126,2,FALSE),\"\")","v":0.99},null,{"$f":"$C$145*$B$146*$B$161","v":0},{"$f":"Data!$B$3","v":25},{"$f":"D161*Data!$B$5*$E$161","v":0},{"$f":"IF(AND( F161<>\"\", $C$147>0),(F161*1000*1000/($C$147*1000*$B$148)/Data!$B$7),\"\")","v":""}]
["Ingen metanreducerande utrustning finns",null,null,null,{"$f":"Data!$B$3","v":25},{"$f":"IF(A162=\"Utrustning för reduktion av metanförluster, drifttid, %\", ($C$121*$B$122*(Data!$B$122-B161)*Data!$B$5*$E$162*(1-B162)),0)","v":0},{"$f":"IF(AND( F162<>\"\", $C$147>0),(F162*1000*1000/($C$147*1000*$B$148)/Data!$B$7),\"\")","v":""}]
["Summa uppgraderad biogas anläggning 4",null,{"$f":"C147","v":0},null,null,{"$f":"SUMIF(G145:G162,\">0,1\", F145:F162)","v":0},{"$f":"SUMIF(G149:G162,\">0,1\",G149:G162)","v":0}]

{"sheet":"Distribution","index":3,"n_rows":276,"n_cols":74,"rows_kept":276,"cut":false,"hidden":false,"merged":[[240,58,240,61],[220,58,220,61],[6,1,7,4],[3,38,3,40],[3,46,3,48],[10,1,10,2],[9,1,9,2],[81,9,81,11],[217,9,217,11],[80,9,80,11],[3,30,3,32],[3,42,3,44],[3,50,3,52],[3,34,3,36],[10,57,13,57],[9,3,9,4],[245,9,245,11],[81,2,81,6],[222,1,222,6],[223,1,223,6],[224,1,224,6],[225,1,225,6],[226,1,226,6],[221,1,221,6],[229,1,229,6],[230,1,230,6],[231,1,231,6],[232,1,232,6],[238,1,238,6],[233,1,233,6],[234,1,234,6],[235,1,235,6],[243,50,243,53],[81,50,81,53],[218,9,218,11],[243,14,243,15],[243,30,243,31],[243,34,243,35],[243,46,243,47],[243,18,243,19],[243,22,243,23],[243,26,243,27],[244,50,244,51],[244,54,244,55],[243,38,243,39],[243,42,243,43],[0,0,0,20],[1,1,1,9],[2,1,2,9],[3,18,3,20],[3,22,3,24],[1,18,2,56],[1,17,2,17],[1,13,2,13],[1,14,2,16],[3,54,3,56],[3,26,3,28],[3,14,3,16],[47,50,47,53],[3,73,12,73],[12,69,12,71],[10,64,11,67],[12,62,12,63],[12,64,12,66],[10,68,13,68],[3,69,10,71],[3,58,8,67],[10,59,11,63],[10,58,13,58],[12,59,12,61],[10,54,10,55],[11,54,11,55],[10,50,10,51],[11,50,11,51],[236,1,236,6],[237,1,237,6],[10,3,10,4],[45,9,45,11],[79,9,79,11],[46,9,46,11]]}
["HBK Biogasredovisning, ver 4.2 - Distribution och försäljning"]
["Företag (länkad från bladet produktion):",{"$f":"Produktion!B2","v":"företagsnamn"},null,null,null,null,null,null,null,null,null,null,null,null,"Separat flakfyllning",null,null,null,"Försäljning av gas vid tankstationer"]
["Rapportperiod (länkad från bladet produktion):",{"$f":"Produktion!B3","v":"2023-01-01 -- 2023-12-31"}]
[null,null,null,null,null,null,null,null,null,null,null,null,null,null,null,null,null,null,"Tankstation 1",null,null,null,"Tankstation 2",null,null,null,"Tankstation 3",null,null,null,"Tankstation 4",null,null,null,"Tankstation 5",null,null,null,"Tankstation 6",null,null,null,"Tankstation 7",null,null,null,"Tankstation 8",null,null,null,"Förångad flytande gas","Tankstation 9",null,null,"Tankstation för flytande gas (LBG)",null,null,null,"Försäljning till slutkund. Uppgifterna nedan länkas automatiskt till bladen Rapport HBL och Rapport DML i vilka underlag skapas för rapportering till Energimyndigheten.",null,null,null,null,null,null,null,null,null,null,"Försäljning till ej slutkund dvs kunder som själva är rapporteringsskyldiga. Underlag länkas till bladet \"Rapport Ej slutkund\"",null,null,null,"Mass-balans"]
[null,null,null,null,null,null,null,null,null,null,null,null,null,null,null,"Mängd","CO2 eq, ton",null,null,"Mängd","CO2 eq, ton",null,null,"Mängd","CO2 eq, ton",null,null,"Mängd","CO2 eq, ton",null,null,"Mängd","CO2 eq, ton",null,null,"Mängd","CO2 eq, ton",null,null,"Mängd","CO2 eq, ton",null,null,"Mängd","CO2 eq, ton",null,null,"Mängd","CO2 eq, ton",null,null,"Mängd","CO2 eq, ton",null,null,"Mängd","CO2 eq, ton"]
[null,null,null,null,null,null,null,null,null,null,null,null,null,null,"El, MWh",null,{"$f":"P6*Data!$B$49/1000/1000","v":0},null,"El, MWh",null,{"$f":"T6*Data!$B$49/1000/1000","v":0},null,"El, MWh",null,{"$f":"X6*Data!$B$49/1000/1000","v":0},null,"El, MWh",null,{"$f":"AB6*Data!$B$49/1000/1000","v":0},null,"El, MWh",null,{"$f":"AF6*Data!$B$49/1000/1000","v":0},null,"El, MWh",null,{"$f":"AJ6*Data!$B$49/1000/1000","v":0},null,"El, MWh",null,{"$f":"AN6*Data!$B$49/1000/1000","v":0},null,"El, MWh",null,{"$f":"AR6*Data!$B$49/1000/1000","v":0},null,"El, MWh",null,{"$f":"AV6*Data!$B$49/1000/1000","v":0},null,"El, MWh",null,{"$f":"AZ6*Data!$B$49/1000/1000","v":0},null,"El, MWh",null,{"$f":"BD6*Data!$B$49/1000/1000","v":0}]
[null,"Beräkna biogasens densitet",null,null,null,null,null,null,null,null,null,null,null,null,null,null,null,null,"Trp",null,null,null,"Trp",null,null,null,"Trp",null,null,null,"Trp",null,null,null,"Trp",null,null,null,"Trp",null,null,null,"Trp",null,null,null,"Trp",null,null,null,"Trp",null,null,null,"Trp"]
[null,null,null,null,null,null,null,null,null,null,null,null,null,null,null,null,null,null,"Bränsle",null,null,null,"Bränsle",null,null,null,"Bränsle",null,null,null,"Bränsle",null,null,null,"Bränsle",null,null,null,"Bränsle",null,null,null,"Bränsle",null,null,null,"Bränsle",null,null,null,"Bränsle",null,null,null,"Bränsle"]
[null,null,null,null,null,null,null,null,null,null,null,null,null,null,null,null,null,null,"Avstånd, km",null,null,null,"Avstånd, km",null,null,null,"Avstånd, km",null,null,null,"Avstånd, km",null,null,null,"Avstånd, km",null,null,null,"Avstånd, km",null,null,null,"Avstånd, km",null,null,null,"Avstånd, km",null,null,null,"Avstånd, km",null,null,null,"Avstånd, km"]
[null,"Metanhalt, %",null,"Densitet, kg/Nm3",null,null,null,null,null,null,null,null,null,null,null,null,null,null,"Antal ",null,{"$f":"IF(T7<>\"\",IF(T7=\"Rörledning\",\"\",VLOOKUP(T7,Data!$A$169:$B$183,2,FALSE)*VLOOKUP(T8,Data!$A$51:$C$70,3,FALSE)*T9*T10/1000/1000*2),\"\")","v":""},null,"Antal ",null,{"$f":"IF(X7<>\"\",IF(X7=\"Rörledning\",\"\",VLOOKUP(X7,Data!$A$169:$B$183,2,FALSE)*VLOOKUP(X8,Data!$A$51:$C$70,3,FALSE)*X9*X10/1000/1000*2),\"\")","v":""},null,"Antal ",null,{"$f":"IF(AB7<>\"\",IF(AB7=\"Rörledning\",\"\",VLOOKUP(AB7,Data!$A$169:$B$183,2,FALSE)*VLOOKUP(AB8,Data!$A$51:$C$70,3,FALSE)*AB9*AB10/1000/1000*2),\"\")","v":""},null,"Antal ",null,{"$f":"IF(AF7<>\"\",IF(AF7=\"Rörledning\",\"\",VLOOKUP(AF7,Data!$A$169:$B$183,2,FALSE)*VLOOKUP(AF8,Data!$A$51:$C$70,3,FALSE)*AF9*AF10/1000/1000*2),\"\")","v":""},null,"Antal ",null,{"$f":"IF(AJ7<>\"\",IF(AJ7=\"Rörledning\",\"\",VLOOKUP(AJ7,Data!$A$169:$B$183,2,FALSE)*VLOOKUP(AJ8,Data!$A$51:$C$70,3,FALSE)*AJ9*AJ10/1000/1000*2),\"\")","v":""},null,"Antal ",null,{"$f":"IF(AN7<>\"\",IF(AN7=\"Rörledning\",\"\",VLOOKUP(AN7,Data!$A$169:$B$183,2,FALSE)*VLOOKUP(AN8,Data!$A$51:$C$70,3,FALSE)*AN9*AN10/1000/1000*2),\"\")","v":""},null,"Antal ",null,{"$f":"IF(AR7<>\"\",IF(AR7=\"Rörledning\",\"\",VLOOKUP(AR7,Data!$A$169:$B$183,2,FALSE)*VLOOKUP(AR8,Data!$A$51:$C$70,3,FALSE)*AR9*AR10/1000/1000*2),\"\")","v":""},null,"Antal ",null,{"$f":"IF(AV7<>\"\",IF(AV7=\"Rörledning\",\"\",VLOOKUP(AV7,Data!$A$169:$B$183,2,FALSE)*VLOOKUP(AV8,Data!$A$51:$C$70,3,FALSE)*AV9*AV10/1000/1000*2),\"\")","v":""},null,"Antal ",null,{"$f":"IF(AZ7<>\"\",IF(AZ7=\"Rörledning\",\"\",VLOOKUP(AZ7,Data!$A$169:$B$183,2,FALSE)*VLOOKUP(AZ8,Data!$A$51:$C$70,3,FALSE)*AZ9*AZ10/1000/1000*2),\"\")","v":""},null,"Antal ",null,{"$f":"IF(BD7<>\"\",IF(BD7=\"Rörledning\",\"\",VLOOKUP(BD7,Data!$A$169:$B$183,2,FALSE)*VLOOKUP(BD8,Data!$A$51:$C$70,3,FALSE)*BD9*BD10/1000/1000*2),\"\")","v":""}]
[null,0.97,null,{"$f":"Denscalc(B11)","v":0.74610209465026855},null,null,null,null,null,null,null,null,null,null,null,null,null,null,"Tillkom. Trp",null,null,null,"Tillkom. Trp",null,null,null,"Tillkom. Trp",null,null,null,"Tillkom. Trp",null,null,null,"Tillkom. Trp",null,null,null,"Tillkom. Trp",null,null,null,"Tillkom. Trp",null,null,null,"Tillkom. Trp",null,null,null,"Schablonvärde trp, g CO2eq/MJ",null,null,null,"Schablonvärde trp, g CO2eq/MJ",null,null,"Parti nr","Växthusgasutsläpp, från metanförlust vid distribution, g CO2eq/MJ","Biogas i gasform",null,null,null,null,"Biogas i flytande form (LBG)",null,null,null,"Parti nr"]
[null,null,null,null,null,null,null,null,null,null,null,null,null,null,"Summa",null,{"$f":"SUM(Q6:Q11)","v":0},null,"Summa",null,{"$f":"SUM(U6:U11)","v":0},null,"Summa",null,{"$f":"SUM(Y6:Y11)","v":0},null,"Summa",null,{"$f":"SUM(AC6:AC11)","v":0},null,"Summa",null,{"$f":"SUM(AG6:AG11)","v":0},null,"Summa",null,{"$f":"SUM(AK6:AK11)","v":0},null,"Summa",null,{"$f":"SUM(AO6:AO11)","v":0},null,"Summa",null,{"$f":"SUM(AS6:AS11)","v":0},null,"Summa",null,{"$f":"SUM(AW6:AW11)","v":0},null,"Växthusgasutsläpp trp, ton CO2eq",null,{"$f":"SUM(BA6:BA11)","v":0},null,"Växthusgasutsläpp trp, ton CO2eq",null,{"$f":" SUM(BE6:BE10)","v":0}]
["Inkommande gas ",null,null,null,null,null,null,null,null,null,null,null,null,null,"Enhet:","Nm3",null,null,"Enhet:","kg",null,null,"Enhet:","kg",null,null,"Enhet:","kg",null,null,"Enhet:","kg",null,null,"Enhet:","kg",null,null,"Enhet:","kg",null,null,"Enhet:","kg",null,null,"Enhet:","kg",null,null,"Enhet:","kg",null,null,"Enhet","kg",null,null,null,"Växthusgasutsläpp",null,null,"Mängd, Nm3 /kg",null,"Växthusgasutsläpp",null,null,"Mängd",null,"Mängd"]
[null,"Parti nr","Kompletterande information","Produktionsanläggning, startdatum","Ursprung","Substrat, typ","Substrat kategori","Mängd, Nm3 / kg (tusental)","Form, \nGas / \nFlytande","Enhet, \nNm3 / kg","Metanhalt, %","g CO2eq/MJ","Beräkning, Faktisk, F.  Esca om gödselbonus tillämpats",null,{"$f":"IF(P13=\"Nm3\", \"Till egna tankstationer, Nm3  (tusental)\", \"Till egna tankstationer, kg  (tusental)\")","v":"Till egna tankstationer, Nm3  (tusental)"},{"$f":"IF(P13=\"Nm3\", \"Sålt till ej slutkund, Nm3  (tusental)\", \"Sålt till  ej slutkund, kg  (tusental)\")","v":"Sålt till ej slutkund, Nm3  (tusental)"},"g CO2eq/MJ","Parti nr",{"$f":"IF(T13=\"Nm3\", \"Sålt till slutkund, Nm3  (tusental)\", \"Sålt till slutkund, kg  (tusental)\")","v":"Sålt till slutkund, kg  (tusental)"},{"$f":"IF(T13=\"Nm3\", \"Sålt till  ej slutkund, Nm3  (tusental)\", \"Sålt till  ej slutkund, kg  (tusental)\")","v":"Sålt till  ej slutkund, kg  (tusental)"},"g CO2eq/MJ","Parti nr",{"$f":"IF(X13=\"Nm3\", \"Sålt till slutkund, Nm3  (tusental)\", \"Sålt till slutkund, kg  (tusental)\")","v":"Sålt till slutkund, kg  (tusental)"},{"$f":"IF(X13=\"Nm3\", \"Sålt till  ej slutkund, Nm3  (tusental)\", \"Sålt till  ej slutkund, kg  (tusental)\")","v":"Sålt till  ej slutkund, kg  (tusental)"},"g CO2eq/MJ","Parti nr",{"$f":"IF(AB13=\"Nm3\", \"Sålt till slutkund, Nm3  (tusental)\", \"Sålt till slutkund, kg  (tusental)\")","v":"Sålt till slutkund, kg  (tusental)"},{"$f":"IF(AB13=\"Nm3\", \"Sålt till  ej slutkund, Nm3  (tusental)\", \"Sålt till  ej slutkund, kg  (tusental)\")","v":"Sålt till  ej slutkund, kg  (tusental)"},"g CO2eq/MJ","Parti nr",{"$f":"IF(AF13=\"Nm3\", \"Sålt till slutkund, Nm3  (tusental)\", \"Sålt till slutkund, kg  (tusental)\")","v":"Sålt till slutkund, kg  (tusental)"},{"$f":"IF(AF13=\"Nm3\", \"Sålt till  ej slutkund, Nm3  (tusental)\", \"Sålt till  ej slutkund, kg  (tusental)\")","v":"Sålt till  ej slutkund, kg  (tusental)"},"g CO2eq/MJ","Parti nr",{"$f":"IF(AJ13=\"Nm3\", \"Sålt till slutkund, Nm3  (tusental)\", \"Sålt till slutkund, kg  (tusental)\")","v":"Sålt till slutkund, kg  (tusental)"},{"$f":"IF(AJ13=\"Nm3\", \"Sålt till  ej slutkund, Nm3  (tusental)\", \"Sålt till  ej slutkund, kg  (tusental)\")","v":"Sålt till  ej slutkund, kg  (tusental)"},"g CO2eq/MJ","Parti nr",{"$f":"IF(AN13=\"Nm3\", \"Sålt till slutkund, Nm3  (tusental)\", \"Sålt till slutkund, kg  (tusental)\")","v":"Sålt till slutkund, kg  (tusental)"},{"$f":"IF(AN13=\"Nm3\", \"Sålt till  ej slutkund, Nm3  (tusental)\", \"Sålt till  ej slutkund, kg  (tusental)\")","v":"Sålt till  ej slutkund, kg  (tusental)"},"g CO2eq/MJ","Parti nr",{"$f":"IF(AR13=\"Nm3\", \"Sålt till slutkund, Nm3  (tusental)\", \"Sålt till slutkund, kg  (tusental)\")","v":"Sålt till slutkund, kg  (tusental)"},{"$f":"IF(AR13=\"Nm3\", \"Sålt till  ej slutkund, Nm3  (tusental)\", \"Sålt till  ej slutkund, kg  (tusental)\")","v":"Sålt till  ej slutkund, kg  (tusental)"},"g CO2eq/MJ","Parti nr",{"$f":"IF(AV13=\"Nm3\", \"Sålt till slutkund, Nm3  (tusental)\", \"Sålt till slutkund, kg  (tusental)\")","v":"Sålt till slutkund, kg  (tusental)"},{"$f":"IF(AV13=\"Nm3\", \"Sålt till  ej slutkund, Nm3  (tusental)\", \"Sålt till  ej slutkund, kg  (tusental)\")","v":"Sålt till  ej slutkund, kg  (tusental)"},"g CO2eq/MJ","Parti nr",{"$f":"IF(AZ13=\"Nm3\", \"Sålt till slutkund, Nm3  (tusental)\", \"Sålt till slutkund, kg  (tusental)\")","v":"Sålt till slutkund, kg  (tusental)"},{"$f":"IF(AZ13=\"Nm3\", \"Sålt till  ej slutkund, Nm3  (tusental)\", \"Sålt till  ej slutkund, kg  (tusental)\")","v":"Sålt till  ej slutkund, kg  (tusental)"},"g CO2eq/MJ","Parti nr",{"$f":"IF(BD13=\"Nm3\", \"Sålt till slutkund, Nm3  (tusental)\", \"Sålt till slutkund, kg  (tusental)\")","v":"Sålt till slutkund, kg  (tusental)"},{"$f":"IF(BD13=\"Nm3\", \"Sålt till  ej slutkund, Nm3  (tusental)\", \"Sålt till  ej slutkund, kg  (tusental)\")","v":"Sålt till  ej slutkund, kg  (tusental)"},"g CO2eq/MJ",null,null,"Utsläpp, distribution, g CO2eq/MJ","Utsläpp, summa g CO2eq/MJ","Reduktion,%","Nm3  (tusental)","kg \n(tusental)","Utsläpp, distribution, g CO2eq/MJ","Utsläpp, summa g CO2eq/MJ","Reduktion,%","Biogas i flytande form (LBG), kg (tusental)",null,"Gasform, \nNm3 \n(tusental)","Gasform, \nkg \n(tusental)","Flytande form (LBG), kg (tusental)",null,"Avvikelse In - ut, Nm3 / kg (tusental)"]
["Egen produktion av biogas (från bladet Uppgradering)",null,null,null,null,null,null,null,null,null,null,null,null,null,null,null,null,null,null,null,null,null,null,null,null,null,null,null,null,null,null,null,null,null,null,null,null,null,null,null,null,null,null,null,null,null,null,null,null,null,null,null,null,null,null,null,null,null,"Egen produktion av biogas (från bladet Uppgradering)"]
[{"$f":"Uppgradering!A7","v":""},1,{"$f":"Uppgradering!C7","v":""},{"$f":"Uppgradering!D7","v":""},{"$f":"Uppgradering!E7","v":""},{"$f":"Uppgradering!F7","v":""},{"$f":"Uppgradering!AU7","v":""},{"$f":"Uppgradering!AS7","v":""},{"$f":"Uppgradering!AP7","v":""},{"$f":"Uppgradering!AO7","v":""},{"$f":"Uppgradering!AT7","v":""},{"$f":"Uppgradering!AW7","v":""},{"$f":"IF(A16<>\"\", IF( G16=\"Gödsel\",\"F, Esca\", \"F\"), \"\")","v":""},null,null,null,{"$f":"IF(AND($A16<>\"\",(O16+P16)>0),    IF(P$13=\"Nm3\",(Q$12*1000*1000/((O$242+P$242+O$243+P$243)*1000*  $K16 * Data!$B$6)),  (Q$12*1000*1000/(((O$242+P$242+O$243+P$243)/Denscalc($K16))*1000*  $K16 * Data!$B$6)) ), 0    )","v":0},1,null,null,{"$f":"IF(AND($A16<>\"\",(S16+T16)>0),    IF(T$13=\"Nm3\",(U$12*1000*1000/((S$242+T$242+S$243+T$243)*1000*  $K16 * Data!$B$6)),  (U$12*1000*1000/(((S$242+T$242+S$243+T$243)/Denscalc($K16))*1000*  $K16 * Data!$B$6)) ), 0     )","v":0},1,null,null,{"$f":"IF(AND($A16<>\"\",(W16+X16)>0),     IF(X$13=\"Nm3\",(Y$12*1000*1000/((W$242+X$242+W$243+X$243)*1000*  $K16 * Data!$B$6)),  (Y$12*1000*1000/(((W$242+X$242+W$243+X$243)/Denscalc($K16))*1000*  $K16 * Data!$B$6)) ), 0   )","v":0},1,null,null,{"$f":"IF(AND($A16<>\"\",(AA16+AB16)>0),     IF(AB$13=\"Nm3\",(AC$12*1000*1000/((AA$242+AB$242+AA$243+AB$243)*1000*  $K16 * Data!$B$6)),  (AC$12*1000*1000/(((AA$242+AB$242+AA$243+AB$243)/Denscalc($K16))*1000*  $K16 * Data!$B$6)) ), 0     )","v":0},1,null,null,{"$f":"IF(AND($A16<>\"\",(AE16+AF16)>0),     IF(AF$13=\"Nm3\",(AG$12*1000*1000/((AE$242+AF$242+AE$243+AF$243)*1000*  $K16 * Data!$B$6)),  (AG$12*1000*1000/(((AE$242+AF$242+AE$243+AF$243)/Denscalc($K16))*1000*  $K16 * Data!$B$6)) ), 0    )","v":0},1,null,null,{"$f":"IF(AND($A16<>\"\",(AI16+AJ16)>0),    IF(AJ$13=\"Nm3\",(AK$12*1000*1000/((AI$242+AJ$242+AI$243+AJ$243)*1000*  $K16 * Data!$B$6)),  (AK$12*1000*1000/(((AI$242+AJ$242+AI$243+AJ$243)/Denscalc($K16))*1000*  $K16 * Data!$B$6)) ), 0    )","v":0},1,null,null,{"$f":"IF(AND($A16<>\"\",(AM16+AN16)>0),     IF(AN$13=\"Nm3\",(AO$12*1000*1000/((AM$242+AN$242+AM$243+AN$243)*1000*  $K16 * Data!$B$6)),  (AO$12*1000*1000/(((AM$242+AN$242+AM$243+AN$243)/Denscalc($K16))*1000*  $K16 * Data!$B$6)) ), 0    )","v":0},1,null,null,{"$f":"IF(AND($A16<>\"\",(AQ16+AR16)>0),     IF(AR$13=\"Nm3\",(AS$12*1000*1000/((AQ$242+AR$242+AQ$243+AR$243)*1000*  $K16 * Data!$B$6)),  (AS$12*1000*1000/(((AQ$242+AR$242+AQ$243+AR$243)/Denscalc($K16))*1000*  $K16 * Data!$B$6)) ), 0     )","v":0},1,null,null,{"$f":"IF(AND($A16<>\"\",(AU16+AV16)>0),     IF(AV$13=\"Nm3\",(AW$12*1000*1000/((AU$242+AV$242+AU$243+AV$243)*1000*  $K16 * Data!$B$6)),  (AW$12*1000*1000/(((AU$242+AV$242+AU$243+AV$243)/Denscalc($K16))*1000*  $K16 * Data!$B$6)) ), 0   )","v":0},1,null,null,{"$f":"IF(AND(BA$11>0,$A16<>\"\",(AY16+AZ16)>0), BA$11, IF(AND($A16<>\"\",(AY16+AZ16)>0),\nIF(AZ$13=\"Nm3\",(BA$6*1000*1000/((AY$242+AZ$242+AY$243+AZ$243)*1000*$K16*Data!$B$6))+((BA$12-BA$6)*1000*1000/((AY$242+AZ$242+AY$243+AZ$243-AY$241-AZ$241)*1000*$K16*Data!$B$6)),\n(BA$6*1000*1000/(((AY$242+AZ$242+AY$243+AZ$243)/Denscalc($K16))*1000*$K16*Data!$B$6))+((BA$12-BA$6)*1000*1000/(((AY$242+AZ$242+AY$243+AZ$243-AY$241-AZ$241)/Denscalc($K16))*1000*$K16*Data!$B$6))),0))","v":0},1,null,null,{"$f":"IF(AND(BE$11>0,$A16<>\"\",(BC16+BD16)>0), BE$11, IF(AND($A16<>\"\",(BC16+BD16)>0),\n (BE$6*1000*1000/((BC$244+BD$244)*1000* Data!$B$7))+ ((BE$12-BE$6)*1000*1000/((BC$244+BD$244-BC$241-BD$241)*1000* Data!$B$7)),0))","v":0},1,{"$f":"IF(A16<>\"\", (Data!$B$127*1000*Data!$B$3)/Data!$B$7,  \"\")","v":""},{"$f":"IF(A16<>\"\",   IF(I16=\"Gas\",\nIF((BK16+BL16)=0, Q16+BG16, ( (( U16*(S16+T16) + Y16*(W16+X16) + AC16*(AA16+AB16) + AG16*(AE16+AF16) + AK16*(AI16+AJ16) + AO16*(AM16+AN16) + AS16*(AQ16+AR16) + AW16*(AU16+AV16)  )) /\n( S16+T16+W16+X16+AA16+AB16+AE16+AF16+AI16+AJ16+AM16+AN16+AQ16+AR16+AU16+AV16)+Q16+BG16)),\nBA16+BG16 ),  \"\")","v":""},{"$f":"IF(A16<>\"\",   (L16+BH16), \"\")","v":""},{"$f":"IF(A16<>\"\",  ROUND( (Data!$B$8-BI16)/Data!$B$8,3),   \"\")","v":""},{"$f":"IF(A16<>\"\", SUM( IF(T$13=\"Nm3\",S16,0),  IF(X$13=\"Nm3\",W16,0),  IF(AB$13=\"Nm3\",AA16,0),  IF(AF$13=\"Nm3\",AE16,0), IF(AJ$13=\"Nm3\",AI16,0),  IF(AN$13=\"Nm3\",AM16,0),  IF(AR$13=\"Nm3\",AQ16,0),  IF(AV$13=\"Nm3\",AU16,0), IF(AZ$13=\"Nm3\",AY16,0),  ),\"\")","v":""},{"$f":"IF(A16<>\"\", SUM(  IF(T$13=\"kg\",S16,0),  IF(X$13=\"kg\",W16,0),  IF(AB$13=\"kg\",AA16,0),  IF(AF$13=\"kg\",AE16,0), IF(AJ$13=\"kg\",AI16,0),  IF(AN$13=\"kg\",AM16,0),  IF(AR$13=\"kg\",AQ16,0),  IF(AV$13=\"kg\",AU16,0), IF(AZ$13=\"kg\",AY16,0),  ),\"\")","v":""},{"$f":"IF(A16<>\"\",   IF(I16=\"Flytande\", BE16+BG16, \"\"    ), \"\")","v":""},{"$f":"IF(A16<>\"\", IF(I16=\"Flytande\",    (L16+BM16), \"\"), \"\")","v":""},{"$f":"IF(A16<>\"\",  IF(TYPE(BN16)=1, ROUND( (Data!$B$8-BN16)/Data!$B$8,3),   \"\"),\"\")","v":""},{"$f":"IF(A16<>\"\",BC16,\"\")","v":""},1,{"$f":"IF(A16<>\"\", SUM(IF(P$13=\"Nm3\",P16,0),  IF(T$13=\"Nm3\",T16,0),  IF(X$13=\"Nm3\",X16,0),  IF(AB$13=\"Nm3\",AB16,0),  IF(AF$13=\"Nm3\",AF16,0), IF(AJ$13=\"Nm3\",AJ16,0),  IF(AN$13=\"Nm3\",AN16,0),  IF(AR$13=\"Nm3\",AR16,0),  IF(AV$13=\"Nm3\",AV16,0), IF(AZ$13=\"Nm3\",AZ16,0),  ),\"\")","v":""},{"$f":"IF(A16<>\"\", SUM(IF(P$13=\"kg\",P16,0),  IF(T$13=\"kg\",T16,0),  IF(X$13=\"kg\",X16,0),  IF(AB$13=\"kg\",AB16,0),  IF(AF$13=\"kg\",AF16,0), IF(AJ$13=\"kg\",AJ16,0),  IF(AN$13=\"kg\",AN16,0),  IF(AR$13=\"kg\",AR16,0),  IF(AV$13=\"kg\",AV16,0), IF(AZ$13=\"kg\",AZ16,0),  ),\"\")","v":""},{"$f":"IF(A16<>\"\",BD16,\"\")","v":""},null,{"$f":"IF(A16<>\"\",    IF(I16=\"Gas\", IF(J16=\"kg\", ((BK16*Denscalc(K16) +BL16+BR16*Denscalc(K16)+BS16)-H16), ( (BK16+BL16/Denscalc(K16) + BR16+BS16/Denscalc(K16))-H16)), ( (   BK16*Denscalc(K16)+BL16+BP16+BR16*Denscalc(K16)+BS16+BT16)-H16)  ), \"\")","v":""}]
[{"$f":"Uppgradering!A8","v":""},2,{"$f":"Uppgradering!C8","v":""},{"$f":"Uppgradering!D8","v":""},{"$f":"Uppgradering!E8","v":""},{"$f":"Uppgradering!F8","v":""},{"$f":"Uppgradering!AU8","v":""},{"$f":"Uppgradering!AS8","v":""},{"$f":"Uppgradering!AP8","v":""},{"$f":"Uppgradering!AO8","v":""},{"$f":"Uppgradering!AT8","v":""},{"$f":"Uppgradering!AW8","v":""},{"$f":"IF(A17<>\"\", IF( G17=\"Gödsel\",\"F, Esca\", \"F\"), \"\")","v":""},null,null,null,{"$f":"IF(AND($A17<>\"\",(O17+P17)>0),    IF(P$13=\"Nm3\",(Q$12*1000*1000/((O$242+P$242+O$243+P$243)*1000*  $K17 * Data!$B$6)),  (Q$12*1000*1000/(((O$242+P$242+O$243+P$243)/Denscalc($K17))*1000*  $K17 * Data!$B$6)) ), 0    )","v":0},2,null,null,{"$f":"IF(AND($A17<>\"\",(S17+T17)>0),    IF(T$13=\"Nm3\",(U$12*1000*1000/((S$242+T$242+S$243+T$243)*1000*  $K17 * Data!$B$6)),  (U$12*1000*1000/(((S$242+T$242+S$243+T$243)/Denscalc($K17))*1000*  $K17 * Data!$B$6)) ), 0     )","v":0},2,null,null,{"$f":"IF(AND($A17<>\"\",(W17+X17)>0),     IF(X$13=\"Nm3\",(Y$12*1000*1000/((W$242+X$242+W$243+X$243)*1000*  $K17 * Data!$B$6)),  (Y$12*1000*1000/(((W$242+X$242+W$243+X$243)/Denscalc($K17))*1000*  $K17 * Data!$B$6)) ), 0   )","v":0},2,null,null,{"$f":"IF(AND($A17<>\"\",(AA17+AB17)>0),     IF(AB$13=\"Nm3\",(AC$12*1000*1000/((AA$242+AB$242+AA$243+AB$243)*1000*  $K17 * Data!$B$6)),  (AC$12*1000*1000/(((AA$242+AB$242+AA$243+AB$243)/Denscalc($K17))*1000*  $K17 * Data!$B$6)) ), 0     )","v":0},2,null,null,{"$f":"IF(AND($A17<>\"\",(AE17+AF17)>0),     IF(AF$13=\"Nm3\",(AG$12*1000*1000/((AE$242+AF$242+AE$243+AF$243)*1000*  $K17 * Data!$B$6)),  (AG$12*1000*1000/(((AE$242+AF$242+AE$243+AF$243)/Denscalc($K17))*1000*  $K17 * Data!$B$6)) ), 0    )","v":0},2,null,null,{"$f":"IF(AND($A17<>\"\",(AI17+AJ17)>0),    IF(AJ$13=\"Nm3\",(AK$12*1000*1000/((AI$242+AJ$242+AI$243+AJ$243)*1000*  $K17 * Data!$B$6)),  (AK$12*1000*1000/(((AI$242+AJ$242+AI$243+AJ$243)/Denscalc($K17))*1000*  $K17 * Data!$B$6)) ), 0    )","v":0},2,null,null,{"$f":"IF(AND($A17<>\"\",(AM17+AN17)>0),     IF(AN$13=\"Nm3\",(AO$12*1000*1000/((AM$242+AN$242+AM$243+AN$243)*1000*  $K17 * Data!$B$6)),  (AO$12*1000*1000/(((AM$242+AN$242+AM$243+AN$243)/Denscalc($K17))*1000*  $K17 * Data!$B$6)) ), 0    )","v":0},2,null,null,{"$f":"IF(AND($A17<>\"\",(AQ17+AR17)>0),     IF(AR$13=\"Nm3\",(AS$12*1000*1000/((AQ$242+AR$242+AQ$243+AR$243)*1000*  $K17 * Data!$B$6)),  (AS$12*1000*1000/(((AQ$242+AR$242+AQ$243+AR$243)/Denscalc($K17))*1000*  $K17 * Data!$B$6)) ), 0     )","v":0},2,null,null,{"$f":"IF(AND($A17<>\"\",(AU17+AV17)>0),     IF(AV$13=\"Nm3\",(AW$12*1000*1000/((AU$242+AV$242+AU$243+AV$243)*1000*  $K17 * Data!$B$6)),  (AW$12*1000*1000/(((AU$242+AV$242+AU$243+AV$243)/Denscalc($K17))*1000*  $K17 * Data!$B$6)) ), 0   )","v":0},2,null,null,{"$f":"IF(AND(BA$11>0,$A17<>\"\",(AY17+AZ17)>0), BA$11, IF(AND($A17<>\"\",(AY17+AZ17)>0),\nIF(AZ$13=\"Nm3\",(BA$6*1000*1000/((AY$242+AZ$242+AY$243+AZ$243)*1000*$K17*Data!$B$6))+((BA$12-BA$6)*1000*1000/((AY$242+AZ$242+AY$243+AZ$243-AY$241-AZ$241)*1000*$K17*Data!$B$6)),\n(BA$6*1000*1000/(((AY$242+AZ$242+AY$243+AZ$243)/Denscalc($K17))*1000*$K17*Data!$B$6))+((BA$12-BA$6)*1000*1000/(((AY$242+AZ$242+AY$243+AZ$243-AY$241-AZ$241)/Denscalc($K17))*1000*$K17*Data!$B$6))),0))","v":0},2,null,null,{"$f":"IF(AND(BE$11>0,$A17<>\"\",(BC17+BD17)>0), BE$11, IF(AND($A17<>\"\",(BC17+BD17)>0),\n (BE$6*1000*1000/((BC$244+BD$244)*1000* Data!$B$7))+ ((BE$12-BE$6)*1000*1000/((BC$244+BD$244-BC$241-BD$241)*1000* Data!$B$7)),0))","v":0},2,{"$f":"IF(A17<>\"\", (Data!$B$127*1000*Data!$B$3)/Data!$B$7,  \"\")","v":""},{"$f":"IF(A17<>\"\",   IF(I17=\"Gas\",\nIF((BK17+BL17)=0, Q17+BG17, ( (( U17*(S17+T17) + Y17*(W17+X17) + AC17*(AA17+AB17) + AG17*(AE17+AF17) + AK17*(AI17+AJ17) + AO17*(AM17+AN17) + AS17*(AQ17+AR17) + AW17*(AU17+AV17)  )) /\n( S17+T17+W17+X17+AA17+AB17+AE17+AF17+AI17+AJ17+AM17+AN17+AQ17+AR17+AU17+AV17)+Q17+BG17)),\nBA17+BG17 ),  \"\")","v":""},{"$f":"IF(A17<>\"\",   (L17+BH17), \"\")","v":""},{"$f":"IF(A17<>\"\",  ROUND( (Data!$B$8-BI17)/Data!$B$8,3),   \"\")","v":""},{"$f":"IF(A17<>\"\", SUM( IF(T$13=\"Nm3\",S17,0),  IF(X$13=\"Nm3\",W17,0),  IF(AB$13=\"Nm3\",AA17,0),  IF(AF$13=\"Nm3\",AE17,0), IF(AJ$13=\"Nm3\",AI17,0),  IF(AN$13=\"Nm3\",AM17,0),  IF(AR$13=\"Nm3\",AQ17,0),  IF(AV$13=\"Nm3\",AU17,0), IF(AZ$13=\"Nm3\",AY17,0),  ),\"\")","v":""},{"$f":"IF(A17<>\"\", SUM(  IF(T$13=\"kg\",S17,0),  IF(X$13=\"kg\",W17,0),  IF(AB$13=\"kg\",AA17,0),  IF(AF$13=\"kg\",AE17,0), IF(AJ$13=\"kg\",AI17,0),  IF(AN$13=\"kg\",AM17,0),  IF(AR$13=\"kg\",AQ17,0),  IF(AV$13=\"kg\",AU17,0), IF(AZ$13=\"kg\",AY17,0),  ),\"\")","v":""},{"$f":"IF(A17<>\"\",   IF(I17=\"Flytande\", BE17+BG17, \"\"    ), \"\")","v":""},{"$f":"IF(A17<>\"\", IF(I17=\"Flytande\",    (L17+BM17), \"\"), \"\")","v":""},{"$f":"IF(A17<>\"\",  IF(TYPE(BN17)=1, ROUND( (Data!$B$8-BN17)/Data!$B$8,3),   \"\"),\"\")","v":""},{"$f":"IF(A17<>\"\",BC17,\"\")","v":""},2,"","","",null,""]
[{"$f":"Uppgradering!A9","v":""},3,{"$f":"Uppgradering!C9","v":""},{"$f":"Uppgradering!D9","v":""},{"$f":"Uppgradering!E9","v":""},{"$f":"Uppgradering!F9","v":""},{"$f":"Uppgradering!AU9","v":""},{"$f":"Uppgradering!AS9","v":""},{"$f":"Uppgradering!AP9","v":""},{"$f":"Uppgradering!AO9","v":""},{"$f":"Uppgradering!AT9","v":""},{"$f":"Uppgradering!AW9","v":""},"",null,null,null,{"$f":"IF(AND($A18<>\"\",(O18+P18)>0),    IF(P$13=\"Nm3\",(Q$12*1000*1000/((O$242+P$242+O$243+P$243)*1000*  $K18 * Data!$B$6)),  (Q$12*1000*1000/(((O$242+P$242+O$243+P$243)/Denscalc($K18))*1000*  $K18 * Data!$B$6)) ), 0    )","v":0},3,null,null,{"$f":"IF(AND($A18<>\"\",(S18+T18)>0),    IF(T$13=\"Nm3\",(U$12*1000*1000/((S$242+T$242+S$243+T$243)*1000*  $K18 * Data!$B$6)),  (U$12*1000*1000/(((S$242+T$242+S$243+T$243)/Denscalc($K18))*1000*  $K18 * Data!$B$6)) ), 0     )","v":0},3,null,null,{"$f":"IF(AND($A18<>\"\",(W18+X18)>0),     IF(X$13=\"Nm3\",(Y$12*1000*1000/((W$242+X$242+W$243+X$243)*1000*  $K18 * Data!$B$6)),  (Y$12*1000*1000/(((W$242+X$242+W$243+X$243)/Denscalc($K18))*1000*  $K18 * Data!$B$6)) ), 0   )","v":0},3,null,null,{"$f":"IF(AND($A18<>\"\",(AA18+AB18)>0),     IF(AB$13=\"Nm3\",(AC$12*1000*1000/((AA$242+AB$242+AA$243+AB$243)*1000*  $K18 * Data!$B$6)),  (AC$12*1000*1000/(((AA$242+AB$242+AA$243+AB$243)/Denscalc($K18))*1000*  $K18 * Data!$B$6)) ), 0     )","v":0},3,null,null,{"$f":"IF(AND($A18<>\"\",(AE18+AF18)>0),     IF(AF$13=\"Nm3\",(AG$12*1000*1000/((AE$242+AF$242+AE$243+AF$243)*1000*  $K18 * Data!$B$6)),  (AG$12*1000*1000/(((AE$242+AF$242+AE$243+AF$243)/Denscalc($K18))*1000*  $K18 * Data!$B$6)) ), 0    )","v":0},3,null,null,{"$f":"IF(AND($A18<>\"\",(AI18+AJ18)>0),    IF(AJ$13=\"Nm3\",(AK$12*1000*1000/((AI$242+AJ$242+AI$243+AJ$243)*1000*  $K18 * Data!$B$6)),  (AK$12*1000*1000/(((AI$242+AJ$242+AI$243+AJ$243)/Denscalc($K18))*1000*  $K18 * Data!$B$6)) ), 0    )","v":0},3,null,null,{"$f":"IF(AND($A18<>\"\",(AM18+AN18)>0),     IF(AN$13=\"Nm3\",(AO$12*1000*1000/((AM$242+AN$242+AM$243+AN$243)*1000*  $K18 * Data!$B$6)),  (AO$12*1000*1000/(((AM$242+AN$242+AM$243+AN$243)/Denscalc($K18))*1000*  $K18 * Data!$B$6)) ), 0    )","v":0},3,null,null,{"$f":"IF(AND($A18<>\"\",(AQ18+AR18)>0),     IF(AR$13=\"Nm3\",(AS$12*1000*1000/((AQ$242+AR$242+AQ$243+AR$243)*1000*  $K18 * Data!$B$6)),  (AS$12*1000*1000/(((AQ$242+AR$242+AQ$243+AR$243)/Denscalc($K18))*1000*  $K18 * Data!$B$6)) ), 0     )","v":0},3,null,null,{"$f":"IF(AND($A18<>\"\",(AU18+AV18)>0),     IF(AV$13=\"Nm3\",(AW$12*1000*1000/((AU$242+AV$242+AU$243+AV$243)*1000*  $K18 * Data!$B$6)),  (AW$12*1000*1000/(((AU$242+AV$242+AU$243+AV$243)/Denscalc($K18))*1000*  $K18 * Data!$B$6)) ), 0   )","v":0},3,null,null,{"$f":"IF(AND(BA$11>0,$A18<>\"\",(AY18+AZ18)>0), BA$11, IF(AND($A18<>\"\",(AY18+AZ18)>0),\nIF(AZ$13=\"Nm3\",(BA$6*1000*1000/((AY$242+AZ$242+AY$243+AZ$243)*1000*$K18*Data!$B$6))+((BA$12-BA$6)*1000*1000/((AY$242+AZ$242+AY$243+AZ$243-AY$241-AZ$241)*1000*$K18*Data!$B$6)),\n(BA$6*1000*1000/(((AY$242+AZ$242+AY$243+AZ$243)/Denscalc($K18))*1000*$K18*Data!$B$6))+((BA$12-BA$6)*1000*1000/(((AY$242+AZ$242+AY$243+AZ$243-AY$241-AZ$241)/Denscalc($K18))*1000*$K18*Data!$B$6))),0))","v":0},3,null,null,{"$f":"IF(AND(BE$11>0,$A18<>\"\",(BC18+BD18)>0), BE$11, IF(AND($A18<>\"\",(BC18+BD18)>0),\n (BE$6*1000*1000/((BC$244+BD$244)*1000* Data!$B$7))+ ((BE$12-BE$6)*1000*1000/((BC$244+BD$244-BC$241-BD$241)*1000* Data!$B$7)),0))","v":0},3,{"$f":"IF(A18<>\"\", (Data!$B$127*1000*Data!$B$3)/Data!$B$7,  \"\")","v":""},"",{"$f":"IF(A18<>\"\",   (L18+BH18), \"\")","v":""},{"$f":"IF(A18<>\"\",  ROUND( (Data!$B$8-BI18)/Data!$B$8,3),   \"\")","v":""},"","","","",{"$f":"IF(A18<>\"\",  IF(TYPE(BN18)=1, ROUND( (Data!$B$8-BN18)/Data!$B$8,3),   \"\"),\"\")","v":""},"",3,"","","",null,""]
[{"$f":"Uppgradering!A10","v":""},4,{"$f":"Uppgradering!C10","v":""},{"$f":"Uppgradering!D10","v":""},{"$f":"Uppgradering!E10","v":""},{"$f":"Uppgradering!F10","v":""},{"$f":"Uppgradering!AU10","v":""},{"$f":"Uppgradering!AS10","v":""},{"$f":"Uppgradering!AP10","v":""},{"$f":"Uppgradering!AO10","v":""},{"$f":"Uppgradering!AT10","v":""},{"$f":"Uppgradering!AW10","v":""},"",null,null,null,{"$f":"IF(AND($A19<>\"\",(O19+P19)>0),    IF(P$13=\"Nm3\",(Q$12*1000*1000/((O$242+P$242+O$243+P$243)*1000*  $K19 * Data!$B$6)),  (Q$12*1000*1000/(((O$242+P$242+O$243+P$243)/Denscalc($K19))*1000*  $K19 * Data!$B$6)) ), 0    )","v":0},4,null,null,{"$f":"IF(AND($A19<>\"\",(S19+T19)>0),    IF(T$13=\"Nm3\",(U$12*1000*1000/((S$242+T$242+S$243+T$243)*1000*  $K19 * Data!$B$6)),  (U$12*1000*1000/(((S$242+T$242+S$243+T$243)/Denscalc($K19))*1000*  $K19 * Data!$B$6)) ), 0     )","v":0},4,null,null,{"$f":"IF(AND($A19<>\"\",(W19+X19)>0),     IF(X$13=\"Nm3\",(Y$12*1000*1000/((W$242+X$242+W$243+X$243)*1000*  $K19 * Data!$B$6)),  (Y$12*1000*1000/(((W$242+X$242+W$243+X$243)/Denscalc($K19))*1000*  $K19 * Data!$B$6)) ), 0   )","v":0},4,null,null,{"$f":"IF(AND($A19<>\"\",(AA19+AB19)>0),     IF(AB$13=\"Nm3\",(AC$12*1000*1000/((AA$242+AB$242+AA$243+AB$243)*1000*  $K19 * Data!$B$6)),  (AC$12*1000*1000/(((AA$242+AB$242+AA$243+AB$243)/Denscalc($K19))*1000*  $K19 * Data!$B$6)) ), 0     )","v":0},4,null,null,{"$f":"IF(AND($A19<>\"\",(AE19+AF19)>0),     IF(AF$13=\"Nm3\",(AG$12*1000*1000/((AE$242+AF$242+AE$243+AF$243)*1000*  $K19 * Data!$B$6)),  (AG$12*1000*1000/(((AE$242+AF$242+AE$243+AF$243)/Denscalc($K19))*1000*  $K19 * Data!$B$6)) ), 0    )","v":0},4,null,null,{"$f":"IF(AND($A19<>\"\",(AI19+AJ19)>0),    IF(AJ$13=\"Nm3\",(AK$12*1000*1000/((AI$242+AJ$242+AI$243+AJ$243)*1000*  $K19 * Data!$B$6)),  (AK$12*1000*1000/(((AI$242+AJ$242+AI$243+AJ$243)/Denscalc($K19))*1000*  $K19 * Data!$B$6)) ), 0    )","v":0},4,null,null,{"$f":"IF(AND($A19<>\"\",(AM19+AN19)>0),     IF(AN$13=\"Nm3\",(AO$12*1000*1000/((AM$242+AN$242+AM$243+AN$243)*1000*  $K19 * Data!$B$6)),  (AO$12*1000*1000/(((AM$242+AN$242+AM$243+AN$243)/Denscalc($K19))*1000*  $K19 * Data!$B$6)) ), 0    )","v":0},4,null,null,{"$f":"IF(AND($A19<>\"\",(AQ19+AR19)>0),     IF(AR$13=\"Nm3\",(AS$12*1000*1000/((AQ$242+AR$242+AQ$243+AR$243)*1000*  $K19 * Data!$B$6)),  (AS$12*1000*1000/(((AQ$242+AR$242+AQ$243+AR$243)/Denscalc($K19))*1000*  $K19 * Data!$B$6)) ), 0     )","v":0},4,null,null,{"$f":"IF(AND($A19<>\"\",(AU19+AV19)>0),     IF(AV$13=\"Nm3\",(AW$12*1000*1000/((AU$242+AV$242+AU$243+AV$243)*1000*  $K19 * Data!$B$6)),  (AW$12*1000*1000/(((AU$242+AV$242+AU$243+AV$243)/Denscalc($K19))*1000*  $K19 * Data!$B$6)) ), 0   )","v":0},4,null,null,{"$f":"IF(AND(BA$11>0,$A19<>\"\",(AY19+AZ19)>0), BA$11, IF(AND($A19<>\"\",(AY19+AZ19)>0),\nIF(AZ$13=\"Nm3\",(BA$6*1000*1000/((AY$242+AZ$242+AY$243+AZ$243)*1000*$K19*Data!$B$6))+((BA$12-BA$6)*1000*1000/((AY$242+AZ$242+AY$243+AZ$243-AY$241-AZ$241)*1000*$K19*Data!$B$6)),\n(BA$6*1000*1000/(((AY$242+AZ$242+AY$243+AZ$243)/Denscalc($K19))*1000*$K19*Data!$B$6))+((BA$12-BA$6)*1000*1000/(((AY$242+AZ$242+AY$243+AZ$243-AY$241-AZ$241)/Denscalc($K19))*1000*$K19*Data!$B$6))),0))","v":0},4,null,null,{"$f":"IF(AND(BE$11>0,$A19<>\"\",(BC19+BD19)>0), BE$11, IF(AND($A19<>\"\",(BC19+BD19)>0),\n (BE$6*1000*1000/((BC$244+BD$244)*1000* Data!$B$7))+ ((BE$12-BE$6)*1000*1000/((BC$244+BD$244-BC$241-BD$241)*1000* Data!$B$7)),0))","v":0},4,{"$f":"IF(A19<>\"\", (Data!$B$127*1000*Data!$B$3)/Data!$B$7,  \"\")","v":""},"","",{"$f":"IF(A19<>\"\",  ROUND( (Data!$B$8-BI19)/Data!$B$8,3),   \"\")","v":""},"","","","",{"$f":"IF(A19<>\"\",  IF(TYPE(BN19)=1, ROUND( (Data!$B$8-BN19)/Data!$B$8,3),   \"\"),\"\")","v":""},"",4,"","","",null,""]
[{"$f":"Uppgradering!A11","v":""},5,{"$f":"Uppgradering!C11","v":""},{"$f":"Uppgradering!D11","v":""},{"$f":"Uppgradering!E11","v":""},{"$f":"Uppgradering!F11","v":""},{"$f":"Uppgradering!AU11","v":""},{"$f":"Uppgradering!AS11","v":""},{"$f":"Uppgradering!AP11","v":""},{"$f":"Uppgradering!AO11","v":""},{"$f":"Uppgradering!AT11","v":""},{"$f":"Uppgradering!AW11","v":""},"",null,null,null,{"$f":"IF(AND($A20<>\"\",(O20+P20)>0),    IF(P$13=\"Nm3\",(Q$12*1000*1000/((O$242+P$242+O$243+P$243)*1000*  $K20 * Data!$B$6)),  (Q$12*1000*1000/(((O$242+P$242+O$243+P$243)/Denscalc($K20))*1000*  $K20 * Data!$B$6)) ), 0    )","v":0},5,null,null,{"$f":"IF(AND($A20<>\"\",(S20+T20)>0),    IF(T$13=\"Nm3\",(U$12*1000*1000/((S$242+T$242+S$243+T$243)*1000*  $K20 * Data!$B$6)),  (U$12*1000*1000/(((S$242+T$242+S$243+T$243)/Denscalc($K20))*1000*  $K20 * Data!$B$6)) ), 0     )","v":0},5,null,null,{"$f":"IF(AND($A20<>\"\",(W20+X20)>0),     IF(X$13=\"Nm3\",(Y$12*1000*1000/((W$242+X$242+W$243+X$243)*1000*  $K20 * Data!$B$6)),  (Y$12*1000*1000/(((W$242+X$242+W$243+X$243)/Denscalc($K20))*1000*  $K20 * Data!$B$6)) ), 0   )","v":0},5,null,null,{"$f":"IF(AND($A20<>\"\",(AA20+AB20)>0),     IF(AB$13=\"Nm3\",(AC$12*1000*1000/((AA$242+AB$242+AA$243+AB$243)*1000*  $K20 * Data!$B$6)),  (AC$12*1000*1000/(((AA$242+AB$242+AA$243+AB$243)/Denscalc($K20))*1000*  $K20 * Data!$B$6)) ), 0     )","v":0},5,null,null,{"$f":"IF(AND($A20<>\"\",(AE20+AF20)>0),     IF(AF$13=\"Nm3\",(AG$12*1000*1000/((AE$242+AF$242+AE$243+AF$243)*1000*  $K20 * Data!$B$6)),  (AG$12*1000*1000/(((AE$242+AF$242+AE$243+AF$243)/Denscalc($K20))*1000*  $K20 * Data!$B$6)) ), 0    )","v":0},5,null,null,{"$f":"IF(AND($A20<>\"\",(AI20+AJ20)>0),    IF(AJ$13=\"Nm3\",(AK$12*1000*1000/((AI$242+AJ$242+AI$243+AJ$243)*1000*  $K20 * Data!$B$6)),  (AK$12*1000*1000/(((AI$242+AJ$242+AI$243+AJ$243)/Denscalc($K20))*1000*  $K20 * Data!$B$6)) ), 0    )","v":0},5,null,null,{"$f":"IF(AND($A20<>\"\",(AM20+AN20)>0),     IF(AN$13=\"Nm3\",(AO$12*1000*1000/((AM$242+AN$242+AM$243+AN$243)*1000*  $K20 * Data!$B$6)),  (AO$12*1000*1000/(((AM$242+AN$242+AM$243+AN$243)/Denscalc($K20))*1000*  $K20 * Data!$B$6)) ), 0    )","v":0},5,null,null,{"$f":"IF(AND($A20<>\"\",(AQ20+AR20)>0),     IF(AR$13=\"Nm3\",(AS$12*1000*1000/((AQ$242+AR$242+AQ$243+AR$243)*1000*  $K20 * Data!$B$6)),  (AS$12*1000*1000/(((AQ$242+AR$242+AQ$243+AR$243)/Denscalc($K20))*1000*  $K20 * Data!$B$6)) ), 0     )","v":0},5,null,null,{"$f":"IF(AND($A20<>\"\",(AU20+AV20)>0),     IF(AV$13=\"Nm3\",(AW$12*1000*1000/((AU$242+AV$242+AU$243+AV$243)*1000*  $K20 * Data!$B$6)),  (AW$12*1000*1000/(((AU$242+AV$242+AU$243+AV$243)/Denscalc($K20))*1000*  $K20 * Data!$B$6)) ), 0   )","v":0},5,null,null,{"$f":"IF(AND(BA$11>0,$A20<>\"\",(AY20+AZ20)>0), BA$11, IF(AND($A20<>\"\",(AY20+AZ20)>0),\nIF(AZ$13=\"Nm3\",(BA$6*1000*1000/((AY$242+AZ$242+AY$243+AZ$243)*1000*$K20*Data!$B$6))+((BA$12-BA$6)*1000*1000/((AY$242+AZ$242+AY$243+AZ$243-AY$241-AZ$241)*1000*$K20*Data!$B$6)),\n(BA$6*1000*1000/(((AY$242+AZ$242+AY$243+AZ$243)/Denscalc($K20))*1000*$K20*Data!$B$6))+((BA$12-BA$6)*1000*1000/(((AY$242+AZ$242+AY$243+AZ$243-AY$241-AZ$241)/Denscalc($K20))*1000*$K20*Data!$B$6))),0))","v":0},5,null,null,{"$f":"IF(AND(BE$11>0,$A20<>\"\",(BC20+BD20)>0), BE$11, IF(AND($A20<>\"\",(BC20+BD20)>0),\n (BE$6*1000*1000/((BC$244+BD$244)*1000* Data!$B$7))+ ((BE$12-BE$6)*1000*1000/((BC$244+BD$244-BC$241-BD$241)*1000* Data!$B$7)),0))","v":0},5,{"$f":"IF(A20<>\"\", (Data!$B$127*1000*Data!$B$3)/Data!$B$7,  \"\")","v":""},"","",{"$f":"IF(A20<>\"\",  ROUND( (Data!$B$8-BI20)/Data!$B$8,3),   \"\")","v":""},"","","","",{"$f":"IF(A20<>\"\",  IF(TYPE(BN20)=1, ROUND( (Data!$B$8-BN20)/Data!$B$8,3),   \"\"),\"\")","v":""},"",5,"","","",null,""]
[{"$f":"Uppgradering!A12","v":""},6,{"$f":"Uppgradering!C12","v":""},{"$f":"Uppgradering!D12","v":""},{"$f":"Uppgradering!E12","v":""},{"$f":"Uppgradering!F12","v":""},{"$f":"Uppgradering!AU12","v":""},{"$f":"Uppgradering!AS12","v":""},{"$f":"Uppgradering!AP12","v":""},{"$f":"Uppgradering!AO12","v":""},{"$f":"Uppgradering!AT12","v":""},{"$f":"Uppgradering!AW12","v":""},"",null,null,null,{"$f":"IF(AND($A21<>\"\",(O21+P21)>0),    IF(P$13=\"Nm3\",(Q$12*1000*1000/((O$242+P$242+O$243+P$243)*1000*  $K21 * Data!$B$6)),  (Q$12*1000*1000/(((O$242+P$242+O$243+P$243)/Denscalc($K21))*1000*  $K21 * Data!$B$6)) ), 0    )","v":0},6,null,null,{"$f":"IF(AND($A21<>\"\",(S21+T21)>0),    IF(T$13=\"Nm3\",(U$12*1000*1000/((S$242+T$242+S$243+T$243)*1000*  $K21 * Data!$B$6)),  (U$12*1000*1000/(((S$242+T$242+S$243+T$243)/Denscalc($K21))*1000*  $K21 * Data!$B$6)) ), 0     )","v":0},6,null,null,{"$f":"IF(AND($A21<>\"\",(W21+X21)>0),     IF(X$13=\"Nm3\",(Y$12*1000*1000/((W$242+X$242+W$243+X$243)*1000*  $K21 * Data!$B$6)),  (Y$12*1000*1000/(((W$242+X$242+W$243+X$243)/Denscalc($K21))*1000*  $K21 * Data!$B$6)) ), 0   )","v":0},6,null,null,{"$f":"IF(AND($A21<>\"\",(AA21+AB21)>0),     IF(AB$13=\"Nm3\",(AC$12*1000*1000/((AA$242+AB$242+AA$243+AB$243)*1000*  $K21 * Data!$B$6)),  (AC$12*1000*1000/(((AA$242+AB$242+AA$243+AB$243)/Denscalc($K21))*1000*  $K21 * Data!$B$6)) ), 0     )","v":0},6,null,null,{"$f":"IF(AND($A21<>\"\",(AE21+AF21)>0),     IF(AF$13=\"Nm3\",(AG$12*1000*1000/((AE$242+AF$242+AE$243+AF$243)*1000*  $K21 * Data!$B$6)),  (AG$12*1000*1000/(((AE$242+AF$242+AE$243+AF$243)/Denscalc($K21))*1000*  $K21 * Data!$B$6)) ), 0    )","v":0},6,null,null,{"$f":"IF(AND($A21<>\"\",(AI21+AJ21)>0),    IF(AJ$13=\"Nm3\",(AK$12*1000*1000/((AI$242+AJ$242+AI$243+AJ$243)*1000*  $K21 * Data!$B$6)),  (AK$12*1000*1000/(((AI$242+AJ$242+AI$243+AJ$243)/Denscalc($K21))*1000*  $K21 * Data!$B$6)) ), 0    )","v":0},6,null,null,{"$f":"IF(AND($A21<>\"\",(AM21+AN21)>0),     IF(AN$13=\"Nm3\",(AO$12*1000*1000/((AM$242+AN$242+AM$243+AN$243)*1000*  $K21 * Data!$B$6)),  (AO$12*1000*1000/(((AM$242+AN$242+AM$243+AN$243)/Denscalc($K21))*1000*  $K21 * Data!$B$6)) ), 0    )","v":0},6,null,null,{"$f":"IF(AND($A21<>\"\",(AQ21+AR21)>0),     IF(AR$13=\"Nm3\",(AS$12*1000*1000/((AQ$242+AR$242+AQ$243+AR$243)*1000*  $K21 * Data!$B$6)),  (AS$12*1000*1000/(((AQ$242+AR$242+AQ$243+AR$243)/Denscalc($K21))*1000*  $K21 * Data!$B$6)) ), 0     )","v":0},6,null,null,{"$f":"IF(AND($A21<>\"\",(AU21+AV21)>0),     IF(AV$13=\"Nm3\",(AW$12*1000*1000/((AU$242+AV$242+AU$243+AV$243)*1000*  $K21 * Data!$B$6)),  (AW$12*1000*1000/(((AU$242+AV$242+AU$243+AV$243)/Denscalc($K21))*1000*  $K21 * Data!$B$6)) ), 0   )","v":0},6,null,null,{"$f":"IF(AND(BA$11>0,$A21<>\"\",(AY21+AZ21)>0), BA$11, IF(AND($A21<>\"\",(AY21+AZ21)>0),\nIF(AZ$13=\"Nm3\",(BA$6*1000*1000/((AY$242+AZ$242+AY$243+AZ$243)*1000*$K21*Data!$B$6))+((BA$12-BA$6)*1000*1000/((AY$242+AZ$242+AY$243+AZ$243-AY$241-AZ$241)*1000*$K21*Data!$B$6)),\n(BA$6*1000*1000/(((AY$242+AZ$242+AY$243+AZ$243)/Denscalc($K21))*1000*$K21*Data!$B$6))+((BA$12-BA$6)*1000*1000/(((AY$242+AZ$242+AY$243+AZ$243-AY$241-AZ$241)/Denscalc($K21))*1000*$K21*Data!$B$6))),0))","v":0},6,null,null,{"$f":"IF(AND(BE$11>0,$A21<>\"\",(BC21+BD21)>0), BE$11, IF(AND($A21<>\"\",(BC21+BD21)>0),\n (BE$6*1000*1000/((BC$244+BD$244)*1000* Data!$B$7))+ ((BE$12-BE$6)*1000*1000/((BC$244+BD$244-BC$241-BD$241)*1000* Data!$B$7)),0))","v":0},6,{"$f":"IF(A21<>\"\", (Data!$B$127*1000*Data!$B$3)/Data!$B$7,  \"\")","v":""},"","",{"$f":"IF(A21<>\"\",  ROUND( (Data!$B$8-BI21)/Data!$B$8,3),   \"\")","v":""},"","","","",{"$f":"IF(A21<>\"\",  IF(TYPE(BN21)=1, ROUND( (Data!$B$8-BN21)/Data!$B$8,3),   \"\"),\"\")","v":""},"",6,"","","",null,""]
[{"$f":"Uppgradering!A13","v":""},7,{"$f":"Uppgradering!C13","v":""},{"$f":"Uppgradering!D13","v":""},{"$f":"Uppgradering!E13","v":""},{"$f":"Uppgradering!F13","v":""},{"$f":"Uppgradering!AU13","v":""},{"$f":"Uppgradering!AS13","v":""},{"$f":"Uppgradering!AP13","v":""},{"$f":"Uppgradering!AO13","v":""},{"$f":"Uppgradering!AT13","v":""},{"$f":"Uppgradering!AW13","v":""},"",null,null,null,{"$f":"IF(AND($A22<>\"\",(O22+P22)>0),    IF(P$13=\"Nm3\",(Q$12*1000*1000/((O$242+P$242+O$243+P$243)*1000*  $K22 * Data!$B$6)),  (Q$12*1000*1000/(((O$242+P$242+O$243+P$243)/Denscalc($K22))*1000*  $K22 * Data!$B$6)) ), 0    )","v":0},7,null,null,{"$f":"IF(AND($A22<>\"\",(S22+T22)>0),    IF(T$13=\"Nm3\",(U$12*1000*1000/((S$242+T$242+S$243+T$243)*1000*  $K22 * Data!$B$6)),  (U$12*1000*1000/(((S$242+T$242+S$243+T$243)/Denscalc($K22))*1000*  $K22 * Data!$B$6)) ), 0     )","v":0},7,null,null,{"$f":"IF(AND($A22<>\"\",(W22+X22)>0),     IF(X$13=\"Nm3\",(Y$12*1000*1000/((W$242+X$242+W$243+X$243)*1000*  $K22 * Data!$B$6)),  (Y$12*1000*1000/(((W$242+X$242+W$243+X$243)/Denscalc($K22))*1000*  $K22 * Data!$B$6)) ), 0   )","v":0},7,null,null,{"$f":"IF(AND($A22<>\"\",(AA22+AB22)>0),     IF(AB$13=\"Nm3\",(AC$12*1000*1000/((AA$242+AB$242+AA$243+AB$243)*1000*  $K22 * Data!$B$6)),  (AC$12*1000*1000/(((AA$242+AB$242+AA$243+AB$243)/Denscalc($K22))*1000*  $K22 * Data!$B$6)) ), 0     )","v":0},7,null,null,{"$f":"IF(AND($A22<>\"\",(AE22+AF22)>0),     IF(AF$13=\"Nm3\",(AG$12*1000*1000/((AE$242+AF$242+AE$243+AF$243)*1000*  $K22 * Data!$B$6)),  (AG$12*1000*1000/(((AE$242+AF$242+AE$243+AF$243)/Denscalc($K22))*1000*  $K22 * Data!$B$6)) ), 0    )","v":0},7,null,null,{"$f":"IF(AND($A22<>\"\",(AI22+AJ22)>0),    IF(AJ$13=\"Nm3\",(AK$12*1000*1000/((AI$242+AJ$242+AI$243+AJ$243)*1000*  $K22 * Data!$B$6)),  (AK$12*1000*1000/(((AI$242+AJ$242+AI$243+AJ$243)/Denscalc($K22))*1000*  $K22 * Data!$B$6)) ), 0    )","v":0},7,null,null,{"$f":"IF(AND($A22<>\"\",(AM22+AN22)>0),     IF(AN$13=\"Nm3\",(AO$12*1000*1000/((AM$242+AN$242+AM$243+AN$243)*1000*  $K22 * Data!$B$6)),  (AO$12*1000*1000/(((AM$242+AN$242+AM$243+AN$243)/Denscalc($K22))*1000*  $K22 * Data!$B$6)) ), 0    )","v":0},7,null,null,{"$f":"IF(AND($A22<>\"\",(AQ22+AR22)>0),     IF(AR$13=\"Nm3\",(AS$12*1000*1000/((AQ$242+AR$242+AQ$243+AR$243)*1000*  $K22 * Data!$B$6)),  (AS$12*1000*1000/(((AQ$242+AR$242+AQ$243+AR$243)/Denscalc($K22))*1000*  $K22 * Data!$B$6)) ), 0     )","v":0},7,null,null,{"$f":"IF(AND($A22<>\"\",(AU22+AV22)>0),     IF(AV$13=\"Nm3\",(AW$12*1000*1000/((AU$242+AV$242+AU$243+AV$243)*1000*  $K22 * Data!$B$6)),  (AW$12*1000*1000/(((AU$242+AV$242+AU$243+AV$243)/Denscalc($K22))*1000*  $K22 * Data!$B$6)) ), 0   )","v":0},7,null,null,{"$f":"IF(AND(BA$11>0,$A22<>\"\",(AY22+AZ22)>0), BA$11, IF(AND($A22<>\"\",(AY22+AZ22)>0),\nIF(AZ$13=\"Nm3\",(BA$6*1000*1000/((AY$242+AZ$242+AY$243+AZ$243)*1000*$K22*Data!$B$6))+((BA$12-BA$6)*1000*1000/((AY$242+AZ$242+AY$243+AZ$243-AY$241-AZ$241)*1000*$K22*Data!$B$6)),\n(BA$6*1000*1000/(((AY$242+AZ$242+AY$243+AZ$243)/Denscalc($K22))*1000*$K22*Data!$B$6))+((BA$12-BA$6)*1000*1000/(((AY$242+AZ$242+AY$243+AZ$243-AY$241-AZ$241)/Denscalc($K22))*1000*$K22*Data!$B$6))),0))","v":0},7,null,null,{"$f":"IF(AND(BE$11>0,$A22<>\"\",(BC22+BD22)>0), BE$11, IF(AND($A22<>\"\",(BC22+BD22)>0),\n (BE$6*1000*1000/((BC$244+BD$244)*1000* Data!$B$7))+ ((BE$12-BE$6)*1000*1000/((BC$244+BD$244-BC$241-BD$241)*1000* Data!$B$7)),0))","v":0},7,{"$f":"IF(A22<>\"\", (Data!$B$127*1000*Data!$B$3)/Data!$B$7,  \"\")","v":""},"","",{"$f":"IF(A22<>\"\",  ROUND( (Data!$B$8-BI22)/Data!$B$8,3),   \"\")","v":""},"","","","",{"$f":"IF(A22<>\"\",  IF(TYPE(BN22)=1, ROUND( (Data!$B$8-BN22)/Data!$B$8,3),   \"\"),\"\")","v":""},"",7,"","","",null,""]
[{"$f":"Uppgradering!A14","v":""},8,{"$f":"Uppgradering!C14","v":""},{"$f":"Uppgradering!D14","v":""},{"$f":"Uppgradering!E14","v":""},{"$f":"Uppgradering!F14","v":""},{"$f":"Uppgradering!AU14","v":""},{"$f":"Uppgradering!AS14","v":""},{"$f":"Uppgradering!AP14","v":""},{"$f":"Uppgradering!AO14","v":""},{"$f":"Uppgradering!AT14","v":""},{"$f":"Uppgradering!AW14","v":""},"",null,null,null,{"$f":"IF(AND($A23<>\"\",(O23+P23)>0),    IF(P$13=\"Nm3\",(Q$12*1000*1000/((O$242+P$242+O$243+P$243)*1000*  $K23 * Data!$B$6)),  (Q$12*1000*1000/(((O$242+P$242+O$243+P$243)/Denscalc($K23))*1000*  $K23 * Data!$B$6)) ), 0    )","v":0},8,null,null,{"$f":"IF(AND($A23<>\"\",(S23+T23)>0),    IF(T$13=\"Nm3\",(U$12*1000*1000/((S$242+T$242+S$243+T$243)*1000*  $K23 * Data!$B$6)),  (U$12*1000*1000/(((S$242+T$242+S$243+T$243)/Denscalc($K23))*1000*  $K23 * Data!$B$6)) ), 0     )","v":0},8,null,null,{"$f":"IF(AND($A23<>\"\",(W23+X23)>0),     IF(X$13=\"Nm3\",(Y$12*1000*1000/((W$242+X$242+W$243+X$243)*1000*  $K23 * Data!$B$6)),  (Y$12*1000*1000/(((W$242+X$242+W$243+X$243)/Denscalc($K23))*1000*  $K23 * Data!$B$6)) ), 0   )","v":0},8,null,null,{"$f":"IF(AND($A23<>\"\",(AA23+AB23)>0),     IF(AB$13=\"Nm3\",(AC$12*1000*1000/((AA$242+AB$242+AA$243+AB$243)*1000*  $K23 * Data!$B$6)),  (AC$12*1000*1000/(((AA$242+AB$242+AA$243+AB$243)/Denscalc($K23))*1000*  $K23 * Data!$B$6)) ), 0     )","v":0},8,null,null,{"$f":"IF(AND($A23<>\"\",(AE23+AF23)>0),     IF(AF$13=\"Nm3\",(AG$12*1000*1000/((AE$242+AF$242+AE$243+AF$243)*1000*  $K23 * Data!$B$6)),  (AG$12*1000*1000/(((AE$242+AF$242+AE$243+AF$243)/Denscalc($K23))*1000*  $K23 * Data!$B$6)) ), 0    )","v":0},8,null,null,{"$f":"IF(AND($A23<>\"\",(AI23+AJ23)>0),    IF(AJ$13=\"Nm3\",(AK$12*1000*1000/((AI$242+AJ$242+AI$243+AJ$243)*1000*  $K23 * Data!$B$6)),  (AK$12*1000*1000/(((AI$242+AJ$242+AI$243+AJ$243)/Denscalc($K23))*1000*  $K23 * Data!$B$6)) ), 0    )","v":0},8,null,null,{"$f":"IF(AND($A23<>\"\",(AM23+AN23)>0),     IF(AN$13=\"Nm3\",(AO$12*1000*1000/((AM$242+AN$242+AM$243+AN$243)*1000*  $K23 * Data!$B$6)),  (AO$12*1000*1000/(((AM$242+AN$242+AM$243+AN$243)/Denscalc($K23))*1000*  $K23 * Data!$B$6)) ), 0    )","v":0},8,null,null,{"$f":"IF(AND($A23<>\"\",(AQ23+AR23)>0),     IF(AR$13=\"Nm3\",(AS$12*1000*1000/((AQ$242+AR$242+AQ$243+AR$243)*1000*  $K23 * Data!$B$6)),  (AS$12*1000*1000/(((AQ$242+AR$242+AQ$243+AR$243)/Denscalc($K23))*1000*  $K23 * Data!$B$6)) ), 0     )","v":0},8,null,null,{"$f":"IF(AND($A23<>\"\",(AU23+AV23)>0),     IF(AV$13=\"Nm3\",(AW$12*1000*1000/((AU$242+AV$242+AU$243+AV$243)*1000*  $K23 * Data!$B$6)),  (AW$12*1000*1000/(((AU$242+AV$242+AU$243+AV$243)/Denscalc($K23))*1000*  $K23 * Data!$B$6)) ), 0   )","v":0},8,null,null,{"$f":"IF(AND(BA$11>0,$A23<>\"\",(AY23+AZ23)>0), BA$11, IF(AND($A23<>\"\",(AY23+AZ23)>0),\nIF(AZ$13=\"Nm3\",(BA$6*1000*1000/((AY$242+AZ$242+AY$243+AZ$243)*1000*$K23*Data!$B$6))+((BA$12-BA$6)*1000*1000/((AY$242+AZ$242+AY$243+AZ$243-AY$241-AZ$241)*1000*$K23*Data!$B$6)),\n(BA$6*1000*1000/(((AY$242+AZ$242+AY$243+AZ$243)/Denscalc($K23))*1000*$K23*Data!$B$6))+((BA$12-BA$6)*1000*1000/(((AY$242+AZ$242+AY$243+AZ$243-AY$241-AZ$241)/Denscalc($K23))*1000*$K23*Data!$B$6))),0))","v":0},8,null,null,{"$f":"IF(AND(BE$11>0,$A23<>\"\",(BC23+BD23)>0), BE$11, IF(AND($A23<>\"\",(BC23+BD23)>0),\n (BE$6*1000*1000/((BC$244+BD$244)*1000* Data!$B$7))+ ((BE$12-BE$6)*1000*1000/((BC$244+BD$244-BC$241-BD$241)*1000* Data!$B$7)),0))","v":0},8,{"$f":"IF(A23<>\"\", (Data!$B$127*1000*Data!$B$3)/Data!$B$7,  \"\")","v":""},"","",{"$f":"IF(A23<>\"\",  ROUND( (Data!$B$8-BI23)/Data!$B$8,3),   \"\")","v":""},"","","","",{"$f":"IF(A23<>\"\",  IF(TYPE(BN23)=1, ROUND( (Data!$B$8-BN23)/Data!$B$8,3),   \"\"),\"\")","v":""},"",8,"","","",null,""]
[{"$f":"Uppgradering!A15","v":""},9,{"$f":"Uppgradering!C15","v":""},{"$f":"Uppgradering!D15","v":""},{"$f":"Uppgradering!E15","v":""},{"$f":"Uppgradering!F15","v":""},{"$f":"Uppgradering!AU15","v":""},{"$f":"Uppgradering!AS15","v":""},{"$f":"Uppgradering!AP15","v":""},{"$f":"Uppgradering!AO15","v":""},{"$f":"Uppgradering!AT15","v":""},{"$f":"Uppgradering!AW15","v":""},"",null,null,null,{"$f":"IF(AND($A24<>\"\",(O24+P24)>0),    IF(P$13=\"Nm3\",(Q$12*1000*1000/((O$242+P$242+O$243+P$243)*1000*  $K24 * Data!$B$6)),  (Q$12*1000*1000/(((O$242+P$242+O$243+P$243)/Denscalc($K24))*1000*  $K24 * Data!$B$6)) ), 0    )","v":0},9,null,null,{"$f":"IF(AND($A24<>\"\",(S24+T24)>0),    IF(T$13=\"Nm3\",(U$12*1000*1000/((S$242+T$242+S$243+T$243)*1000*  $K24 * Data!$B$6)),  (U$12*1000*1000/(((S$242+T$242+S$243+T$243)/Denscalc($K24))*1000*  $K24 * Data!$B$6)) ), 0     )","v":0},9,null,null,{"$f":"IF(AND($A24<>\"\",(W24+X24)>0),     IF(X$13=\"Nm3\",(Y$12*1000*1000/((W$242+X$242+W$243+X$243)*1000*  $K24 * Data!$B$6)),  (Y$12*1000*1000/(((W$242+X$242+W$243+X$243)/Denscalc($K24))*1000*  $K24 * Data!$B$6)) ), 0   )","v":0},9,null,null,{"$f":"IF(AND($A24<>\"\",(AA24+AB24)>0),     IF(AB$13=\"Nm3\",(AC$12*1000*1000/((AA$242+AB$242+AA$243+AB$243)*1000*  $K24 * Data!$B$6)),  (AC$12*1000*1000/(((AA$242+AB$242+AA$243+AB$243)/Denscalc($K24))*1000*  $K24 * Data!$B$6)) ), 0     )","v":0},9,null,null,{"$f":"IF(AND($A24<>\"\",(AE24+AF24)>0),     IF(AF$13=\"Nm3\",(AG$12*1000*1000/((AE$242+AF$242+AE$243+AF$243)*1000*  $K24 * Data!$B$6)),  (AG$12*1000*1000/(((AE$242+AF$242+AE$243+AF$243)/Denscalc($K24))*1000*  $K24 * Data!$B$6)) ), 0    )","v":0},9,null,null,{"$f":"IF(AND($A24<>\"\",(AI24+AJ24)>0),    IF(AJ$13=\"Nm3\",(AK$12*1000*1000/((AI$242+AJ$242+AI$243+AJ$243)*1000*  $K24 * Data!$B$6)),  (AK$12*1000*1000/(((AI$242+AJ$242+AI$243+AJ$243)/Denscalc($K24))*1000*  $K24 * Data!$B$6)) ), 0    )","v":0},9,null,null,{"$f":"IF(AND($A24<>\"\",(AM24+AN24)>0),     IF(AN$13=\"Nm3\",(AO$12*1000*1000/((AM$242+AN$242+AM$243+AN$243)*1000*  $K24 * Data!$B$6)),  (AO$12*1000*1000/(((AM$242+AN$242+AM$243+AN$243)/Denscalc($K24))*1000*  $K24 * Data!$B$6)) ), 0    )","v":0},9,null,null,{"$f":"IF(AND($A24<>\"\",(AQ24+AR24)>0),     IF(AR$13=\"Nm3\",(AS$12*1000*1000/((AQ$242+AR$242+AQ$243+AR$243)*1000*  $K24 * Data!$B$6)),  (AS$12*1000*1000/(((AQ$242+AR$242+AQ$243+AR$243)/Denscalc($K24))*1000*  $K24 * Data!$B$6)) ), 0     )","v":0},9,null,null,{"$f":"IF(AND($A24<>\"\",(AU24+AV24)>0),     IF(AV$13=\"Nm3\",(AW$12*1000*1000/((AU$242+AV$242+AU$243+AV$243)*1000*  $K24 * Data!$B$6)),  (AW$12*1000*1000/(((AU$242+AV$242+AU$243+AV$243)/Denscalc($K24))*1000*  $K24 * Data!$B$6)) ), 0   )","v":0},9,null,null,{"$f":"IF(AND(BA$11>0,$A24<>\"\",(AY24+AZ24)>0), BA$11, IF(AND($A24<>\"\",(AY24+AZ24)>0),\nIF(AZ$13=\"Nm3\",(BA$6*1000*1000/((AY$242+AZ$242+AY$243+AZ$243)*1000*$K24*Data!$B$6))+((BA$12-BA$6)*1000*1000/((AY$242+AZ$242+AY$243+AZ$243-AY$241-AZ$241)*1000*$K24*Data!$B$6)),\n(BA$6*1000*1000/(((AY$242+AZ$242+AY$243+AZ$243)/Denscalc($K24))*1000*$K24*Data!$B$6))+((BA$12-BA$6)*1000*1000/(((AY$242+AZ$242+AY$243+AZ$243-AY$241-AZ$241)/Denscalc($K24))*1000*$K24*Data!$B$6))),0))","v":0},9,null,null,{"$f":"IF(AND(BE$11>0,$A24<>\"\",(BC24+BD24)>0), BE$11, IF(AND($A24<>\"\",(BC24+BD24)>0),\n (BE$6*1000*1000/((BC$244+BD$244)*1000* Data!$B$7))+ ((BE$12-BE$6)*1000*1000/((BC$244+BD$244-BC$241-BD$241)*1000* Data!$B$7)),0))","v":0},9,{"$f":"IF(A24<>\"\", (Data!$B$127*1000*Data!$B$3)/Data!$B$7,  \"\")","v":""},"","",{"$f":"IF(A24<>\"\",  ROUND( (Data!$B$8-BI24)/Data!$B$8,3),   \"\")","v":""},"","","","",{"$f":"IF(A24<>\"\",  IF(TYPE(BN24)=1, ROUND( (Data!$B$8-BN24)/Data!$B$8,3),   \"\"),\"\")","v":""},"",9,"","","",null,""]
[{"$f":"Uppgradering!A16","v":""},10,{"$f":"Uppgradering!C16","v":""},{"$f":"Uppgradering!D16","v":""},{"$f":"Uppgradering!E16","v":""},{"$f":"Uppgradering!F16","v":""},{"$f":"Uppgradering!AU16","v":""},{"$f":"Uppgradering!AS16","v":""},{"$f":"Uppgradering!AP16","v":""},{"$f":"Uppgradering!AO16","v":""},{"$f":"Uppgradering!AT16","v":""},{"$f":"Uppgradering!AW16","v":""},"",null,null,null,{"$f":"IF(AND($A25<>\"\",(O25+P25)>0),    IF(P$13=\"Nm3\",(Q$12*1000*1000/((O$242+P$242+O$243+P$243)*1000*  $K25 * Data!$B$6)),  (Q$12*1000*1000/(((O$242+P$242+O$243+P$243)/Denscalc($K25))*1000*  $K25 * Data!$B$6)) ), 0    )","v":0},10,null,null,{"$f":"IF(AND($A25<>\"\",(S25+T25)>0),    IF(T$13=\"Nm3\",(U$12*1000*1000/((S$242+T$242+S$243+T$243)*1000*  $K25 * Data!$B$6)),  (U$12*1000*1000/(((S$242+T$242+S$243+T$243)/Denscalc($K25))*1000*  $K25 * Data!$B$6)) ), 0     )","v":0},10,null,null,{"$f":"IF(AND($A25<>\"\",(W25+X25)>0),     IF(X$13=\"Nm3\",(Y$12*1000*1000/((W$242+X$242+W$243+X$243)*1000*  $K25 * Data!$B$6)),  (Y$12*1000*1000/(((W$242+X$242+W$243+X$243)/Denscalc($K25))*1000*  $K25 * Data!$B$6)) ), 0   )","v":0},10,null,null,{"$f":"IF(AND($A25<>\"\",(AA25+AB25)>0),     IF(AB$13=\"Nm3\",(AC$12*1000*1000/((AA$242+AB$242+AA$243+AB$243)*1000*  $K25 * Data!$B$6)),  (AC$12*1000*1000/(((AA$242+AB$242+AA$243+AB$243)/Denscalc($K25))*1000*  $K25 * Data!$B$6)) ), 0     )","v":0},10,null,null,{"$f":"IF(AND($A25<>\"\",(AE25+AF25)>0),     IF(AF$13=\"Nm3\",(AG$12*1000*1000/((AE$242+AF$242+AE$243+AF$243)*1000*  $K25 * Data!$B$6)),  (AG$12*1000*1000/(((AE$242+AF$242+AE$243+AF$243)/Denscalc($K25))*1000*  $K25 * Data!$B$6)) ), 0    )","v":0},10,null,null,{"$f":"IF(AND($A25<>\"\",(AI25+AJ25)>0),    IF(AJ$13=\"Nm3\",(AK$12*1000*1000/((AI$242+AJ$242+AI$243+AJ$243)*1000*  $K25 * Data!$B$6)),  (AK$12*1000*1000/(((AI$242+AJ$242+AI$243+AJ$243)/Denscalc($K25))*1000*  $K25 * Data!$B$6)) ), 0    )","v":0},10,null,null,{"$f":"IF(AND($A25<>\"\",(AM25+AN25)>0),     IF(AN$13=\"Nm3\",(AO$12*1000*1000/((AM$242+AN$242+AM$243+AN$243)*1000*  $K25 * Data!$B$6)),  (AO$12*1000*1000/(((AM$242+AN$242+AM$243+AN$243)/Denscalc($K25))*1000*  $K25 * Data!$B$6)) ), 0    )","v":0},10,null,null,{"$f":"IF(AND($A25<>\"\",(AQ25+AR25)>0),     IF(AR$13=\"Nm3\",(AS$12*1000*1000/((AQ$242+AR$242+AQ$243+AR$243)*1000*  $K25 * Data!$B$6)),  (AS$12*1000*1000/(((AQ$242+AR$242+AQ$243+AR$243)/Denscalc($K25))*1000*  $K25 * Data!$B$6)) ), 0     )","v":0},10,null,null,{"$f":"IF(AND($A25<>\"\",(AU25+AV25)>0),     IF(AV$13=\"Nm3\",(AW$12*1000*1000/((AU$242+AV$242+AU$243+AV$243)*1000*  $K25 * Data!$B$6)),  (AW$12*1000*1000/(((AU$242+AV$242+AU$243+AV$243)/Denscalc($K25))*1000*  $K25 * Data!$B$6)) ), 0   )","v":0},10,null,null,{"$f":"IF(AND(BA$11>0,$A25<>\"\",(AY25+AZ25)>0), BA$11, IF(AND($A25<>\"\",(AY25+AZ25)>0),\nIF(AZ$13=\"Nm3\",(BA$6*1000*1000/((AY$242+AZ$242+AY$243+AZ$243)*1000*$K25*Data!$B$6))+((BA$12-BA$6)*1000*1000/((AY$242+AZ$242+AY$243+AZ$243-AY$241-AZ$241)*1000*$K25*Data!$B$6)),\n(BA$6*1000*1000/(((AY$242+AZ$242+AY$243+AZ$243)/Denscalc($K25))*1000*$K25*Data!$B$6))+((BA$12-BA$6)*1000*1000/(((AY$242+AZ$242+AY$243+AZ$243-AY$241-AZ$241)/Denscalc($K25))*1000*$K25*Data!$B$6))),0))","v":0},10,null,null,{"$f":"IF(AND(BE$11>0,$A25<>\"\",(BC25+BD25)>0), BE$11, IF(AND($A25<>\"\",(BC25+BD25)>0),\n (BE$6*1000*1000/((BC$244+BD$244)*1000* Data!$B$7))+ ((BE$12-BE$6)*1000*1000/((BC$244+BD$244-BC$241-BD$241)*1000* Data!$B$7)),0))","v":0},10,{"$f":"IF(A25<>\"\", (Data!$B$127*1000*Data!$B$3)/Data!$B$7,  \"\")","v":""},"","",{"$f":"IF(A25<>\"\",  ROUND( (Data!$B$8-BI25)/Data!$B$8,3),   \"\")","v":""},"","","","",{"$f":"IF(A25<>\"\",  IF(TYPE(BN25)=1, ROUND( (Data!$B$8-BN25)/Data!$B$8,3),   \"\"),\"\")","v":""},"",10,"","","",null,""]
[{"$f":"Uppgradering!A17","v":""},11,{"$f":"Uppgradering!C17","v":""},{"$f":"Uppgradering!D17","v":""},{"$f":"Uppgradering!E17","v":""},{"$f":"Uppgradering!F17","v":""},{"$f":"Uppgradering!AU17","v":""},{"$f":"Uppgradering!AS17","v":""},{"$f":"Uppgradering!AP17","v":""},{"$f":"Uppgradering!AO17","v":""},{"$f":"Uppgradering!AT17","v":""},{"$f":"Uppgradering!AW17","v":""},"",null,null,null,{"$f":"IF(AND($A26<>\"\",(O26+P26)>0),    IF(P$13=\"Nm3\",(Q$12*1000*1000/((O$242+P$242+O$243+P$243)*1000*  $K26 * Data!$B$6)),  (Q$12*1000*1000/(((O$242+P$242+O$243+P$243)/Denscalc($K26))*1000*  $K26 * Data!$B$6)) ), 0    )","v":0},11,null,null,{"$f":"IF(AND($A26<>\"\",(S26+T26)>0),    IF(T$13=\"Nm3\",(U$12*1000*1000/((S$242+T$242+S$243+T$243)*1000*  $K26 * Data!$B$6)),  (U$12*1000*1000/(((S$242+T$242+S$243+T$243)/Denscalc($K26))*1000*  $K26 * Data!$B$6)) ), 0     )","v":0},11,null,null,{"$f":"IF(AND($A26<>\"\",(W26+X26)>0),     IF(X$13=\"Nm3\",(Y$12*1000*1000/((W$242+X$242+W$243+X$243)*1000*  $K26 * Data!$B$6)),  (Y$12*1000*1000/(((W$242+X$242+W$243+X$243)/Denscalc($K26))*1000*  $K26 * Data!$B$6)) ), 0   )","v":0},11,null,null,{"$f":"IF(AND($A26<>\"\",(AA26+AB26)>0),     IF(AB$13=\"Nm3\",(AC$12*1000*1000/((AA$242+AB$242+AA$243+AB$243)*1000*  $K26 * Data!$B$6)),  (AC$12*1000*1000/(((AA$242+AB$242+AA$243+AB$243)/Denscalc($K26))*1000*  $K26 * Data!$B$6)) ), 0     )","v":0},11,null,null,{"$f":"IF(AND($A26<>\"\",(AE26+AF26)>0),     IF(AF$13=\"Nm3\",(AG$12*1000*1000/((AE$242+AF$242+AE$243+AF$243)*1000*  $K26 * Data!$B$6)),  (AG$12*1000*1000/(((AE$242+AF$242+AE$243+AF$243)/Denscalc($K26))*1000*  $K26 * Data!$B$6)) ), 0    )","v":0},11,null,null,{"$f":"IF(AND($A26<>\"\",(AI26+AJ26)>0),    IF(AJ$13=\"Nm3\",(AK$12*1000*1000/((AI$242+AJ$242+AI$243+AJ$243)*1000*  $K26 * Data!$B$6)),  (AK$12*1000*1000/(((AI$242+AJ$242+AI$243+AJ$243)/Denscalc($K26))*1000*  $K26 * Data!$B$6)) ), 0    )","v":0},11,null,null,{"$f":"IF(AND($A26<>\"\",(AM26+AN26)>0),     IF(AN$13=\"Nm3\",(AO$12*1000*1000/((AM$242+AN$242+AM$243+AN$243)*1000*  $K26 * Data!$B$6)),  (AO$12*1000*1000/(((AM$242+AN$242+AM$243+AN$243)/Denscalc($K26))*1000*  $K26 * Data!$B$6)) ), 0    )","v":0},11,null,null,{"$f":"IF(AND($A26<>\"\",(AQ26+AR26)>0),     IF(AR$13=\"Nm3\",(AS$12*1000*1000/((AQ$242+AR$242+AQ$243+AR$243)*1000*  $K26 * Data!$B$6)),  (AS$12*1000*1000/(((AQ$242+AR$242+AQ$243+AR$243)/Denscalc($K26))*1000*  $K26 * Data!$B$6)) ), 0     )","v":0},11,null,null,{"$f":"IF(AND($A26<>\"\",(AU26+AV26)>0),     IF(AV$13=\"Nm3\",(AW$12*1000*1000/((AU$242+AV$242+AU$243+AV$243)*1000*  $K26 * Data!$B$6)),  (AW$12*1000*1000/(((AU$242+AV$242+AU$243+AV$243)/Denscalc($K26))*1000*  $K26 * Data!$B$6)) ), 0   )","v":0},11,null,null,{"$f":"IF(AND(BA$11>0,$A26<>\"\",(AY26+AZ26)>0), BA$11, IF(AND($A26<>\"\",(AY26+AZ26)>0),\nIF(AZ$13=\"Nm3\",(BA$6*1000*1000/((AY$242+AZ$242+AY$243+AZ$243)*1000*$K26*Data!$B$6))+((BA$12-BA$6)*1000*1000/((AY$242+AZ$242+AY$243+AZ$243-AY$241-AZ$241)*1000*$K26*Data!$B$6)),\n(BA$6*1000*1000/(((AY$242+AZ$242+AY$243+AZ$243)/Denscalc($K26))*1000*$K26*Data!$B$6))+((BA$12-BA$6)*1000*1000/(((AY$242+AZ$242+AY$243+AZ$243-AY$241-AZ$241)/Denscalc($K26))*1000*$K26*Data!$B$6))),0))","v":0},11,null,null,{"$f":"IF(AND(BE$11>0,$A26<>\"\",(BC26+BD26)>0), BE$11, IF(AND($A26<>\"\",(BC26+BD26)>0),\n (BE$6*1000*1000/((BC$244+BD$244)*1000* Data!$B$7))+ ((BE$12-BE$6)*1000*1000/((BC$244+BD$244-BC$241-BD$241)*1000* Data!$B$7)),0))","v":0},11,{"$f":"IF(A26<>\"\", (Data!$B$127*1000*Data!$B$3)/Data!$B$7,  \"\")","v":""},"","",{"$f":"IF(A26<>\"\",  ROUND( (Data!$B$8-BI26)/Data!$B$8,3),   \"\")","v":""},"","","","",{"$f":"IF(A26<>\"\",  IF(TYPE(BN26)=1, ROUND( (Data!$B$8-BN26)/Data!$B$8,3),   \"\"),\"\")","v":""},"",11,"","","",null,""]
[{"$f":"Uppgradering!A18","v":""},12,{"$f":"Uppgradering!C18","v":""},{"$f":"Uppgradering!D18","v":""},{"$f":"Uppgradering!E18","v":""},{"$f":"Uppgradering!F18","v":""},{"$f":"Uppgradering!AU18","v":""},{"$f":"Uppgradering!AS18","v":""},{"$f":"Uppgradering!AP18","v":""},{"$f":"Uppgradering!AO18","v":""},{"$f":"Uppgradering!AT18","v":""},{"$f":"Uppgradering!AW18","v":""},"",null,null,null,{"$f":"IF(AND($A27<>\"\",(O27+P27)>0),    IF(P$13=\"Nm3\",(Q$12*1000*1000/((O$242+P$242+O$243+P$243)*1000*  $K27 * Data!$B$6)),  (Q$12*1000*1000/(((O$242+P$242+O$243+P$243)/Denscalc($K27))*1000*  $K27 * Data!$B$6)) ), 0    )","v":0},12,null,null,{"$f":"IF(AND($A27<>\"\",(S27+T27)>0),    IF(T$13=\"Nm3\",(U$12*1000*1000/((S$242+T$242+S$243+T$243)*1000*  $K27 * Data!$B$6)),  (U$12*1000*1000/(((S$242+T$242+S$243+T$243)/Denscalc($K27))*1000*  $K27 * Data!$B$6)) ), 0     )","v":0},12,null,null,{"$f":"IF(AND($A27<>\"\",(W27+X27)>0),     IF(X$13=\"Nm3\",(Y$12*1000*1000/((W$242+X$242+W$243+X$243)*1000*  $K27 * Data!$B$6)),  (Y$12*1000*1000/(((W$242+X$242+W$243+X$243)/Denscalc($K27))*1000*  $K27 * Data!$B$6)) ), 0   )","v":0},12,null,null,{"$f":"IF(AND($A27<>\"\",(AA27+AB27)>0),     IF(AB$13=\"Nm3\",(AC$12*1000*1000/((AA$242+AB$242+AA$243+AB$243)*1000*  $K27 * Data!$B$6)),  (AC$12*1000*1000/(((AA$242+AB$242+AA$243+AB$243)/Denscalc($K27))*1000*  $K27 * Data!$B$6)) ), 0     )","v":0},12,null,null,{"$f":"IF(AND($A27<>\"\",(AE27+AF27)>0),     IF(AF$13=\"Nm3\",(AG$12*1000*1000/((AE$242+AF$242+AE$243+AF$243)*1000*  $K27 * Data!$B$6)),  (AG$12*1000*1000/(((AE$242+AF$242+AE$243+AF$243)/Denscalc($K27))*1000*  $K27 * Data!$B$6)) ), 0    )","v":0},12,null,null,{"$f":"IF(AND($A27<>\"\",(AI27+AJ27)>0),    IF(AJ$13=\"Nm3\",(AK$12*1000*1000/((AI$242+AJ$242+AI$243+AJ$243)*1000*  $K27 * Data!$B$6)),  (AK$12*1000*1000/(((AI$242+AJ$242+AI$243+AJ$243)/Denscalc($K27))*1000*  $K27 * Data!$B$6)) ), 0    )","v":0},12,null,null,{"$f":"IF(AND($A27<>\"\",(AM27+AN27)>0),     IF(AN$13=\"Nm3\",(AO$12*1000*1000/((AM$242+AN$242+AM$243+AN$243)*1000*  $K27 * Data!$B$6)),  (AO$12*1000*1000/(((AM$242+AN$242+AM$243+AN$243)/Denscalc($K27))*1000*  $K27 * Data!$B$6)) ), 0    )","v":0},12,null,null,{"$f":"IF(AND($A27<>\"\",(AQ27+AR27)>0),     IF(AR$13=\"Nm3\",(AS$12*1000*1000/((AQ$242+AR$242+AQ$243+AR$243)*1000*  $K27 * Data!$B$6)),  (AS$12*1000*1000/(((AQ$242+AR$242+AQ$243+AR$243)/Denscalc($K27))*1000*  $K27 * Data!$B$6)) ), 0     )","v":0},12,null,null,{"$f":"IF(AND($A27<>\"\",(AU27+AV27)>0),     IF(AV$13=\"Nm3\",(AW$12*1000*1000/((AU$242+AV$242+AU$243+AV$243)*1000*  $K27 * Data!$B$6)),  (AW$12*1000*1000/(((AU$242+AV$242+AU$243+AV$243)/Denscalc($K27))*1000*  $K27 * Data!$B$6)) ), 0   )","v":0},12,null,null,{"$f":"IF(AND(BA$11>0,$A27<>\"\",(AY27+AZ27)>0), BA$11, IF(AND($A27<>\"\",(AY27+AZ27)>0),\nIF(AZ$13=\"Nm3\",(BA$6*1000*1000/((AY$242+AZ$242+AY$243+AZ$243)*1000*$K27*Data!$B$6))+((BA$12-BA$6)*1000*1000/((AY$242+AZ$242+AY$243+AZ$243-AY$241-AZ$241)*1000*$K27*Data!$B$6)),\n(BA$6*1000*1000/(((AY$242+AZ$242+AY$243+AZ$243)/Denscalc($K27))*1000*$K27*Data!$B$6))+((BA$12-BA$6)*1000*1000/(((AY$242+AZ$242+AY$243+AZ$243-AY$241-AZ$241)/Denscalc($K27))*1000*$K27*Data!$B$6))),0))","v":0},12,null,null,{"$f":"IF(AND(BE$11>0,$A27<>\"\",(BC27+BD27)>0), BE$11, IF(AND($A27<>\"\",(BC27+BD27)>0),\n (BE$6*1000*1000/((BC$244+BD$244)*1000* Data!$B$7))+ ((BE$12-BE$6)*1000*1000/((BC$244+BD$244-BC$241-BD$241)*1000* Data!$B$7)),0))","v":0},12,{"$f":"IF(A27<>\"\", (Data!$B$127*1000*Data!$B$3)/Data!$B$7,  \"\")","v":""},"","",{"$f":"IF(A27<>\"\",  ROUND( (Data!$B$8-BI27)/Data!$B$8,3),   \"\")","v":""},"","","","",{"$f":"IF(A27<>\"\",  IF(TYPE(BN27)=1, ROUND( (Data!$B$8-BN27)/Data!$B$8,3),   \"\"),\"\")","v":""},"",12,"","","",null,""]
[{"$f":"Uppgradering!A19","v":""},13,{"$f":"Uppgradering!C19","v":""},{"$f":"Uppgradering!D19","v":""},{"$f":"Uppgradering!E19","v":""},{"$f":"Uppgradering!F19","v":""},{"$f":"Uppgradering!AU19","v":""},{"$f":"Uppgradering!AS19","v":""},{"$f":"Uppgradering!AP19","v":""},{"$f":"Uppgradering!AO19","v":""},{"$f":"Uppgradering!AT19","v":""},{"$f":"Uppgradering!AW19","v":""},"",null,null,null,{"$f":"IF(AND($A28<>\"\",(O28+P28)>0),    IF(P$13=\"Nm3\",(Q$12*1000*1000/((O$242+P$242+O$243+P$243)*1000*  $K28 * Data!$B$6)),  (Q$12*1000*1000/(((O$242+P$242+O$243+P$243)/Denscalc($K28))*1000*  $K28 * Data!$B$6)) ), 0    )","v":0},13,null,null,{"$f":"IF(AND($A28<>\"\",(S28+T28)>0),    IF(T$13=\"Nm3\",(U$12*1000*1000/((S$242+T$242+S$243+T$243)*1000*  $K28 * Data!$B$6)),  (U$12*1000*1000/(((S$242+T$242+S$243+T$243)/Denscalc($K28))*1000*  $K28 * Data!$B$6)) ), 0     )","v":0},13,null,null,{"$f":"IF(AND($A28<>\"\",(W28+X28)>0),     IF(X$13=\"Nm3\",(Y$12*1000*1000/((W$242+X$242+W$243+X$243)*1000*  $K28 * Data!$B$6)),  (Y$12*1000*1000/(((W$242+X$242+W$243+X$243)/Denscalc($K28))*1000*  $K28 * Data!$B$6)) ), 0   )","v":0},13,null,null,{"$f":"IF(AND($A28<>\"\",(AA28+AB28)>0),     IF(AB$13=\"Nm3\",(AC$12*1000*1000/((AA$242+AB$242+AA$243+AB$243)*1000*  $K28 * Data!$B$6)),  (AC$12*1000*1000/(((AA$242+AB$242+AA$243+AB$243)/Denscalc($K28))*1000*  $K28 * Data!$B$6)) ), 0     )","v":0},13,null,null,{"$f":"IF(AND($A28<>\"\",(AE28+AF28)>0),     IF(AF$13=\"Nm3\",(AG$12*1000*1000/((AE$242+AF$242+AE$243+AF$243)*1000*  $K28 * Data!$B$6)),  (AG$12*1000*1000/(((AE$242+AF$242+AE$243+AF$243)/Denscalc($K28))*1000*  $K28 * Data!$B$6)) ), 0    )","v":0},13,null,null,{"$f":"IF(AND($A28<>\"\",(AI28+AJ28)>0),    IF(AJ$13=\"Nm3\",(AK$12*1000*1000/((AI$242+AJ$242+AI$243+AJ$243)*1000*  $K28 * Data!$B$6)),  (AK$12*1000*1000/(((AI$242+AJ$242+AI$243+AJ$243)/Denscalc($K28))*1000*  $K28 * Data!$B$6)) ), 0    )","v":0},13,null,null,{"$f":"IF(AND($A28<>\"\",(AM28+AN28)>0),     IF(AN$13=\"Nm3\",(AO$12*1000*1000/((AM$242+AN$242+AM$243+AN$243)*1000*  $K28 * Data!$B$6)),  (AO$12*1000*1000/(((AM$242+AN$242+AM$243+AN$243)/Denscalc($K28))*1000*  $K28 * Data!$B$6)) ), 0    )","v":0},13,null,null,{"$f":"IF(AND($A28<>\"\",(AQ28+AR28)>0),     IF(AR$13=\"Nm3\",(AS$12*1000*1000/((AQ$242+AR$242+AQ$243+AR$243)*1000*  $K28 * Data!$B$6)),  (AS$12*1000*1000/(((AQ$242+AR$242+AQ$243+AR$243)/Denscalc($K28))*1000*  $K28 * Data!$B$6)) ), 0     )","v":0},13,null,null,{"$f":"IF(AND($A28<>\"\",(AU28+AV28)>0),     IF(AV$13=\"Nm3\",(AW$12*1000*1000/((AU$242+AV$242+AU$243+AV$243)*1000*  $K28 * Data!$B$6)),  (AW$12*1000*1000/(((AU$242+AV$242+AU$243+AV$243)/Denscalc($K28))*1000*  $K28 * Data!$B$6)) ), 0   )","v":0},13,null,null,{"$f":"IF(AND(BA$11>0,$A28<>\"\",(AY28+AZ28)>0), BA$11, IF(AND($A28<>\"\",(AY28+AZ28)>0),\nIF(AZ$13=\"Nm3\",(BA$6*1000*1000/((AY$242+AZ$242+AY$243+AZ$243)*1000*$K28*Data!$B$6))+((BA$12-BA$6)*1000*1000/((AY$242+AZ$242+AY$243+AZ$243-AY$241-AZ$241)*1000*$K28*Data!$B$6)),\n(BA$6*1000*1000/(((AY$242+AZ$242+AY$243+AZ$243)/Denscalc($K28))*1000*$K28*Data!$B$6))+((BA$12-BA$6)*1000*1000/(((AY$242+AZ$242+AY$243+AZ$243-AY$241-AZ$241)/Denscalc($K28))*1000*$K28*Data!$B$6))),0))","v":0},13,null,null,{"$f":"IF(AND(BE$11>0,$A28<>\"\",(BC28+BD28)>0), BE$11, IF(AND($A28<>\"\",(BC28+BD28)>0),\n (BE$6*1000*1000/((BC$244+BD$244)*1000* Data!$B$7))+ ((BE$12-BE$6)*1000*1000/((BC$244+BD$244-BC$241-BD$241)*1000* Data!$B$7)),0))","v":0},13,{"$f":"IF(A28<>\"\", (Data!$B$127*1000*Data!$B$3)/Data!$B$7,  \"\")","v":""},"","",{"$f":"IF(A28<>\"\",  ROUND( (Data!$B$8-BI28)/Data!$B$8,3),   \"\")","v":""},"","","","",{"$f":"IF(A28<>\"\",  IF(TYPE(BN28)=1, ROUND( (Data!$B$8-BN28)/Data!$B$8,3),   \"\"),\"\")","v":""},"",13,"","","",null,""]
[{"$f":"Uppgradering!A20","v":""},14,{"$f":"Uppgradering!C20","v":""},{"$f":"Uppgradering!D20","v":""},{"$f":"Uppgradering!E20","v":""},{"$f":"Uppgradering!F20","v":""},{"$f":"Uppgradering!AU20","v":""},{"$f":"Uppgradering!AS20","v":""},{"$f":"Uppgradering!AP20","v":""},{"$f":"Uppgradering!AO20","v":""},{"$f":"Uppgradering!AT20","v":""},{"$f":"Uppgradering!AW20","v":""},"",null,null,null,{"$f":"IF(AND($A29<>\"\",(O29+P29)>0),    IF(P$13=\"Nm3\",(Q$12*1000*1000/((O$242+P$242+O$243+P$243)*1000*  $K29 * Data!$B$6)),  (Q$12*1000*1000/(((O$242+P$242+O$243+P$243)/Denscalc($K29))*1000*  $K29 * Data!$B$6)) ), 0    )","v":0},14,null,null,{"$f":"IF(AND($A29<>\"\",(S29+T29)>0),    IF(T$13=\"Nm3\",(U$12*1000*1000/((S$242+T$242+S$243+T$243)*1000*  $K29 * Data!$B$6)),  (U$12*1000*1000/(((S$242+T$242+S$243+T$243)/Denscalc($K29))*1000*  $K29 * Data!$B$6)) ), 0     )","v":0},14,null,null,{"$f":"IF(AND($A29<>\"\",(W29+X29)>0),     IF(X$13=\"Nm3\",(Y$12*1000*1000/((W$242+X$242+W$243+X$243)*1000*  $K29 * Data!$B$6)),  (Y$12*1000*1000/(((W$242+X$242+W$243+X$243)/Denscalc($K29))*1000*  $K29 * Data!$B$6)) ), 0   )","v":0},14,null,null,{"$f":"IF(AND($A29<>\"\",(AA29+AB29)>0),     IF(AB$13=\"Nm3\",(AC$12*1000*1000/((AA$242+AB$242+AA$243+AB$243)*1000*  $K29 * Data!$B$6)),  (AC$12*1000*1000/(((AA$242+AB$242+AA$243+AB$243)/Denscalc($K29))*1000*  $K29 * Data!$B$6)) ), 0     )","v":0},14,null,null,{"$f":"IF(AND($A29<>\"\",(AE29+AF29)>0),     IF(AF$13=\"Nm3\",(AG$12*1000*1000/((AE$242+AF$242+AE$243+AF$243)*1000*  $K29 * Data!$B$6)),  (AG$12*1000*1000/(((AE$242+AF$242+AE$243+AF$243)/Denscalc($K29))*1000*  $K29 * Data!$B$6)) ), 0    )","v":0},14,null,null,{"$f":"IF(AND($A29<>\"\",(AI29+AJ29)>0),    IF(AJ$13=\"Nm3\",(AK$12*1000*1000/((AI$242+AJ$242+AI$243+AJ$243)*1000*  $K29 * Data!$B$6)),  (AK$12*1000*1000/(((AI$242+AJ$242+AI$243+AJ$243)/Denscalc($K29))*1000*  $K29 * Data!$B$6)) ), 0    )","v":0},14,null,null,{"$f":"IF(AND($A29<>\"\",(AM29+AN29)>0),     IF(AN$13=\"Nm3\",(AO$12*1000*1000/((AM$242+AN$242+AM$243+AN$243)*1000*  $K29 * Data!$B$6)),  (AO$12*1000*1000/(((AM$242+AN$242+AM$243+AN$243)/Denscalc($K29))*1000*  $K29 * Data!$B$6)) ), 0    )","v":0},14,null,null,{"$f":"IF(AND($A29<>\"\",(AQ29+AR29)>0),     IF(AR$13=\"Nm3\",(AS$12*1000*1000/((AQ$242+AR$242+AQ$243+AR$243)*1000*  $K29 * Data!$B$6)),  (AS$12*1000*1000/(((AQ$242+AR$242+AQ$243+AR$243)/Denscalc($K29))*1000*  $K29 * Data!$B$6)) ), 0     )","v":0},14,null,null,{"$f":"IF(AND($A29<>\"\",(AU29+AV29)>0),     IF(AV$13=\"Nm3\",(AW$12*1000*1000/((AU$242+AV$242+AU$243+AV$243)*1000*  $K29 * Data!$B$6)),  (AW$12*1000*1000/(((AU$242+AV$242+AU$243+AV$243)/Denscalc($K29))*1000*  $K29 * Data!$B$6)) ), 0   )","v":0},14,null,null,{"$f":"IF(AND(BA$11>0,$A29<>\"\",(AY29+AZ29)>0), BA$11, IF(AND($A29<>\"\",(AY29+AZ29)>0),\nIF(AZ$13=\"Nm3\",(BA$6*1000*1000/((AY$242+AZ$242+AY$243+AZ$243)*1000*$K29*Data!$B$6))+((BA$12-BA$6)*1000*1000/((AY$242+AZ$242+AY$243+AZ$243-AY$241-AZ$241)*1000*$K29*Data!$B$6)),\n(BA$6*1000*1000/(((AY$242+AZ$242+AY$243+AZ$243)/Denscalc($K29))*1000*$K29*Data!$B$6))+((BA$12-BA$6)*1000*1000/(((AY$242+AZ$242+AY$243+AZ$243-AY$241-AZ$241)/Denscalc($K29))*1000*$K29*Data!$B$6))),0))","v":0},14,null,null,{"$f":"IF(AND(BE$11>0,$A29<>\"\",(BC29+BD29)>0), BE$11, IF(AND($A29<>\"\",(BC29+BD29)>0),\n (BE$6*1000*1000/((BC$244+BD$244)*1000* Data!$B$7))+ ((BE$12-BE$6)*1000*1000/((BC$244+BD$244-BC$241-BD$241)*1000* Data!$B$7)),0))","v":0},14,{"$f":"IF(A29<>\"\", (Data!$B$127*1000*Data!$B$3)/Data!$B$7,  \"\")","v":""},"","",{"$f":"IF(A29<>\"\",  ROUND( (Data!$B$8-BI29)/Data!$B$8,3),   \"\")","v":""},"","","","",{"$f":"IF(A29<>\"\",  IF(TYPE(BN29)=1, ROUND( (Data!$B$8-BN29)/Data!$B$8,3),   \"\"),\"\")","v":""},"",14,"","","",null,""]
[{"$f":"Uppgradering!A21","v":""},15,{"$f":"Uppgradering!C21","v":""},{"$f":"Uppgradering!D21","v":""},{"$f":"Uppgradering!E21","v":""},{"$f":"Uppgradering!F21","v":""},{"$f":"Uppgradering!AU21","v":""},{"$f":"Uppgradering!AS21","v":""},{"$f":"Uppgradering!AP21","v":""},{"$f":"Uppgradering!AO21","v":""},{"$f":"Uppgradering!AT21","v":""},{"$f":"Uppgradering!AW21","v":""},"",null,null,null,{"$f":"IF(AND($A30<>\"\",(O30+P30)>0),    IF(P$13=\"Nm3\",(Q$12*1000*1000/((O$242+P$242+O$243+P$243)*1000*  $K30 * Data!$B$6)),  (Q$12*1000*1000/(((O$242+P$242+O$243+P$243)/Denscalc($K30))*1000*  $K30 * Data!$B$6)) ), 0    )","v":0},15,null,null,{"$f":"IF(AND($A30<>\"\",(S30+T30)>0),    IF(T$13=\"Nm3\",(U$12*1000*1000/((S$242+T$242+S$243+T$243)*1000*  $K30 * Data!$B$6)),  (U$12*1000*1000/(((S$242+T$242+S$243+T$243)/Denscalc($K30))*1000*  $K30 * Data!$B$6)) ), 0     )","v":0},15,null,null,{"$f":"IF(AND($A30<>\"\",(W30+X30)>0),     IF(X$13=\"Nm3\",(Y$12*1000*1000/((W$242+X$242+W$243+X$243)*1000*  $K30 * Data!$B$6)),  (Y$12*1000*1000/(((W$242+X$242+W$243+X$243)/Denscalc($K30))*1000*  $K30 * Data!$B$6)) ), 0   )","v":0},15,null,null,{"$f":"IF(AND($A30<>\"\",(AA30+AB30)>0),     IF(AB$13=\"Nm3\",(AC$12*1000*1000/((AA$242+AB$242+AA$243+AB$243)*1000*  $K30 * Data!$B$6)),  (AC$12*1000*1000/(((AA$242+AB$242+AA$243+AB$243)/Denscalc($K30))*1000*  $K30 * Data!$B$6)) ), 0     )","v":0},15,null,null,{"$f":"IF(AND($A30<>\"\",(AE30+AF30)>0),     IF(AF$13=\"Nm3\",(AG$12*1000*1000/((AE$242+AF$242+AE$243+AF$243)*1000*  $K30 * Data!$B$6)),  (AG$12*1000*1000/(((AE$242+AF$242+AE$243+AF$243)/Denscalc($K30))*1000*  $K30 * Data!$B$6)) ), 0    )","v":0},15,null,null,{"$f":"IF(AND($A30<>\"\",(AI30+AJ30)>0),    IF(AJ$13=\"Nm3\",(AK$12*1000*1000/((AI$242+AJ$242+AI$243+AJ$243)*1000*  $K30 * Data!$B$6)),  (AK$12*1000*1000/(((AI$242+AJ$242+AI$243+AJ$243)/Denscalc($K30))*1000*  $K30 * Data!$B$6)) ), 0    )","v":0},15,null,null,{"$f":"IF(AND($A30<>\"\",(AM30+AN30)>0),     IF(AN$13=\"Nm3\",(AO$12*1000*1000/((AM$242+AN$242+AM$243+AN$243)*1000*  $K30 * Data!$B$6)),  (AO$12*1000*1000/(((AM$242+AN$242+AM$243+AN$243)/Denscalc($K30))*1000*  $K30 * Data!$B$6)) ), 0    )","v":0},15,null,null,{"$f":"IF(AND($A30<>\"\",(AQ30+AR30)>0),     IF(AR$13=\"Nm3\",(AS$12*1000*1000/((AQ$242+AR$242+AQ$243+AR$243)*1000*  $K30 * Data!$B$6)),  (AS$12*1000*1000/(((AQ$242+AR$242+AQ$243+AR$243)/Denscalc($K30))*1000*  $K30 * Data!$B$6)) ), 0     )","v":0},15,null,null,{"$f":"IF(AND($A30<>\"\",(AU30+AV30)>0),     IF(AV$13=\"Nm3\",(AW$12*1000*1000/((AU$242+AV$242+AU$243+AV$243)*1000*  $K30 * Data!$B$6)),  (AW$12*1000*1000/(((AU$242+AV$242+AU$243+AV$243)/Denscalc($K30))*1000*  $K30 * Data!$B$6)) ), 0   )","v":0},15,null,null,{"$f":"IF(AND(BA$11>0,$A30<>\"\",(AY30+AZ30)>0), BA$11, IF(AND($A30<>\"\",(AY30+AZ30)>0),\nIF(AZ$13=\"Nm3\",(BA$6*1000*1000/((AY$242+AZ$242+AY$243+AZ$243)*1000*$K30*Data!$B$6))+((BA$12-BA$6)*1000*1000/((AY$242+AZ$242+AY$243+AZ$243-AY$241-AZ$241)*1000*$K30*Data!$B$6)),\n(BA$6*1000*1000/(((AY$242+AZ$242+AY$243+AZ$243)/Denscalc($K30))*1000*$K30*Data!$B$6))+((BA$12-BA$6)*1000*1000/(((AY$242+AZ$242+AY$243+AZ$243-AY$241-AZ$241)/Denscalc($K30))*1000*$K30*Data!$B$6))),0))","v":0},15,null,null,{"$f":"IF(AND(BE$11>0,$A30<>\"\",(BC30+BD30)>0), BE$11, IF(AND($A30<>\"\",(BC30+BD30)>0),\n (BE$6*1000*1000/((BC$244+BD$244)*1000* Data!$B$7))+ ((BE$12-BE$6)*1000*1000/((BC$244+BD$244-BC$241-BD$241)*1000* Data!$B$7)),0))","v":0},15,{"$f":"IF(A30<>\"\", (Data!$B$127*1000*Data!$B$3)/Data!$B$7,  \"\")","v":""},"","",{"$f":"IF(A30<>\"\",  ROUND( (Data!$B$8-BI30)/Data!$B$8,3),   \"\")","v":""},"","","","",{"$f":"IF(A30<>\"\",  IF(TYPE(BN30)=1, ROUND( (Data!$B$8-BN30)/Data!$B$8,3),   \"\"),\"\")","v":""},"",15,"","","",null,""]
[{"$f":"Uppgradering!A22","v":""},16,{"$f":"Uppgradering!C22","v":""},{"$f":"Uppgradering!D22","v":""},{"$f":"Uppgradering!E22","v":""},{"$f":"Uppgradering!F22","v":""},{"$f":"Uppgradering!AU22","v":""},{"$f":"Uppgradering!AS22","v":""},{"$f":"Uppgradering!AP22","v":""},{"$f":"Uppgradering!AO22","v":""},{"$f":"Uppgradering!AT22","v":""},{"$f":"Uppgradering!AW22","v":""},"",null,null,null,{"$f":"IF(AND($A31<>\"\",(O31+P31)>0),    IF(P$13=\"Nm3\",(Q$12*1000*1000/((O$242+P$242+O$243+P$243)*1000*  $K31 * Data!$B$6)),  (Q$12*1000*1000/(((O$242+P$242+O$243+P$243)/Denscalc($K31))*1000*  $K31 * Data!$B$6)) ), 0    )","v":0},16,null,null,{"$f":"IF(AND($A31<>\"\",(S31+T31)>0),    IF(T$13=\"Nm3\",(U$12*1000*1000/((S$242+T$242+S$243+T$243)*1000*  $K31 * Data!$B$6)),  (U$12*1000*1000/(((S$242+T$242+S$243+T$243)/Denscalc($K31))*1000*  $K31 * Data!$B$6)) ), 0     )","v":0},16,null,null,{"$f":"IF(AND($A31<>\"\",(W31+X31)>0),     IF(X$13=\"Nm3\",(Y$12*1000*1000/((W$242+X$242+W$243+X$243)*1000*  $K31 * Data!$B$6)),  (Y$12*1000*1000/(((W$242+X$242+W$243+X$243)/Denscalc($K31))*1000*  $K31 * Data!$B$6)) ), 0   )","v":0},16,null,null,{"$f":"IF(AND($A31<>\"\",(AA31+AB31)>0),     IF(AB$13=\"Nm3\",(AC$12*1000*1000/((AA$242+AB$242+AA$243+AB$243)*1000*  $K31 * Data!$B$6)),  (AC$12*1000*1000/(((AA$242+AB$242+AA$243+AB$243)/Denscalc($K31))*1000*  $K31 * Data!$B$6)) ), 0     )","v":0},16,null,null,{"$f":"IF(AND($A31<>\"\",(AE31+AF31)>0),     IF(AF$13=\"Nm3\",(AG$12*1000*1000/((AE$242+AF$242+AE$243+AF$243)*1000*  $K31 * Data!$B$6)),  (AG$12*1000*1000/(((AE$242+AF$242+AE$243+AF$243)/Denscalc($K31))*1000*  $K31 * Data!$B$6)) ), 0    )","v":0},16,null,null,{"$f":"IF(AND($A31<>\"\",(AI31+AJ31)>0),    IF(AJ$13=\"Nm3\",(AK$12*1000*1000/((AI$242+AJ$242+AI$243+AJ$243)*1000*  $K31 * Data!$B$6)),  (AK$12*1000*1000/(((AI$242+AJ$242+AI$243+AJ$243)/Denscalc($K31))*1000*  $K31 * Data!$B$6)) ), 0    )","v":0},16,null,null,{"$f":"IF(AND($A31<>\"\",(AM31+AN31)>0),     IF(AN$13=\"Nm3\",(AO$12*1000*1000/((AM$242+AN$242+AM$243+AN$243)*1000*  $K31 * Data!$B$6)),  (AO$12*1000*1000/(((AM$242+AN$242+AM$243+AN$243)/Denscalc($K31))*1000*  $K31 * Data!$B$6)) ), 0    )","v":0},16,null,null,{"$f":"IF(AND($A31<>\"\",(AQ31+AR31)>0),     IF(AR$13=\"Nm3\",(AS$12*1000*1000/((AQ$242+AR$242+AQ$243+AR$243)*1000*  $K31 * Data!$B$6)),  (AS$12*1000*1000/(((AQ$242+AR$242+AQ$243+AR$243)/Denscalc($K31))*1000*  $K31 * Data!$B$6)) ), 0     )","v":0},16,null,null,{"$f":"IF(AND($A31<>\"\",(AU31+AV31)>0),     IF(AV$13=\"Nm3\",(AW$12*1000*1000/((AU$242+AV$242+AU$243+AV$243)*1000*  $K31 * Data!$B$6)),  (AW$12*1000*1000/(((AU$242+AV$242+AU$243+AV$243)/Denscalc($K31))*1000*  $K31 * Data!$B$6)) ), 0   )","v":0},16,null,null,{"$f":"IF(AND(BA$11>0,$A31<>\"\",(AY31+AZ31)>0), BA$11, IF(AND($A31<>\"\",(AY31+AZ31)>0),\nIF(AZ$13=\"Nm3\",(BA$6*1000*1000/((AY$242+AZ$242+AY$243+AZ$243)*1000*$K31*Data!$B$6))+((BA$12-BA$6)*1000*1000/((AY$242+AZ$242+AY$243+AZ$243-AY$241-AZ$241)*1000*$K31*Data!$B$6)),\n(BA$6*1000*1000/(((AY$242+AZ$242+AY$243+AZ$243)/Denscalc($K31))*1000*$K31*Data!$B$6))+((BA$12-BA$6)*1000*1000/(((AY$242+AZ$242+AY$243+AZ$243-AY$241-AZ$241)/Denscalc($K31))*1000*$K31*Data!$B$6))),0))","v":0},16,null,null,{"$f":"IF(AND(BE$11>0,$A31<>\"\",(BC31+BD31)>0), BE$11, IF(AND($A31<>\"\",(BC31+BD31)>0),\n (BE$6*1000*1000/((BC$244+BD$244)*1000* Data!$B$7))+ ((BE$12-BE$6)*1000*1000/((BC$244+BD$244-BC$241-BD$241)*1000* Data!$B$7)),0))","v":0},16,{"$f":"IF(A31<>\"\", (Data!$B$127*1000*Data!$B$3)/Data!$B$7,  \"\")","v":""},"","",{"$f":"IF(A31<>\"\",  ROUND( (Data!$B$8-BI31)/Data!$B$8,3),   \"\")","v":""},"","","","",{"$f":"IF(A31<>\"\",  IF(TYPE(BN31)=1, ROUND( (Data!$B$8-BN31)/Data!$B$8,3),   \"\"),\"\")","v":""},"",16,"","","",null,""]
[{"$f":"Uppgradering!A23","v":""},17,{"$f":"Uppgradering!C23","v":""},{"$f":"Uppgradering!D23","v":""},{"$f":"Uppgradering!E23","v":""},{"$f":"Uppgradering!F23","v":""},{"$f":"Uppgradering!AU23","v":""},{"$f":"Uppgradering!AS23","v":""},{"$f":"Uppgradering!AP23","v":""},{"$f":"Uppgradering!AO23","v":""},{"$f":"Uppgradering!AT23","v":""},{"$f":"Uppgradering!AW23","v":""},"",null,null,null,{"$f":"IF(AND($A32<>\"\",(O32+P32)>0),    IF(P$13=\"Nm3\",(Q$12*1000*1000/((O$242+P$242+O$243+P$243)*1000*  $K32 * Data!$B$6)),  (Q$12*1000*1000/(((O$242+P$242+O$243+P$243)/Denscalc($K32))*1000*  $K32 * Data!$B$6)) ), 0    )","v":0},17,null,null,{"$f":"IF(AND($A32<>\"\",(S32+T32)>0),    IF(T$13=\"Nm3\",(U$12*1000*1000/((S$242+T$242+S$243+T$243)*1000*  $K32 * Data!$B$6)),  (U$12*1000*1000/(((S$242+T$242+S$243+T$243)/Denscalc($K32))*1000*  $K32 * Data!$B$6)) ), 0     )","v":0},17,null,null,{"$f":"IF(AND($A32<>\"\",(W32+X32)>0),     IF(X$13=\"Nm3\",(Y$12*1000*1000/((W$242+X$242+W$243+X$243)*1000*  $K32 * Data!$B$6)),  (Y$12*1000*1000/(((W$242+X$242+W$243+X$243)/Denscalc($K32))*1000*  $K32 * Data!$B$6)) ), 0   )","v":0},17,null,null,{"$f":"IF(AND($A32<>\"\",(AA32+AB32)>0),     IF(AB$13=\"Nm3\",(AC$12*1000*1000/((AA$242+AB$242+AA$243+AB$243)*1000*  $K32 * Data!$B$6)),  (AC$12*1000*1000/(((AA$242+AB$242+AA$243+AB$243)/Denscalc($K32))*1000*  $K32 * Data!$B$6)) ), 0     )","v":0},17,null,null,{"$f":"IF(AND($A32<>\"\",(AE32+AF32)>0),     IF(AF$13=\"Nm3\",(AG$12*1000*1000/((AE$242+AF$242+AE$243+AF$243)*1000*  $K32 * Data!$B$6)),  (AG$12*1000*1000/(((AE$242+AF$242+AE$243+AF$243)/Denscalc($K32))*1000*  $K32 * Data!$B$6)) ), 0    )","v":0},17,null,null,{"$f":"IF(AND($A32<>\"\",(AI32+AJ32)>0),    IF(AJ$13=\"Nm3\",(AK$12*1000*1000/((AI$242+AJ$242+AI$243+AJ$243)*1000*  $K32 * Data!$B$6)),  (AK$12*1000*1000/(((AI$242+AJ$242+AI$243+AJ$243)/Denscalc($K32))*1000*  $K32 * Data!$B$6)) ), 0    )","v":0},17,null,null,{"$f":"IF(AND($A32<>\"\",(AM32+AN32)>0),     IF(AN$13=\"Nm3\",(AO$12*1000*1000/((AM$242+AN$242+AM$243+AN$243)*1000*  $K32 * Data!$B$6)),  (AO$12*1000*1000/(((AM$242+AN$242+AM$243+AN$243)/Denscalc($K32))*1000*  $K32 * Data!$B$6)) ), 0    )","v":0},17,null,null,{"$f":"IF(AND($A32<>\"\",(AQ32+AR32)>0),     IF(AR$13=\"Nm3\",(AS$12*1000*1000/((AQ$242+AR$242+AQ$243+AR$243)*1000*  $K32 * Data!$B$6)),  (AS$12*1000*1000/(((AQ$242+AR$242+AQ$243+AR$243)/Denscalc($K32))*1000*  $K32 * Data!$B$6)) ), 0     )","v":0},17,null,null,{"$f":"IF(AND($A32<>\"\",(AU32+AV32)>0),     IF(AV$13=\"Nm3\",(AW$12*1000*1000/((AU$242+AV$242+AU$243+AV$243)*1000*  $K32 * Data!$B$6)),  (AW$12*1000*1000/(((AU$242+AV$242+AU$243+AV$243)/Denscalc($K32))*1000*  $K32 * Data!$B$6)) ), 0   )","v":0},17,null,null,{"$f":"IF(AND(BA$11>0,$A32<>\"\",(AY32+AZ32)>0), BA$11, IF(AND($A32<>\"\",(AY32+AZ32)>0),\nIF(AZ$13=\"Nm3\",(BA$6*1000*1000/((AY$242+AZ$242+AY$243+AZ$243)*1000*$K32*Data!$B$6))+((BA$12-BA$6)*1000*1000/((AY$242+AZ$242+AY$243+AZ$243-AY$241-AZ$241)*1000*$K32*Data!$B$6)),\n(BA$6*1000*1000/(((AY$242+AZ$242+AY$243+AZ$243)/Denscalc($K32))*1000*$K32*Data!$B$6))+((BA$12-BA$6)*1000*1000/(((AY$242+AZ$242+AY$243+AZ$243-AY$241-AZ$241)/Denscalc($K32))*1000*$K32*Data!$B$6))),0))","v":0},17,null,null,{"$f":"IF(AND(BE$11>0,$A32<>\"\",(BC32+BD32)>0), BE$11, IF(AND($A32<>\"\",(BC32+BD32)>0),\n (BE$6*1000*1000/((BC$244+BD$244)*1000* Data!$B$7))+ ((BE$12-BE$6)*1000*1000/((BC$244+BD$244-BC$241-BD$241)*1000* Data!$B$7)),0))","v":0},17,{"$f":"IF(A32<>\"\", (Data!$B$127*1000*Data!$B$3)/Data!$B$7,  \"\")","v":""},"","",{"$f":"IF(A32<>\"\",  ROUND( (Data!$B$8-BI32)/Data!$B$8,3),   \"\")","v":""},"","","","",{"$f":"IF(A32<>\"\",  IF(TYPE(BN32)=1, ROUND( (Data!$B$8-BN32)/Data!$B$8,3),   \"\"),\"\")","v":""},"",17,"","","",null,""]
[{"$f":"Uppgradering!A24","v":""},18,{"$f":"Uppgradering!C24","v":""},{"$f":"Uppgradering!D24","v":""},{"$f":"Uppgradering!E24","v":""},{"$f":"Uppgradering!F24","v":""},{"$f":"Uppgradering!AU24","v":""},{"$f":"Uppgradering!AS24","v":""},{"$f":"Uppgradering!AP24","v":""},{"$f":"Uppgradering!AO24","v":""},{"$f":"Uppgradering!AT24","v":""},{"$f":"Uppgradering!AW24","v":""},"",null,null,null,{"$f":"IF(AND($A33<>\"\",(O33+P33)>0),    IF(P$13=\"Nm3\",(Q$12*1000*1000/((O$242+P$242+O$243+P$243)*1000*  $K33 * Data!$B$6)),  (Q$12*1000*1000/(((O$242+P$242+O$243+P$243)/Denscalc($K33))*1000*  $K33 * Data!$B$6)) ), 0    )","v":0},18,null,null,{"$f":"IF(AND($A33<>\"\",(S33+T33)>0),    IF(T$13=\"Nm3\",(U$12*1000*1000/((S$242+T$242+S$243+T$243)*1000*  $K33 * Data!$B$6)),  (U$12*1000*1000/(((S$242+T$242+S$243+T$243)/Denscalc($K33))*1000*  $K33 * Data!$B$6)) ), 0     )","v":0},18,null,null,{"$f":"IF(AND($A33<>\"\",(W33+X33)>0),     IF(X$13=\"Nm3\",(Y$12*1000*1000/((W$242+X$242+W$243+X$243)*1000*  $K33 * Data!$B$6)),  (Y$12*1000*1000/(((W$242+X$242+W$243+X$243)/Denscalc($K33))*1000*  $K33 * Data!$B$6)) ), 0   )","v":0},18,null,null,{"$f":"IF(AND($A33<>\"\",(AA33+AB33)>0),     IF(AB$13=\"Nm3\",(AC$12*1000*1000/((AA$242+AB$242+AA$243+AB$243)*1000*  $K33 * Data!$B$6)),  (AC$12*1000*1000/(((AA$242+AB$242+AA$243+AB$243)/Denscalc($K33))*1000*  $K33 * Data!$B$6)) ), 0     )","v":0},18,null,null,{"$f":"IF(AND($A33<>\"\",(AE33+AF33)>0),     IF(AF$13=\"Nm3\",(AG$12*1000*1000/((AE$242+AF$242+AE$243+AF$243)*1000*  $K33 * Data!$B$6)),  (AG$12*1000*1000/(((AE$242+AF$242+AE$243+AF$243)/Denscalc($K33))*1000*  $K33 * Data!$B$6)) ), 0    )","v":0},18,null,null,{"$f":"IF(AND($A33<>\"\",(AI33+AJ33)>0),    IF(AJ$13=\"Nm3\",(AK$12*1000*1000/((AI$242+AJ$242+AI$243+AJ$243)*1000*  $K33 * Data!$B$6)),  (AK$12*1000*1000/(((AI$242+AJ$242+AI$243+AJ$243)/Denscalc($K33))*1000*  $K33 * Data!$B$6)) ), 0    )","v":0},18,null,null,{"$f":"IF(AND($A33<>\"\",(AM33+AN33)>0),     IF(AN$13=\"Nm3\",(AO$12*1000*1000/((AM$242+AN$242+AM$243+AN$243)*1000*  $K33 * Data!$B$6)),  (AO$12*1000*1000/(((AM$242+AN$242+AM$243+AN$243)/Denscalc($K33))*1000*  $K33 * Data!$B$6)) ), 0    )","v":0},18,null,null,{"$f":"IF(AND($A33<>\"\",(AQ33+AR33)>0),     IF(AR$13=\"Nm3\",(AS$12*1000*1000/((AQ$242+AR$242+AQ$243+AR$243)*1000*  $K33 * Data!$B$6)),  (AS$12*1000*1000/(((AQ$242+AR$242+AQ$243+AR$243)/Denscalc($K33))*1000*  $K33 * Data!$B$6)) ), 0     )","v":0},18,null,null,{"$f":"IF(AND($A33<>\"\",(AU33+AV33)>0),     IF(AV$13=\"Nm3\",(AW$12*1000*1000/((AU$242+AV$242+AU$243+AV$243)*1000*  $K33 * Data!$B$6)),  (AW$12*1000*1000/(((AU$242+AV$242+AU$243+AV$243)/Denscalc($K33))*1000*  $K33 * Data!$B$6)) ), 0   )","v":0},18,null,null,{"$f":"IF(AND(BA$11>0,$A33<>\"\",(AY33+AZ33)>0), BA$11, IF(AND($A33<>\"\",(AY33+AZ33)>0),\nIF(AZ$13=\"Nm3\",(BA$6*1000*1000/((AY$242+AZ$242+AY$243+AZ$243)*1000*$K33*Data!$B$6))+((BA$12-BA$6)*1000*1000/((AY$242+AZ$242+AY$243+AZ$243-AY$241-AZ$241)*1000*$K33*Data!$B$6)),\n(BA$6*1000*1000/(((AY$242+AZ$242+AY$243+AZ$243)/Denscalc($K33))*1000*$K33*Data!$B$6))+((BA$12-BA$6)*1000*1000/(((AY$242+AZ$242+AY$243+AZ$243-AY$241-AZ$241)/Denscalc($K33))*1000*$K33*Data!$B$6))),0))","v":0},18,null,null,{"$f":"IF(AND(BE$11>0,$A33<>\"\",(BC33+BD33)>0), BE$11, IF(AND($A33<>\"\",(BC33+BD33)>0),\n (BE$6*1000*1000/((BC$244+BD$244)*1000* Data!$B$7))+ ((BE$12-BE$6)*1000*1000/((BC$244+BD$244-BC$241-BD$241)*1000* Data!$B$7)),0))","v":0},18,{"$f":"IF(A33<>\"\", (Data!$B$127*1000*Data!$B$3)/Data!$B$7,  \"\")","v":""},"","",{"$f":"IF(A33<>\"\",  ROUND( (Data!$B$8-BI33)/Data!$B$8,3),   \"\")","v":""},"","","","",{"$f":"IF(A33<>\"\",  IF(TYPE(BN33)=1, ROUND( (Data!$B$8-BN33)/Data!$B$8,3),   \"\"),\"\")","v":""},"",18,"","","",null,""]
[{"$f":"Uppgradering!A25","v":""},19,{"$f":"Uppgradering!C25","v":""},{"$f":"Uppgradering!D25","v":""},{"$f":"Uppgradering!E25","v":""},{"$f":"Uppgradering!F25","v":""},{"$f":"Uppgradering!AU25","v":""},{"$f":"Uppgradering!AS25","v":""},{"$f":"Uppgradering!AP25","v":""},{"$f":"Uppgradering!AO25","v":""},{"$f":"Uppgradering!AT25","v":""},{"$f":"Uppgradering!AW25","v":""},"",null,null,null,{"$f":"IF(AND($A34<>\"\",(O34+P34)>0),    IF(P$13=\"Nm3\",(Q$12*1000*1000/((O$242+P$242+O$243+P$243)*1000*  $K34 * Data!$B$6)),  (Q$12*1000*1000/(((O$242+P$242+O$243+P$243)/Denscalc($K34))*1000*  $K34 * Data!$B$6)) ), 0    )","v":0},19,null,null,{"$f":"IF(AND($A34<>\"\",(S34+T34)>0),    IF(T$13=\"Nm3\",(U$12*1000*1000/((S$242+T$242+S$243+T$243)*1000*  $K34 * Data!$B$6)),  (U$12*1000*1000/(((S$242+T$242+S$243+T$243)/Denscalc($K34))*1000*  $K34 * Data!$B$6)) ), 0     )","v":0},19,null,null,{"$f":"IF(AND($A34<>\"\",(W34+X34)>0),     IF(X$13=\"Nm3\",(Y$12*1000*1000/((W$242+X$242+W$243+X$243)*1000*  $K34 * Data!$B$6)),  (Y$12*1000*1000/(((W$242+X$242+W$243+X$243)/Denscalc($K34))*1000*  $K34 * Data!$B$6)) ), 0   )","v":0},19,null,null,{"$f":"IF(AND($A34<>\"\",(AA34+AB34)>0),     IF(AB$13=\"Nm3\",(AC$12*1000*1000/((AA$242+AB$242+AA$243+AB$243)*1000*  $K34 * Data!$B$6)),  (AC$12*1000*1000/(((AA$242+AB$242+AA$243+AB$243)/Denscalc($K34))*1000*  $K34 * Data!$B$6)) ), 0     )","v":0},19,null,null,{"$f":"IF(AND($A34<>\"\",(AE34+AF34)>0),     IF(AF$13=\"Nm3\",(AG$12*1000*1000/((AE$242+AF$242+AE$243+AF$243)*1000*  $K34 * Data!$B$6)),  (AG$12*1000*1000/(((AE$242+AF$242+AE$243+AF$243)/Denscalc($K34))*1000*  $K34 * Data!$B$6)) ), 0    )","v":0},19,null,null,{"$f":"IF(AND($A34<>\"\",(AI34+AJ34)>0),    IF(AJ$13=\"Nm3\",(AK$12*1000*1000/((AI$242+AJ$242+AI$243+AJ$243)*1000*  $K34 * Data!$B$6)),  (AK$12*1000*1000/(((AI$242+AJ$242+AI$243+AJ$243)/Denscalc($K34))*1000*  $K34 * Data!$B$6)) ), 0    )","v":0},19,null,null,{"$f":"IF(AND($A34<>\"\",(AM34+AN34)>0),     IF(AN$13=\"Nm3\",(AO$12*1000*1000/((AM$242+AN$242+AM$243+AN$243)*1000*  $K34 * Data!$B$6)),  (AO$12*1000*1000/(((AM$242+AN$242+AM$243+AN$243)/Denscalc($K34))*1000*  $K34 * Data!$B$6)) ), 0    )","v":0},19,null,null,{"$f":"IF(AND($A34<>\"\",(AQ34+AR34)>0),     IF(AR$13=\"Nm3\",(AS$12*1000*1000/((AQ$242+AR$242+AQ$243+AR$243)*1000*  $K34 * Data!$B$6)),  (AS$12*1000*1000/(((AQ$242+AR$242+AQ$243+AR$243)/Denscalc($K34))*1000*  $K34 * Data!$B$6)) ), 0     )","v":0},19,null,null,{"$f":"IF(AND($A34<>\"\",(AU34+AV34)>0),     IF(AV$13=\"Nm3\",(AW$12*1000*1000/((AU$242+AV$242+AU$243+AV$243)*1000*  $K34 * Data!$B$6)),  (AW$12*1000*1000/(((AU$242+AV$242+AU$243+AV$243)/Denscalc($K34))*1000*  $K34 * Data!$B$6)) ), 0   )","v":0},19,null,null,{"$f":"IF(AND(BA$11>0,$A34<>\"\",(AY34+AZ34)>0), BA$11, IF(AND($A34<>\"\",(AY34+AZ34)>0),\nIF(AZ$13=\"Nm3\",(BA$6*1000*1000/((AY$242+AZ$242+AY$243+AZ$243)*1000*$K34*Data!$B$6))+((BA$12-BA$6)*1000*1000/((AY$242+AZ$242+AY$243+AZ$243-AY$241-AZ$241)*1000*$K34*Data!$B$6)),\n(BA$6*1000*1000/(((AY$242+AZ$242+AY$243+AZ$243)/Denscalc($K34))*1000*$K34*Data!$B$6))+((BA$12-BA$6)*1000*1000/(((AY$242+AZ$242+AY$243+AZ$243-AY$241-AZ$241)/Denscalc($K34))*1000*$K34*Data!$B$6))),0))","v":0},19,null,null,{"$f":"IF(AND(BE$11>0,$A34<>\"\",(BC34+BD34)>0), BE$11, IF(AND($A34<>\"\",(BC34+BD34)>0),\n (BE$6*1000*1000/((BC$244+BD$244)*1000* Data!$B$7))+ ((BE$12-BE$6)*1000*1000/((BC$244+BD$244-BC$241-BD$241)*1000* Data!$B$7)),0))","v":0},19,{"$f":"IF(A34<>\"\", (Data!$B$127*1000*Data!$B$3)/Data!$B$7,  \"\")","v":""},"","",{"$f":"IF(A34<>\"\",  ROUND( (Data!$B$8-BI34)/Data!$B$8,3),   \"\")","v":""},"","","","",{"$f":"IF(A34<>\"\",  IF(TYPE(BN34)=1, ROUND( (Data!$B$8-BN34)/Data!$B$8,3),   \"\"),\"\")","v":""},"",19,"","","",null,""]
[{"$f":"Uppgradering!A26","v":""},20,{"$f":"Uppgradering!C26","v":""},{"$f":"Uppgradering!D26","v":""},{"$f":"Uppgradering!E26","v":""},{"$f":"Uppgradering!F26","v":""},{"$f":"Uppgradering!AU26","v":""},{"$f":"Uppgradering!AS26","v":""},{"$f":"Uppgradering!AP26","v":""},{"$f":"Uppgradering!AO26","v":""},{"$f":"Uppgradering!AT26","v":""},{"$f":"Uppgradering!AW26","v":""},"",null,null,null,{"$f":"IF(AND($A35<>\"\",(O35+P35)>0),    IF(P$13=\"Nm3\",(Q$12*1000*1000/((O$242+P$242+O$243+P$243)*1000*  $K35 * Data!$B$6)),  (Q$12*1000*1000/(((O$242+P$242+O$243+P$243)/Denscalc($K35))*1000*  $K35 * Data!$B$6)) ), 0    )","v":0},20,null,null,{"$f":"IF(AND($A35<>\"\",(S35+T35)>0),    IF(T$13=\"Nm3\",(U$12*1000*1000/((S$242+T$242+S$243+T$243)*1000*  $K35 * Data!$B$6)),  (U$12*1000*1000/(((S$242+T$242+S$243+T$243)/Denscalc($K35))*1000*  $K35 * Data!$B$6)) ), 0     )","v":0},20,null,null,{"$f":"IF(AND($A35<>\"\",(W35+X35)>0),     IF(X$13=\"Nm3\",(Y$12*1000*1000/((W$242+X$242+W$243+X$243)*1000*  $K35 * Data!$B$6)),  (Y$12*1000*1000/(((W$242+X$242+W$243+X$243)/Denscalc($K35))*1000*  $K35 * Data!$B$6)) ), 0   )","v":0},20,null,null,{"$f":"IF(AND($A35<>\"\",(AA35+AB35)>0),     IF(AB$13=\"Nm3\",(AC$12*1000*1000/((AA$242+AB$242+AA$243+AB$243)*1000*  $K35 * Data!$B$6)),  (AC$12*1000*1000/(((AA$242+AB$242+AA$243+AB$243)/Denscalc($K35))*1000*  $K35 * Data!$B$6)) ), 0     )","v":0},20,null,null,{"$f":"IF(AND($A35<>\"\",(AE35+AF35)>0),     IF(AF$13=\"Nm3\",(AG$12*1000*1000/((AE$242+AF$242+AE$243+AF$243)*1000*  $K35 * Data!$B$6)),  (AG$12*1000*1000/(((AE$242+AF$242+AE$243+AF$243)/Denscalc($K35))*1000*  $K35 * Data!$B$6)) ), 0    )","v":0},20,null,null,{"$f":"IF(AND($A35<>\"\",(AI35+AJ35)>0),    IF(AJ$13=\"Nm3\",(AK$12*1000*1000/((AI$242+AJ$242+AI$243+AJ$243)*1000*  $K35 * Data!$B$6)),  (AK$12*1000*1000/(((AI$242+AJ$242+AI$243+AJ$243)/Denscalc($K35))*1000*  $K35 * Data!$B$6)) ), 0    )","v":0},20,null,null,{"$f":"IF(AND($A35<>\"\",(AM35+AN35)>0),     IF(AN$13=\"Nm3\",(AO$12*1000*1000/((AM$242+AN$242+AM$243+AN$243)*1000*  $K35 * Data!$B$6)),  (AO$12*1000*1000/(((AM$242+AN$242+AM$243+AN$243)/Denscalc($K35))*1000*  $K35 * Data!$B$6)) ), 0    )","v":0},20,null,null,{"$f":"IF(AND($A35<>\"\",(AQ35+AR35)>0),     IF(AR$13=\"Nm3\",(AS$12*1000*1000/((AQ$242+AR$242+AQ$243+AR$243)*1000*  $K35 * Data!$B$6)),  (AS$12*1000*1000/(((AQ$242+AR$242+AQ$243+AR$243)/Denscalc($K35))*1000*  $K35 * Data!$B$6)) ), 0     )","v":0},20,null,null,{"$f":"IF(AND($A35<>\"\",(AU35+AV35)>0),     IF(AV$13=\"Nm3\",(AW$12*1000*1000/((AU$242+AV$242+AU$243+AV$243)*1000*  $K35 * Data!$B$6)),  (AW$12*1000*1000/(((AU$242+AV$242+AU$243+AV$243)/Denscalc($K35))*1000*  $K35 * Data!$B$6)) ), 0   )","v":0},20,null,null,{"$f":"IF(AND(BA$11>0,$A35<>\"\",(AY35+AZ35)>0), BA$11, IF(AND($A35<>\"\",(AY35+AZ35)>0),\nIF(AZ$13=\"Nm3\",(BA$6*1000*1000/((AY$242+AZ$242+AY$243+AZ$243)*1000*$K35*Data!$B$6))+((BA$12-BA$6)*1000*1000/((AY$242+AZ$242+AY$243+AZ$243-AY$241-AZ$241)*1000*$K35*Data!$B$6)),\n(BA$6*1000*1000/(((AY$242+AZ$242+AY$243+AZ$243)/Denscalc($K35))*1000*$K35*Data!$B$6))+((BA$12-BA$6)*1000*1000/(((AY$242+AZ$242+AY$243+AZ$243-AY$241-AZ$241)/Denscalc($K35))*1000*$K35*Data!$B$6))),0))","v":0},20,null,null,{"$f":"IF(AND(BE$11>0,$A35<>\"\",(BC35+BD35)>0), BE$11, IF(AND($A35<>\"\",(BC35+BD35)>0),\n (BE$6*1000*1000/((BC$244+BD$244)*1000* Data!$B$7))+ ((BE$12-BE$6)*1000*1000/((BC$244+BD$244-BC$241-BD$241)*1000* Data!$B$7)),0))","v":0},20,{"$f":"IF(A35<>\"\", (Data!$B$127*1000*Data!$B$3)/Data!$B$7,  \"\")","v":""},"","",{"$f":"IF(A35<>\"\",  ROUND( (Data!$B$8-BI35)/Data!$B$8,3),   \"\")","v":""},"","","","",{"$f":"IF(A35<>\"\",  IF(TYPE(BN35)=1, ROUND( (Data!$B$8-BN35)/Data!$B$8,3),   \"\"),\"\")","v":""},"",20,"","","",null,""]
[{"$f":"Uppgradering!A27","v":""},21,{"$f":"Uppgradering!C27","v":""},{"$f":"Uppgradering!D27","v":""},{"$f":"Uppgradering!E27","v":""},{"$f":"Uppgradering!F27","v":""},{"$f":"Uppgradering!AU27","v":""},{"$f":"Uppgradering!AS27","v":""},{"$f":"Uppgradering!AP27","v":""},{"$f":"Uppgradering!AO27","v":""},{"$f":"Uppgradering!AT27","v":""},{"$f":"Uppgradering!AW27","v":""},"",null,null,null,{"$f":"IF(AND($A36<>\"\",(O36+P36)>0),    IF(P$13=\"Nm3\",(Q$12*1000*1000/((O$242+P$242+O$243+P$243)*1000*  $K36 * Data!$B$6)),  (Q$12*1000*1000/(((O$242+P$242+O$243+P$243)/Denscalc($K36))*1000*  $K36 * Data!$B$6)) ), 0    )","v":0},21,null,null,{"$f":"IF(AND($A36<>\"\",(S36+T36)>0),    IF(T$13=\"Nm3\",(U$12*1000*1000/((S$242+T$242+S$243+T$243)*1000*  $K36 * Data!$B$6)),  (U$12*1000*1000/(((S$242+T$242+S$243+T$243)/Denscalc($K36))*1000*  $K36 * Data!$B$6)) ), 0     )","v":0},21,null,null,{"$f":"IF(AND($A36<>\"\",(W36+X36)>0),     IF(X$13=\"Nm3\",(Y$12*1000*1000/((W$242+X$242+W$243+X$243)*1000*  $K36 * Data!$B$6)),  (Y$12*1000*1000/(((W$242+X$242+W$243+X$243)/Denscalc($K36))*1000*  $K36 * Data!$B$6)) ), 0   )","v":0},21,null,null,{"$f":"IF(AND($A36<>\"\",(AA36+AB36)>0),     IF(AB$13=\"Nm3\",(AC$12*1000*1000/((AA$242+AB$242+AA$243+AB$243)*1000*  $K36 * Data!$B$6)),  (AC$12*1000*1000/(((AA$242+AB$242+AA$243+AB$243)/Denscalc($K36))*1000*  $K36 * Data!$B$6)) ), 0     )","v":0},21,null,null,{"$f":"IF(AND($A36<>\"\",(AE36+AF36)>0),     IF(AF$13=\"Nm3\",(AG$12*1000*1000/((AE$242+AF$242+AE$243+AF$243)*1000*  $K36 * Data!$B$6)),  (AG$12*1000*1000/(((AE$242+AF$242+AE$243+AF$243)/Denscalc($K36))*1000*  $K36 * Data!$B$6)) ), 0    )","v":0},21,null,null,{"$f":"IF(AND($A36<>\"\",(AI36+AJ36)>0),    IF(AJ$13=\"Nm3\",(AK$12*1000*1000/((AI$242+AJ$242+AI$243+AJ$243)*1000*  $K36 * Data!$B$6)),  (AK$12*1000*1000/(((AI$242+AJ$242+AI$243+AJ$243)/Denscalc($K36))*1000*  $K36 * Data!$B$6)) ), 0    )","v":0},21,null,null,{"$f":"IF(AND($A36<>\"\",(AM36+AN36)>0),     IF(AN$13=\"Nm3\",(AO$12*1000*1000/((AM$242+AN$242+AM$243+AN$243)*1000*  $K36 * Data!$B$6)),  (AO$12*1000*1000/(((AM$242+AN$242+AM$243+AN$243)/Denscalc($K36))*1000*  $K36 * Data!$B$6)) ), 0    )","v":0},21,null,null,{"$f":"IF(AND($A36<>\"\",(AQ36+AR36)>0),     IF(AR$13=\"Nm3\",(AS$12*1000*1000/((AQ$242+AR$242+AQ$243+AR$243)*1000*  $K36 * Data!$B$6)),  (AS$12*1000*1000/(((AQ$242+AR$242+AQ$243+AR$243)/Denscalc($K36))*1000*  $K36 * Data!$B$6)) ), 0     )","v":0},21,null,null,{"$f":"IF(AND($A36<>\"\",(AU36+AV36)>0),     IF(AV$13=\"Nm3\",(AW$12*1000*1000/((AU$242+AV$242+AU$243+AV$243)*1000*  $K36 * Data!$B$6)),  (AW$12*1000*1000/(((AU$242+AV$242+AU$243+AV$243)/Denscalc($K36))*1000*  $K36 * Data!$B$6)) ), 0   )","v":0},21,null,null,{"$f":"IF(AND(BA$11>0,$A36<>\"\",(AY36+AZ36)>0), BA$11, IF(AND($A36<>\"\",(AY36+AZ36)>0),\nIF(AZ$13=\"Nm3\",(BA$6*1000*1000/((AY$242+AZ$242+AY$243+AZ$243)*1000*$K36*Data!$B$6))+((BA$12-BA$6)*1000*1000/((AY$242+AZ$242+AY$243+AZ$243-AY$241-AZ$241)*1000*$K36*Data!$B$6)),\n(BA$6*1000*1000/(((AY$242+AZ$242+AY$243+AZ$243)/Denscalc($K36))*1000*$K36*Data!$B$6))+((BA$12-BA$6)*1000*1000/(((AY$242+AZ$242+AY$243+AZ$243-AY$241-AZ$241)/Denscalc($K36))*1000*$K36*Data!$B$6))),0))","v":0},21,null,null,{"$f":"IF(AND(BE$11>0,$A36<>\"\",(BC36+BD36)>0), BE$11, IF(AND($A36<>\"\",(BC36+BD36)>0),\n (BE$6*1000*1000/((BC$244+BD$244)*1000* Data!$B$7))+ ((BE$12-BE$6)*1000*1000/((BC$244+BD$244-BC$241-BD$241)*1000* Data!$B$7)),0))","v":0},21,{"$f":"IF(A36<>\"\", (Data!$B$127*1000*Data!$B$3)/Data!$B$7,  \"\")","v":""},"","",{"$f":"IF(A36<>\"\",  ROUND( (Data!$B$8-BI36)/Data!$B$8,3),   \"\")","v":""},"","","","",{"$f":"IF(A36<>\"\",  IF(TYPE(BN36)=1, ROUND( (Data!$B$8-BN36)/Data!$B$8,3),   \"\"),\"\")","v":""},"",21,"","","",null,""]
[{"$f":"Uppgradering!A28","v":""},22,{"$f":"Uppgradering!C28","v":""},{"$f":"Uppgradering!D28","v":""},{"$f":"Uppgradering!E28","v":""},{"$f":"Uppgradering!F28","v":""},{"$f":"Uppgradering!AU28","v":""},{"$f":"Uppgradering!AS28","v":""},{"$f":"Uppgradering!AP28","v":""},{"$f":"Uppgradering!AO28","v":""},{"$f":"Uppgradering!AT28","v":""},{"$f":"Uppgradering!AW28","v":""},"",null,null,null,{"$f":"IF(AND($A37<>\"\",(O37+P37)>0),    IF(P$13=\"Nm3\",(Q$12*1000*1000/((O$242+P$242+O$243+P$243)*1000*  $K37 * Data!$B$6)),  (Q$12*1000*1000/(((O$242+P$242+O$243+P$243)/Denscalc($K37))*1000*  $K37 * Data!$B$6)) ), 0    )","v":0},22,null,null,{"$f":"IF(AND($A37<>\"\",(S37+T37)>0),    IF(T$13=\"Nm3\",(U$12*1000*1000/((S$242+T$242+S$243+T$243)*1000*  $K37 * Data!$B$6)),  (U$12*1000*1000/(((S$242+T$242+S$243+T$243)/Denscalc($K37))*1000*  $K37 * Data!$B$6)) ), 0     )","v":0},22,null,null,{"$f":"IF(AND($A37<>\"\",(W37+X37)>0),     IF(X$13=\"Nm3\",(Y$12*1000*1000/((W$242+X$242+W$243+X$243)*1000*  $K37 * Data!$B$6)),  (Y$12*1000*1000/(((W$242+X$242+W$243+X$243)/Denscalc($K37))*1000*  $K37 * Data!$B$6)) ), 0   )","v":0},22,null,null,{"$f":"IF(AND($A37<>\"\",(AA37+AB37)>0),     IF(AB$13=\"Nm3\",(AC$12*1000*1000/((AA$242+AB$242+AA$243+AB$243)*1000*  $K37 * Data!$B$6)),  (AC$12*1000*1000/(((AA$242+AB$242+AA$243+AB$243)/Denscalc($K37))*1000*  $K37 * Data!$B$6)) ), 0     )","v":0},22,null,null,{"$f":"IF(AND($A37<>\"\",(AE37+AF37)>0),     IF(AF$13=\"Nm3\",(AG$12*1000*1000/((AE$242+AF$242+AE$243+AF$243)*1000*  $K37 * Data!$B$6)),  (AG$12*1000*1000/(((AE$242+AF$242+AE$243+AF$243)/Denscalc($K37))*1000*  $K37 * Data!$B$6)) ), 0    )","v":0},22,null,null,{"$f":"IF(AND($A37<>\"\",(AI37+AJ37)>0),    IF(AJ$13=\"Nm3\",(AK$12*1000*1000/((AI$242+AJ$242+AI$243+AJ$243)*1000*  $K37 * Data!$B$6)),  (AK$12*1000*1000/(((AI$242+AJ$242+AI$243+AJ$243)/Denscalc($K37))*1000*  $K37 * Data!$B$6)) ), 0    )","v":0},22,null,null,{"$f":"IF(AND($A37<>\"\",(AM37+AN37)>0),     IF(AN$13=\"Nm3\",(AO$12*1000*1000/((AM$242+AN$242+AM$243+AN$243)*1000*  $K37 * Data!$B$6)),  (AO$12*1000*1000/(((AM$242+AN$242+AM$243+AN$243)/Denscalc($K37))*1000*  $K37 * Data!$B$6)) ), 0    )","v":0},22,null,null,{"$f":"IF(AND($A37<>\"\",(AQ37+AR37)>0),     IF(AR$13=\"Nm3\",(AS$12*1000*1000/((AQ$242+AR$242+AQ$243+AR$243)*1000*  $K37 * Data!$B$6)),  (AS$12*1000*1000/(((AQ$242+AR$242+AQ$243+AR$243)/Denscalc($K37))*1000*  $K37 * Data!$B$6)) ), 0     )","v":0},22,null,null,{"$f":"IF(AND($A37<>\"\",(AU37+AV37)>0),     IF(AV$13=\"Nm3\",(AW$12*1000*1000/((AU$242+AV$242+AU$243+AV$243)*1000*  $K37 * Data!$B$6)),  (AW$12*1000*1000/(((AU$242+AV$242+AU$243+AV$243)/Denscalc($K37))*1000*  $K37 * Data!$B$6)) ), 0   )","v":0},22,null,null,{"$f":"IF(AND(BA$11>0,$A37<>\"\",(AY37+AZ37)>0), BA$11, IF(AND($A37<>\"\",(AY37+AZ37)>0),\nIF(AZ$13=\"Nm3\",(BA$6*1000*1000/((AY$242+AZ$242+AY$243+AZ$243)*1000*$K37*Data!$B$6))+((BA$12-BA$6)*1000*1000/((AY$242+AZ$242+AY$243+AZ$243-AY$241-AZ$241)*1000*$K37*Data!$B$6)),\n(BA$6*1000*1000/(((AY$242+AZ$242+AY$243+AZ$243)/Denscalc($K37))*1000*$K37*Data!$B$6))+((BA$12-BA$6)*1000*1000/(((AY$242+AZ$242+AY$243+AZ$243-AY$241-AZ$241)/Denscalc($K37))*1000*$K37*Data!$B$6))),0))","v":0},22,null,null,{"$f":"IF(AND(BE$11>0,$A37<>\"\",(BC37+BD37)>0), BE$11, IF(AND($A37<>\"\",(BC37+BD37)>0),\n (BE$6*1000*1000/((BC$244+BD$244)*1000* Data!$B$7))+ ((BE$12-BE$6)*1000*1000/((BC$244+BD$244-BC$241-BD$241)*1000* Data!$B$7)),0))","v":0},22,{"$f":"IF(A37<>\"\", (Data!$B$127*1000*Data!$B$3)/Data!$B$7,  \"\")","v":""},"","",{"$f":"IF(A37<>\"\",  ROUND( (Data!$B$8-BI37)/Data!$B$8,3),   \"\")","v":""},"","","","",{"$f":"IF(A37<>\"\",  IF(TYPE(BN37)=1, ROUND( (Data!$B$8-BN37)/Data!$B$8,3),   \"\"),\"\")","v":""},"",22,"","","",null,""]
[{"$f":"Uppgradering!A29","v":""},23,{"$f":"Uppgradering!C29","v":""},{"$f":"Uppgradering!D29","v":""},{"$f":"Uppgradering!E29","v":""},{"$f":"Uppgradering!F29","v":""},{"$f":"Uppgradering!AU29","v":""},{"$f":"Uppgradering!AS29","v":""},{"$f":"Uppgradering!AP29","v":""},{"$f":"Uppgradering!AO29","v":""},{"$f":"Uppgradering!AT29","v":""},{"$f":"Uppgradering!AW29","v":""},"",null,null,null,{"$f":"IF(AND($A38<>\"\",(O38+P38)>0),    IF(P$13=\"Nm3\",(Q$12*1000*1000/((O$242+P$242+O$243+P$243)*1000*  $K38 * Data!$B$6)),  (Q$12*1000*1000/(((O$242+P$242+O$243+P$243)/Denscalc($K38))*1000*  $K38 * Data!$B$6)) ), 0    )","v":0},23,null,null,{"$f":"IF(AND($A38<>\"\",(S38+T38)>0),    IF(T$13=\"Nm3\",(U$12*1000*1000/((S$242+T$242+S$243+T$243)*1000*  $K38 * Data!$B$6)),  (U$12*1000*1000/(((S$242+T$242+S$243+T$243)/Denscalc($K38))*1000*  $K38 * Data!$B$6)) ), 0     )","v":0},23,null,null,{"$f":"IF(AND($A38<>\"\",(W38+X38)>0),     IF(X$13=\"Nm3\",(Y$12*1000*1000/((W$242+X$242+W$243+X$243)*1000*  $K38 * Data!$B$6)),  (Y$12*1000*1000/(((W$242+X$242+W$243+X$243)/Denscalc($K38))*1000*  $K38 * Data!$B$6)) ), 0   )","v":0},23,null,null,{"$f":"IF(AND($A38<>\"\",(AA38+AB38)>0),     IF(AB$13=\"Nm3\",(AC$12*1000*1000/((AA$242+AB$242+AA$243+AB$243)*1000*  $K38 * Data!$B$6)),  (AC$12*1000*1000/(((AA$242+AB$242+AA$243+AB$243)/Denscalc($K38))*1000*  $K38 * Data!$B$6)) ), 0     )","v":0},23,null,null,{"$f":"IF(AND($A38<>\"\",(AE38+AF38)>0),     IF(AF$13=\"Nm3\",(AG$12*1000*1000/((AE$242+AF$242+AE$243+AF$243)*1000*  $K38 * Data!$B$6)),  (AG$12*1000*1000/(((AE$242+AF$242+AE$243+AF$243)/Denscalc($K38))*1000*  $K38 * Data!$B$6)) ), 0    )","v":0},23,null,null,{"$f":"IF(AND($A38<>\"\",(AI38+AJ38)>0),    IF(AJ$13=\"Nm3\",(AK$12*1000*1000/((AI$242+AJ$242+AI$243+AJ$243)*1000*  $K38 * Data!$B$6)),  (AK$12*1000*1000/(((AI$242+AJ$242+AI$243+AJ$243)/Denscalc($K38))*1000*  $K38 * Data!$B$6)) ), 0    )","v":0},23,null,null,{"$f":"IF(AND($A38<>\"\",(AM38+AN38)>0),     IF(AN$13=\"Nm3\",(AO$12*1000*1000/((AM$242+AN$242+AM$243+AN$243)*1000*  $K38 * Data!$B$6)),  (AO$12*1000*1000/(((AM$242+AN$242+AM$243+AN$243)/Denscalc($K38))*1000*  $K38 * Data!$B$6)) ), 0    )","v":0},23,null,null,{"$f":"IF(AND($A38<>\"\",(AQ38+AR38)>0),     IF(AR$13=\"Nm3\",(AS$12*1000*1000/((AQ$242+AR$242+AQ$243+AR$243)*1000*  $K38 * Data!$B$6)),  (AS$12*1000*1000/(((AQ$242+AR$242+AQ$243+AR$243)/Denscalc($K38))*1000*  $K38 * Data!$B$6)) ), 0     )","v":0},23,null,null,{"$f":"IF(AND($A38<>\"\",(AU38+AV38)>0),     IF(AV$13=\"Nm3\",(AW$12*1000*1000/((AU$242+AV$242+AU$243+AV$243)*1000*  $K38 * Data!$B$6)),  (AW$12*1000*1000/(((AU$242+AV$242+AU$243+AV$243)/Denscalc($K38))*1000*  $K38 * Data!$B$6)) ), 0   )","v":0},23,null,null,{"$f":"IF(AND(BA$11>0,$A38<>\"\",(AY38+AZ38)>0), BA$11, IF(AND($A38<>\"\",(AY38+AZ38)>0),\nIF(AZ$13=\"Nm3\",(BA$6*1000*1000/((AY$242+AZ$242+AY$243+AZ$243)*1000*$K38*Data!$B$6))+((BA$12-BA$6)*1000*1000/((AY$242+AZ$242+AY$243+AZ$243-AY$241-AZ$241)*1000*$K38*Data!$B$6)),\n(BA$6*1000*1000/(((AY$242+AZ$242+AY$243+AZ$243)/Denscalc($K38))*1000*$K38*Data!$B$6))+((BA$12-BA$6)*1000*1000/(((AY$242+AZ$242+AY$243+AZ$243-AY$241-AZ$241)/Denscalc($K38))*1000*$K38*Data!$B$6))),0))","v":0},23,null,null,{"$f":"IF(AND(BE$11>0,$A38<>\"\",(BC38+BD38)>0), BE$11, IF(AND($A38<>\"\",(BC38+BD38)>0),\n (BE$6*1000*1000/((BC$244+BD$244)*1000* Data!$B$7))+ ((BE$12-BE$6)*1000*1000/((BC$244+BD$244-BC$241-BD$241)*1000* Data!$B$7)),0))","v":0},23,{"$f":"IF(A38<>\"\", (Data!$B$127*1000*Data!$B$3)/Data!$B$7,  \"\")","v":""},"","",{"$f":"IF(A38<>\"\",  ROUND( (Data!$B$8-BI38)/Data!$B$8,3),   \"\")","v":""},"","","","",{"$f":"IF(A38<>\"\",  IF(TYPE(BN38)=1, ROUND( (Data!$B$8-BN38)/Data!$B$8,3),   \"\"),\"\")","v":""},"",23,"","","",null,""]
[{"$f":"Uppgradering!A30","v":""},24,{"$f":"Uppgradering!C30","v":""},{"$f":"Uppgradering!D30","v":""},{"$f":"Uppgradering!E30","v":""},{"$f":"Uppgradering!F30","v":""},{"$f":"Uppgradering!AU30","v":""},{"$f":"Uppgradering!AS30","v":""},{"$f":"Uppgradering!AP30","v":""},{"$f":"Uppgradering!AO30","v":""},{"$f":"Uppgradering!AT30","v":""},{"$f":"Uppgradering!AW30","v":""},"",null,null,null,{"$f":"IF(AND($A39<>\"\",(O39+P39)>0),    IF(P$13=\"Nm3\",(Q$12*1000*1000/((O$242+P$242+O$243+P$243)*1000*  $K39 * Data!$B$6)),  (Q$12*1000*1000/(((O$242+P$242+O$243+P$243)/Denscalc($K39))*1000*  $K39 * Data!$B$6)) ), 0    )","v":0},24,null,null,{"$f":"IF(AND($A39<>\"\",(S39+T39)>0),    IF(T$13=\"Nm3\",(U$12*1000*1000/((S$242+T$242+S$243+T$243)*1000*  $K39 * Data!$B$6)),  (U$12*1000*1000/(((S$242+T$242+S$243+T$243)/Denscalc($K39))*1000*  $K39 * Data!$B$6)) ), 0     )","v":0},24,null,null,{"$f":"IF(AND($A39<>\"\",(W39+X39)>0),     IF(X$13=\"Nm3\",(Y$12*1000*1000/((W$242+X$242+W$243+X$243)*1000*  $K39 * Data!$B$6)),  (Y$12*1000*1000/(((W$242+X$242+W$243+X$243)/Denscalc($K39))*1000*  $K39 * Data!$B$6)) ), 0   )","v":0},24,null,null,{"$f":"IF(AND($A39<>\"\",(AA39+AB39)>0),     IF(AB$13=\"Nm3\",(AC$12*1000*1000/((AA$242+AB$242+AA$243+AB$243)*1000*  $K39 * Data!$B$6)),  (AC$12*1000*1000/(((AA$242+AB$242+AA$243+AB$243)/Denscalc($K39))*1000*  $K39 * Data!$B$6)) ), 0     )","v":0},24,null,null,{"$f":"IF(AND($A39<>\"\",(AE39+AF39)>0),     IF(AF$13=\"Nm3\",(AG$12*1000*1000/((AE$242+AF$242+AE$243+AF$243)*1000*  $K39 * Data!$B$6)),  (AG$12*1000*1000/(((AE$242+AF$242+AE$243+AF$243)/Denscalc($K39))*1000*  $K39 * Data!$B$6)) ), 0    )","v":0},24,null,null,{"$f":"IF(AND($A39<>\"\",(AI39+AJ39)>0),    IF(AJ$13=\"Nm3\",(AK$12*1000*1000/((AI$242+AJ$242+AI$243+AJ$243)*1000*  $K39 * Data!$B$6)),  (AK$12*1000*1000/(((AI$242+AJ$242+AI$243+AJ$243)/Denscalc($K39))*1000*  $K39 * Data!$B$6)) ), 0    )","v":0},24,null,null,{"$f":"IF(AND($A39<>\"\",(AM39+AN39)>0),     IF(AN$13=\"Nm3\",(AO$12*1000*1000/((AM$242+AN$242+AM$243+AN$243)*1000*  $K39 * Data!$B$6)),  (AO$12*1000*1000/(((AM$242+AN$242+AM$243+AN$243)/Denscalc($K39))*1000*  $K39 * Data!$B$6)) ), 0    )","v":0},24,null,null,{"$f":"IF(AND($A39<>\"\",(AQ39+AR39)>0),     IF(AR$13=\"Nm3\",(AS$12*1000*1000/((AQ$242+AR$242+AQ$243+AR$243)*1000*  $K39 * Data!$B$6)),  (AS$12*1000*1000/(((AQ$242+AR$242+AQ$243+AR$243)/Denscalc($K39))*1000*  $K39 * Data!$B$6)) ), 0     )","v":0},24,null,null,{"$f":"IF(AND($A39<>\"\",(AU39+AV39)>0),     IF(AV$13=\"Nm3\",(AW$12*1000*1000/((AU$242+AV$242+AU$243+AV$243)*1000*  $K39 * Data!$B$6)),  (AW$12*1000*1000/(((AU$242+AV$242+AU$243+AV$243)/Denscalc($K39))*1000*  $K39 * Data!$B$6)) ), 0   )","v":0},24,null,null,{"$f":"IF(AND(BA$11>0,$A39<>\"\",(AY39+AZ39)>0), BA$11, IF(AND($A39<>\"\",(AY39+AZ39)>0),\nIF(AZ$13=\"Nm3\",(BA$6*1000*1000/((AY$242+AZ$242+AY$243+AZ$243)*1000*$K39*Data!$B$6))+((BA$12-BA$6)*1000*1000/((AY$242+AZ$242+AY$243+AZ$243-AY$241-AZ$241)*1000*$K39*Data!$B$6)),\n(BA$6*1000*1000/(((AY$242+AZ$242+AY$243+AZ$243)/Denscalc($K39))*1000*$K39*Data!$B$6))+((BA$12-BA$6)*1000*1000/(((AY$242+AZ$242+AY$243+AZ$243-AY$241-AZ$241)/Denscalc($K39))*1000*$K39*Data!$B$6))),0))","v":0},24,null,null,{"$f":"IF(AND(BE$11>0,$A39<>\"\",(BC39+BD39)>0), BE$11, IF(AND($A39<>\"\",(BC39+BD39)>0),\n (BE$6*1000*1000/((BC$244+BD$244)*1000* Data!$B$7))+ ((BE$12-BE$6)*1000*1000/((BC$244+BD$244-BC$241-BD$241)*1000* Data!$B$7)),0))","v":0},24,{"$f":"IF(A39<>\"\", (Data!$B$127*1000*Data!$B$3)/Data!$B$7,  \"\")","v":""},"","",{"$f":"IF(A39<>\"\",  ROUND( (Data!$B$8-BI39)/Data!$B$8,3),   \"\")","v":""},"","","","",{"$f":"IF(A39<>\"\",  IF(TYPE(BN39)=1, ROUND( (Data!$B$8-BN39)/Data!$B$8,3),   \"\"),\"\")","v":""},"",24,"","","",null,""]
[{"$f":"Uppgradering!A31","v":""},25,{"$f":"Uppgradering!C31","v":""},{"$f":"Uppgradering!D31","v":""},{"$f":"Uppgradering!E31","v":""},{"$f":"Uppgradering!F31","v":""},{"$f":"Uppgradering!AU31","v":""},{"$f":"Uppgradering!AS31","v":""},{"$f":"Uppgradering!AP31","v":""},{"$f":"Uppgradering!AO31","v":""},{"$f":"Uppgradering!AT31","v":""},{"$f":"Uppgradering!AW31","v":""},"",null,null,null,{"$f":"IF(AND($A40<>\"\",(O40+P40)>0),    IF(P$13=\"Nm3\",(Q$12*1000*1000/((O$242+P$242+O$243+P$243)*1000*  $K40 * Data!$B$6)),  (Q$12*1000*1000/(((O$242+P$242+O$243+P$243)/Denscalc($K40))*1000*  $K40 * Data!$B$6)) ), 0    )","v":0},25,null,null,{"$f":"IF(AND($A40<>\"\",(S40+T40)>0),    IF(T$13=\"Nm3\",(U$12*1000*1000/((S$242+T$242+S$243+T$243)*1000*  $K40 * Data!$B$6)),  (U$12*1000*1000/(((S$242+T$242+S$243+T$243)/Denscalc($K40))*1000*  $K40 * Data!$B$6)) ), 0     )","v":0},25,null,null,{"$f":"IF(AND($A40<>\"\",(W40+X40)>0),     IF(X$13=\"Nm3\",(Y$12*1000*1000/((W$242+X$242+W$243+X$243)*1000*  $K40 * Data!$B$6)),  (Y$12*1000*1000/(((W$242+X$242+W$243+X$243)/Denscalc($K40))*1000*  $K40 * Data!$B$6)) ), 0   )","v":0},25,null,null,{"$f":"IF(AND($A40<>\"\",(AA40+AB40)>0),     IF(AB$13=\"Nm3\",(AC$12*1000*1000/((AA$242+AB$242+AA$243+AB$243)*1000*  $K40 * Data!$B$6)),  (AC$12*1000*1000/(((AA$242+AB$242+AA$243+AB$243)/Denscalc($K40))*1000*  $K40 * Data!$B$6)) ), 0     )","v":0},25,null,null,{"$f":"IF(AND($A40<>\"\",(AE40+AF40)>0),     IF(AF$13=\"Nm3\",(AG$12*1000*1000/((AE$242+AF$242+AE$243+AF$243)*1000*  $K40 * Data!$B$6)),  (AG$12*1000*1000/(((AE$242+AF$242+AE$243+AF$243)/Denscalc($K40))*1000*  $K40 * Data!$B$6)) ), 0    )","v":0},25,null,null,{"$f":"IF(AND($A40<>\"\",(AI40+AJ40)>0),    IF(AJ$13=\"Nm3\",(AK$12*1000*1000/((AI$242+AJ$242+AI$243+AJ$243)*1000*  $K40 * Data!$B$6)),  (AK$12*1000*1000/(((AI$242+AJ$242+AI$243+AJ$243)/Denscalc($K40))*1000*  $K40 * Data!$B$6)) ), 0    )","v":0},25,null,null,{"$f":"IF(AND($A40<>\"\",(AM40+AN40)>0),     IF(AN$13=\"Nm3\",(AO$12*1000*1000/((AM$242+AN$242+AM$243+AN$243)*1000*  $K40 * Data!$B$6)),  (AO$12*1000*1000/(((AM$242+AN$242+AM$243+AN$243)/Denscalc($K40))*1000*  $K40 * Data!$B$6)) ), 0    )","v":0},25,null,null,{"$f":"IF(AND($A40<>\"\",(AQ40+AR40)>0),     IF(AR$13=\"Nm3\",(AS$12*1000*1000/((AQ$242+AR$242+AQ$243+AR$243)*1000*  $K40 * Data!$B$6)),  (AS$12*1000*1000/(((AQ$242+AR$242+AQ$243+AR$243)/Denscalc($K40))*1000*  $K40 * Data!$B$6)) ), 0     )","v":0},25,null,null,{"$f":"IF(AND($A40<>\"\",(AU40+AV40)>0),     IF(AV$13=\"Nm3\",(AW$12*1000*1000/((AU$242+AV$242+AU$243+AV$243)*1000*  $K40 * Data!$B$6)),  (AW$12*1000*1000/(((AU$242+AV$242+AU$243+AV$243)/Denscalc($K40))*1000*  $K40 * Data!$B$6)) ), 0   )","v":0},25,null,null,{"$f":"IF(AND(BA$11>0,$A40<>\"\",(AY40+AZ40)>0), BA$11, IF(AND($A40<>\"\",(AY40+AZ40)>0),\nIF(AZ$13=\"Nm3\",(BA$6*1000*1000/((AY$242+AZ$242+AY$243+AZ$243)*1000*$K40*Data!$B$6))+((BA$12-BA$6)*1000*1000/((AY$242+AZ$242+AY$243+AZ$243-AY$241-AZ$241)*1000*$K40*Data!$B$6)),\n(BA$6*1000*1000/(((AY$242+AZ$242+AY$243+AZ$243)/Denscalc($K40))*1000*$K40*Data!$B$6))+((BA$12-BA$6)*1000*1000/(((AY$242+AZ$242+AY$243+AZ$243-AY$241-AZ$241)/Denscalc($K40))*1000*$K40*Data!$B$6))),0))","v":0},25,null,null,{"$f":"IF(AND(BE$11>0,$A40<>\"\",(BC40+BD40)>0), BE$11, IF(AND($A40<>\"\",(BC40+BD40)>0),\n (BE$6*1000*1000/((BC$244+BD$244)*1000* Data!$B$7))+ ((BE$12-BE$6)*1000*1000/((BC$244+BD$244-BC$241-BD$241)*1000* Data!$B$7)),0))","v":0},25,{"$f":"IF(A40<>\"\", (Data!$B$127*1000*Data!$B$3)/Data!$B$7,  \"\")","v":""},"","",{"$f":"IF(A40<>\"\",  ROUND( (Data!$B$8-BI40)/Data!$B$8,3),   \"\")","v":""},"","","","",{"$f":"IF(A40<>\"\",  IF(TYPE(BN40)=1, ROUND( (Data!$B$8-BN40)/Data!$B$8,3),   \"\"),\"\")","v":""},"",25,"","","",null,""]
[{"$f":"Uppgradering!A32","v":""},26,{"$f":"Uppgradering!C32","v":""},{"$f":"Uppgradering!D32","v":""},{"$f":"Uppgradering!E32","v":""},{"$f":"Uppgradering!F32","v":""},{"$f":"Uppgradering!AU32","v":""},{"$f":"Uppgradering!AS32","v":""},{"$f":"Uppgradering!AP32","v":""},{"$f":"Uppgradering!AO32","v":""},{"$f":"Uppgradering!AT32","v":""},{"$f":"Uppgradering!AW32","v":""},"",null,null,null,{"$f":"IF(AND($A41<>\"\",(O41+P41)>0),    IF(P$13=\"Nm3\",(Q$12*1000*1000/((O$242+P$242+O$243+P$243)*1000*  $K41 * Data!$B$6)),  (Q$12*1000*1000/(((O$242+P$242+O$243+P$243)/Denscalc($K41))*1000*  $K41 * Data!$B$6)) ), 0    )","v":0},26,null,null,{"$f":"IF(AND($A41<>\"\",(S41+T41)>0),    IF(T$13=\"Nm3\",(U$12*1000*1000/((S$242+T$242+S$243+T$243)*1000*  $K41 * Data!$B$6)),  (U$12*1000*1000/(((S$242+T$242+S$243+T$243)/Denscalc($K41))*1000*  $K41 * Data!$B$6)) ), 0     )","v":0},26,null,null,{"$f":"IF(AND($A41<>\"\",(W41+X41)>0),     IF(X$13=\"Nm3\",(Y$12*1000*1000/((W$242+X$242+W$243+X$243)*1000*  $K41 * Data!$B$6)),  (Y$12*1000*1000/(((W$242+X$242+W$243+X$243)/Denscalc($K41))*1000*  $K41 * Data!$B$6)) ), 0   )","v":0},26,null,null,{"$f":"IF(AND($A41<>\"\",(AA41+AB41)>0),     IF(AB$13=\"Nm3\",(AC$12*1000*1000/((AA$242+AB$242+AA$243+AB$243)*1000*  $K41 * Data!$B$6)),  (AC$12*1000*1000/(((AA$242+AB$242+AA$243+AB$243)/Denscalc($K41))*1000*  $K41 * Data!$B$6)) ), 0     )","v":0},26,null,null,{"$f":"IF(AND($A41<>\"\",(AE41+AF41)>0),     IF(AF$13=\"Nm3\",(AG$12*1000*1000/((AE$242+AF$242+AE$243+AF$243)*1000*  $K41 * Data!$B$6)),  (AG$12*1000*1000/(((AE$242+AF$242+AE$243+AF$243)/Denscalc($K41))*1000*  $K41 * Data!$B$6)) ), 0    )","v":0},26,null,null,{"$f":"IF(AND($A41<>\"\",(AI41+AJ41)>0),    IF(AJ$13=\"Nm3\",(AK$12*1000*1000/((AI$242+AJ$242+AI$243+AJ$243)*1000*  $K41 * Data!$B$6)),  (AK$12*1000*1000/(((AI$242+AJ$242+AI$243+AJ$243)/Denscalc($K41))*1000*  $K41 * Data!$B$6)) ), 0    )","v":0},26,null,null,{"$f":"IF(AND($A41<>\"\",(AM41+AN41)>0),     IF(AN$13=\"Nm3\",(AO$12*1000*1000/((AM$242+AN$242+AM$243+AN$243)*1000*  $K41 * Data!$B$6)),  (AO$12*1000*1000/(((AM$242+AN$242+AM$243+AN$243)/Denscalc($K41))*1000*  $K41 * Data!$B$6)) ), 0    )","v":0},26,null,null,{"$f":"IF(AND($A41<>\"\",(AQ41+AR41)>0),     IF(AR$13=\"Nm3\",(AS$12*1000*1000/((AQ$242+AR$242+AQ$243+AR$243)*1000*  $K41 * Data!$B$6)),  (AS$12*1000*1000/(((AQ$242+AR$242+AQ$243+AR$243)/Denscalc($K41))*1000*  $K41 * Data!$B$6)) ), 0     )","v":0},26,null,null,{"$f":"IF(AND($A41<>\"\",(AU41+AV41)>0),     IF(AV$13=\"Nm3\",(AW$12*1000*1000/((AU$242+AV$242+AU$243+AV$243)*1000*  $K41 * Data!$B$6)),  (AW$12*1000*1000/(((AU$242+AV$242+AU$243+AV$243)/Denscalc($K41))*1000*  $K41 * Data!$B$6)) ), 0   )","v":0},26,null,null,{"$f":"IF(AND(BA$11>0,$A41<>\"\",(AY41+AZ41)>0), BA$11, IF(AND($A41<>\"\",(AY41+AZ41)>0),\nIF(AZ$13=\"Nm3\",(BA$6*1000*1000/((AY$242+AZ$242+AY$243+AZ$243)*1000*$K41*Data!$B$6))+((BA$12-BA$6)*1000*1000/((AY$242+AZ$242+AY$243+AZ$243-AY$241-AZ$241)*1000*$K41*Data!$B$6)),\n(BA$6*1000*1000/(((AY$242+AZ$242+AY$243+AZ$243)/Denscalc($K41))*1000*$K41*Data!$B$6))+((BA$12-BA$6)*1000*1000/(((AY$242+AZ$242+AY$243+AZ$243-AY$241-AZ$241)/Denscalc($K41))*1000*$K41*Data!$B$6))),0))","v":0},26,null,null,{"$f":"IF(AND(BE$11>0,$A41<>\"\",(BC41+BD41)>0), BE$11, IF(AND($A41<>\"\",(BC41+BD41)>0),\n (BE$6*1000*1000/((BC$244+BD$244)*1000* Data!$B$7))+ ((BE$12-BE$6)*1000*1000/((BC$244+BD$244-BC$241-BD$241)*1000* Data!$B$7)),0))","v":0},26,{"$f":"IF(A41<>\"\", (Data!$B$127*1000*Data!$B$3)/Data!$B$7,  \"\")","v":""},"","",{"$f":"IF(A41<>\"\",  ROUND( (Data!$B$8-BI41)/Data!$B$8,3),   \"\")","v":""},"","","","",{"$f":"IF(A41<>\"\",  IF(TYPE(BN41)=1, ROUND( (Data!$B$8-BN41)/Data!$B$8,3),   \"\"),\"\")","v":""},"",26,"","","",null,""]
[{"$f":"Uppgradering!A33","v":""},27,{"$f":"Uppgradering!C33","v":""},{"$f":"Uppgradering!D33","v":""},{"$f":"Uppgradering!E33","v":""},{"$f":"Uppgradering!F33","v":""},{"$f":"Uppgradering!AU33","v":""},{"$f":"Uppgradering!AS33","v":""},{"$f":"Uppgradering!AP33","v":""},{"$f":"Uppgradering!AO33","v":""},{"$f":"Uppgradering!AT33","v":""},{"$f":"Uppgradering!AW33","v":""},"",null,null,null,{"$f":"IF(AND($A42<>\"\",(O42+P42)>0),    IF(P$13=\"Nm3\",(Q$12*1000*1000/((O$242+P$242+O$243+P$243)*1000*  $K42 * Data!$B$6)),  (Q$12*1000*1000/(((O$242+P$242+O$243+P$243)/Denscalc($K42))*1000*  $K42 * Data!$B$6)) ), 0    )","v":0},27,null,null,{"$f":"IF(AND($A42<>\"\",(S42+T42)>0),    IF(T$13=\"Nm3\",(U$12*1000*1000/((S$242+T$242+S$243+T$243)*1000*  $K42 * Data!$B$6)),  (U$12*1000*1000/(((S$242+T$242+S$243+T$243)/Denscalc($K42))*1000*  $K42 * Data!$B$6)) ), 0     )","v":0},27,null,null,{"$f":"IF(AND($A42<>\"\",(W42+X42)>0),     IF(X$13=\"Nm3\",(Y$12*1000*1000/((W$242+X$242+W$243+X$243)*1000*  $K42 * Data!$B$6)),  (Y$12*1000*1000/(((W$242+X$242+W$243+X$243)/Denscalc($K42))*1000*  $K42 * Data!$B$6)) ), 0   )","v":0},27,null,null,{"$f":"IF(AND($A42<>\"\",(AA42+AB42)>0),     IF(AB$13=\"Nm3\",(AC$12*1000*1000/((AA$242+AB$242+AA$243+AB$243)*1000*  $K42 * Data!$B$6)),  (AC$12*1000*1000/(((AA$242+AB$242+AA$243+AB$243)/Denscalc($K42))*1000*  $K42 * Data!$B$6)) ), 0     )","v":0},27,null,null,{"$f":"IF(AND($A42<>\"\",(AE42+AF42)>0),     IF(AF$13=\"Nm3\",(AG$12*1000*1000/((AE$242+AF$242+AE$243+AF$243)*1000*  $K42 * Data!$B$6)),  (AG$12*1000*1000/(((AE$242+AF$242+AE$243+AF$243)/Denscalc($K42))*1000*  $K42 * Data!$B$6)) ), 0    )","v":0},27,null,null,{"$f":"IF(AND($A42<>\"\",(AI42+AJ42)>0),    IF(AJ$13=\"Nm3\",(AK$12*1000*1000/((AI$242+AJ$242+AI$243+AJ$243)*1000*  $K42 * Data!$B$6)),  (AK$12*1000*1000/(((AI$242+AJ$242+AI$243+AJ$243)/Denscalc($K42))*1000*  $K42 * Data!$B$6)) ), 0    )","v":0},27,null,null,{"$f":"IF(AND($A42<>\"\",(AM42+AN42)>0),     IF(AN$13=\"Nm3\",(AO$12*1000*1000/((AM$242+AN$242+AM$243+AN$243)*1000*  $K42 * Data!$B$6)),  (AO$12*1000*1000/(((AM$242+AN$242+AM$243+AN$243)/Denscalc($K42))*1000*  $K42 * Data!$B$6)) ), 0    )","v":0},27,null,null,{"$f":"IF(AND($A42<>\"\",(AQ42+AR42)>0),     IF(AR$13=\"Nm3\",(AS$12*1000*1000/((AQ$242+AR$242+AQ$243+AR$243)*1000*  $K42 * Data!$B$6)),  (AS$12*1000*1000/(((AQ$242+AR$242+AQ$243+AR$243)/Denscalc($K42))*1000*  $K42 * Data!$B$6)) ), 0     )","v":0},27,null,null,{"$f":"IF(AND($A42<>\"\",(AU42+AV42)>0),     IF(AV$13=\"Nm3\",(AW$12*1000*1000/((AU$242+AV$242+AU$243+AV$243)*1000*  $K42 * Data!$B$6)),  (AW$12*1000*1000/(((AU$242+AV$242+AU$243+AV$243)/Denscalc($K42))*1000*  $K42 * Data!$B$6)) ), 0   )","v":0},27,null,null,{"$f":"IF(AND(BA$11>0,$A42<>\"\",(AY42+AZ42)>0), BA$11, IF(AND($A42<>\"\",(AY42+AZ42)>0),\nIF(AZ$13=\"Nm3\",(BA$6*1000*1000/((AY$242+AZ$242+AY$243+AZ$243)*1000*$K42*Data!$B$6))+((BA$12-BA$6)*1000*1000/((AY$242+AZ$242+AY$243+AZ$243-AY$241-AZ$241)*1000*$K42*Data!$B$6)),\n(BA$6*1000*1000/(((AY$242+AZ$242+AY$243+AZ$243)/Denscalc($K42))*1000*$K42*Data!$B$6))+((BA$12-BA$6)*1000*1000/(((AY$242+AZ$242+AY$243+AZ$243-AY$241-AZ$241)/Denscalc($K42))*1000*$K42*Data!$B$6))),0))","v":0},27,null,null,{"$f":"IF(AND(BE$11>0,$A42<>\"\",(BC42+BD42)>0), BE$11, IF(AND($A42<>\"\",(BC42+BD42)>0),\n (BE$6*1000*1000/((BC$244+BD$244)*1000* Data!$B$7))+ ((BE$12-BE$6)*1000*1000/((BC$244+BD$244-BC$241-BD$241)*1000* Data!$B$7)),0))","v":0},27,{"$f":"IF(A42<>\"\", (Data!$B$127*1000*Data!$B$3)/Data!$B$7,  \"\")","v":""},"","",{"$f":"IF(A42<>\"\",  ROUND( (Data!$B$8-BI42)/Data!$B$8,3),   \"\")","v":""},"","","","",{"$f":"IF(A42<>\"\",  IF(TYPE(BN42)=1, ROUND( (Data!$B$8-BN42)/Data!$B$8,3),   \"\"),\"\")","v":""},"",27,"","","",null,""]
[{"$f":"Uppgradering!A34","v":""},28,{"$f":"Uppgradering!C34","v":""},{"$f":"Uppgradering!D34","v":""},{"$f":"Uppgradering!E34","v":""},{"$f":"Uppgradering!F34","v":""},{"$f":"Uppgradering!AU34","v":""},{"$f":"Uppgradering!AS34","v":""},{"$f":"Uppgradering!AP34","v":""},{"$f":"Uppgradering!AO34","v":""},{"$f":"Uppgradering!AT34","v":""},{"$f":"Uppgradering!AW34","v":""},"",null,null,null,{"$f":"IF(AND($A43<>\"\",(O43+P43)>0),    IF(P$13=\"Nm3\",(Q$12*1000*1000/((O$242+P$242+O$243+P$243)*1000*  $K43 * Data!$B$6)),  (Q$12*1000*1000/(((O$242+P$242+O$243+P$243)/Denscalc($K43))*1000*  $K43 * Data!$B$6)) ), 0    )","v":0},28,null,null,{"$f":"IF(AND($A43<>\"\",(S43+T43)>0),    IF(T$13=\"Nm3\",(U$12*1000*1000/((S$242+T$242+S$243+T$243)*1000*  $K43 * Data!$B$6)),  (U$12*1000*1000/(((S$242+T$242+S$243+T$243)/Denscalc($K43))*1000*  $K43 * Data!$B$6)) ), 0     )","v":0},28,null,null,{"$f":"IF(AND($A43<>\"\",(W43+X43)>0),     IF(X$13=\"Nm3\",(Y$12*1000*1000/((W$242+X$242+W$243+X$243)*1000*  $K43 * Data!$B$6)),  (Y$12*1000*1000/(((W$242+X$242+W$243+X$243)/Denscalc($K43))*1000*  $K43 * Data!$B$6)) ), 0   )","v":0},28,null,null,{"$f":"IF(AND($A43<>\"\",(AA43+AB43)>0),     IF(AB$13=\"Nm3\",(AC$12*1000*1000/((AA$242+AB$242+AA$243+AB$243)*1000*  $K43 * Data!$B$6)),  (AC$12*1000*1000/(((AA$242+AB$242+AA$243+AB$243)/Denscalc($K43))*1000*  $K43 * Data!$B$6)) ), 0     )","v":0},28,null,null,{"$f":"IF(AND($A43<>\"\",(AE43+AF43)>0),     IF(AF$13=\"Nm3\",(AG$12*1000*1000/((AE$242+AF$242+AE$243+AF$243)*1000*  $K43 * Data!$B$6)),  (AG$12*1000*1000/(((AE$242+AF$242+AE$243+AF$243)/Denscalc($K43))*1000*  $K43 * Data!$B$6)) ), 0    )","v":0},28,null,null,{"$f":"IF(AND($A43<>\"\",(AI43+AJ43)>0),    IF(AJ$13=\"Nm3\",(AK$12*1000*1000/((AI$242+AJ$242+AI$243+AJ$243)*1000*  $K43 * Data!$B$6)),  (AK$12*1000*1000/(((AI$242+AJ$242+AI$243+AJ$243)/Denscalc($K43))*1000*  $K43 * Data!$B$6)) ), 0    )","v":0},28,null,null,{"$f":"IF(AND($A43<>\"\",(AM43+AN43)>0),     IF(AN$13=\"Nm3\",(AO$12*1000*1000/((AM$242+AN$242+AM$243+AN$243)*1000*  $K43 * Data!$B$6)),  (AO$12*1000*1000/(((AM$242+AN$242+AM$243+AN$243)/Denscalc($K43))*1000*  $K43 * Data!$B$6)) ), 0    )","v":0},28,null,null,{"$f":"IF(AND($A43<>\"\",(AQ43+AR43)>0),     IF(AR$13=\"Nm3\",(AS$12*1000*1000/((AQ$242+AR$242+AQ$243+AR$243)*1000*  $K43 * Data!$B$6)),  (AS$12*1000*1000/(((AQ$242+AR$242+AQ$243+AR$243)/Denscalc($K43))*1000*  $K43 * Data!$B$6)) ), 0     )","v":0},28,null,null,{"$f":"IF(AND($A43<>\"\",(AU43+AV43)>0),     IF(AV$13=\"Nm3\",(AW$12*1000*1000/((AU$242+AV$242+AU$243+AV$243)*1000*  $K43 * Data!$B$6)),  (AW$12*1000*1000/(((AU$242+AV$242+AU$243+AV$243)/Denscalc($K43))*1000*  $K43 * Data!$B$6)) ), 0   )","v":0},28,null,null,{"$f":"IF(AND(BA$11>0,$A43<>\"\",(AY43+AZ43)>0), BA$11, IF(AND($A43<>\"\",(AY43+AZ43)>0),\nIF(AZ$13=\"Nm3\",(BA$6*1000*1000/((AY$242+AZ$242+AY$243+AZ$243)*1000*$K43*Data!$B$6))+((BA$12-BA$6)*1000*1000/((AY$242+AZ$242+AY$243+AZ$243-AY$241-AZ$241)*1000*$K43*Data!$B$6)),\n(BA$6*1000*1000/(((AY$242+AZ$242+AY$243+AZ$243)/Denscalc($K43))*1000*$K43*Data!$B$6))+((BA$12-BA$6)*1000*1000/(((AY$242+AZ$242+AY$243+AZ$243-AY$241-AZ$241)/Denscalc($K43))*1000*$K43*Data!$B$6))),0))","v":0},28,null,null,{"$f":"IF(AND(BE$11>0,$A43<>\"\",(BC43+BD43)>0), BE$11, IF(AND($A43<>\"\",(BC43+BD43)>0),\n (BE$6*1000*1000/((BC$244+BD$244)*1000* Data!$B$7))+ ((BE$12-BE$6)*1000*1000/((BC$244+BD$244-BC$241-BD$241)*1000* Data!$B$7)),0))","v":0},28,{"$f":"IF(A43<>\"\", (Data!$B$127*1000*Data!$B$3)/Data!$B$7,  \"\")","v":""},"","",{"$f":"IF(A43<>\"\",  ROUND( (Data!$B$8-BI43)/Data!$B$8,3),   \"\")","v":""},"","","","",{"$f":"IF(A43<>\"\",  IF(TYPE(BN43)=1, ROUND( (Data!$B$8-BN43)/Data!$B$8,3),   \"\"),\"\")","v":""},"",28,"","","",null,""]
[{"$f":"Uppgradering!A35","v":""},29,{"$f":"Uppgradering!C35","v":""},{"$f":"Uppgradering!D35","v":""},{"$f":"Uppgradering!E35","v":""},{"$f":"Uppgradering!F35","v":""},{"$f":"Uppgradering!AU35","v":""},{"$f":"Uppgradering!AS35","v":""},{"$f":"Uppgradering!AP35","v":""},{"$f":"Uppgradering!AO35","v":""},{"$f":"Uppgradering!AT35","v":""},{"$f":"Uppgradering!AW35","v":""},"",null,null,null,{"$f":"IF(AND($A44<>\"\",(O44+P44)>0),    IF(P$13=\"Nm3\",(Q$12*1000*1000/((O$242+P$242+O$243+P$243)*1000*  $K44 * Data!$B$6)),  (Q$12*1000*1000/(((O$242+P$242+O$243+P$243)/Denscalc($K44))*1000*  $K44 * Data!$B$6)) ), 0    )","v":0},29,null,null,{"$f":"IF(AND($A44<>\"\",(S44+T44)>0),    IF(T$13=\"Nm3\",(U$12*1000*1000/((S$242+T$242+S$243+T$243)*1000*  $K44 * Data!$B$6)),  (U$12*1000*1000/(((S$242+T$242+S$243+T$243)/Denscalc($K44))*1000*  $K44 * Data!$B$6)) ), 0     )","v":0},29,null,null,{"$f":"IF(AND($A44<>\"\",(W44+X44)>0),     IF(X$13=\"Nm3\",(Y$12*1000*1000/((W$242+X$242+W$243+X$243)*1000*  $K44 * Data!$B$6)),  (Y$12*1000*1000/(((W$242+X$242+W$243+X$243)/Denscalc($K44))*1000*  $K44 * Data!$B$6)) ), 0   )","v":0},29,null,null,{"$f":"IF(AND($A44<>\"\",(AA44+AB44)>0),     IF(AB$13=\"Nm3\",(AC$12*1000*1000/((AA$242+AB$242+AA$243+AB$243)*1000*  $K44 * Data!$B$6)),  (AC$12*1000*1000/(((AA$242+AB$242+AA$243+AB$243)/Denscalc($K44))*1000*  $K44 * Data!$B$6)) ), 0     )","v":0},29,null,null,{"$f":"IF(AND($A44<>\"\",(AE44+AF44)>0),     IF(AF$13=\"Nm3\",(AG$12*1000*1000/((AE$242+AF$242+AE$243+AF$243)*1000*  $K44 * Data!$B$6)),  (AG$12*1000*1000/(((AE$242+AF$242+AE$243+AF$243)/Denscalc($K44))*1000*  $K44 * Data!$B$6)) ), 0    )","v":0},29,null,null,{"$f":"IF(AND($A44<>\"\",(AI44+AJ44)>0),    IF(AJ$13=\"Nm3\",(AK$12*1000*1000/((AI$242+AJ$242+AI$243+AJ$243)*1000*  $K44 * Data!$B$6)),  (AK$12*1000*1000/(((AI$242+AJ$242+AI$243+AJ$243)/Denscalc($K44))*1000*  $K44 * Data!$B$6)) ), 0    )","v":0},29,null,null,{"$f":"IF(AND($A44<>\"\",(AM44+AN44)>0),     IF(AN$13=\"Nm3\",(AO$12*1000*1000/((AM$242+AN$242+AM$243+AN$243)*1000*  $K44 * Data!$B$6)),  (AO$12*1000*1000/(((AM$242+AN$242+AM$243+AN$243)/Denscalc($K44))*1000*  $K44 * Data!$B$6)) ), 0    )","v":0},29,null,null,{"$f":"IF(AND($A44<>\"\",(AQ44+AR44)>0),     IF(AR$13=\"Nm3\",(AS$12*1000*1000/((AQ$242+AR$242+AQ$243+AR$243)*1000*  $K44 * Data!$B$6)),  (AS$12*1000*1000/(((AQ$242+AR$242+AQ$243+AR$243)/Denscalc($K44))*1000*  $K44 * Data!$B$6)) ), 0     )","v":0},29,null,null,{"$f":"IF(AND($A44<>\"\",(AU44+AV44)>0),     IF(AV$13=\"Nm3\",(AW$12*1000*1000/((AU$242+AV$242+AU$243+AV$243)*1000*  $K44 * Data!$B$6)),  (AW$12*1000*1000/(((AU$242+AV$242+AU$243+AV$243)/Denscalc($K44))*1000*  $K44 * Data!$B$6)) ), 0   )","v":0},29,null,null,{"$f":"IF(AND(BA$11>0,$A44<>\"\",(AY44+AZ44)>0), BA$11, IF(AND($A44<>\"\",(AY44+AZ44)>0),\nIF(AZ$13=\"Nm3\",(BA$6*1000*1000/((AY$242+AZ$242+AY$243+AZ$243)*1000*$K44*Data!$B$6))+((BA$12-BA$6)*1000*1000/((AY$242+AZ$242+AY$243+AZ$243-AY$241-AZ$241)*1000*$K44*Data!$B$6)),\n(BA$6*1000*1000/(((AY$242+AZ$242+AY$243+AZ$243)/Denscalc($K44))*1000*$K44*Data!$B$6))+((BA$12-BA$6)*1000*1000/(((AY$242+AZ$242+AY$243+AZ$243-AY$241-AZ$241)/Denscalc($K44))*1000*$K44*Data!$B$6))),0))","v":0},29,null,null,{"$f":"IF(AND(BE$11>0,$A44<>\"\",(BC44+BD44)>0), BE$11, IF(AND($A44<>\"\",(BC44+BD44)>0),\n (BE$6*1000*1000/((BC$244+BD$244)*1000* Data!$B$7))+ ((BE$12-BE$6)*1000*1000/((BC$244+BD$244-BC$241-BD$241)*1000* Data!$B$7)),0))","v":0},29,{"$f":"IF(A44<>\"\", (Data!$B$127*1000*Data!$B$3)/Data!$B$7,  \"\")","v":""},"","",{"$f":"IF(A44<>\"\",  ROUND( (Data!$B$8-BI44)/Data!$B$8,3),   \"\")","v":""},"","","","",{"$f":"IF(A44<>\"\",  IF(TYPE(BN44)=1, ROUND( (Data!$B$8-BN44)/Data!$B$8,3),   \"\"),\"\")","v":""},"",29,"","","",null,""]
[{"$f":"Uppgradering!A36","v":""},30,{"$f":"Uppgradering!C36","v":""},{"$f":"Uppgradering!D36","v":""},{"$f":"Uppgradering!E36","v":""},{"$f":"Uppgradering!F36","v":""},{"$f":"Uppgradering!AU36","v":""},{"$f":"Uppgradering!AS36","v":""},{"$f":"Uppgradering!AP36","v":""},{"$f":"Uppgradering!AO36","v":""},{"$f":"Uppgradering!AT36","v":""},{"$f":"Uppgradering!AW36","v":""},"",null,null,null,{"$f":"IF(AND($A45<>\"\",(O45+P45)>0),    IF(P$13=\"Nm3\",(Q$12*1000*1000/((O$242+P$242+O$243+P$243)*1000*  $K45 * Data!$B$6)),  (Q$12*1000*1000/(((O$242+P$242+O$243+P$243)/Denscalc($K45))*1000*  $K45 * Data!$B$6)) ), 0    )","v":0},30,null,null,{"$f":"IF(AND($A45<>\"\",(S45+T45)>0),    IF(T$13=\"Nm3\",(U$12*1000*1000/((S$242+T$242+S$243+T$243)*1000*  $K45 * Data!$B$6)),  (U$12*1000*1000/(((S$242+T$242+S$243+T$243)/Denscalc($K45))*1000*  $K45 * Data!$B$6)) ), 0     )","v":0},30,null,null,{"$f":"IF(AND($A45<>\"\",(W45+X45)>0),     IF(X$13=\"Nm3\",(Y$12*1000*1000/((W$242+X$242+W$243+X$243)*1000*  $K45 * Data!$B$6)),  (Y$12*1000*1000/(((W$242+X$242+W$243+X$243)/Denscalc($K45))*1000*  $K45 * Data!$B$6)) ), 0   )","v":0},30,null,null,{"$f":"IF(AND($A45<>\"\",(AA45+AB45)>0),     IF(AB$13=\"Nm3\",(AC$12*1000*1000/((AA$242+AB$242+AA$243+AB$243)*1000*  $K45 * Data!$B$6)),  (AC$12*1000*1000/(((AA$242+AB$242+AA$243+AB$243)/Denscalc($K45))*1000*  $K45 * Data!$B$6)) ), 0     )","v":0},30,null,null,{"$f":"IF(AND($A45<>\"\",(AE45+AF45)>0),     IF(AF$13=\"Nm3\",(AG$12*1000*1000/((AE$242+AF$242+AE$243+AF$243)*1000*  $K45 * Data!$B$6)),  (AG$12*1000*1000/(((AE$242+AF$242+AE$243+AF$243)/Denscalc($K45))*1000*  $K45 * Data!$B$6)) ), 0    )","v":0},30,null,null,{"$f":"IF(AND($A45<>\"\",(AI45+AJ45)>0),    IF(AJ$13=\"Nm3\",(AK$12*1000*1000/((AI$242+AJ$242+AI$243+AJ$243)*1000*  $K45 * Data!$B$6)),  (AK$12*1000*1000/(((AI$242+AJ$242+AI$243+AJ$243)/Denscalc($K45))*1000*  $K45 * Data!$B$6)) ), 0    )","v":0},30,null,null,{"$f":"IF(AND($A45<>\"\",(AM45+AN45)>0),     IF(AN$13=\"Nm3\",(AO$12*1000*1000/((AM$242+AN$242+AM$243+AN$243)*1000*  $K45 * Data!$B$6)),  (AO$12*1000*1000/(((AM$242+AN$242+AM$243+AN$243)/Denscalc($K45))*1000*  $K45 * Data!$B$6)) ), 0    )","v":0},30,null,null,{"$f":"IF(AND($A45<>\"\",(AQ45+AR45)>0),     IF(AR$13=\"Nm3\",(AS$12*1000*1000/((AQ$242+AR$242+AQ$243+AR$243)*1000*  $K45 * Data!$B$6)),  (AS$12*1000*1000/(((AQ$242+AR$242+AQ$243+AR$243)/Denscalc($K45))*1000*  $K45 * Data!$B$6)) ), 0     )","v":0},30,null,null,{"$f":"IF(AND($A45<>\"\",(AU45+AV45)>0),     IF(AV$13=\"Nm3\",(AW$12*1000*1000/((AU$242+AV$242+AU$243+AV$243)*1000*  $K45 * Data!$B$6)),  (AW$12*1000*1000/(((AU$242+AV$242+AU$243+AV$243)/Denscalc($K45))*1000*  $K45 * Data!$B$6)) ), 0   )","v":0},30,null,null,{"$f":"IF(AND(BA$11>0,$A45<>\"\",(AY45+AZ45)>0), BA$11, IF(AND($A45<>\"\",(AY45+AZ45)>0),\nIF(AZ$13=\"Nm3\",(BA$6*1000*1000/((AY$242+AZ$242+AY$243+AZ$243)*1000*$K45*Data!$B$6))+((BA$12-BA$6)*1000*1000/((AY$242+AZ$242+AY$243+AZ$243-AY$241-AZ$241)*1000*$K45*Data!$B$6)),\n(BA$6*1000*1000/(((AY$242+AZ$242+AY$243+AZ$243)/Denscalc($K45))*1000*$K45*Data!$B$6))+((BA$12-BA$6)*1000*1000/(((AY$242+AZ$242+AY$243+AZ$243-AY$241-AZ$241)/Denscalc($K45))*1000*$K45*Data!$B$6))),0))","v":0},30,null,null,{"$f":"IF(AND(BE$11>0,$A45<>\"\",(BC45+BD45)>0), BE$11, IF(AND($A45<>\"\",(BC45+BD45)>0),\n (BE$6*1000*1000/((BC$244+BD$244)*1000* Data!$B$7))+ ((BE$12-BE$6)*1000*1000/((BC$244+BD$244-BC$241-BD$241)*1000* Data!$B$7)),0))","v":0},30,{"$f":"IF(A45<>\"\", (Data!$B$127*1000*Data!$B$3)/Data!$B$7,  \"\")","v":""},"","",{"$f":"IF(A45<>\"\",  ROUND( (Data!$B$8-BI45)/Data!$B$8,3),   \"\")","v":""},"","","","",{"$f":"IF(A45<>\"\",  IF(TYPE(BN45)=1, ROUND( (Data!$B$8-BN45)/Data!$B$8,3),   \"\"),\"\")","v":""},"",30,"","","",null,""]
["Summa egen producerad biogas (gasform, Nm3 )",null,null,null,null,null,null,{"$f":"SUMIFS(H16:H45,I16:I45,\"=Gas\",J16:J45,\"=Nm3\")","v":0},"Nm3","Såld gas (gasform)",null,null,null,null,{"$f":"IF(P13=\"Nm3\", SUM(O16:O45),\"\")","v":0},{"$f":"IF(P13=\"Nm3\", SUM(P16:P45),\"\")","v":0},"Nm3",null,{"$f":"IF(T13=\"Nm3\", SUM(S16:S45),\"\")","v":""},{"$f":"IF(T13=\"Nm3\", SUM(T16:T45),\"\")","v":""},"Nm3",null,{"$f":"IF(X13=\"Nm3\", SUM(W16:W45),\"\")","v":""},{"$f":"IF(X13=\"Nm3\", SUM(X16:X45),\"\")","v":""},"Nm3",null,{"$f":"IF(AB13=\"Nm3\", SUM(AA16:AA45),\"\")","v":""},{"$f":"IF(AB13=\"Nm3\", SUM(AB16:AB45),\"\")","v":""},"Nm3",null,{"$f":"IF(AF13=\"Nm3\", SUM(AE16:AE45),\"\")","v":""},{"$f":"IF(AF13=\"Nm3\", SUM(AF16:AF45),\"\")","v":""},"Nm3",null,{"$f":"IF(AJ13=\"Nm3\", SUM(AI16:AI45),\"\")","v":""},{"$f":"IF(AJ13=\"Nm3\", SUM(AJ16:AJ45),\"\")","v":""},"Nm3",null,{"$f":"IF(AN13=\"Nm3\", SUM(AM16:AM45),\"\")","v":""},{"$f":"IF(AN13=\"Nm3\", SUM(AN16:AN45),\"\")","v":""},"Nm3",null,{"$f":"IF(AR13=\"Nm3\", SUM(AQ16:AQ45),\"\")","v":""},{"$f":"IF(AR13=\"Nm3\", SUM(AR16:AR45),\"\")","v":""},"Nm3",null,{"$f":"IF(AV13=\"Nm3\", SUM(AU16:AU45),\"\")","v":""},{"$f":"IF(AV13=\"Nm3\", SUM(AV16:AV45),\"\")","v":""},"Nm3",null,{"$f":"IF(AZ13=\"Nm3\", SUM(AY16:AY45),\"\")","v":""},{"$f":"IF(AZ13=\"Nm3\", SUM(AZ16:AZ45),\"\")","v":""},"Nm3",null,null,null,null,null,null,null,null,"Summa",{"$f":"SUM(BK16:BK45)","v":0},null,"Nm3",null,null,null,null,{"$f":"SUM(BR16:BR45)","v":0}]
["Summa egen producerad biogas (gasform, kg)",null,null,null,null,null,null,{"$f":"SUMIFS(H16:H45,I16:I45,\"=Gas\",J16:J45,\"=kg\")","v":0},"kg","Såld gas (gasform)",null,null,null,null,{"$f":"IF(P13=\"kg\", SUM(O16:O45),\"\")","v":""},{"$f":"IF(P13=\"kg\", SUM(P16:P45),\"\")","v":""},"kg",null,{"$f":"IF(T13=\"kg\", SUM(S16:S45),\"\")","v":0},{"$f":"IF(T13=\"kg\", SUM(T16:T45),\"\")","v":0},"kg",null,{"$f":"IF(X13=\"kg\", SUM(W16:W45),\"\")","v":0},{"$f":"IF(X13=\"kg\", SUM(X16:X45),\"\")","v":0},"kg",null,{"$f":"IF(AB13=\"kg\", SUM(AA16:AA45),\"\")","v":0},{"$f":"IF(AB13=\"kg\", SUM(AB16:AB45),\"\")","v":0},"kg",null,{"$f":"IF(AF13=\"kg\", SUM(AE16:AE45),\"\")","v":0},{"$f":"IF(AF13=\"kg\", SUM(AF16:AF45),\"\")","v":0},"kg",null,{"$f":"IF(AJ13=\"kg\", SUM(AI16:AI45),\"\")","v":0},{"$f":"IF(AJ13=\"kg\", SUM(AJ16:AJ45),\"\")","v":0},"kg",null,{"$f":"IF(AN13=\"kg\", SUM(AM16:AM45),\"\")","v":0},{"$f":"IF(AN13=\"kg\", SUM(AN16:AN45),\"\")","v":0},"kg",null,{"$f":"IF(AR13=\"kg\", SUM(AQ16:AQ45),\"\")","v":0},{"$f":"IF(AR13=\"kg\", SUM(AR16:AR45),\"\")","v":0},"kg",null,{"$f":"IF(AV13=\"kg\", SUM(AU16:AU45),\"\")","v":0},{"$f":"IF(AV13=\"kg\", SUM(AV16:AV45),\"\")","v":0},"kg",null,{"$f":"IF(AZ13=\"kg\", SUM(AY16:AY45),\"\")","v":0},{"$f":"IF(AZ13=\"kg\", SUM(AZ16:AZ45),\"\")","v":0},"kg",null,null,null,null,null,null,null,null,"Summa",null,{"$f":"SUM(BL16:BL45)","v":0},"kg",null,null,null,null,null,{"$f":"SUM(BS16:BS45)","v":0}]
["Summa egen producerad biogas (flytande form, kg)",null,null,null,null,null,null,{"$f":"SUMIF(I16:I45,\"=Flytande\",H16:H45)","v":0},"kg",null,null,null,null,null,null,null,null,null,null,null,null,null,null,null,null,null,null,null,null,null,null,null,null,null,null,null,null,null,null,null,null,null,null,null,null,null,null,null,null,null,"Såld gas (flytande form)  ",null,null,null,{"$f":"SUM(BC16:BC45)","v":0},{"$f":"SUM(BD16:BD45)","v":0},null,null,null,null,null,null,null,null,null,null,"Summa",{"$f":"SUM(BP16:BP45)","v":0},null,null,null,{"$f":"SUM(BT16:BT45)","v":0}]
["Inköpt rågas som uppgraderats i egen anläggning (från Uppgradering)",null,null,null,null,null,null,null,null,null,null,null,null,null,null,null,null,null,null,null,null,null,null,null,null,null,null,null,null,null,null,null,null,null,null,null,null,null,null,null,null,null,null,null,null,null,null,null,null,null,null,null,null,null,null,null,null,null,"Inköpt rågas som uppgraderats i egen anläggning (från Uppgradering)"]
[{"$f":"IF(Uppgradering!A38<>\"\",Uppgradering!A38,\"\")","v":""},31,{"$f":"IF($A50<>\"\",Uppgradering!C38,\"\")","v":""},{"$f":"IF($A50<>\"\",Uppgradering!D38,\"\")","v":""},{"$f":"IF($A50<>\"\",Uppgradering!E38,\"\")","v":""},{"$f":"IF($A50<>\"\",Uppgradering!F38,\"\")","v":""},{"$f":"IF($A50<>\"\",Uppgradering!G38,\"\")","v":""},{"$f":"Uppgradering!AS38","v":""},{"$f":"Uppgradering!AP38","v":""},{"$f":"Uppgradering!AO38","v":""},{"$f":"Uppgradering!AT38","v":""},{"$f":"Uppgradering!AW38","v":""},{"$f":"IF(A50<>\"\", IF( G50=\"Gödsel\",\"F, Esca\", \"F\"), \"\")","v":""},null,null,null,{"$f":"IF(AND($A50<>\"\",(O50+P50)>0),    IF(P$13=\"Nm3\",(Q$12*1000*1000/((O$242+P$242+O$243+P$243)*1000*  $K50 * Data!$B$6)),  (Q$12*1000*1000/(((O$242+P$242+O$243+P$243)/Denscalc($K50))*1000*  $K50 * Data!$B$6)) ), 0    )","v":0},31,null,null,{"$f":"IF(AND($A50<>\"\",(S50+T50)>0),    IF(T$13=\"Nm3\",(U$12*1000*1000/((S$242+T$242+S$243+T$243)*1000*  $K50 * Data!$B$6)),  (U$12*1000*1000/(((S$242+T$242+S$243+T$243)/Denscalc($K50))*1000*  $K50 * Data!$B$6)) ), 0     )","v":0},31,null,null,{"$f":"IF(AND($A50<>\"\",(W50+X50)>0),     IF(X$13=\"Nm3\",(Y$12*1000*1000/((W$242+X$242+W$243+X$243)*1000*  $K50 * Data!$B$6)),  (Y$12*1000*1000/(((W$242+X$242+W$243+X$243)/Denscalc($K50))*1000*  $K50 * Data!$B$6)) ), 0   )","v":0},31,null,null,{"$f":"IF(AND($A50<>\"\",(AA50+AB50)>0),     IF(AB$13=\"Nm3\",(AC$12*1000*1000/((AA$242+AB$242+AA$243+AB$243)*1000*  $K50 * Data!$B$6)),  (AC$12*1000*1000/(((AA$242+AB$242+AA$243+AB$243)/Denscalc($K50))*1000*  $K50 * Data!$B$6)) ), 0     )","v":0},31,null,null,{"$f":"IF(AND($A50<>\"\",(AE50+AF50)>0),     IF(AF$13=\"Nm3\",(AG$12*1000*1000/((AE$242+AF$242+AE$243+AF$243)*1000*  $K50 * Data!$B$6)),  (AG$12*1000*1000/(((AE$242+AF$242+AE$243+AF$243)/Denscalc($K50))*1000*  $K50 * Data!$B$6)) ), 0    )","v":0},31,null,null,{"$f":"IF(AND($A50<>\"\",(AI50+AJ50)>0),    IF(AJ$13=\"Nm3\",(AK$12*1000*1000/((AI$242+AJ$242+AI$243+AJ$243)*1000*  $K50 * Data!$B$6)),  (AK$12*1000*1000/(((AI$242+AJ$242+AI$243+AJ$243)/Denscalc($K50))*1000*  $K50 * Data!$B$6)) ), 0    )","v":0},31,null,null,{"$f":"IF(AND($A50<>\"\",(AM50+AN50)>0),     IF(AN$13=\"Nm3\",(AO$12*1000*1000/((AM$242+AN$242+AM$243+AN$243)*1000*  $K50 * Data!$B$6)),  (AO$12*1000*1000/(((AM$242+AN$242+AM$243+AN$243)/Denscalc($K50))*1000*  $K50 * Data!$B$6)) ), 0    )","v":0},31,null,null,{"$f":"IF(AND($A50<>\"\",(AQ50+AR50)>0),     IF(AR$13=\"Nm3\",(AS$12*1000*1000/((AQ$242+AR$242+AQ$243+AR$243)*1000*  $K50 * Data!$B$6)),  (AS$12*1000*1000/(((AQ$242+AR$242+AQ$243+AR$243)/Denscalc($K50))*1000*  $K50 * Data!$B$6)) ), 0     )","v":0},31,null,null,{"$f":"IF(AND($A50<>\"\",(AU50+AV50)>0),     IF(AV$13=\"Nm3\",(AW$12*1000*1000/((AU$242+AV$242+AU$243+AV$243)*1000*  $K50 * Data!$B$6)),  (AW$12*1000*1000/(((AU$242+AV$242+AU$243+AV$243)/Denscalc($K50))*1000*  $K50 * Data!$B$6)) ), 0   )","v":0},31,null,null,{"$f":"IF(AND(BA$11>0,$A50<>\"\",(AY50+AZ50)>0), BA$11, IF(AND($A50<>\"\",(AY50+AZ50)>0),\nIF(AZ$13=\"Nm3\",(BA$6*1000*1000/((AY$242+AZ$242+AY$243+AZ$243)*1000*$K50*Data!$B$6))+((BA$12-BA$6)*1000*1000/((AY$242+AZ$242+AY$243+AZ$243-AY$241-AZ$241)*1000*$K50*Data!$B$6)),\n(BA$6*1000*1000/(((AY$242+AZ$242+AY$243+AZ$243)/Denscalc($K50))*1000*$K50*Data!$B$6))+((BA$12-BA$6)*1000*1000/(((AY$242+AZ$242+AY$243+AZ$243-AY$241-AZ$241)/Denscalc($K50))*1000*$K50*Data!$B$6))),0))","v":0},31,null,null,{"$f":"IF(AND(BE$11>0,$A50<>\"\",(BC50+BD50)>0), BE$11, IF(AND($A50<>\"\",(BC50+BD50)>0),\n (BE$6*1000*1000/((BC$244+BD$244)*1000* Data!$B$7))+ ((BE$12-BE$6)*1000*1000/((BC$244+BD$244-BC$241-BD$241)*1000* Data!$B$7)),0))","v":0},31,{"$f":"IF(A50<>\"\", (Data!$B$127*1000*Data!$B$3)/Data!$B$7,  \"\")","v":""},{"$f":"IF(A50<>\"\",   IF(I50=\"Gas\",\nIF((BK50+BL50)=0, Q50+BG50, ( (( U50*(S50+T50) + Y50*(W50+X50) + AC50*(AA50+AB50) + AG50*(AE50+AF50) + AK50*(AI50+AJ50) + AO50*(AM50+AN50) + AS50*(AQ50+AR50) + AW50*(AU50+AV50)  )) /\n( S50+T50+W50+X50+AA50+AB50+AE50+AF50+AI50+AJ50+AM50+AN50+AQ50+AR50+AU50+AV50)+Q50+BG50)),\nBA50+BG50 ),  \"\")","v":""},{"$f":"IF(A50<>\"\",   (L50+BH50), \"\")","v":""},{"$f":"IF(A50<>\"\",  ROUND( (Data!$B$8-BI50)/Data!$B$8,3),   \"\")","v":""},{"$f":"IF(A50<>\"\", SUM( IF(T$13=\"Nm3\",S50,0),  IF(X$13=\"Nm3\",W50,0),  IF(AB$13=\"Nm3\",AA50,0),  IF(AF$13=\"Nm3\",AE50,0), IF(AJ$13=\"Nm3\",AI50,0),  IF(AN$13=\"Nm3\",AM50,0),  IF(AR$13=\"Nm3\",AQ50,0),  IF(AV$13=\"Nm3\",AU50,0), IF(AZ$13=\"Nm3\",AY50,0),  ),\"\")","v":""},{"$f":"IF(A50<>\"\", SUM(  IF(T$13=\"kg\",S50,0),  IF(X$13=\"kg\",W50,0),  IF(AB$13=\"kg\",AA50,0),  IF(AF$13=\"kg\",AE50,0), IF(AJ$13=\"kg\",AI50,0),  IF(AN$13=\"kg\",AM50,0),  IF(AR$13=\"kg\",AQ50,0),  IF(AV$13=\"kg\",AU50,0), IF(AZ$13=\"kg\",AY50,0),  ),\"\")","v":""},{"$f":"IF(A50<>\"\",   IF(I50=\"Flytande\", BE50+BG50, \"\"    ), \"\")","v":""},{"$f":"IF(A50<>\"\", IF(I50=\"Flytande\",    (L50+BM50), \"\"), \"\")","v":""},{"$f":"IF(A50<>\"\",  IF(TYPE(BN50)=1, ROUND( (Data!$B$8-BN50)/Data!$B$8,3),   \"\"),\"\")","v":""},{"$f":"IF(A50<>\"\",BC50,\"\")","v":""},31,{"$f":"IF(A50<>\"\", SUM(IF(P$13=\"Nm3\",P50,0),  IF(T$13=\"Nm3\",T50,0),  IF(X$13=\"Nm3\",X50,0),  IF(AB$13=\"Nm3\",AB50,0),  IF(AF$13=\"Nm3\",AF50,0), IF(AJ$13=\"Nm3\",AJ50,0),  IF(AN$13=\"Nm3\",AN50,0),  IF(AR$13=\"Nm3\",AR50,0),  IF(AV$13=\"Nm3\",AV50,0), IF(AZ$13=\"Nm3\",AZ50,0),  ),\"\")","v":""},{"$f":"IF(A50<>\"\", SUM(IF(P$13=\"kg\",P50,0),  IF(T$13=\"kg\",T50,0),  IF(X$13=\"kg\",X50,0),  IF(AB$13=\"kg\",AB50,0),  IF(AF$13=\"kg\",AF50,0), IF(AJ$13=\"kg\",AJ50,0),  IF(AN$13=\"kg\",AN50,0),  IF(AR$13=\"kg\",AR50,0),  IF(AV$13=\"kg\",AV50,0), IF(AZ$13=\"kg\",AZ50,0),  ),\"\")","v":""},{"$f":"IF(A50<>\"\",BD50,\"\")","v":""},null,{"$f":"IF(A50<>\"\",    IF(I50=\"Gas\", IF(J50=\"kg\", ((BK50*Denscalc(K50) +BL50+BR50*Denscalc(K50)+BS50)-H50), ( (BK50+BL50/Denscalc(K50) + BR50+BS50/Denscalc(K50))-H50)), ( (   BK50*Denscalc(K50)+BL50+BP50+BR50*Denscalc(K50)+BS50+BT50)-H50)  ), \"\")","v":""}]
[{"$f":"IF(Uppgradering!A39<>\"\",Uppgradering!A39,\"\")","v":""},32,{"$f":"IF($A51<>\"\",Uppgradering!C39,\"\")","v":""},{"$f":"IF($A51<>\"\",Uppgradering!D39,\"\")","v":""},{"$f":"IF($A51<>\"\",Uppgradering!E39,\"\")","v":""},{"$f":"IF($A51<>\"\",Uppgradering!F39,\"\")","v":""},{"$f":"IF($A51<>\"\",Uppgradering!G39,\"\")","v":""},{"$f":"Uppgradering!AS39","v":""},{"$f":"Uppgradering!AP39","v":""},{"$f":"Uppgradering!AO39","v":""},{"$f":"Uppgradering!AT39","v":""},{"$f":"Uppgradering!AW39","v":""},"",null,null,null,{"$f":"IF(AND($A51<>\"\",(O51+P51)>0),    IF(P$13=\"Nm3\",(Q$12*1000*1000/((O$242+P$242+O$243+P$243)*1000*  $K51 * Data!$B$6)),  (Q$12*1000*1000/(((O$242+P$242+O$243+P$243)/Denscalc($K51))*1000*  $K51 * Data!$B$6)) ), 0    )","v":0},32,null,null,{"$f":"IF(AND($A51<>\"\",(S51+T51)>0),    IF(T$13=\"Nm3\",(U$12*1000*1000/((S$242+T$242+S$243+T$243)*1000*  $K51 * Data!$B$6)),  (U$12*1000*1000/(((S$242+T$242+S$243+T$243)/Denscalc($K51))*1000*  $K51 * Data!$B$6)) ), 0     )","v":0},32,null,null,{"$f":"IF(AND($A51<>\"\",(W51+X51)>0),     IF(X$13=\"Nm3\",(Y$12*1000*1000/((W$242+X$242+W$243+X$243)*1000*  $K51 * Data!$B$6)),  (Y$12*1000*1000/(((W$242+X$242+W$243+X$243)/Denscalc($K51))*1000*  $K51 * Data!$B$6)) ), 0   )","v":0},32,null,null,{"$f":"IF(AND($A51<>\"\",(AA51+AB51)>0),     IF(AB$13=\"Nm3\",(AC$12*1000*1000/((AA$242+AB$242+AA$243+AB$243)*1000*  $K51 * Data!$B$6)),  (AC$12*1000*1000/(((AA$242+AB$242+AA$243+AB$243)/Denscalc($K51))*1000*  $K51 * Data!$B$6)) ), 0     )","v":0},32,null,null,{"$f":"IF(AND($A51<>\"\",(AE51+AF51)>0),     IF(AF$13=\"Nm3\",(AG$12*1000*1000/((AE$242+AF$242+AE$243+AF$243)*1000*  $K51 * Data!$B$6)),  (AG$12*1000*1000/(((AE$242+AF$242+AE$243+AF$243)/Denscalc($K51))*1000*  $K51 * Data!$B$6)) ), 0    )","v":0},32,null,null,{"$f":"IF(AND($A51<>\"\",(AI51+AJ51)>0),    IF(AJ$13=\"Nm3\",(AK$12*1000*1000/((AI$242+AJ$242+AI$243+AJ$243)*1000*  $K51 * Data!$B$6)),  (AK$12*1000*1000/(((AI$242+AJ$242+AI$243+AJ$243)/Denscalc($K51))*1000*  $K51 * Data!$B$6)) ), 0    )","v":0},32,null,null,{"$f":"IF(AND($A51<>\"\",(AM51+AN51)>0),     IF(AN$13=\"Nm3\",(AO$12*1000*1000/((AM$242+AN$242+AM$243+AN$243)*1000*  $K51 * Data!$B$6)),  (AO$12*1000*1000/(((AM$242+AN$242+AM$243+AN$243)/Denscalc($K51))*1000*  $K51 * Data!$B$6)) ), 0    )","v":0},32,null,null,{"$f":"IF(AND($A51<>\"\",(AQ51+AR51)>0),     IF(AR$13=\"Nm3\",(AS$12*1000*1000/((AQ$242+AR$242+AQ$243+AR$243)*1000*  $K51 * Data!$B$6)),  (AS$12*1000*1000/(((AQ$242+AR$242+AQ$243+AR$243)/Denscalc($K51))*1000*  $K51 * Data!$B$6)) ), 0     )","v":0},32,null,null,{"$f":"IF(AND($A51<>\"\",(AU51+AV51)>0),     IF(AV$13=\"Nm3\",(AW$12*1000*1000/((AU$242+AV$242+AU$243+AV$243)*1000*  $K51 * Data!$B$6)),  (AW$12*1000*1000/(((AU$242+AV$242+AU$243+AV$243)/Denscalc($K51))*1000*  $K51 * Data!$B$6)) ), 0   )","v":0},32,null,null,{"$f":"IF(AND(BA$11>0,$A51<>\"\",(AY51+AZ51)>0), BA$11, IF(AND($A51<>\"\",(AY51+AZ51)>0),\nIF(AZ$13=\"Nm3\",(BA$6*1000*1000/((AY$242+AZ$242+AY$243+AZ$243)*1000*$K51*Data!$B$6))+((BA$12-BA$6)*1000*1000/((AY$242+AZ$242+AY$243+AZ$243-AY$241-AZ$241)*1000*$K51*Data!$B$6)),\n(BA$6*1000*1000/(((AY$242+AZ$242+AY$243+AZ$243)/Denscalc($K51))*1000*$K51*Data!$B$6))+((BA$12-BA$6)*1000*1000/(((AY$242+AZ$242+AY$243+AZ$243-AY$241-AZ$241)/Denscalc($K51))*1000*$K51*Data!$B$6))),0))","v":0},32,null,null,{"$f":"IF(AND(BE$11>0,$A51<>\"\",(BC51+BD51)>0), BE$11, IF(AND($A51<>\"\",(BC51+BD51)>0),\n (BE$6*1000*1000/((BC$244+BD$244)*1000* Data!$B$7))+ ((BE$12-BE$6)*1000*1000/((BC$244+BD$244-BC$241-BD$241)*1000* Data!$B$7)),0))","v":0},32,{"$f":"IF(A51<>\"\", (Data!$B$127*1000*Data!$B$3)/Data!$B$7,  \"\")","v":""},"","",{"$f":"IF(A51<>\"\",  ROUND( (Data!$B$8-BI51)/Data!$B$8,3),   \"\")","v":""},"","","","",{"$f":"IF(A51<>\"\",  IF(TYPE(BN51)=1, ROUND( (Data!$B$8-BN51)/Data!$B$8,3),   \"\"),\"\")","v":""},"",32,"","","",null,""]
[{"$f":"IF(Uppgradering!A40<>\"\",Uppgradering!A40,\"\")","v":""},33,{"$f":"IF($A52<>\"\",Uppgradering!C40,\"\")","v":""},{"$f":"IF($A52<>\"\",Uppgradering!D40,\"\")","v":""},{"$f":"IF($A52<>\"\",Uppgradering!E40,\"\")","v":""},{"$f":"IF($A52<>\"\",Uppgradering!F40,\"\")","v":""},{"$f":"IF($A52<>\"\",Uppgradering!G40,\"\")","v":""},{"$f":"Uppgradering!AS40","v":""},{"$f":"Uppgradering!AP40","v":""},{"$f":"Uppgradering!AO40","v":""},{"$f":"Uppgradering!AT40","v":""},{"$f":"Uppgradering!AW40","v":""},"",null,null,null,{"$f":"IF(AND($A52<>\"\",(O52+P52)>0),    IF(P$13=\"Nm3\",(Q$12*1000*1000/((O$242+P$242+O$243+P$243)*1000*  $K52 * Data!$B$6)),  (Q$12*1000*1000/(((O$242+P$242+O$243+P$243)/Denscalc($K52))*1000*  $K52 * Data!$B$6)) ), 0    )","v":0},33,null,null,{"$f":"IF(AND($A52<>\"\",(S52+T52)>0),    IF(T$13=\"Nm3\",(U$12*1000*1000/((S$242+T$242+S$243+T$243)*1000*  $K52 * Data!$B$6)),  (U$12*1000*1000/(((S$242+T$242+S$243+T$243)/Denscalc($K52))*1000*  $K52 * Data!$B$6)) ), 0     )","v":0},33,null,null,{"$f":"IF(AND($A52<>\"\",(W52+X52)>0),     IF(X$13=\"Nm3\",(Y$12*1000*1000/((W$242+X$242+W$243+X$243)*1000*  $K52 * Data!$B$6)),  (Y$12*1000*1000/(((W$242+X$242+W$243+X$243)/Denscalc($K52))*1000*  $K52 * Data!$B$6)) ), 0   )","v":0},33,null,null,{"$f":"IF(AND($A52<>\"\",(AA52+AB52)>0),     IF(AB$13=\"Nm3\",(AC$12*1000*1000/((AA$242+AB$242+AA$243+AB$243)*1000*  $K52 * Data!$B$6)),  (AC$12*1000*1000/(((AA$242+AB$242+AA$243+AB$243)/Denscalc($K52))*1000*  $K52 * Data!$B$6)) ), 0     )","v":0},33,null,null,{"$f":"IF(AND($A52<>\"\",(AE52+AF52)>0),     IF(AF$13=\"Nm3\",(AG$12*1000*1000/((AE$242+AF$242+AE$243+AF$243)*1000*  $K52 * Data!$B$6)),  (AG$12*1000*1000/(((AE$242+AF$242+AE$243+AF$243)/Denscalc($K52))*1000*  $K52 * Data!$B$6)) ), 0    )","v":0},33,null,null,{"$f":"IF(AND($A52<>\"\",(AI52+AJ52)>0),    IF(AJ$13=\"Nm3\",(AK$12*1000*1000/((AI$242+AJ$242+AI$243+AJ$243)*1000*  $K52 * Data!$B$6)),  (AK$12*1000*1000/(((AI$242+AJ$242+AI$243+AJ$243)/Denscalc($K52))*1000*  $K52 * Data!$B$6)) ), 0    )","v":0},33,null,null,{"$f":"IF(AND($A52<>\"\",(AM52+AN52)>0),     IF(AN$13=\"Nm3\",(AO$12*1000*1000/((AM$242+AN$242+AM$243+AN$243)*1000*  $K52 * Data!$B$6)),  (AO$12*1000*1000/(((AM$242+AN$242+AM$243+AN$243)/Denscalc($K52))*1000*  $K52 * Data!$B$6)) ), 0    )","v":0},33,null,null,{"$f":"IF(AND($A52<>\"\",(AQ52+AR52)>0),     IF(AR$13=\"Nm3\",(AS$12*1000*1000/((AQ$242+AR$242+AQ$243+AR$243)*1000*  $K52 * Data!$B$6)),  (AS$12*1000*1000/(((AQ$242+AR$242+AQ$243+AR$243)/Denscalc($K52))*1000*  $K52 * Data!$B$6)) ), 0     )","v":0},33,null,null,{"$f":"IF(AND($A52<>\"\",(AU52+AV52)>0),     IF(AV$13=\"Nm3\",(AW$12*1000*1000/((AU$242+AV$242+AU$243+AV$243)*1000*  $K52 * Data!$B$6)),  (AW$12*1000*1000/(((AU$242+AV$242+AU$243+AV$243)/Denscalc($K52))*1000*  $K52 * Data!$B$6)) ), 0   )","v":0},33,null,null,{"$f":"IF(AND(BA$11>0,$A52<>\"\",(AY52+AZ52)>0), BA$11, IF(AND($A52<>\"\",(AY52+AZ52)>0),\nIF(AZ$13=\"Nm3\",(BA$6*1000*1000/((AY$242+AZ$242+AY$243+AZ$243)*1000*$K52*Data!$B$6))+((BA$12-BA$6)*1000*1000/((AY$242+AZ$242+AY$243+AZ$243-AY$241-AZ$241)*1000*$K52*Data!$B$6)),\n(BA$6*1000*1000/(((AY$242+AZ$242+AY$243+AZ$243)/Denscalc($K52))*1000*$K52*Data!$B$6))+((BA$12-BA$6)*1000*1000/(((AY$242+AZ$242+AY$243+AZ$243-AY$241-AZ$241)/Denscalc($K52))*1000*$K52*Data!$B$6))),0))","v":0},33,null,null,{"$f":"IF(AND(BE$11>0,$A52<>\"\",(BC52+BD52)>0), BE$11, IF(AND($A52<>\"\",(BC52+BD52)>0),\n (BE$6*1000*1000/((BC$244+BD$244)*1000* Data!$B$7))+ ((BE$12-BE$6)*1000*1000/((BC$244+BD$244-BC$241-BD$241)*1000* Data!$B$7)),0))","v":0},33,{"$f":"IF(A52<>\"\", (Data!$B$127*1000*Data!$B$3)/Data!$B$7,  \"\")","v":""},"","",{"$f":"IF(A52<>\"\",  ROUND( (Data!$B$8-BI52)/Data!$B$8,3),   \"\")","v":""},"","","","",{"$f":"IF(A52<>\"\",  IF(TYPE(BN52)=1, ROUND( (Data!$B$8-BN52)/Data!$B$8,3),   \"\"),\"\")","v":""},"",33,"","","",null,""]
[{"$f":"IF(Uppgradering!A41<>\"\",Uppgradering!A41,\"\")","v":""},34,{"$f":"IF($A53<>\"\",Uppgradering!C41,\"\")","v":""},{"$f":"IF($A53<>\"\",Uppgradering!D41,\"\")","v":""},{"$f":"IF($A53<>\"\",Uppgradering!E41,\"\")","v":""},{"$f":"IF($A53<>\"\",Uppgradering!F41,\"\")","v":""},{"$f":"IF($A53<>\"\",Uppgradering!G41,\"\")","v":""},{"$f":"Uppgradering!AS41","v":""},{"$f":"Uppgradering!AP41","v":""},{"$f":"Uppgradering!AO41","v":""},{"$f":"Uppgradering!AT41","v":""},{"$f":"Uppgradering!AW41","v":""},"",null,null,null,{"$f":"IF(AND($A53<>\"\",(O53+P53)>0),    IF(P$13=\"Nm3\",(Q$12*1000*1000/((O$242+P$242+O$243+P$243)*1000*  $K53 * Data!$B$6)),  (Q$12*1000*1000/(((O$242+P$242+O$243+P$243)/Denscalc($K53))*1000*  $K53 * Data!$B$6)) ), 0    )","v":0},34,null,null,{"$f":"IF(AND($A53<>\"\",(S53+T53)>0),    IF(T$13=\"Nm3\",(U$12*1000*1000/((S$242+T$242+S$243+T$243)*1000*  $K53 * Data!$B$6)),  (U$12*1000*1000/(((S$242+T$242+S$243+T$243)/Denscalc($K53))*1000*  $K53 * Data!$B$6)) ), 0     )","v":0},34,null,null,{"$f":"IF(AND($A53<>\"\",(W53+X53)>0),     IF(X$13=\"Nm3\",(Y$12*1000*1000/((W$242+X$242+W$243+X$243)*1000*  $K53 * Data!$B$6)),  (Y$12*1000*1000/(((W$242+X$242+W$243+X$243)/Denscalc($K53))*1000*  $K53 * Data!$B$6)) ), 0   )","v":0},34,null,null,{"$f":"IF(AND($A53<>\"\",(AA53+AB53)>0),     IF(AB$13=\"Nm3\",(AC$12*1000*1000/((AA$242+AB$242+AA$243+AB$243)*1000*  $K53 * Data!$B$6)),  (AC$12*1000*1000/(((AA$242+AB$242+AA$243+AB$243)/Denscalc($K53))*1000*  $K53 * Data!$B$6)) ), 0     )","v":0},34,null,null,{"$f":"IF(AND($A53<>\"\",(AE53+AF53)>0),     IF(AF$13=\"Nm3\",(AG$12*1000*1000/((AE$242+AF$242+AE$243+AF$243)*1000*  $K53 * Data!$B$6)),  (AG$12*1000*1000/(((AE$242+AF$242+AE$243+AF$243)/Denscalc($K53))*1000*  $K53 * Data!$B$6)) ), 0    )","v":0},34,null,null,{"$f":"IF(AND($A53<>\"\",(AI53+AJ53)>0),    IF(AJ$13=\"Nm3\",(AK$12*1000*1000/((AI$242+AJ$242+AI$243+AJ$243)*1000*  $K53 * Data!$B$6)),  (AK$12*1000*1000/(((AI$242+AJ$242+AI$243+AJ$243)/Denscalc($K53))*1000*  $K53 * Data!$B$6)) ), 0    )","v":0},34,null,null,{"$f":"IF(AND($A53<>\"\",(AM53+AN53)>0),     IF(AN$13=\"Nm3\",(AO$12*1000*1000/((AM$242+AN$242+AM$243+AN$243)*1000*  $K53 * Data!$B$6)),  (AO$12*1000*1000/(((AM$242+AN$242+AM$243+AN$243)/Denscalc($K53))*1000*  $K53 * Data!$B$6)) ), 0    )","v":0},34,null,null,{"$f":"IF(AND($A53<>\"\",(AQ53+AR53)>0),     IF(AR$13=\"Nm3\",(AS$12*1000*1000/((AQ$242+AR$242+AQ$243+AR$243)*1000*  $K53 * Data!$B$6)),  (AS$12*1000*1000/(((AQ$242+AR$242+AQ$243+AR$243)/Denscalc($K53))*1000*  $K53 * Data!$B$6)) ), 0     )","v":0},34,null,null,{"$f":"IF(AND($A53<>\"\",(AU53+AV53)>0),     IF(AV$13=\"Nm3\",(AW$12*1000*1000/((AU$242+AV$242+AU$243+AV$243)*1000*  $K53 * Data!$B$6)),  (AW$12*1000*1000/(((AU$242+AV$242+AU$243+AV$243)/Denscalc($K53))*1000*  $K53 * Data!$B$6)) ), 0   )","v":0},34,null,null,{"$f":"IF(AND(BA$11>0,$A53<>\"\",(AY53+AZ53)>0), BA$11, IF(AND($A53<>\"\",(AY53+AZ53)>0),\nIF(AZ$13=\"Nm3\",(BA$6*1000*1000/((AY$242+AZ$242+AY$243+AZ$243)*1000*$K53*Data!$B$6))+((BA$12-BA$6)*1000*1000/((AY$242+AZ$242+AY$243+AZ$243-AY$241-AZ$241)*1000*$K53*Data!$B$6)),\n(BA$6*1000*1000/(((AY$242+AZ$242+AY$243+AZ$243)/Denscalc($K53))*1000*$K53*Data!$B$6))+((BA$12-BA$6)*1000*1000/(((AY$242+AZ$242+AY$243+AZ$243-AY$241-AZ$241)/Denscalc($K53))*1000*$K53*Data!$B$6))),0))","v":0},34,null,null,{"$f":"IF(AND(BE$11>0,$A53<>\"\",(BC53+BD53)>0), BE$11, IF(AND($A53<>\"\",(BC53+BD53)>0),\n (BE$6*1000*1000/((BC$244+BD$244)*1000* Data!$B$7))+ ((BE$12-BE$6)*1000*1000/((BC$244+BD$244-BC$241-BD$241)*1000* Data!$B$7)),0))","v":0},34,{"$f":"IF(A53<>\"\", (Data!$B$127*1000*Data!$B$3)/Data!$B$7,  \"\")","v":""},"","",{"$f":"IF(A53<>\"\",  ROUND( (Data!$B$8-BI53)/Data!$B$8,3),   \"\")","v":""},"","","","",{"$f":"IF(A53<>\"\",  IF(TYPE(BN53)=1, ROUND( (Data!$B$8-BN53)/Data!$B$8,3),   \"\"),\"\")","v":""},"",34,"","","",null,""]
[{"$f":"IF(Uppgradering!A42<>\"\",Uppgradering!A42,\"\")","v":""},35,{"$f":"IF($A54<>\"\",Uppgradering!C42,\"\")","v":""},{"$f":"IF($A54<>\"\",Uppgradering!D42,\"\")","v":""},{"$f":"IF($A54<>\"\",Uppgradering!E42,\"\")","v":""},{"$f":"IF($A54<>\"\",Uppgradering!F42,\"\")","v":""},{"$f":"IF($A54<>\"\",Uppgradering!G42,\"\")","v":""},{"$f":"Uppgradering!AS42","v":""},{"$f":"Uppgradering!AP42","v":""},{"$f":"Uppgradering!AO42","v":""},{"$f":"Uppgradering!AT42","v":""},{"$f":"Uppgradering!AW42","v":""},"",null,null,null,{"$f":"IF(AND($A54<>\"\",(O54+P54)>0),    IF(P$13=\"Nm3\",(Q$12*1000*1000/((O$242+P$242+O$243+P$243)*1000*  $K54 * Data!$B$6)),  (Q$12*1000*1000/(((O$242+P$242+O$243+P$243)/Denscalc($K54))*1000*  $K54 * Data!$B$6)) ), 0    )","v":0},35,null,null,{"$f":"IF(AND($A54<>\"\",(S54+T54)>0),    IF(T$13=\"Nm3\",(U$12*1000*1000/((S$242+T$242+S$243+T$243)*1000*  $K54 * Data!$B$6)),  (U$12*1000*1000/(((S$242+T$242+S$243+T$243)/Denscalc($K54))*1000*  $K54 * Data!$B$6)) ), 0     )","v":0},35,null,null,{"$f":"IF(AND($A54<>\"\",(W54+X54)>0),     IF(X$13=\"Nm3\",(Y$12*1000*1000/((W$242+X$242+W$243+X$243)*1000*  $K54 * Data!$B$6)),  (Y$12*1000*1000/(((W$242+X$242+W$243+X$243)/Denscalc($K54))*1000*  $K54 * Data!$B$6)) ), 0   )","v":0},35,null,null,{"$f":"IF(AND($A54<>\"\",(AA54+AB54)>0),     IF(AB$13=\"Nm3\",(AC$12*1000*1000/((AA$242+AB$242+AA$243+AB$243)*1000*  $K54 * Data!$B$6)),  (AC$12*1000*1000/(((AA$242+AB$242+AA$243+AB$243)/Denscalc($K54))*1000*  $K54 * Data!$B$6)) ), 0     )","v":0},35,null,null,{"$f":"IF(AND($A54<>\"\",(AE54+AF54)>0),     IF(AF$13=\"Nm3\",(AG$12*1000*1000/((AE$242+AF$242+AE$243+AF$243)*1000*  $K54 * Data!$B$6)),  (AG$12*1000*1000/(((AE$242+AF$242+AE$243+AF$243)/Denscalc($K54))*1000*  $K54 * Data!$B$6)) ), 0    )","v":0},35,null,null,{"$f":"IF(AND($A54<>\"\",(AI54+AJ54)>0),    IF(AJ$13=\"Nm3\",(AK$12*1000*1000/((AI$242+AJ$242+AI$243+AJ$243)*1000*  $K54 * Data!$B$6)),  (AK$12*1000*1000/(((AI$242+AJ$242+AI$243+AJ$243)/Denscalc($K54))*1000*  $K54 * Data!$B$6)) ), 0    )","v":0},35,null,null,{"$f":"IF(AND($A54<>\"\",(AM54+AN54)>0),     IF(AN$13=\"Nm3\",(AO$12*1000*1000/((AM$242+AN$242+AM$243+AN$243)*1000*  $K54 * Data!$B$6)),  (AO$12*1000*1000/(((AM$242+AN$242+AM$243+AN$243)/Denscalc($K54))*1000*  $K54 * Data!$B$6)) ), 0    )","v":0},35,null,null,{"$f":"IF(AND($A54<>\"\",(AQ54+AR54)>0),     IF(AR$13=\"Nm3\",(AS$12*1000*1000/((AQ$242+AR$242+AQ$243+AR$243)*1000*  $K54 * Data!$B$6)),  (AS$12*1000*1000/(((AQ$242+AR$242+AQ$243+AR$243)/Denscalc($K54))*1000*  $K54 * Data!$B$6)) ), 0     )","v":0},35,null,null,{"$f":"IF(AND($A54<>\"\",(AU54+AV54)>0),     IF(AV$13=\"Nm3\",(AW$12*1000*1000/((AU$242+AV$242+AU$243+AV$243)*1000*  $K54 * Data!$B$6)),  (AW$12*1000*1000/(((AU$242+AV$242+AU$243+AV$243)/Denscalc($K54))*1000*  $K54 * Data!$B$6)) ), 0   )","v":0},35,null,null,{"$f":"IF(AND(BA$11>0,$A54<>\"\",(AY54+AZ54)>0), BA$11, IF(AND($A54<>\"\",(AY54+AZ54)>0),\nIF(AZ$13=\"Nm3\",(BA$6*1000*1000/((AY$242+AZ$242+AY$243+AZ$243)*1000*$K54*Data!$B$6))+((BA$12-BA$6)*1000*1000/((AY$242+AZ$242+AY$243+AZ$243-AY$241-AZ$241)*1000*$K54*Data!$B$6)),\n(BA$6*1000*1000/(((AY$242+AZ$242+AY$243+AZ$243)/Denscalc($K54))*1000*$K54*Data!$B$6))+((BA$12-BA$6)*1000*1000/(((AY$242+AZ$242+AY$243+AZ$243-AY$241-AZ$241)/Denscalc($K54))*1000*$K54*Data!$B$6))),0))","v":0},35,null,null,{"$f":"IF(AND(BE$11>0,$A54<>\"\",(BC54+BD54)>0), BE$11, IF(AND($A54<>\"\",(BC54+BD54)>0),\n (BE$6*1000*1000/((BC$244+BD$244)*1000* Data!$B$7))+ ((BE$12-BE$6)*1000*1000/((BC$244+BD$244-BC$241-BD$241)*1000* Data!$B$7)),0))","v":0},35,{"$f":"IF(A54<>\"\", (Data!$B$127*1000*Data!$B$3)/Data!$B$7,  \"\")","v":""},"","",{"$f":"IF(A54<>\"\",  ROUND( (Data!$B$8-BI54)/Data!$B$8,3),   \"\")","v":""},"","","","",{"$f":"IF(A54<>\"\",  IF(TYPE(BN54)=1, ROUND( (Data!$B$8-BN54)/Data!$B$8,3),   \"\"),\"\")","v":""},"",35,"","","",null,""]
[{"$f":"IF(Uppgradering!A43<>\"\",Uppgradering!A43,\"\")","v":""},36,{"$f":"IF($A55<>\"\",Uppgradering!C43,\"\")","v":""},{"$f":"IF($A55<>\"\",Uppgradering!D43,\"\")","v":""},{"$f":"IF($A55<>\"\",Uppgradering!E43,\"\")","v":""},{"$f":"IF($A55<>\"\",Uppgradering!F43,\"\")","v":""},{"$f":"IF($A55<>\"\",Uppgradering!G43,\"\")","v":""},{"$f":"Uppgradering!AS43","v":""},{"$f":"Uppgradering!AP43","v":""},{"$f":"Uppgradering!AO43","v":""},{"$f":"Uppgradering!AT43","v":""},{"$f":"Uppgradering!AW43","v":""},"",null,null,null,{"$f":"IF(AND($A55<>\"\",(O55+P55)>0),    IF(P$13=\"Nm3\",(Q$12*1000*1000/((O$242+P$242+O$243+P$243)*1000*  $K55 * Data!$B$6)),  (Q$12*1000*1000/(((O$242+P$242+O$243+P$243)/Denscalc($K55))*1000*  $K55 * Data!$B$6)) ), 0    )","v":0},36,null,null,{"$f":"IF(AND($A55<>\"\",(S55+T55)>0),    IF(T$13=\"Nm3\",(U$12*1000*1000/((S$242+T$242+S$243+T$243)*1000*  $K55 * Data!$B$6)),  (U$12*1000*1000/(((S$242+T$242+S$243+T$243)/Denscalc($K55))*1000*  $K55 * Data!$B$6)) ), 0     )","v":0},36,null,null,{"$f":"IF(AND($A55<>\"\",(W55+X55)>0),     IF(X$13=\"Nm3\",(Y$12*1000*1000/((W$242+X$242+W$243+X$243)*1000*  $K55 * Data!$B$6)),  (Y$12*1000*1000/(((W$242+X$242+W$243+X$243)/Denscalc($K55))*1000*  $K55 * Data!$B$6)) ), 0   )","v":0},36,null,null,{"$f":"IF(AND($A55<>\"\",(AA55+AB55)>0),     IF(AB$13=\"Nm3\",(AC$12*1000*1000/((AA$242+AB$242+AA$243+AB$243)*1000*  $K55 * Data!$B$6)),  (AC$12*1000*1000/(((AA$242+AB$242+AA$243+AB$243)/Denscalc($K55))*1000*  $K55 * Data!$B$6)) ), 0     )","v":0},36,null,null,{"$f":"IF(AND($A55<>\"\",(AE55+AF55)>0),     IF(AF$13=\"Nm3\",(AG$12*1000*1000/((AE$242+AF$242+AE$243+AF$243)*1000*  $K55 * Data!$B$6)),  (AG$12*1000*1000/(((AE$242+AF$242+AE$243+AF$243)/Denscalc($K55))*1000*  $K55 * Data!$B$6)) ), 0    )","v":0},36,null,null,{"$f":"IF(AND($A55<>\"\",(AI55+AJ55)>0),    IF(AJ$13=\"Nm3\",(AK$12*1000*1000/((AI$242+AJ$242+AI$243+AJ$243)*1000*  $K55 * Data!$B$6)),  (AK$12*1000*1000/(((AI$242+AJ$242+AI$243+AJ$243)/Denscalc($K55))*1000*  $K55 * Data!$B$6)) ), 0    )","v":0},36,null,null,{"$f":"IF(AND($A55<>\"\",(AM55+AN55)>0),     IF(AN$13=\"Nm3\",(AO$12*1000*1000/((AM$242+AN$242+AM$243+AN$243)*1000*  $K55 * Data!$B$6)),  (AO$12*1000*1000/(((AM$242+AN$242+AM$243+AN$243)/Denscalc($K55))*1000*  $K55 * Data!$B$6)) ), 0    )","v":0},36,null,null,{"$f":"IF(AND($A55<>\"\",(AQ55+AR55)>0),     IF(AR$13=\"Nm3\",(AS$12*1000*1000/((AQ$242+AR$242+AQ$243+AR$243)*1000*  $K55 * Data!$B$6)),  (AS$12*1000*1000/(((AQ$242+AR$242+AQ$243+AR$243)/Denscalc($K55))*1000*  $K55 * Data!$B$6)) ), 0     )","v":0},36,null,null,{"$f":"IF(AND($A55<>\"\",(AU55+AV55)>0),     IF(AV$13=\"Nm3\",(AW$12*1000*1000/((AU$242+AV$242+AU$243+AV$243)*1000*  $K55 * Data!$B$6)),  (AW$12*1000*1000/(((AU$242+AV$242+AU$243+AV$243)/Denscalc($K55))*1000*  $K55 * Data!$B$6)) ), 0   )","v":0},36,null,null,{"$f":"IF(AND(BA$11>0,$A55<>\"\",(AY55+AZ55)>0), BA$11, IF(AND($A55<>\"\",(AY55+AZ55)>0),\nIF(AZ$13=\"Nm3\",(BA$6*1000*1000/((AY$242+AZ$242+AY$243+AZ$243)*1000*$K55*Data!$B$6))+((BA$12-BA$6)*1000*1000/((AY$242+AZ$242+AY$243+AZ$243-AY$241-AZ$241)*1000*$K55*Data!$B$6)),\n(BA$6*1000*1000/(((AY$242+AZ$242+AY$243+AZ$243)/Denscalc($K55))*1000*$K55*Data!$B$6))+((BA$12-BA$6)*1000*1000/(((AY$242+AZ$242+AY$243+AZ$243-AY$241-AZ$241)/Denscalc($K55))*1000*$K55*Data!$B$6))),0))","v":0},36,null,null,{"$f":"IF(AND(BE$11>0,$A55<>\"\",(BC55+BD55)>0), BE$11, IF(AND($A55<>\"\",(BC55+BD55)>0),\n (BE$6*1000*1000/((BC$244+BD$244)*1000* Data!$B$7))+ ((BE$12-BE$6)*1000*1000/((BC$244+BD$244-BC$241-BD$241)*1000* Data!$B$7)),0))","v":0},36,{"$f":"IF(A55<>\"\", (Data!$B$127*1000*Data!$B$3)/Data!$B$7,  \"\")","v":""},"","",{"$f":"IF(A55<>\"\",  ROUND( (Data!$B$8-BI55)/Data!$B$8,3),   \"\")","v":""},"","","","",{"$f":"IF(A55<>\"\",  IF(TYPE(BN55)=1, ROUND( (Data!$B$8-BN55)/Data!$B$8,3),   \"\"),\"\")","v":""},"",36,"","","",null,""]
[{"$f":"IF(Uppgradering!A44<>\"\",Uppgradering!A44,\"\")","v":""},37,{"$f":"IF($A56<>\"\",Uppgradering!C44,\"\")","v":""},{"$f":"IF($A56<>\"\",Uppgradering!D44,\"\")","v":""},{"$f":"IF($A56<>\"\",Uppgradering!E44,\"\")","v":""},{"$f":"IF($A56<>\"\",Uppgradering!F44,\"\")","v":""},{"$f":"IF($A56<>\"\",Uppgradering!G44,\"\")","v":""},{"$f":"Uppgradering!AS44","v":""},{"$f":"Uppgradering!AP44","v":""},{"$f":"Uppgradering!AO44","v":""},{"$f":"Uppgradering!AT44","v":""},{"$f":"Uppgradering!AW44","v":""},"",null,null,null,{"$f":"IF(AND($A56<>\"\",(O56+P56)>0),    IF(P$13=\"Nm3\",(Q$12*1000*1000/((O$242+P$242+O$243+P$243)*1000*  $K56 * Data!$B$6)),  (Q$12*1000*1000/(((O$242+P$242+O$243+P$243)/Denscalc($K56))*1000*  $K56 * Data!$B$6)) ), 0    )","v":0},37,null,null,{"$f":"IF(AND($A56<>\"\",(S56+T56)>0),    IF(T$13=\"Nm3\",(U$12*1000*1000/((S$242+T$242+S$243+T$243)*1000*  $K56 * Data!$B$6)),  (U$12*1000*1000/(((S$242+T$242+S$243+T$243)/Denscalc($K56))*1000*  $K56 * Data!$B$6)) ), 0     )","v":0},37,null,null,{"$f":"IF(AND($A56<>\"\",(W56+X56)>0),     IF(X$13=\"Nm3\",(Y$12*1000*1000/((W$242+X$242+W$243+X$243)*1000*  $K56 * Data!$B$6)),  (Y$12*1000*1000/(((W$242+X$242+W$243+X$243)/Denscalc($K56))*1000*  $K56 * Data!$B$6)) ), 0   )","v":0},37,null,null,{"$f":"IF(AND($A56<>\"\",(AA56+AB56)>0),     IF(AB$13=\"Nm3\",(AC$12*1000*1000/((AA$242+AB$242+AA$243+AB$243)*1000*  $K56 * Data!$B$6)),  (AC$12*1000*1000/(((AA$242+AB$242+AA$243+AB$243)/Denscalc($K56))*1000*  $K56 * Data!$B$6)) ), 0     )","v":0},37,null,null,{"$f":"IF(AND($A56<>\"\",(AE56+AF56)>0),     IF(AF$13=\"Nm3\",(AG$12*1000*1000/((AE$242+AF$242+AE$243+AF$243)*1000*  $K56 * Data!$B$6)),  (AG$12*1000*1000/(((AE$242+AF$242+AE$243+AF$243)/Denscalc($K56))*1000*  $K56 * Data!$B$6)) ), 0    )","v":0},37,null,null,{"$f":"IF(AND($A56<>\"\",(AI56+AJ56)>0),    IF(AJ$13=\"Nm3\",(AK$12*1000*1000/((AI$242+AJ$242+AI$243+AJ$243)*1000*  $K56 * Data!$B$6)),  (AK$12*1000*1000/(((AI$242+AJ$242+AI$243+AJ$243)/Denscalc($K56))*1000*  $K56 * Data!$B$6)) ), 0    )","v":0},37,null,null,{"$f":"IF(AND($A56<>\"\",(AM56+AN56)>0),     IF(AN$13=\"Nm3\",(AO$12*1000*1000/((AM$242+AN$242+AM$243+AN$243)*1000*  $K56 * Data!$B$6)),  (AO$12*1000*1000/(((AM$242+AN$242+AM$243+AN$243)/Denscalc($K56))*1000*  $K56 * Data!$B$6)) ), 0    )","v":0},37,null,null,{"$f":"IF(AND($A56<>\"\",(AQ56+AR56)>0),     IF(AR$13=\"Nm3\",(AS$12*1000*1000/((AQ$242+AR$242+AQ$243+AR$243)*1000*  $K56 * Data!$B$6)),  (AS$12*1000*1000/(((AQ$242+AR$242+AQ$243+AR$243)/Denscalc($K56))*1000*  $K56 * Data!$B$6)) ), 0     )","v":0},37,null,null,{"$f":"IF(AND($A56<>\"\",(AU56+AV56)>0),     IF(AV$13=\"Nm3\",(AW$12*1000*1000/((AU$242+AV$242+AU$243+AV$243)*1000*  $K56 * Data!$B$6)),  (AW$12*1000*1000/(((AU$242+AV$242+AU$243+AV$243)/Denscalc($K56))*1000*  $K56 * Data!$B$6)) ), 0   )","v":0},37,null,null,{"$f":"IF(AND(BA$11>0,$A56<>\"\",(AY56+AZ56)>0), BA$11, IF(AND($A56<>\"\",(AY56+AZ56)>0),\nIF(AZ$13=\"Nm3\",(BA$6*1000*1000/((AY$242+AZ$242+AY$243+AZ$243)*1000*$K56*Data!$B$6))+((BA$12-BA$6)*1000*1000/((AY$242+AZ$242+AY$243+AZ$243-AY$241-AZ$241)*1000*$K56*Data!$B$6)),\n(BA$6*1000*1000/(((AY$242+AZ$242+AY$243+AZ$243)/Denscalc($K56))*1000*$K56*Data!$B$6))+((BA$12-BA$6)*1000*1000/(((AY$242+AZ$242+AY$243+AZ$243-AY$241-AZ$241)/Denscalc($K56))*1000*$K56*Data!$B$6))),0))","v":0},37,null,null,{"$f":"IF(AND(BE$11>0,$A56<>\"\",(BC56+BD56)>0), BE$11, IF(AND($A56<>\"\",(BC56+BD56)>0),\n (BE$6*1000*1000/((BC$244+BD$244)*1000* Data!$B$7))+ ((BE$12-BE$6)*1000*1000/((BC$244+BD$244-BC$241-BD$241)*1000* Data!$B$7)),0))","v":0},37,{"$f":"IF(A56<>\"\", (Data!$B$127*1000*Data!$B$3)/Data!$B$7,  \"\")","v":""},"","",{"$f":"IF(A56<>\"\",  ROUND( (Data!$B$8-BI56)/Data!$B$8,3),   \"\")","v":""},"","","","",{"$f":"IF(A56<>\"\",  IF(TYPE(BN56)=1, ROUND( (Data!$B$8-BN56)/Data!$B$8,3),   \"\"),\"\")","v":""},"",37,"","","",null,""]
[{"$f":"IF(Uppgradering!A45<>\"\",Uppgradering!A45,\"\")","v":""},38,{"$f":"IF($A57<>\"\",Uppgradering!C45,\"\")","v":""},{"$f":"IF($A57<>\"\",Uppgradering!D45,\"\")","v":""},{"$f":"IF($A57<>\"\",Uppgradering!E45,\"\")","v":""},{"$f":"IF($A57<>\"\",Uppgradering!F45,\"\")","v":""},{"$f":"IF($A57<>\"\",Uppgradering!G45,\"\")","v":""},{"$f":"Uppgradering!AS45","v":""},{"$f":"Uppgradering!AP45","v":""},{"$f":"Uppgradering!AO45","v":""},{"$f":"Uppgradering!AT45","v":""},{"$f":"Uppgradering!AW45","v":""},"",null,null,null,{"$f":"IF(AND($A57<>\"\",(O57+P57)>0),    IF(P$13=\"Nm3\",(Q$12*1000*1000/((O$242+P$242+O$243+P$243)*1000*  $K57 * Data!$B$6)),  (Q$12*1000*1000/(((O$242+P$242+O$243+P$243)/Denscalc($K57))*1000*  $K57 * Data!$B$6)) ), 0    )","v":0},38,null,null,{"$f":"IF(AND($A57<>\"\",(S57+T57)>0),    IF(T$13=\"Nm3\",(U$12*1000*1000/((S$242+T$242+S$243+T$243)*1000*  $K57 * Data!$B$6)),  (U$12*1000*1000/(((S$242+T$242+S$243+T$243)/Denscalc($K57))*1000*  $K57 * Data!$B$6)) ), 0     )","v":0},38,null,null,{"$f":"IF(AND($A57<>\"\",(W57+X57)>0),     IF(X$13=\"Nm3\",(Y$12*1000*1000/((W$242+X$242+W$243+X$243)*1000*  $K57 * Data!$B$6)),  (Y$12*1000*1000/(((W$242+X$242+W$243+X$243)/Denscalc($K57))*1000*  $K57 * Data!$B$6)) ), 0   )","v":0},38,null,null,{"$f":"IF(AND($A57<>\"\",(AA57+AB57)>0),     IF(AB$13=\"Nm3\",(AC$12*1000*1000/((AA$242+AB$242+AA$243+AB$243)*1000*  $K57 * Data!$B$6)),  (AC$12*1000*1000/(((AA$242+AB$242+AA$243+AB$243)/Denscalc($K57))*1000*  $K57 * Data!$B$6)) ), 0     )","v":0},38,null,null,{"$f":"IF(AND($A57<>\"\",(AE57+AF57)>0),     IF(AF$13=\"Nm3\",(AG$12*1000*1000/((AE$242+AF$242+AE$243+AF$243)*1000*  $K57 * Data!$B$6)),  (AG$12*1000*1000/(((AE$242+AF$242+AE$243+AF$243)/Denscalc($K57))*1000*  $K57 * Data!$B$6)) ), 0    )","v":0},38,null,null,{"$f":"IF(AND($A57<>\"\",(AI57+AJ57)>0),    IF(AJ$13=\"Nm3\",(AK$12*1000*1000/((AI$242+AJ$242+AI$243+AJ$243)*1000*  $K57 * Data!$B$6)),  (AK$12*1000*1000/(((AI$242+AJ$242+AI$243+AJ$243)/Denscalc($K57))*1000*  $K57 * Data!$B$6)) ), 0    )","v":0},38,null,null,{"$f":"IF(AND($A57<>\"\",(AM57+AN57)>0),     IF(AN$13=\"Nm3\",(AO$12*1000*1000/((AM$242+AN$242+AM$243+AN$243)*1000*  $K57 * Data!$B$6)),  (AO$12*1000*1000/(((AM$242+AN$242+AM$243+AN$243)/Denscalc($K57))*1000*  $K57 * Data!$B$6)) ), 0    )","v":0},38,null,null,{"$f":"IF(AND($A57<>\"\",(AQ57+AR57)>0),     IF(AR$13=\"Nm3\",(AS$12*1000*1000/((AQ$242+AR$242+AQ$243+AR$243)*1000*  $K57 * Data!$B$6)),  (AS$12*1000*1000/(((AQ$242+AR$242+AQ$243+AR$243)/Denscalc($K57))*1000*  $K57 * Data!$B$6)) ), 0     )","v":0},38,null,null,{"$f":"IF(AND($A57<>\"\",(AU57+AV57)>0),     IF(AV$13=\"Nm3\",(AW$12*1000*1000/((AU$242+AV$242+AU$243+AV$243)*1000*  $K57 * Data!$B$6)),  (AW$12*1000*1000/(((AU$242+AV$242+AU$243+AV$243)/Denscalc($K57))*1000*  $K57 * Data!$B$6)) ), 0   )","v":0},38,null,null,{"$f":"IF(AND(BA$11>0,$A57<>\"\",(AY57+AZ57)>0), BA$11, IF(AND($A57<>\"\",(AY57+AZ57)>0),\nIF(AZ$13=\"Nm3\",(BA$6*1000*1000/((AY$242+AZ$242+AY$243+AZ$243)*1000*$K57*Data!$B$6))+((BA$12-BA$6)*1000*1000/((AY$242+AZ$242+AY$243+AZ$243-AY$241-AZ$241)*1000*$K57*Data!$B$6)),\n(BA$6*1000*1000/(((AY$242+AZ$242+AY$243+AZ$243)/Denscalc($K57))*1000*$K57*Data!$B$6))+((BA$12-BA$6)*1000*1000/(((AY$242+AZ$242+AY$243+AZ$243-AY$241-AZ$241)/Denscalc($K57))*1000*$K57*Data!$B$6))),0))","v":0},38,null,null,{"$f":"IF(AND(BE$11>0,$A57<>\"\",(BC57+BD57)>0), BE$11, IF(AND($A57<>\"\",(BC57+BD57)>0),\n (BE$6*1000*1000/((BC$244+BD$244)*1000* Data!$B$7))+ ((BE$12-BE$6)*1000*1000/((BC$244+BD$244-BC$241-BD$241)*1000* Data!$B$7)),0))","v":0},38,{"$f":"IF(A57<>\"\", (Data!$B$127*1000*Data!$B$3)/Data!$B$7,  \"\")","v":""},"","",{"$f":"IF(A57<>\"\",  ROUND( (Data!$B$8-BI57)/Data!$B$8,3),   \"\")","v":""},"","","","",{"$f":"IF(A57<>\"\",  IF(TYPE(BN57)=1, ROUND( (Data!$B$8-BN57)/Data!$B$8,3),   \"\"),\"\")","v":""},"",38,"","","",null,""]
[{"$f":"IF(Uppgradering!A46<>\"\",Uppgradering!A46,\"\")","v":""},39,{"$f":"IF($A58<>\"\",Uppgradering!C46,\"\")","v":""},{"$f":"IF($A58<>\"\",Uppgradering!D46,\"\")","v":""},{"$f":"IF($A58<>\"\",Uppgradering!E46,\"\")","v":""},{"$f":"IF($A58<>\"\",Uppgradering!F46,\"\")","v":""},{"$f":"IF($A58<>\"\",Uppgradering!G46,\"\")","v":""},{"$f":"Uppgradering!AS46","v":""},{"$f":"Uppgradering!AP46","v":""},{"$f":"Uppgradering!AO46","v":""},{"$f":"Uppgradering!AT46","v":""},{"$f":"Uppgradering!AW46","v":""},"",null,null,null,{"$f":"IF(AND($A58<>\"\",(O58+P58)>0),    IF(P$13=\"Nm3\",(Q$12*1000*1000/((O$242+P$242+O$243+P$243)*1000*  $K58 * Data!$B$6)),  (Q$12*1000*1000/(((O$242+P$242+O$243+P$243)/Denscalc($K58))*1000*  $K58 * Data!$B$6)) ), 0    )","v":0},39,null,null,{"$f":"IF(AND($A58<>\"\",(S58+T58)>0),    IF(T$13=\"Nm3\",(U$12*1000*1000/((S$242+T$242+S$243+T$243)*1000*  $K58 * Data!$B$6)),  (U$12*1000*1000/(((S$242+T$242+S$243+T$243)/Denscalc($K58))*1000*  $K58 * Data!$B$6)) ), 0     )","v":0},39,null,null,{"$f":"IF(AND($A58<>\"\",(W58+X58)>0),     IF(X$13=\"Nm3\",(Y$12*1000*1000/((W$242+X$242+W$243+X$243)*1000*  $K58 * Data!$B$6)),  (Y$12*1000*1000/(((W$242+X$242+W$243+X$243)/Denscalc($K58))*1000*  $K58 * Data!$B$6)) ), 0   )","v":0},39,null,null,{"$f":"IF(AND($A58<>\"\",(AA58+AB58)>0),     IF(AB$13=\"Nm3\",(AC$12*1000*1000/((AA$242+AB$242+AA$243+AB$243)*1000*  $K58 * Data!$B$6)),  (AC$12*1000*1000/(((AA$242+AB$242+AA$243+AB$243)/Denscalc($K58))*1000*  $K58 * Data!$B$6)) ), 0     )","v":0},39,null,null,{"$f":"IF(AND($A58<>\"\",(AE58+AF58)>0),     IF(AF$13=\"Nm3\",(AG$12*1000*1000/((AE$242+AF$242+AE$243+AF$243)*1000*  $K58 * Data!$B$6)),  (AG$12*1000*1000/(((AE$242+AF$242+AE$243+AF$243)/Denscalc($K58))*1000*  $K58 * Data!$B$6)) ), 0    )","v":0},39,null,null,{"$f":"IF(AND($A58<>\"\",(AI58+AJ58)>0),    IF(AJ$13=\"Nm3\",(AK$12*1000*1000/((AI$242+AJ$242+AI$243+AJ$243)*1000*  $K58 * Data!$B$6)),  (AK$12*1000*1000/(((AI$242+AJ$242+AI$243+AJ$243)/Denscalc($K58))*1000*  $K58 * Data!$B$6)) ), 0    )","v":0},39,null,null,{"$f":"IF(AND($A58<>\"\",(AM58+AN58)>0),     IF(AN$13=\"Nm3\",(AO$12*1000*1000/((AM$242+AN$242+AM$243+AN$243)*1000*  $K58 * Data!$B$6)),  (AO$12*1000*1000/(((AM$242+AN$242+AM$243+AN$243)/Denscalc($K58))*1000*  $K58 * Data!$B$6)) ), 0    )","v":0},39,null,null,{"$f":"IF(AND($A58<>\"\",(AQ58+AR58)>0),     IF(AR$13=\"Nm3\",(AS$12*1000*1000/((AQ$242+AR$242+AQ$243+AR$243)*1000*  $K58 * Data!$B$6)),  (AS$12*1000*1000/(((AQ$242+AR$242+AQ$243+AR$243)/Denscalc($K58))*1000*  $K58 * Data!$B$6)) ), 0     )","v":0},39,null,null,{"$f":"IF(AND($A58<>\"\",(AU58+AV58)>0),     IF(AV$13=\"Nm3\",(AW$12*1000*1000/((AU$242+AV$242+AU$243+AV$243)*1000*  $K58 * Data!$B$6)),  (AW$12*1000*1000/(((AU$242+AV$242+AU$243+AV$243)/Denscalc($K58))*1000*  $K58 * Data!$B$6)) ), 0   )","v":0},39,null,null,{"$f":"IF(AND(BA$11>0,$A58<>\"\",(AY58+AZ58)>0), BA$11, IF(AND($A58<>\"\",(AY58+AZ58)>0),\nIF(AZ$13=\"Nm3\",(BA$6*1000*1000/((AY$242+AZ$242+AY$243+AZ$243)*1000*$K58*Data!$B$6))+((BA$12-BA$6)*1000*1000/((AY$242+AZ$242+AY$243+AZ$243-AY$241-AZ$241)*1000*$K58*Data!$B$6)),\n(BA$6*1000*1000/(((AY$242+AZ$242+AY$243+AZ$243)/Denscalc($K58))*1000*$K58*Data!$B$6))+((BA$12-BA$6)*1000*1000/(((AY$242+AZ$242+AY$243+AZ$243-AY$241-AZ$241)/Denscalc($K58))*1000*$K58*Data!$B$6))),0))","v":0},39,null,null,{"$f":"IF(AND(BE$11>0,$A58<>\"\",(BC58+BD58)>0), BE$11, IF(AND($A58<>\"\",(BC58+BD58)>0),\n (BE$6*1000*1000/((BC$244+BD$244)*1000* Data!$B$7))+ ((BE$12-BE$6)*1000*1000/((BC$244+BD$244-BC$241-BD$241)*1000* Data!$B$7)),0))","v":0},39,{"$f":"IF(A58<>\"\", (Data!$B$127*1000*Data!$B$3)/Data!$B$7,  \"\")","v":""},"","",{"$f":"IF(A58<>\"\",  ROUND( (Data!$B$8-BI58)/Data!$B$8,3),   \"\")","v":""},"","","","",{"$f":"IF(A58<>\"\",  IF(TYPE(BN58)=1, ROUND( (Data!$B$8-BN58)/Data!$B$8,3),   \"\"),\"\")","v":""},"",39,"","","",null,""]
[{"$f":"IF(Uppgradering!A47<>\"\",Uppgradering!A47,\"\")","v":""},40,{"$f":"IF($A59<>\"\",Uppgradering!C47,\"\")","v":""},{"$f":"IF($A59<>\"\",Uppgradering!D47,\"\")","v":""},{"$f":"IF($A59<>\"\",Uppgradering!E47,\"\")","v":""},{"$f":"IF($A59<>\"\",Uppgradering!F47,\"\")","v":""},{"$f":"IF($A59<>\"\",Uppgradering!G47,\"\")","v":""},{"$f":"Uppgradering!AS47","v":""},{"$f":"Uppgradering!AP47","v":""},{"$f":"Uppgradering!AO47","v":""},{"$f":"Uppgradering!AT47","v":""},{"$f":"Uppgradering!AW47","v":""},"",null,null,null,{"$f":"IF(AND($A59<>\"\",(O59+P59)>0),    IF(P$13=\"Nm3\",(Q$12*1000*1000/((O$242+P$242+O$243+P$243)*1000*  $K59 * Data!$B$6)),  (Q$12*1000*1000/(((O$242+P$242+O$243+P$243)/Denscalc($K59))*1000*  $K59 * Data!$B$6)) ), 0    )","v":0},40,null,null,{"$f":"IF(AND($A59<>\"\",(S59+T59)>0),    IF(T$13=\"Nm3\",(U$12*1000*1000/((S$242+T$242+S$243+T$243)*1000*  $K59 * Data!$B$6)),  (U$12*1000*1000/(((S$242+T$242+S$243+T$243)/Denscalc($K59))*1000*  $K59 * Data!$B$6)) ), 0     )","v":0},40,null,null,{"$f":"IF(AND($A59<>\"\",(W59+X59)>0),     IF(X$13=\"Nm3\",(Y$12*1000*1000/((W$242+X$242+W$243+X$243)*1000*  $K59 * Data!$B$6)),  (Y$12*1000*1000/(((W$242+X$242+W$243+X$243)/Denscalc($K59))*1000*  $K59 * Data!$B$6)) ), 0   )","v":0},40,null,null,{"$f":"IF(AND($A59<>\"\",(AA59+AB59)>0),     IF(AB$13=\"Nm3\",(AC$12*1000*1000/((AA$242+AB$242+AA$243+AB$243)*1000*  $K59 * Data!$B$6)),  (AC$12*1000*1000/(((AA$242+AB$242+AA$243+AB$243)/Denscalc($K59))*1000*  $K59 * Data!$B$6)) ), 0     )","v":0},40,null,null,{"$f":"IF(AND($A59<>\"\",(AE59+AF59)>0),     IF(AF$13=\"Nm3\",(AG$12*1000*1000/((AE$242+AF$242+AE$243+AF$243)*1000*  $K59 * Data!$B$6)),  (AG$12*1000*1000/(((AE$242+AF$242+AE$243+AF$243)/Denscalc($K59))*1000*  $K59 * Data!$B$6)) ), 0    )","v":0},40,null,null,{"$f":"IF(AND($A59<>\"\",(AI59+AJ59)>0),    IF(AJ$13=\"Nm3\",(AK$12*1000*1000/((AI$242+AJ$242+AI$243+AJ$243)*1000*  $K59 * Data!$B$6)),  (AK$12*1000*1000/(((AI$242+AJ$242+AI$243+AJ$243)/Denscalc($K59))*1000*  $K59 * Data!$B$6)) ), 0    )","v":0},40,null,null,{"$f":"IF(AND($A59<>\"\",(AM59+AN59)>0),     IF(AN$13=\"Nm3\",(AO$12*1000*1000/((AM$242+AN$242+AM$243+AN$243)*1000*  $K59 * Data!$B$6)),  (AO$12*1000*1000/(((AM$242+AN$242+AM$243+AN$243)/Denscalc($K59))*1000*  $K59 * Data!$B$6)) ), 0    )","v":0},40,null,null,{"$f":"IF(AND($A59<>\"\",(AQ59+AR59)>0),     IF(AR$13=\"Nm3\",(AS$12*1000*1000/((AQ$242+AR$242+AQ$243+AR$243)*1000*  $K59 * Data!$B$6)),  (AS$12*1000*1000/(((AQ$242+AR$242+AQ$243+AR$243)/Denscalc($K59))*1000*  $K59 * Data!$B$6)) ), 0     )","v":0},40,null,null,{"$f":"IF(AND($A59<>\"\",(AU59+AV59)>0),     IF(AV$13=\"Nm3\",(AW$12*1000*1000/((AU$242+AV$242+AU$243+AV$243)*1000*  $K59 * Data!$B$6)),  (AW$12*1000*1000/(((AU$242+AV$242+AU$243+AV$243)/Denscalc($K59))*1000*  $K59 * Data!$B$6)) ), 0   )","v":0},40,null,null,{"$f":"IF(AND(BA$11>0,$A59<>\"\",(AY59+AZ59)>0), BA$11, IF(AND($A59<>\"\",(AY59+AZ59)>0),\nIF(AZ$13=\"Nm3\",(BA$6*1000*1000/((AY$242+AZ$242+AY$243+AZ$243)*1000*$K59*Data!$B$6))+((BA$12-BA$6)*1000*1000/((AY$242+AZ$242+AY$243+AZ$243-AY$241-AZ$241)*1000*$K59*Data!$B$6)),\n(BA$6*1000*1000/(((AY$242+AZ$242+AY$243+AZ$243)/Denscalc($K59))*1000*$K59*Data!$B$6))+((BA$12-BA$6)*1000*1000/(((AY$242+AZ$242+AY$243+AZ$243-AY$241-AZ$241)/Denscalc($K59))*1000*$K59*Data!$B$6))),0))","v":0},40,null,null,{"$f":"IF(AND(BE$11>0,$A59<>\"\",(BC59+BD59)>0), BE$11, IF(AND($A59<>\"\",(BC59+BD59)>0),\n (BE$6*1000*1000/((BC$244+BD$244)*1000* Data!$B$7))+ ((BE$12-BE$6)*1000*1000/((BC$244+BD$244-BC$241-BD$241)*1000* Data!$B$7)),0))","v":0},40,{"$f":"IF(A59<>\"\", (Data!$B$127*1000*Data!$B$3)/Data!$B$7,  \"\")","v":""},"","",{"$f":"IF(A59<>\"\",  ROUND( (Data!$B$8-BI59)/Data!$B$8,3),   \"\")","v":""},"","","","",{"$f":"IF(A59<>\"\",  IF(TYPE(BN59)=1, ROUND( (Data!$B$8-BN59)/Data!$B$8,3),   \"\"),\"\")","v":""},"",40,"","","",null,""]
[{"$f":"IF(Uppgradering!A48<>\"\",Uppgradering!A48,\"\")","v":""},41,{"$f":"IF($A60<>\"\",Uppgradering!C48,\"\")","v":""},{"$f":"IF($A60<>\"\",Uppgradering!D48,\"\")","v":""},{"$f":"IF($A60<>\"\",Uppgradering!E48,\"\")","v":""},{"$f":"IF($A60<>\"\",Uppgradering!F48,\"\")","v":""},{"$f":"IF($A60<>\"\",Uppgradering!G48,\"\")","v":""},{"$f":"Uppgradering!AS48","v":""},{"$f":"Uppgradering!AP48","v":""},{"$f":"Uppgradering!AO48","v":""},{"$f":"Uppgradering!AT48","v":""},{"$f":"Uppgradering!AW48","v":""},"",null,null,null,{"$f":"IF(AND($A60<>\"\",(O60+P60)>0),    IF(P$13=\"Nm3\",(Q$12*1000*1000/((O$242+P$242+O$243+P$243)*1000*  $K60 * Data!$B$6)),  (Q$12*1000*1000/(((O$242+P$242+O$243+P$243)/Denscalc($K60))*1000*  $K60 * Data!$B$6)) ), 0    )","v":0},41,null,null,{"$f":"IF(AND($A60<>\"\",(S60+T60)>0),    IF(T$13=\"Nm3\",(U$12*1000*1000/((S$242+T$242+S$243+T$243)*1000*  $K60 * Data!$B$6)),  (U$12*1000*1000/(((S$242+T$242+S$243+T$243)/Denscalc($K60))*1000*  $K60 * Data!$B$6)) ), 0     )","v":0},41,null,null,{"$f":"IF(AND($A60<>\"\",(W60+X60)>0),     IF(X$13=\"Nm3\",(Y$12*1000*1000/((W$242+X$242+W$243+X$243)*1000*  $K60 * Data!$B$6)),  (Y$12*1000*1000/(((W$242+X$242+W$243+X$243)/Denscalc($K60))*1000*  $K60 * Data!$B$6)) ), 0   )","v":0},41,null,null,{"$f":"IF(AND($A60<>\"\",(AA60+AB60)>0),     IF(AB$13=\"Nm3\",(AC$12*1000*1000/((AA$242+AB$242+AA$243+AB$243)*1000*  $K60 * Data!$B$6)),  (AC$12*1000*1000/(((AA$242+AB$242+AA$243+AB$243)/Denscalc($K60))*1000*  $K60 * Data!$B$6)) ), 0     )","v":0},41,null,null,{"$f":"IF(AND($A60<>\"\",(AE60+AF60)>0),     IF(AF$13=\"Nm3\",(AG$12*1000*1000/((AE$242+AF$242+AE$243+AF$243)*1000*  $K60 * Data!$B$6)),  (AG$12*1000*1000/(((AE$242+AF$242+AE$243+AF$243)/Denscalc($K60))*1000*  $K60 * Data!$B$6)) ), 0    )","v":0},41,null,null,{"$f":"IF(AND($A60<>\"\",(AI60+AJ60)>0),    IF(AJ$13=\"Nm3\",(AK$12*1000*1000/((AI$242+AJ$242+AI$243+AJ$243)*1000*  $K60 * Data!$B$6)),  (AK$12*1000*1000/(((AI$242+AJ$242+AI$243+AJ$243)/Denscalc($K60))*1000*  $K60 * Data!$B$6)) ), 0    )","v":0},41,null,null,{"$f":"IF(AND($A60<>\"\",(AM60+AN60)>0),     IF(AN$13=\"Nm3\",(AO$12*1000*1000/((AM$242+AN$242+AM$243+AN$243)*1000*  $K60 * Data!$B$6)),  (AO$12*1000*1000/(((AM$242+AN$242+AM$243+AN$243)/Denscalc($K60))*1000*  $K60 * Data!$B$6)) ), 0    )","v":0},41,null,null,{"$f":"IF(AND($A60<>\"\",(AQ60+AR60)>0),     IF(AR$13=\"Nm3\",(AS$12*1000*1000/((AQ$242+AR$242+AQ$243+AR$243)*1000*  $K60 * Data!$B$6)),  (AS$12*1000*1000/(((AQ$242+AR$242+AQ$243+AR$243)/Denscalc($K60))*1000*  $K60 * Data!$B$6)) ), 0     )","v":0},41,null,null,{"$f":"IF(AND($A60<>\"\",(AU60+AV60)>0),     IF(AV$13=\"Nm3\",(AW$12*1000*1000/((AU$242+AV$242+AU$243+AV$243)*1000*  $K60 * Data!$B$6)),  (AW$12*1000*1000/(((AU$242+AV$242+AU$243+AV$243)/Denscalc($K60))*1000*  $K60 * Data!$B$6)) ), 0   )","v":0},41,null,null,{"$f":"IF(AND(BA$11>0,$A60<>\"\",(AY60+AZ60)>0), BA$11, IF(AND($A60<>\"\",(AY60+AZ60)>0),\nIF(AZ$13=\"Nm3\",(BA$6*1000*1000/((AY$242+AZ$242+AY$243+AZ$243)*1000*$K60*Data!$B$6))+((BA$12-BA$6)*1000*1000/((AY$242+AZ$242+AY$243+AZ$243-AY$241-AZ$241)*1000*$K60*Data!$B$6)),\n(BA$6*1000*1000/(((AY$242+AZ$242+AY$243+AZ$243)/Denscalc($K60))*1000*$K60*Data!$B$6))+((BA$12-BA$6)*1000*1000/(((AY$242+AZ$242+AY$243+AZ$243-AY$241-AZ$241)/Denscalc($K60))*1000*$K60*Data!$B$6))),0))","v":0},41,null,null,{"$f":"IF(AND(BE$11>0,$A60<>\"\",(BC60+BD60)>0), BE$11, IF(AND($A60<>\"\",(BC60+BD60)>0),\n (BE$6*1000*1000/((BC$244+BD$244)*1000* Data!$B$7))+ ((BE$12-BE$6)*1000*1000/((BC$244+BD$244-BC$241-BD$241)*1000* Data!$B$7)),0))","v":0},41,{"$f":"IF(A60<>\"\", (Data!$B$127*1000*Data!$B$3)/Data!$B$7,  \"\")","v":""},"","",{"$f":"IF(A60<>\"\",  ROUND( (Data!$B$8-BI60)/Data!$B$8,3),   \"\")","v":""},"","","","",{"$f":"IF(A60<>\"\",  IF(TYPE(BN60)=1, ROUND( (Data!$B$8-BN60)/Data!$B$8,3),   \"\"),\"\")","v":""},"",41,"","","",null,""]
[{"$f":"IF(Uppgradering!A49<>\"\",Uppgradering!A49,\"\")","v":""},42,{"$f":"IF($A61<>\"\",Uppgradering!C49,\"\")","v":""},{"$f":"IF($A61<>\"\",Uppgradering!D49,\"\")","v":""},{"$f":"IF($A61<>\"\",Uppgradering!E49,\"\")","v":""},{"$f":"IF($A61<>\"\",Uppgradering!F49,\"\")","v":""},{"$f":"IF($A61<>\"\",Uppgradering!G49,\"\")","v":""},{"$f":"Uppgradering!AS49","v":""},{"$f":"Uppgradering!AP49","v":""},{"$f":"Uppgradering!AO49","v":""},{"$f":"Uppgradering!AT49","v":""},{"$f":"Uppgradering!AW49","v":""},"",null,null,null,{"$f":"IF(AND($A61<>\"\",(O61+P61)>0),    IF(P$13=\"Nm3\",(Q$12*1000*1000/((O$242+P$242+O$243+P$243)*1000*  $K61 * Data!$B$6)),  (Q$12*1000*1000/(((O$242+P$242+O$243+P$243)/Denscalc($K61))*1000*  $K61 * Data!$B$6)) ), 0    )","v":0},42,null,null,{"$f":"IF(AND($A61<>\"\",(S61+T61)>0),    IF(T$13=\"Nm3\",(U$12*1000*1000/((S$242+T$242+S$243+T$243)*1000*  $K61 * Data!$B$6)),  (U$12*1000*1000/(((S$242+T$242+S$243+T$243)/Denscalc($K61))*1000*  $K61 * Data!$B$6)) ), 0     )","v":0},42,null,null,{"$f":"IF(AND($A61<>\"\",(W61+X61)>0),     IF(X$13=\"Nm3\",(Y$12*1000*1000/((W$242+X$242+W$243+X$243)*1000*  $K61 * Data!$B$6)),  (Y$12*1000*1000/(((W$242+X$242+W$243+X$243)/Denscalc($K61))*1000*  $K61 * Data!$B$6)) ), 0   )","v":0},42,null,null,{"$f":"IF(AND($A61<>\"\",(AA61+AB61)>0),     IF(AB$13=\"Nm3\",(AC$12*1000*1000/((AA$242+AB$242+AA$243+AB$243)*1000*  $K61 * Data!$B$6)),  (AC$12*1000*1000/(((AA$242+AB$242+AA$243+AB$243)/Denscalc($K61))*1000*  $K61 * Data!$B$6)) ), 0     )","v":0},42,null,null,{"$f":"IF(AND($A61<>\"\",(AE61+AF61)>0),     IF(AF$13=\"Nm3\",(AG$12*1000*1000/((AE$242+AF$242+AE$243+AF$243)*1000*  $K61 * Data!$B$6)),  (AG$12*1000*1000/(((AE$242+AF$242+AE$243+AF$243)/Denscalc($K61))*1000*  $K61 * Data!$B$6)) ), 0    )","v":0},42,null,null,{"$f":"IF(AND($A61<>\"\",(AI61+AJ61)>0),    IF(AJ$13=\"Nm3\",(AK$12*1000*1000/((AI$242+AJ$242+AI$243+AJ$243)*1000*  $K61 * Data!$B$6)),  (AK$12*1000*1000/(((AI$242+AJ$242+AI$243+AJ$243)/Denscalc($K61))*1000*  $K61 * Data!$B$6)) ), 0    )","v":0},42,null,null,{"$f":"IF(AND($A61<>\"\",(AM61+AN61)>0),     IF(AN$13=\"Nm3\",(AO$12*1000*1000/((AM$242+AN$242+AM$243+AN$243)*1000*  $K61 * Data!$B$6)),  (AO$12*1000*1000/(((AM$242+AN$242+AM$243+AN$243)/Denscalc($K61))*1000*  $K61 * Data!$B$6)) ), 0    )","v":0},42,null,null,{"$f":"IF(AND($A61<>\"\",(AQ61+AR61)>0),     IF(AR$13=\"Nm3\",(AS$12*1000*1000/((AQ$242+AR$242+AQ$243+AR$243)*1000*  $K61 * Data!$B$6)),  (AS$12*1000*1000/(((AQ$242+AR$242+AQ$243+AR$243)/Denscalc($K61))*1000*  $K61 * Data!$B$6)) ), 0     )","v":0},42,null,null,{"$f":"IF(AND($A61<>\"\",(AU61+AV61)>0),     IF(AV$13=\"Nm3\",(AW$12*1000*1000/((AU$242+AV$242+AU$243+AV$243)*1000*  $K61 * Data!$B$6)),  (AW$12*1000*1000/(((AU$242+AV$242+AU$243+AV$243)/Denscalc($K61))*1000*  $K61 * Data!$B$6)) ), 0   )","v":0},42,null,null,{"$f":"IF(AND(BA$11>0,$A61<>\"\",(AY61+AZ61)>0), BA$11, IF(AND($A61<>\"\",(AY61+AZ61)>0),\nIF(AZ$13=\"Nm3\",(BA$6*1000*1000/((AY$242+AZ$242+AY$243+AZ$243)*1000*$K61*Data!$B$6))+((BA$12-BA$6)*1000*1000/((AY$242+AZ$242+AY$243+AZ$243-AY$241-AZ$241)*1000*$K61*Data!$B$6)),\n(BA$6*1000*1000/(((AY$242+AZ$242+AY$243+AZ$243)/Denscalc($K61))*1000*$K61*Data!$B$6))+((BA$12-BA$6)*1000*1000/(((AY$242+AZ$242+AY$243+AZ$243-AY$241-AZ$241)/Denscalc($K61))*1000*$K61*Data!$B$6))),0))","v":0},42,null,null,{"$f":"IF(AND(BE$11>0,$A61<>\"\",(BC61+BD61)>0), BE$11, IF(AND($A61<>\"\",(BC61+BD61)>0),\n (BE$6*1000*1000/((BC$244+BD$244)*1000* Data!$B$7))+ ((BE$12-BE$6)*1000*1000/((BC$244+BD$244-BC$241-BD$241)*1000* Data!$B$7)),0))","v":0},42,{"$f":"IF(A61<>\"\", (Data!$B$127*1000*Data!$B$3)/Data!$B$7,  \"\")","v":""},"","",{"$f":"IF(A61<>\"\",  ROUND( (Data!$B$8-BI61)/Data!$B$8,3),   \"\")","v":""},"","","","",{"$f":"IF(A61<>\"\",  IF(TYPE(BN61)=1, ROUND( (Data!$B$8-BN61)/Data!$B$8,3),   \"\"),\"\")","v":""},"",42,"","","",null,""]
[{"$f":"IF(Uppgradering!A50<>\"\",Uppgradering!A50,\"\")","v":""},43,{"$f":"IF($A62<>\"\",Uppgradering!C50,\"\")","v":""},{"$f":"IF($A62<>\"\",Uppgradering!D50,\"\")","v":""},{"$f":"IF($A62<>\"\",Uppgradering!E50,\"\")","v":""},{"$f":"IF($A62<>\"\",Uppgradering!F50,\"\")","v":""},{"$f":"IF($A62<>\"\",Uppgradering!G50,\"\")","v":""},{"$f":"Uppgradering!AS50","v":""},{"$f":"Uppgradering!AP50","v":""},{"$f":"Uppgradering!AO50","v":""},{"$f":"Uppgradering!AT50","v":""},{"$f":"Uppgradering!AW50","v":""},"",null,null,null,{"$f":"IF(AND($A62<>\"\",(O62+P62)>0),    IF(P$13=\"Nm3\",(Q$12*1000*1000/((O$242+P$242+O$243+P$243)*1000*  $K62 * Data!$B$6)),  (Q$12*1000*1000/(((O$242+P$242+O$243+P$243)/Denscalc($K62))*1000*  $K62 * Data!$B$6)) ), 0    )","v":0},43,null,null,{"$f":"IF(AND($A62<>\"\",(S62+T62)>0),    IF(T$13=\"Nm3\",(U$12*1000*1000/((S$242+T$242+S$243+T$243)*1000*  $K62 * Data!$B$6)),  (U$12*1000*1000/(((S$242+T$242+S$243+T$243)/Denscalc($K62))*1000*  $K62 * Data!$B$6)) ), 0     )","v":0},43,null,null,{"$f":"IF(AND($A62<>\"\",(W62+X62)>0),     IF(X$13=\"Nm3\",(Y$12*1000*1000/((W$242+X$242+W$243+X$243)*1000*  $K62 * Data!$B$6)),  (Y$12*1000*1000/(((W$242+X$242+W$243+X$243)/Denscalc($K62))*1000*  $K62 * Data!$B$6)) ), 0   )","v":0},43,null,null,{"$f":"IF(AND($A62<>\"\",(AA62+AB62)>0),     IF(AB$13=\"Nm3\",(AC$12*1000*1000/((AA$242+AB$242+AA$243+AB$243)*1000*  $K62 * Data!$B$6)),  (AC$12*1000*1000/(((AA$242+AB$242+AA$243+AB$243)/Denscalc($K62))*1000*  $K62 * Data!$B$6)) ), 0     )","v":0},43,null,null,{"$f":"IF(AND($A62<>\"\",(AE62+AF62)>0),     IF(AF$13=\"Nm3\",(AG$12*1000*1000/((AE$242+AF$242+AE$243+AF$243)*1000*  $K62 * Data!$B$6)),  (AG$12*1000*1000/(((AE$242+AF$242+AE$243+AF$243)/Denscalc($K62))*1000*  $K62 * Data!$B$6)) ), 0    )","v":0},43,null,null,{"$f":"IF(AND($A62<>\"\",(AI62+AJ62)>0),    IF(AJ$13=\"Nm3\",(AK$12*1000*1000/((AI$242+AJ$242+AI$243+AJ$243)*1000*  $K62 * Data!$B$6)),  (AK$12*1000*1000/(((AI$242+AJ$242+AI$243+AJ$243)/Denscalc($K62))*1000*  $K62 * Data!$B$6)) ), 0    )","v":0},43,null,null,{"$f":"IF(AND($A62<>\"\",(AM62+AN62)>0),     IF(AN$13=\"Nm3\",(AO$12*1000*1000/((AM$242+AN$242+AM$243+AN$243)*1000*  $K62 * Data!$B$6)),  (AO$12*1000*1000/(((AM$242+AN$242+AM$243+AN$243)/Denscalc($K62))*1000*  $K62 * Data!$B$6)) ), 0    )","v":0},43,null,null,{"$f":"IF(AND($A62<>\"\",(AQ62+AR62)>0),     IF(AR$13=\"Nm3\",(AS$12*1000*1000/((AQ$242+AR$242+AQ$243+AR$243)*1000*  $K62 * Data!$B$6)),  (AS$12*1000*1000/(((AQ$242+AR$242+AQ$243+AR$243)/Denscalc($K62))*1000*  $K62 * Data!$B$6)) ), 0     )","v":0},43,null,null,{"$f":"IF(AND($A62<>\"\",(AU62+AV62)>0),     IF(AV$13=\"Nm3\",(AW$12*1000*1000/((AU$242+AV$242+AU$243+AV$243)*1000*  $K62 * Data!$B$6)),  (AW$12*1000*1000/(((AU$242+AV$242+AU$243+AV$243)/Denscalc($K62))*1000*  $K62 * Data!$B$6)) ), 0   )","v":0},43,null,null,{"$f":"IF(AND(BA$11>0,$A62<>\"\",(AY62+AZ62)>0), BA$11, IF(AND($A62<>\"\",(AY62+AZ62)>0),\nIF(AZ$13=\"Nm3\",(BA$6*1000*1000/((AY$242+AZ$242+AY$243+AZ$243)*1000*$K62*Data!$B$6))+((BA$12-BA$6)*1000*1000/((AY$242+AZ$242+AY$243+AZ$243-AY$241-AZ$241)*1000*$K62*Data!$B$6)),\n(BA$6*1000*1000/(((AY$242+AZ$242+AY$243+AZ$243)/Denscalc($K62))*1000*$K62*Data!$B$6))+((BA$12-BA$6)*1000*1000/(((AY$242+AZ$242+AY$243+AZ$243-AY$241-AZ$241)/Denscalc($K62))*1000*$K62*Data!$B$6))),0))","v":0},43,null,null,{"$f":"IF(AND(BE$11>0,$A62<>\"\",(BC62+BD62)>0), BE$11, IF(AND($A62<>\"\",(BC62+BD62)>0),\n (BE$6*1000*1000/((BC$244+BD$244)*1000* Data!$B$7))+ ((BE$12-BE$6)*1000*1000/((BC$244+BD$244-BC$241-BD$241)*1000* Data!$B$7)),0))","v":0},43,{"$f":"IF(A62<>\"\", (Data!$B$127*1000*Data!$B$3)/Data!$B$7,  \"\")","v":""},"","",{"$f":"IF(A62<>\"\",  ROUND( (Data!$B$8-BI62)/Data!$B$8,3),   \"\")","v":""},"","","","",{"$f":"IF(A62<>\"\",  IF(TYPE(BN62)=1, ROUND( (Data!$B$8-BN62)/Data!$B$8,3),   \"\"),\"\")","v":""},"",43,"","","",null,""]
[{"$f":"IF(Uppgradering!A51<>\"\",Uppgradering!A51,\"\")","v":""},44,{"$f":"IF($A63<>\"\",Uppgradering!C51,\"\")","v":""},{"$f":"IF($A63<>\"\",Uppgradering!D51,\"\")","v":""},{"$f":"IF($A63<>\"\",Uppgradering!E51,\"\")","v":""},{"$f":"IF($A63<>\"\",Uppgradering!F51,\"\")","v":""},{"$f":"IF($A63<>\"\",Uppgradering!G51,\"\")","v":""},{"$f":"Uppgradering!AS51","v":""},{"$f":"Uppgradering!AP51","v":""},{"$f":"Uppgradering!AO51","v":""},{"$f":"Uppgradering!AT51","v":""},{"$f":"Uppgradering!AW51","v":""},"",null,null,null,{"$f":"IF(AND($A63<>\"\",(O63+P63)>0),    IF(P$13=\"Nm3\",(Q$12*1000*1000/((O$242+P$242+O$243+P$243)*1000*  $K63 * Data!$B$6)),  (Q$12*1000*1000/(((O$242+P$242+O$243+P$243)/Denscalc($K63))*1000*  $K63 * Data!$B$6)) ), 0    )","v":0},44,null,null,{"$f":"IF(AND($A63<>\"\",(S63+T63)>0),    IF(T$13=\"Nm3\",(U$12*1000*1000/((S$242+T$242+S$243+T$243)*1000*  $K63 * Data!$B$6)),  (U$12*1000*1000/(((S$242+T$242+S$243+T$243)/Denscalc($K63))*1000*  $K63 * Data!$B$6)) ), 0     )","v":0},44,null,null,{"$f":"IF(AND($A63<>\"\",(W63+X63)>0),     IF(X$13=\"Nm3\",(Y$12*1000*1000/((W$242+X$242+W$243+X$243)*1000*  $K63 * Data!$B$6)),  (Y$12*1000*1000/(((W$242+X$242+W$243+X$243)/Denscalc($K63))*1000*  $K63 * Data!$B$6)) ), 0   )","v":0},44,null,null,{"$f":"IF(AND($A63<>\"\",(AA63+AB63)>0),     IF(AB$13=\"Nm3\",(AC$12*1000*1000/((AA$242+AB$242+AA$243+AB$243)*1000*  $K63 * Data!$B$6)),  (AC$12*1000*1000/(((AA$242+AB$242+AA$243+AB$243)/Denscalc($K63))*1000*  $K63 * Data!$B$6)) ), 0     )","v":0},44,null,null,{"$f":"IF(AND($A63<>\"\",(AE63+AF63)>0),     IF(AF$13=\"Nm3\",(AG$12*1000*1000/((AE$242+AF$242+AE$243+AF$243)*1000*  $K63 * Data!$B$6)),  (AG$12*1000*1000/(((AE$242+AF$242+AE$243+AF$243)/Denscalc($K63))*1000*  $K63 * Data!$B$6)) ), 0    )","v":0},44,null,null,{"$f":"IF(AND($A63<>\"\",(AI63+AJ63)>0),    IF(AJ$13=\"Nm3\",(AK$12*1000*1000/((AI$242+AJ$242+AI$243+AJ$243)*1000*  $K63 * Data!$B$6)),  (AK$12*1000*1000/(((AI$242+AJ$242+AI$243+AJ$243)/Denscalc($K63))*1000*  $K63 * Data!$B$6)) ), 0    )","v":0},44,null,null,{"$f":"IF(AND($A63<>\"\",(AM63+AN63)>0),     IF(AN$13=\"Nm3\",(AO$12*1000*1000/((AM$242+AN$242+AM$243+AN$243)*1000*  $K63 * Data!$B$6)),  (AO$12*1000*1000/(((AM$242+AN$242+AM$243+AN$243)/Denscalc($K63))*1000*  $K63 * Data!$B$6)) ), 0    )","v":0},44,null,null,{"$f":"IF(AND($A63<>\"\",(AQ63+AR63)>0),     IF(AR$13=\"Nm3\",(AS$12*1000*1000/((AQ$242+AR$242+AQ$243+AR$243)*1000*  $K63 * Data!$B$6)),  (AS$12*1000*1000/(((AQ$242+AR$242+AQ$243+AR$243)/Denscalc($K63))*1000*  $K63 * Data!$B$6)) ), 0     )","v":0},44,null,null,{"$f":"IF(AND($A63<>\"\",(AU63+AV63)>0),     IF(AV$13=\"Nm3\",(AW$12*1000*1000/((AU$242+AV$242+AU$243+AV$243)*1000*  $K63 * Data!$B$6)),  (AW$12*1000*1000/(((AU$242+AV$242+AU$243+AV$243)/Denscalc($K63))*1000*  $K63 * Data!$B$6)) ), 0   )","v":0},44,null,null,{"$f":"IF(AND(BA$11>0,$A63<>\"\",(AY63+AZ63)>0), BA$11, IF(AND($A63<>\"\",(AY63+AZ63)>0),\nIF(AZ$13=\"Nm3\",(BA$6*1000*1000/((AY$242+AZ$242+AY$243+AZ$243)*1000*$K63*Data!$B$6))+((BA$12-BA$6)*1000*1000/((AY$242+AZ$242+AY$243+AZ$243-AY$241-AZ$241)*1000*$K63*Data!$B$6)),\n(BA$6*1000*1000/(((AY$242+AZ$242+AY$243+AZ$243)/Denscalc($K63))*1000*$K63*Data!$B$6))+((BA$12-BA$6)*1000*1000/(((AY$242+AZ$242+AY$243+AZ$243-AY$241-AZ$241)/Denscalc($K63))*1000*$K63*Data!$B$6))),0))","v":0},44,null,null,{"$f":"IF(AND(BE$11>0,$A63<>\"\",(BC63+BD63)>0), BE$11, IF(AND($A63<>\"\",(BC63+BD63)>0),\n (BE$6*1000*1000/((BC$244+BD$244)*1000* Data!$B$7))+ ((BE$12-BE$6)*1000*1000/((BC$244+BD$244-BC$241-BD$241)*1000* Data!$B$7)),0))","v":0},44,{"$f":"IF(A63<>\"\", (Data!$B$127*1000*Data!$B$3)/Data!$B$7,  \"\")","v":""},"","",{"$f":"IF(A63<>\"\",  ROUND( (Data!$B$8-BI63)/Data!$B$8,3),   \"\")","v":""},"","","","",{"$f":"IF(A63<>\"\",  IF(TYPE(BN63)=1, ROUND( (Data!$B$8-BN63)/Data!$B$8,3),   \"\"),\"\")","v":""},"",44,"","","",null,""]
[{"$f":"IF(Uppgradering!A52<>\"\",Uppgradering!A52,\"\")","v":""},45,{"$f":"IF($A64<>\"\",Uppgradering!C52,\"\")","v":""},{"$f":"IF($A64<>\"\",Uppgradering!D52,\"\")","v":""},{"$f":"IF($A64<>\"\",Uppgradering!E52,\"\")","v":""},{"$f":"IF($A64<>\"\",Uppgradering!F52,\"\")","v":""},{"$f":"IF($A64<>\"\",Uppgradering!G52,\"\")","v":""},{"$f":"Uppgradering!AS52","v":""},{"$f":"Uppgradering!AP52","v":""},{"$f":"Uppgradering!AO52","v":""},{"$f":"Uppgradering!AT52","v":""},{"$f":"Uppgradering!AW52","v":""},"",null,null,null,{"$f":"IF(AND($A64<>\"\",(O64+P64)>0),    IF(P$13=\"Nm3\",(Q$12*1000*1000/((O$242+P$242+O$243+P$243)*1000*  $K64 * Data!$B$6)),  (Q$12*1000*1000/(((O$242+P$242+O$243+P$243)/Denscalc($K64))*1000*  $K64 * Data!$B$6)) ), 0    )","v":0},45,null,null,{"$f":"IF(AND($A64<>\"\",(S64+T64)>0),    IF(T$13=\"Nm3\",(U$12*1000*1000/((S$242+T$242+S$243+T$243)*1000*  $K64 * Data!$B$6)),  (U$12*1000*1000/(((S$242+T$242+S$243+T$243)/Denscalc($K64))*1000*  $K64 * Data!$B$6)) ), 0     )","v":0},45,null,null,{"$f":"IF(AND($A64<>\"\",(W64+X64)>0),     IF(X$13=\"Nm3\",(Y$12*1000*1000/((W$242+X$242+W$243+X$243)*1000*  $K64 * Data!$B$6)),  (Y$12*1000*1000/(((W$242+X$242+W$243+X$243)/Denscalc($K64))*1000*  $K64 * Data!$B$6)) ), 0   )","v":0},45,null,null,{"$f":"IF(AND($A64<>\"\",(AA64+AB64)>0),     IF(AB$13=\"Nm3\",(AC$12*1000*1000/((AA$242+AB$242+AA$243+AB$243)*1000*  $K64 * Data!$B$6)),  (AC$12*1000*1000/(((AA$242+AB$242+AA$243+AB$243)/Denscalc($K64))*1000*  $K64 * Data!$B$6)) ), 0     )","v":0},45,null,null,{"$f":"IF(AND($A64<>\"\",(AE64+AF64)>0),     IF(AF$13=\"Nm3\",(AG$12*1000*1000/((AE$242+AF$242+AE$243+AF$243)*1000*  $K64 * Data!$B$6)),  (AG$12*1000*1000/(((AE$242+AF$242+AE$243+AF$243)/Denscalc($K64))*1000*  $K64 * Data!$B$6)) ), 0    )","v":0},45,null,null,{"$f":"IF(AND($A64<>\"\",(AI64+AJ64)>0),    IF(AJ$13=\"Nm3\",(AK$12*1000*1000/((AI$242+AJ$242+AI$243+AJ$243)*1000*  $K64 * Data!$B$6)),  (AK$12*1000*1000/(((AI$242+AJ$242+AI$243+AJ$243)/Denscalc($K64))*1000*  $K64 * Data!$B$6)) ), 0    )","v":0},45,null,null,{"$f":"IF(AND($A64<>\"\",(AM64+AN64)>0),     IF(AN$13=\"Nm3\",(AO$12*1000*1000/((AM$242+AN$242+AM$243+AN$243)*1000*  $K64 * Data!$B$6)),  (AO$12*1000*1000/(((AM$242+AN$242+AM$243+AN$243)/Denscalc($K64))*1000*  $K64 * Data!$B$6)) ), 0    )","v":0},45,null,null,{"$f":"IF(AND($A64<>\"\",(AQ64+AR64)>0),     IF(AR$13=\"Nm3\",(AS$12*1000*1000/((AQ$242+AR$242+AQ$243+AR$243)*1000*  $K64 * Data!$B$6)),  (AS$12*1000*1000/(((AQ$242+AR$242+AQ$243+AR$243)/Denscalc($K64))*1000*  $K64 * Data!$B$6)) ), 0     )","v":0},45,null,null,{"$f":"IF(AND($A64<>\"\",(AU64+AV64)>0),     IF(AV$13=\"Nm3\",(AW$12*1000*1000/((AU$242+AV$242+AU$243+AV$243)*1000*  $K64 * Data!$B$6)),  (AW$12*1000*1000/(((AU$242+AV$242+AU$243+AV$243)/Denscalc($K64))*1000*  $K64 * Data!$B$6)) ), 0   )","v":0},45,null,null,{"$f":"IF(AND(BA$11>0,$A64<>\"\",(AY64+AZ64)>0), BA$11, IF(AND($A64<>\"\",(AY64+AZ64)>0),\nIF(AZ$13=\"Nm3\",(BA$6*1000*1000/((AY$242+AZ$242+AY$243+AZ$243)*1000*$K64*Data!$B$6))+((BA$12-BA$6)*1000*1000/((AY$242+AZ$242+AY$243+AZ$243-AY$241-AZ$241)*1000*$K64*Data!$B$6)),\n(BA$6*1000*1000/(((AY$242+AZ$242+AY$243+AZ$243)/Denscalc($K64))*1000*$K64*Data!$B$6))+((BA$12-BA$6)*1000*1000/(((AY$242+AZ$242+AY$243+AZ$243-AY$241-AZ$241)/Denscalc($K64))*1000*$K64*Data!$B$6))),0))","v":0},45,null,null,{"$f":"IF(AND(BE$11>0,$A64<>\"\",(BC64+BD64)>0), BE$11, IF(AND($A64<>\"\",(BC64+BD64)>0),\n (BE$6*1000*1000/((BC$244+BD$244)*1000* Data!$B$7))+ ((BE$12-BE$6)*1000*1000/((BC$244+BD$244-BC$241-BD$241)*1000* Data!$B$7)),0))","v":0},45,{"$f":"IF(A64<>\"\", (Data!$B$127*1000*Data!$B$3)/Data!$B$7,  \"\")","v":""},"","",{"$f":"IF(A64<>\"\",  ROUND( (Data!$B$8-BI64)/Data!$B$8,3),   \"\")","v":""},"","","","",{"$f":"IF(A64<>\"\",  IF(TYPE(BN64)=1, ROUND( (Data!$B$8-BN64)/Data!$B$8,3),   \"\"),\"\")","v":""},"",45,"","","",null,""]
[{"$f":"IF(Uppgradering!A53<>\"\",Uppgradering!A53,\"\")","v":""},46,{"$f":"IF($A65<>\"\",Uppgradering!C53,\"\")","v":""},{"$f":"IF($A65<>\"\",Uppgradering!D53,\"\")","v":""},{"$f":"IF($A65<>\"\",Uppgradering!E53,\"\")","v":""},{"$f":"IF($A65<>\"\",Uppgradering!F53,\"\")","v":""},{"$f":"IF($A65<>\"\",Uppgradering!G53,\"\")","v":""},{"$f":"Uppgradering!AS53","v":""},{"$f":"Uppgradering!AP53","v":""},{"$f":"Uppgradering!AO53","v":""},{"$f":"Uppgradering!AT53","v":""},{"$f":"Uppgradering!AW53","v":""},"",null,null,null,{"$f":"IF(AND($A65<>\"\",(O65+P65)>0),    IF(P$13=\"Nm3\",(Q$12*1000*1000/((O$242+P$242+O$243+P$243)*1000*  $K65 * Data!$B$6)),  (Q$12*1000*1000/(((O$242+P$242+O$243+P$243)/Denscalc($K65))*1000*  $K65 * Data!$B$6)) ), 0    )","v":0},46,null,null,{"$f":"IF(AND($A65<>\"\",(S65+T65)>0),    IF(T$13=\"Nm3\",(U$12*1000*1000/((S$242+T$242+S$243+T$243)*1000*  $K65 * Data!$B$6)),  (U$12*1000*1000/(((S$242+T$242+S$243+T$243)/Denscalc($K65))*1000*  $K65 * Data!$B$6)) ), 0     )","v":0},46,null,null,{"$f":"IF(AND($A65<>\"\",(W65+X65)>0),     IF(X$13=\"Nm3\",(Y$12*1000*1000/((W$242+X$242+W$243+X$243)*1000*  $K65 * Data!$B$6)),  (Y$12*1000*1000/(((W$242+X$242+W$243+X$243)/Denscalc($K65))*1000*  $K65 * Data!$B$6)) ), 0   )","v":0},46,null,null,{"$f":"IF(AND($A65<>\"\",(AA65+AB65)>0),     IF(AB$13=\"Nm3\",(AC$12*1000*1000/((AA$242+AB$242+AA$243+AB$243)*1000*  $K65 * Data!$B$6)),  (AC$12*1000*1000/(((AA$242+AB$242+AA$243+AB$243)/Denscalc($K65))*1000*  $K65 * Data!$B$6)) ), 0     )","v":0},46,null,null,{"$f":"IF(AND($A65<>\"\",(AE65+AF65)>0),     IF(AF$13=\"Nm3\",(AG$12*1000*1000/((AE$242+AF$242+AE$243+AF$243)*1000*  $K65 * Data!$B$6)),  (AG$12*1000*1000/(((AE$242+AF$242+AE$243+AF$243)/Denscalc($K65))*1000*  $K65 * Data!$B$6)) ), 0    )","v":0},46,null,null,{"$f":"IF(AND($A65<>\"\",(AI65+AJ65)>0),    IF(AJ$13=\"Nm3\",(AK$12*1000*1000/((AI$242+AJ$242+AI$243+AJ$243)*1000*  $K65 * Data!$B$6)),  (AK$12*1000*1000/(((AI$242+AJ$242+AI$243+AJ$243)/Denscalc($K65))*1000*  $K65 * Data!$B$6)) ), 0    )","v":0},46,null,null,{"$f":"IF(AND($A65<>\"\",(AM65+AN65)>0),     IF(AN$13=\"Nm3\",(AO$12*1000*1000/((AM$242+AN$242+AM$243+AN$243)*1000*  $K65 * Data!$B$6)),  (AO$12*1000*1000/(((AM$242+AN$242+AM$243+AN$243)/Denscalc($K65))*1000*  $K65 * Data!$B$6)) ), 0    )","v":0},46,null,null,{"$f":"IF(AND($A65<>\"\",(AQ65+AR65)>0),     IF(AR$13=\"Nm3\",(AS$12*1000*1000/((AQ$242+AR$242+AQ$243+AR$243)*1000*  $K65 * Data!$B$6)),  (AS$12*1000*1000/(((AQ$242+AR$242+AQ$243+AR$243)/Denscalc($K65))*1000*  $K65 * Data!$B$6)) ), 0     )","v":0},46,null,null,{"$f":"IF(AND($A65<>\"\",(AU65+AV65)>0),     IF(AV$13=\"Nm3\",(AW$12*1000*1000/((AU$242+AV$242+AU$243+AV$243)*1000*  $K65 * Data!$B$6)),  (AW$12*1000*1000/(((AU$242+AV$242+AU$243+AV$243)/Denscalc($K65))*1000*  $K65 * Data!$B$6)) ), 0   )","v":0},46,null,null,{"$f":"IF(AND(BA$11>0,$A65<>\"\",(AY65+AZ65)>0), BA$11, IF(AND($A65<>\"\",(AY65+AZ65)>0),\nIF(AZ$13=\"Nm3\",(BA$6*1000*1000/((AY$242+AZ$242+AY$243+AZ$243)*1000*$K65*Data!$B$6))+((BA$12-BA$6)*1000*1000/((AY$242+AZ$242+AY$243+AZ$243-AY$241-AZ$241)*1000*$K65*Data!$B$6)),\n(BA$6*1000*1000/(((AY$242+AZ$242+AY$243+AZ$243)/Denscalc($K65))*1000*$K65*Data!$B$6))+((BA$12-BA$6)*1000*1000/(((AY$242+AZ$242+AY$243+AZ$243-AY$241-AZ$241)/Denscalc($K65))*1000*$K65*Data!$B$6))),0))","v":0},46,null,null,{"$f":"IF(AND(BE$11>0,$A65<>\"\",(BC65+BD65)>0), BE$11, IF(AND($A65<>\"\",(BC65+BD65)>0),\n (BE$6*1000*1000/((BC$244+BD$244)*1000* Data!$B$7))+ ((BE$12-BE$6)*1000*1000/((BC$244+BD$244-BC$241-BD$241)*1000* Data!$B$7)),0))","v":0},46,{"$f":"IF(A65<>\"\", (Data!$B$127*1000*Data!$B$3)/Data!$B$7,  \"\")","v":""},"","",{"$f":"IF(A65<>\"\",  ROUND( (Data!$B$8-BI65)/Data!$B$8,3),   \"\")","v":""},"","","","",{"$f":"IF(A65<>\"\",  IF(TYPE(BN65)=1, ROUND( (Data!$B$8-BN65)/Data!$B$8,3),   \"\"),\"\")","v":""},"",46,"","","",null,""]
[{"$f":"IF(Uppgradering!A54<>\"\",Uppgradering!A54,\"\")","v":""},47,{"$f":"IF($A66<>\"\",Uppgradering!C54,\"\")","v":""},{"$f":"IF($A66<>\"\",Uppgradering!D54,\"\")","v":""},{"$f":"IF($A66<>\"\",Uppgradering!E54,\"\")","v":""},{"$f":"IF($A66<>\"\",Uppgradering!F54,\"\")","v":""},{"$f":"IF($A66<>\"\",Uppgradering!G54,\"\")","v":""},{"$f":"Uppgradering!AS54","v":""},{"$f":"Uppgradering!AP54","v":""},{"$f":"Uppgradering!AO54","v":""},{"$f":"Uppgradering!AT54","v":""},{"$f":"Uppgradering!AW54","v":""},"",null,null,null,{"$f":"IF(AND($A66<>\"\",(O66+P66)>0),    IF(P$13=\"Nm3\",(Q$12*1000*1000/((O$242+P$242+O$243+P$243)*1000*  $K66 * Data!$B$6)),  (Q$12*1000*1000/(((O$242+P$242+O$243+P$243)/Denscalc($K66))*1000*  $K66 * Data!$B$6)) ), 0    )","v":0},47,null,null,{"$f":"IF(AND($A66<>\"\",(S66+T66)>0),    IF(T$13=\"Nm3\",(U$12*1000*1000/((S$242+T$242+S$243+T$243)*1000*  $K66 * Data!$B$6)),  (U$12*1000*1000/(((S$242+T$242+S$243+T$243)/Denscalc($K66))*1000*  $K66 * Data!$B$6)) ), 0     )","v":0},47,null,null,{"$f":"IF(AND($A66<>\"\",(W66+X66)>0),     IF(X$13=\"Nm3\",(Y$12*1000*1000/((W$242+X$242+W$243+X$243)*1000*  $K66 * Data!$B$6)),  (Y$12*1000*1000/(((W$242+X$242+W$243+X$243)/Denscalc($K66))*1000*  $K66 * Data!$B$6)) ), 0   )","v":0},47,null,null,{"$f":"IF(AND($A66<>\"\",(AA66+AB66)>0),     IF(AB$13=\"Nm3\",(AC$12*1000*1000/((AA$242+AB$242+AA$243+AB$243)*1000*  $K66 * Data!$B$6)),  (AC$12*1000*1000/(((AA$242+AB$242+AA$243+AB$243)/Denscalc($K66))*1000*  $K66 * Data!$B$6)) ), 0     )","v":0},47,null,null,{"$f":"IF(AND($A66<>\"\",(AE66+AF66)>0),     IF(AF$13=\"Nm3\",(AG$12*1000*1000/((AE$242+AF$242+AE$243+AF$243)*1000*  $K66 * Data!$B$6)),  (AG$12*1000*1000/(((AE$242+AF$242+AE$243+AF$243)/Denscalc($K66))*1000*  $K66 * Data!$B$6)) ), 0    )","v":0},47,null,null,{"$f":"IF(AND($A66<>\"\",(AI66+AJ66)>0),    IF(AJ$13=\"Nm3\",(AK$12*1000*1000/((AI$242+AJ$242+AI$243+AJ$243)*1000*  $K66 * Data!$B$6)),  (AK$12*1000*1000/(((AI$242+AJ$242+AI$243+AJ$243)/Denscalc($K66))*1000*  $K66 * Data!$B$6)) ), 0    )","v":0},47,null,null,{"$f":"IF(AND($A66<>\"\",(AM66+AN66)>0),     IF(AN$13=\"Nm3\",(AO$12*1000*1000/((AM$242+AN$242+AM$243+AN$243)*1000*  $K66 * Data!$B$6)),  (AO$12*1000*1000/(((AM$242+AN$242+AM$243+AN$243)/Denscalc($K66))*1000*  $K66 * Data!$B$6)) ), 0    )","v":0},47,null,null,{"$f":"IF(AND($A66<>\"\",(AQ66+AR66)>0),     IF(AR$13=\"Nm3\",(AS$12*1000*1000/((AQ$242+AR$242+AQ$243+AR$243)*1000*  $K66 * Data!$B$6)),  (AS$12*1000*1000/(((AQ$242+AR$242+AQ$243+AR$243)/Denscalc($K66))*1000*  $K66 * Data!$B$6)) ), 0     )","v":0},47,null,null,{"$f":"IF(AND($A66<>\"\",(AU66+AV66)>0),     IF(AV$13=\"Nm3\",(AW$12*1000*1000/((AU$242+AV$242+AU$243+AV$243)*1000*  $K66 * Data!$B$6)),  (AW$12*1000*1000/(((AU$242+AV$242+AU$243+AV$243)/Denscalc($K66))*1000*  $K66 * Data!$B$6)) ), 0   )","v":0},47,null,null,{"$f":"IF(AND(BA$11>0,$A66<>\"\",(AY66+AZ66)>0), BA$11, IF(AND($A66<>\"\",(AY66+AZ66)>0),\nIF(AZ$13=\"Nm3\",(BA$6*1000*1000/((AY$242+AZ$242+AY$243+AZ$243)*1000*$K66*Data!$B$6))+((BA$12-BA$6)*1000*1000/((AY$242+AZ$242+AY$243+AZ$243-AY$241-AZ$241)*1000*$K66*Data!$B$6)),\n(BA$6*1000*1000/(((AY$242+AZ$242+AY$243+AZ$243)/Denscalc($K66))*1000*$K66*Data!$B$6))+((BA$12-BA$6)*1000*1000/(((AY$242+AZ$242+AY$243+AZ$243-AY$241-AZ$241)/Denscalc($K66))*1000*$K66*Data!$B$6))),0))","v":0},47,null,null,{"$f":"IF(AND(BE$11>0,$A66<>\"\",(BC66+BD66)>0), BE$11, IF(AND($A66<>\"\",(BC66+BD66)>0),\n (BE$6*1000*1000/((BC$244+BD$244)*1000* Data!$B$7))+ ((BE$12-BE$6)*1000*1000/((BC$244+BD$244-BC$241-BD$241)*1000* Data!$B$7)),0))","v":0},47,{"$f":"IF(A66<>\"\", (Data!$B$127*1000*Data!$B$3)/Data!$B$7,  \"\")","v":""},"","",{"$f":"IF(A66<>\"\",  ROUND( (Data!$B$8-BI66)/Data!$B$8,3),   \"\")","v":""},"","","","",{"$f":"IF(A66<>\"\",  IF(TYPE(BN66)=1, ROUND( (Data!$B$8-BN66)/Data!$B$8,3),   \"\"),\"\")","v":""},"",47,"","","",null,""]
[{"$f":"IF(Uppgradering!A55<>\"\",Uppgradering!A55,\"\")","v":""},48,{"$f":"IF($A67<>\"\",Uppgradering!C55,\"\")","v":""},{"$f":"IF($A67<>\"\",Uppgradering!D55,\"\")","v":""},{"$f":"IF($A67<>\"\",Uppgradering!E55,\"\")","v":""},{"$f":"IF($A67<>\"\",Uppgradering!F55,\"\")","v":""},{"$f":"IF($A67<>\"\",Uppgradering!G55,\"\")","v":""},{"$f":"Uppgradering!AS55","v":""},{"$f":"Uppgradering!AP55","v":""},{"$f":"Uppgradering!AO55","v":""},{"$f":"Uppgradering!AT55","v":""},{"$f":"Uppgradering!AW55","v":""},"",null,null,null,{"$f":"IF(AND($A67<>\"\",(O67+P67)>0),    IF(P$13=\"Nm3\",(Q$12*1000*1000/((O$242+P$242+O$243+P$243)*1000*  $K67 * Data!$B$6)),  (Q$12*1000*1000/(((O$242+P$242+O$243+P$243)/Denscalc($K67))*1000*  $K67 * Data!$B$6)) ), 0    )","v":0},48,null,null,{"$f":"IF(AND($A67<>\"\",(S67+T67)>0),    IF(T$13=\"Nm3\",(U$12*1000*1000/((S$242+T$242+S$243+T$243)*1000*  $K67 * Data!$B$6)),  (U$12*1000*1000/(((S$242+T$242+S$243+T$243)/Denscalc($K67))*1000*  $K67 * Data!$B$6)) ), 0     )","v":0},48,null,null,{"$f":"IF(AND($A67<>\"\",(W67+X67)>0),     IF(X$13=\"Nm3\",(Y$12*1000*1000/((W$242+X$242+W$243+X$243)*1000*  $K67 * Data!$B$6)),  (Y$12*1000*1000/(((W$242+X$242+W$243+X$243)/Denscalc($K67))*1000*  $K67 * Data!$B$6)) ), 0   )","v":0},48,null,null,{"$f":"IF(AND($A67<>\"\",(AA67+AB67)>0),     IF(AB$13=\"Nm3\",(AC$12*1000*1000/((AA$242+AB$242+AA$243+AB$243)*1000*  $K67 * Data!$B$6)),  (AC$12*1000*1000/(((AA$242+AB$242+AA$243+AB$243)/Denscalc($K67))*1000*  $K67 * Data!$B$6)) ), 0     )","v":0},48,null,null,{"$f":"IF(AND($A67<>\"\",(AE67+AF67)>0),     IF(AF$13=\"Nm3\",(AG$12*1000*1000/((AE$242+AF$242+AE$243+AF$243)*1000*  $K67 * Data!$B$6)),  (AG$12*1000*1000/(((AE$242+AF$242+AE$243+AF$243)/Denscalc($K67))*1000*  $K67 * Data!$B$6)) ), 0    )","v":0},48,null,null,{"$f":"IF(AND($A67<>\"\",(AI67+AJ67)>0),    IF(AJ$13=\"Nm3\",(AK$12*1000*1000/((AI$242+AJ$242+AI$243+AJ$243)*1000*  $K67 * Data!$B$6)),  (AK$12*1000*1000/(((AI$242+AJ$242+AI$243+AJ$243)/Denscalc($K67))*1000*  $K67 * Data!$B$6)) ), 0    )","v":0},48,null,null,{"$f":"IF(AND($A67<>\"\",(AM67+AN67)>0),     IF(AN$13=\"Nm3\",(AO$12*1000*1000/((AM$242+AN$242+AM$243+AN$243)*1000*  $K67 * Data!$B$6)),  (AO$12*1000*1000/(((AM$242+AN$242+AM$243+AN$243)/Denscalc($K67))*1000*  $K67 * Data!$B$6)) ), 0    )","v":0},48,null,null,{"$f":"IF(AND($A67<>\"\",(AQ67+AR67)>0),     IF(AR$13=\"Nm3\",(AS$12*1000*1000/((AQ$242+AR$242+AQ$243+AR$243)*1000*  $K67 * Data!$B$6)),  (AS$12*1000*1000/(((AQ$242+AR$242+AQ$243+AR$243)/Denscalc($K67))*1000*  $K67 * Data!$B$6)) ), 0     )","v":0},48,null,null,{"$f":"IF(AND($A67<>\"\",(AU67+AV67)>0),     IF(AV$13=\"Nm3\",(AW$12*1000*1000/((AU$242+AV$242+AU$243+AV$243)*1000*  $K67 * Data!$B$6)),  (AW$12*1000*1000/(((AU$242+AV$242+AU$243+AV$243)/Denscalc($K67))*1000*  $K67 * Data!$B$6)) ), 0   )","v":0},48,null,null,{"$f":"IF(AND(BA$11>0,$A67<>\"\",(AY67+AZ67)>0), BA$11, IF(AND($A67<>\"\",(AY67+AZ67)>0),\nIF(AZ$13=\"Nm3\",(BA$6*1000*1000/((AY$242+AZ$242+AY$243+AZ$243)*1000*$K67*Data!$B$6))+((BA$12-BA$6)*1000*1000/((AY$242+AZ$242+AY$243+AZ$243-AY$241-AZ$241)*1000*$K67*Data!$B$6)),\n(BA$6*1000*1000/(((AY$242+AZ$242+AY$243+AZ$243)/Denscalc($K67))*1000*$K67*Data!$B$6))+((BA$12-BA$6)*1000*1000/(((AY$242+AZ$242+AY$243+AZ$243-AY$241-AZ$241)/Denscalc($K67))*1000*$K67*Data!$B$6))),0))","v":0},48,null,null,{"$f":"IF(AND(BE$11>0,$A67<>\"\",(BC67+BD67)>0), BE$11, IF(AND($A67<>\"\",(BC67+BD67)>0),\n (BE$6*1000*1000/((BC$244+BD$244)*1000* Data!$B$7))+ ((BE$12-BE$6)*1000*1000/((BC$244+BD$244-BC$241-BD$241)*1000* Data!$B$7)),0))","v":0},48,{"$f":"IF(A67<>\"\", (Data!$B$127*1000*Data!$B$3)/Data!$B$7,  \"\")","v":""},"","",{"$f":"IF(A67<>\"\",  ROUND( (Data!$B$8-BI67)/Data!$B$8,3),   \"\")","v":""},"","","","",{"$f":"IF(A67<>\"\",  IF(TYPE(BN67)=1, ROUND( (Data!$B$8-BN67)/Data!$B$8,3),   \"\"),\"\")","v":""},"",48,"","","",null,""]
[{"$f":"IF(Uppgradering!A56<>\"\",Uppgradering!A56,\"\")","v":""},49,{"$f":"IF($A68<>\"\",Uppgradering!C56,\"\")","v":""},{"$f":"IF($A68<>\"\",Uppgradering!D56,\"\")","v":""},{"$f":"IF($A68<>\"\",Uppgradering!E56,\"\")","v":""},{"$f":"IF($A68<>\"\",Uppgradering!F56,\"\")","v":""},{"$f":"IF($A68<>\"\",Uppgradering!G56,\"\")","v":""},{"$f":"Uppgradering!AS56","v":""},{"$f":"Uppgradering!AP56","v":""},{"$f":"Uppgradering!AO56","v":""},{"$f":"Uppgradering!AT56","v":""},{"$f":"Uppgradering!AW56","v":""},"",null,null,null,{"$f":"IF(AND($A68<>\"\",(O68+P68)>0),    IF(P$13=\"Nm3\",(Q$12*1000*1000/((O$242+P$242+O$243+P$243)*1000*  $K68 * Data!$B$6)),  (Q$12*1000*1000/(((O$242+P$242+O$243+P$243)/Denscalc($K68))*1000*  $K68 * Data!$B$6)) ), 0    )","v":0},49,null,null,{"$f":"IF(AND($A68<>\"\",(S68+T68)>0),    IF(T$13=\"Nm3\",(U$12*1000*1000/((S$242+T$242+S$243+T$243)*1000*  $K68 * Data!$B$6)),  (U$12*1000*1000/(((S$242+T$242+S$243+T$243)/Denscalc($K68))*1000*  $K68 * Data!$B$6)) ), 0     )","v":0},49,null,null,{"$f":"IF(AND($A68<>\"\",(W68+X68)>0),     IF(X$13=\"Nm3\",(Y$12*1000*1000/((W$242+X$242+W$243+X$243)*1000*  $K68 * Data!$B$6)),  (Y$12*1000*1000/(((W$242+X$242+W$243+X$243)/Denscalc($K68))*1000*  $K68 * Data!$B$6)) ), 0   )","v":0},49,null,null,{"$f":"IF(AND($A68<>\"\",(AA68+AB68)>0),     IF(AB$13=\"Nm3\",(AC$12*1000*1000/((AA$242+AB$242+AA$243+AB$243)*1000*  $K68 * Data!$B$6)),  (AC$12*1000*1000/(((AA$242+AB$242+AA$243+AB$243)/Denscalc($K68))*1000*  $K68 * Data!$B$6)) ), 0     )","v":0},49,null,null,{"$f":"IF(AND($A68<>\"\",(AE68+AF68)>0),     IF(AF$13=\"Nm3\",(AG$12*1000*1000/((AE$242+AF$242+AE$243+AF$243)*1000*  $K68 * Data!$B$6)),  (AG$12*1000*1000/(((AE$242+AF$242+AE$243+AF$243)/Denscalc($K68))*1000*  $K68 * Data!$B$6)) ), 0    )","v":0},49,null,null,{"$f":"IF(AND($A68<>\"\",(AI68+AJ68)>0),    IF(AJ$13=\"Nm3\",(AK$12*1000*1000/((AI$242+AJ$242+AI$243+AJ$243)*1000*  $K68 * Data!$B$6)),  (AK$12*1000*1000/(((AI$242+AJ$242+AI$243+AJ$243)/Denscalc($K68))*1000*  $K68 * Data!$B$6)) ), 0    )","v":0},49,null,null,{"$f":"IF(AND($A68<>\"\",(AM68+AN68)>0),     IF(AN$13=\"Nm3\",(AO$12*1000*1000/((AM$242+AN$242+AM$243+AN$243)*1000*  $K68 * Data!$B$6)),  (AO$12*1000*1000/(((AM$242+AN$242+AM$243+AN$243)/Denscalc($K68))*1000*  $K68 * Data!$B$6)) ), 0    )","v":0},49,null,null,{"$f":"IF(AND($A68<>\"\",(AQ68+AR68)>0),     IF(AR$13=\"Nm3\",(AS$12*1000*1000/((AQ$242+AR$242+AQ$243+AR$243)*1000*  $K68 * Data!$B$6)),  (AS$12*1000*1000/(((AQ$242+AR$242+AQ$243+AR$243)/Denscalc($K68))*1000*  $K68 * Data!$B$6)) ), 0     )","v":0},49,null,null,{"$f":"IF(AND($A68<>\"\",(AU68+AV68)>0),     IF(AV$13=\"Nm3\",(AW$12*1000*1000/((AU$242+AV$242+AU$243+AV$243)*1000*  $K68 * Data!$B$6)),  (AW$12*1000*1000/(((AU$242+AV$242+AU$243+AV$243)/Denscalc($K68))*1000*  $K68 * Data!$B$6)) ), 0   )","v":0},49,null,null,{"$f":"IF(AND(BA$11>0,$A68<>\"\",(AY68+AZ68)>0), BA$11, IF(AND($A68<>\"\",(AY68+AZ68)>0),\nIF(AZ$13=\"Nm3\",(BA$6*1000*1000/((AY$242+AZ$242+AY$243+AZ$243)*1000*$K68*Data!$B$6))+((BA$12-BA$6)*1000*1000/((AY$242+AZ$242+AY$243+AZ$243-AY$241-AZ$241)*1000*$K68*Data!$B$6)),\n(BA$6*1000*1000/(((AY$242+AZ$242+AY$243+AZ$243)/Denscalc($K68))*1000*$K68*Data!$B$6))+((BA$12-BA$6)*1000*1000/(((AY$242+AZ$242+AY$243+AZ$243-AY$241-AZ$241)/Denscalc($K68))*1000*$K68*Data!$B$6))),0))","v":0},49,null,null,{"$f":"IF(AND(BE$11>0,$A68<>\"\",(BC68+BD68)>0), BE$11, IF(AND($A68<>\"\",(BC68+BD68)>0),\n (BE$6*1000*1000/((BC$244+BD$244)*1000* Data!$B$7))+ ((BE$12-BE$6)*1000*1000/((BC$244+BD$244-BC$241-BD$241)*1000* Data!$B$7)),0))","v":0},49,{"$f":"IF(A68<>\"\", (Data!$B$127*1000*Data!$B$3)/Data!$B$7,  \"\")","v":""},"","",{"$f":"IF(A68<>\"\",  ROUND( (Data!$B$8-BI68)/Data!$B$8,3),   \"\")","v":""},"","","","",{"$f":"IF(A68<>\"\",  IF(TYPE(BN68)=1, ROUND( (Data!$B$8-BN68)/Data!$B$8,3),   \"\"),\"\")","v":""},"",49,"","","",null,""]
[{"$f":"IF(Uppgradering!A57<>\"\",Uppgradering!A57,\"\")","v":""},50,{"$f":"IF($A69<>\"\",Uppgradering!C57,\"\")","v":""},{"$f":"IF($A69<>\"\",Uppgradering!D57,\"\")","v":""},{"$f":"IF($A69<>\"\",Uppgradering!E57,\"\")","v":""},{"$f":"IF($A69<>\"\",Uppgradering!F57,\"\")","v":""},{"$f":"IF($A69<>\"\",Uppgradering!G57,\"\")","v":""},{"$f":"Uppgradering!AS57","v":""},{"$f":"Uppgradering!AP57","v":""},{"$f":"Uppgradering!AO57","v":""},{"$f":"Uppgradering!AT57","v":""},{"$f":"Uppgradering!AW57","v":""},"",null,null,null,{"$f":"IF(AND($A69<>\"\",(O69+P69)>0),    IF(P$13=\"Nm3\",(Q$12*1000*1000/((O$242+P$242+O$243+P$243)*1000*  $K69 * Data!$B$6)),  (Q$12*1000*1000/(((O$242+P$242+O$243+P$243)/Denscalc($K69))*1000*  $K69 * Data!$B$6)) ), 0    )","v":0},50,null,null,{"$f":"IF(AND($A69<>\"\",(S69+T69)>0),    IF(T$13=\"Nm3\",(U$12*1000*1000/((S$242+T$242+S$243+T$243)*1000*  $K69 * Data!$B$6)),  (U$12*1000*1000/(((S$242+T$242+S$243+T$243)/Denscalc($K69))*1000*  $K69 * Data!$B$6)) ), 0     )","v":0},50,null,null,{"$f":"IF(AND($A69<>\"\",(W69+X69)>0),     IF(X$13=\"Nm3\",(Y$12*1000*1000/((W$242+X$242+W$243+X$243)*1000*  $K69 * Data!$B$6)),  (Y$12*1000*1000/(((W$242+X$242+W$243+X$243)/Denscalc($K69))*1000*  $K69 * Data!$B$6)) ), 0   )","v":0},50,null,null,{"$f":"IF(AND($A69<>\"\",(AA69+AB69)>0),     IF(AB$13=\"Nm3\",(AC$12*1000*1000/((AA$242+AB$242+AA$243+AB$243)*1000*  $K69 * Data!$B$6)),  (AC$12*1000*1000/(((AA$242+AB$242+AA$243+AB$243)/Denscalc($K69))*1000*  $K69 * Data!$B$6)) ), 0     )","v":0},50,null,null,{"$f":"IF(AND($A69<>\"\",(AE69+AF69)>0),     IF(AF$13=\"Nm3\",(AG$12*1000*1000/((AE$242+AF$242+AE$243+AF$243)*1000*  $K69 * Data!$B$6)),  (AG$12*1000*1000/(((AE$242+AF$242+AE$243+AF$243)/Denscalc($K69))*1000*  $K69 * Data!$B$6)) ), 0    )","v":0},50,null,null,{"$f":"IF(AND($A69<>\"\",(AI69+AJ69)>0),    IF(AJ$13=\"Nm3\",(AK$12*1000*1000/((AI$242+AJ$242+AI$243+AJ$243)*1000*  $K69 * Data!$B$6)),  (AK$12*1000*1000/(((AI$242+AJ$242+AI$243+AJ$243)/Denscalc($K69))*1000*  $K69 * Data!$B$6)) ), 0    )","v":0},50,null,null,{"$f":"IF(AND($A69<>\"\",(AM69+AN69)>0),     IF(AN$13=\"Nm3\",(AO$12*1000*1000/((AM$242+AN$242+AM$243+AN$243)*1000*  $K69 * Data!$B$6)),  (AO$12*1000*1000/(((AM$242+AN$242+AM$243+AN$243)/Denscalc($K69))*1000*  $K69 * Data!$B$6)) ), 0    )","v":0},50,null,null,{"$f":"IF(AND($A69<>\"\",(AQ69+AR69)>0),     IF(AR$13=\"Nm3\",(AS$12*1000*1000/((AQ$242+AR$242+AQ$243+AR$243)*1000*  $K69 * Data!$B$6)),  (AS$12*1000*1000/(((AQ$242+AR$242+AQ$243+AR$243)/Denscalc($K69))*1000*  $K69 * Data!$B$6)) ), 0     )","v":0},50,null,null,{"$f":"IF(AND($A69<>\"\",(AU69+AV69)>0),     IF(AV$13=\"Nm3\",(AW$12*1000*1000/((AU$242+AV$242+AU$243+AV$243)*1000*  $K69 * Data!$B$6)),  (AW$12*1000*1000/(((AU$242+AV$242+AU$243+AV$243)/Denscalc($K69))*1000*  $K69 * Data!$B$6)) ), 0   )","v":0},50,null,null,{"$f":"IF(AND(BA$11>0,$A69<>\"\",(AY69+AZ69)>0), BA$11, IF(AND($A69<>\"\",(AY69+AZ69)>0),\nIF(AZ$13=\"Nm3\",(BA$6*1000*1000/((AY$242+AZ$242+AY$243+AZ$243)*1000*$K69*Data!$B$6))+((BA$12-BA$6)*1000*1000/((AY$242+AZ$242+AY$243+AZ$243-AY$241-AZ$241)*1000*$K69*Data!$B$6)),\n(BA$6*1000*1000/(((AY$242+AZ$242+AY$243+AZ$243)/Denscalc($K69))*1000*$K69*Data!$B$6))+((BA$12-BA$6)*1000*1000/(((AY$242+AZ$242+AY$243+AZ$243-AY$241-AZ$241)/Denscalc($K69))*1000*$K69*Data!$B$6))),0))","v":0},50,null,null,{"$f":"IF(AND(BE$11>0,$A69<>\"\",(BC69+BD69)>0), BE$11, IF(AND($A69<>\"\",(BC69+BD69)>0),\n (BE$6*1000*1000/((BC$244+BD$244)*1000* Data!$B$7))+ ((BE$12-BE$6)*1000*1000/((BC$244+BD$244-BC$241-BD$241)*1000* Data!$B$7)),0))","v":0},50,{"$f":"IF(A69<>\"\", (Data!$B$127*1000*Data!$B$3)/Data!$B$7,  \"\")","v":""},"","",{"$f":"IF(A69<>\"\",  ROUND( (Data!$B$8-BI69)/Data!$B$8,3),   \"\")","v":""},"","","","",{"$f":"IF(A69<>\"\",  IF(TYPE(BN69)=1, ROUND( (Data!$B$8-BN69)/Data!$B$8,3),   \"\"),\"\")","v":""},"",50,"","","",null,""]
[{"$f":"IF(Uppgradering!A58<>\"\",Uppgradering!A58,\"\")","v":""},51,{"$f":"IF($A70<>\"\",Uppgradering!C58,\"\")","v":""},{"$f":"IF($A70<>\"\",Uppgradering!D58,\"\")","v":""},{"$f":"IF($A70<>\"\",Uppgradering!E58,\"\")","v":""},{"$f":"IF($A70<>\"\",Uppgradering!F58,\"\")","v":""},{"$f":"IF($A70<>\"\",Uppgradering!G58,\"\")","v":""},{"$f":"Uppgradering!AS58","v":""},{"$f":"Uppgradering!AP58","v":""},{"$f":"Uppgradering!AO58","v":""},{"$f":"Uppgradering!AT58","v":""},{"$f":"Uppgradering!AW58","v":""},"",null,null,null,{"$f":"IF(AND($A70<>\"\",(O70+P70)>0),    IF(P$13=\"Nm3\",(Q$12*1000*1000/((O$242+P$242+O$243+P$243)*1000*  $K70 * Data!$B$6)),  (Q$12*1000*1000/(((O$242+P$242+O$243+P$243)/Denscalc($K70))*1000*  $K70 * Data!$B$6)) ), 0    )","v":0},51,null,null,{"$f":"IF(AND($A70<>\"\",(S70+T70)>0),    IF(T$13=\"Nm3\",(U$12*1000*1000/((S$242+T$242+S$243+T$243)*1000*  $K70 * Data!$B$6)),  (U$12*1000*1000/(((S$242+T$242+S$243+T$243)/Denscalc($K70))*1000*  $K70 * Data!$B$6)) ), 0     )","v":0},51,null,null,{"$f":"IF(AND($A70<>\"\",(W70+X70)>0),     IF(X$13=\"Nm3\",(Y$12*1000*1000/((W$242+X$242+W$243+X$243)*1000*  $K70 * Data!$B$6)),  (Y$12*1000*1000/(((W$242+X$242+W$243+X$243)/Denscalc($K70))*1000*  $K70 * Data!$B$6)) ), 0   )","v":0},51,null,null,{"$f":"IF(AND($A70<>\"\",(AA70+AB70)>0),     IF(AB$13=\"Nm3\",(AC$12*1000*1000/((AA$242+AB$242+AA$243+AB$243)*1000*  $K70 * Data!$B$6)),  (AC$12*1000*1000/(((AA$242+AB$242+AA$243+AB$243)/Denscalc($K70))*1000*  $K70 * Data!$B$6)) ), 0     )","v":0},51,null,null,{"$f":"IF(AND($A70<>\"\",(AE70+AF70)>0),     IF(AF$13=\"Nm3\",(AG$12*1000*1000/((AE$242+AF$242+AE$243+AF$243)*1000*  $K70 * Data!$B$6)),  (AG$12*1000*1000/(((AE$242+AF$242+AE$243+AF$243)/Denscalc($K70))*1000*  $K70 * Data!$B$6)) ), 0    )","v":0},51,null,null,{"$f":"IF(AND($A70<>\"\",(AI70+AJ70)>0),    IF(AJ$13=\"Nm3\",(AK$12*1000*1000/((AI$242+AJ$242+AI$243+AJ$243)*1000*  $K70 * Data!$B$6)),  (AK$12*1000*1000/(((AI$242+AJ$242+AI$243+AJ$243)/Denscalc($K70))*1000*  $K70 * Data!$B$6)) ), 0    )","v":0},51,null,null,{"$f":"IF(AND($A70<>\"\",(AM70+AN70)>0),     IF(AN$13=\"Nm3\",(AO$12*1000*1000/((AM$242+AN$242+AM$243+AN$243)*1000*  $K70 * Data!$B$6)),  (AO$12*1000*1000/(((AM$242+AN$242+AM$243+AN$243)/Denscalc($K70))*1000*  $K70 * Data!$B$6)) ), 0    )","v":0},51,null,null,{"$f":"IF(AND($A70<>\"\",(AQ70+AR70)>0),     IF(AR$13=\"Nm3\",(AS$12*1000*1000/((AQ$242+AR$242+AQ$243+AR$243)*1000*  $K70 * Data!$B$6)),  (AS$12*1000*1000/(((AQ$242+AR$242+AQ$243+AR$243)/Denscalc($K70))*1000*  $K70 * Data!$B$6)) ), 0     )","v":0},51,null,null,{"$f":"IF(AND($A70<>\"\",(AU70+AV70)>0),     IF(AV$13=\"Nm3\",(AW$12*1000*1000/((AU$242+AV$242+AU$243+AV$243)*1000*  $K70 * Data!$B$6)),  (AW$12*1000*1000/(((AU$242+AV$242+AU$243+AV$243)/Denscalc($K70))*1000*  $K70 * Data!$B$6)) ), 0   )","v":0},51,null,null,{"$f":"IF(AND(BA$11>0,$A70<>\"\",(AY70+AZ70)>0), BA$11, IF(AND($A70<>\"\",(AY70+AZ70)>0),\nIF(AZ$13=\"Nm3\",(BA$6*1000*1000/((AY$242+AZ$242+AY$243+AZ$243)*1000*$K70*Data!$B$6))+((BA$12-BA$6)*1000*1000/((AY$242+AZ$242+AY$243+AZ$243-AY$241-AZ$241)*1000*$K70*Data!$B$6)),\n(BA$6*1000*1000/(((AY$242+AZ$242+AY$243+AZ$243)/Denscalc($K70))*1000*$K70*Data!$B$6))+((BA$12-BA$6)*1000*1000/(((AY$242+AZ$242+AY$243+AZ$243-AY$241-AZ$241)/Denscalc($K70))*1000*$K70*Data!$B$6))),0))","v":0},51,null,null,{"$f":"IF(AND(BE$11>0,$A70<>\"\",(BC70+BD70)>0), BE$11, IF(AND($A70<>\"\",(BC70+BD70)>0),\n (BE$6*1000*1000/((BC$244+BD$244)*1000* Data!$B$7))+ ((BE$12-BE$6)*1000*1000/((BC$244+BD$244-BC$241-BD$241)*1000* Data!$B$7)),0))","v":0},51,{"$f":"IF(A70<>\"\", (Data!$B$127*1000*Data!$B$3)/Data!$B$7,  \"\")","v":""},"","",{"$f":"IF(A70<>\"\",  ROUND( (Data!$B$8-BI70)/Data!$B$8,3),   \"\")","v":""},"","","","",{"$f":"IF(A70<>\"\",  IF(TYPE(BN70)=1, ROUND( (Data!$B$8-BN70)/Data!$B$8,3),   \"\"),\"\")","v":""},"",51,"","","",null,""]
[{"$f":"IF(Uppgradering!A59<>\"\",Uppgradering!A59,\"\")","v":""},52,{"$f":"IF($A71<>\"\",Uppgradering!C59,\"\")","v":""},{"$f":"IF($A71<>\"\",Uppgradering!D59,\"\")","v":""},{"$f":"IF($A71<>\"\",Uppgradering!E59,\"\")","v":""},{"$f":"IF($A71<>\"\",Uppgradering!F59,\"\")","v":""},{"$f":"IF($A71<>\"\",Uppgradering!G59,\"\")","v":""},{"$f":"Uppgradering!AS59","v":""},{"$f":"Uppgradering!AP59","v":""},{"$f":"Uppgradering!AO59","v":""},{"$f":"Uppgradering!AT59","v":""},{"$f":"Uppgradering!AW59","v":""},"",null,null,null,{"$f":"IF(AND($A71<>\"\",(O71+P71)>0),    IF(P$13=\"Nm3\",(Q$12*1000*1000/((O$242+P$242+O$243+P$243)*1000*  $K71 * Data!$B$6)),  (Q$12*1000*1000/(((O$242+P$242+O$243+P$243)/Denscalc($K71))*1000*  $K71 * Data!$B$6)) ), 0    )","v":0},52,null,null,{"$f":"IF(AND($A71<>\"\",(S71+T71)>0),    IF(T$13=\"Nm3\",(U$12*1000*1000/((S$242+T$242+S$243+T$243)*1000*  $K71 * Data!$B$6)),  (U$12*1000*1000/(((S$242+T$242+S$243+T$243)/Denscalc($K71))*1000*  $K71 * Data!$B$6)) ), 0     )","v":0},52,null,null,{"$f":"IF(AND($A71<>\"\",(W71+X71)>0),     IF(X$13=\"Nm3\",(Y$12*1000*1000/((W$242+X$242+W$243+X$243)*1000*  $K71 * Data!$B$6)),  (Y$12*1000*1000/(((W$242+X$242+W$243+X$243)/Denscalc($K71))*1000*  $K71 * Data!$B$6)) ), 0   )","v":0},52,null,null,{"$f":"IF(AND($A71<>\"\",(AA71+AB71)>0),     IF(AB$13=\"Nm3\",(AC$12*1000*1000/((AA$242+AB$242+AA$243+AB$243)*1000*  $K71 * Data!$B$6)),  (AC$12*1000*1000/(((AA$242+AB$242+AA$243+AB$243)/Denscalc($K71))*1000*  $K71 * Data!$B$6)) ), 0     )","v":0},52,null,null,{"$f":"IF(AND($A71<>\"\",(AE71+AF71)>0),     IF(AF$13=\"Nm3\",(AG$12*1000*1000/((AE$242+AF$242+AE$243+AF$243)*1000*  $K71 * Data!$B$6)),  (AG$12*1000*1000/(((AE$242+AF$242+AE$243+AF$243)/Denscalc($K71))*1000*  $K71 * Data!$B$6)) ), 0    )","v":0},52,null,null,{"$f":"IF(AND($A71<>\"\",(AI71+AJ71)>0),    IF(AJ$13=\"Nm3\",(AK$12*1000*1000/((AI$242+AJ$242+AI$243+AJ$243)*1000*  $K71 * Data!$B$6)),  (AK$12*1000*1000/(((AI$242+AJ$242+AI$243+AJ$243)/Denscalc($K71))*1000*  $K71 * Data!$B$6)) ), 0    )","v":0},52,null,null,{"$f":"IF(AND($A71<>\"\",(AM71+AN71)>0),     IF(AN$13=\"Nm3\",(AO$12*1000*1000/((AM$242+AN$242+AM$243+AN$243)*1000*  $K71 * Data!$B$6)),  (AO$12*1000*1000/(((AM$242+AN$242+AM$243+AN$243)/Denscalc($K71))*1000*  $K71 * Data!$B$6)) ), 0    )","v":0},52,null,null,{"$f":"IF(AND($A71<>\"\",(AQ71+AR71)>0),     IF(AR$13=\"Nm3\",(AS$12*1000*1000/((AQ$242+AR$242+AQ$243+AR$243)*1000*  $K71 * Data!$B$6)),  (AS$12*1000*1000/(((AQ$242+AR$242+AQ$243+AR$243)/Denscalc($K71))*1000*  $K71 * Data!$B$6)) ), 0     )","v":0},52,null,null,{"$f":"IF(AND($A71<>\"\",(AU71+AV71)>0),     IF(AV$13=\"Nm3\",(AW$12*1000*1000/((AU$242+AV$242+AU$243+AV$243)*1000*  $K71 * Data!$B$6)),  (AW$12*1000*1000/(((AU$242+AV$242+AU$243+AV$243)/Denscalc($K71))*1000*  $K71 * Data!$B$6)) ), 0   )","v":0},52,null,null,{"$f":"IF(AND(BA$11>0,$A71<>\"\",(AY71+AZ71)>0), BA$11, IF(AND($A71<>\"\",(AY71+AZ71)>0),\nIF(AZ$13=\"Nm3\",(BA$6*1000*1000/((AY$242+AZ$242+AY$243+AZ$243)*1000*$K71*Data!$B$6))+((BA$12-BA$6)*1000*1000/((AY$242+AZ$242+AY$243+AZ$243-AY$241-AZ$241)*1000*$K71*Data!$B$6)),\n(BA$6*1000*1000/(((AY$242+AZ$242+AY$243+AZ$243)/Denscalc($K71))*1000*$K71*Data!$B$6))+((BA$12-BA$6)*1000*1000/(((AY$242+AZ$242+AY$243+AZ$243-AY$241-AZ$241)/Denscalc($K71))*1000*$K71*Data!$B$6))),0))","v":0},52,null,null,{"$f":"IF(AND(BE$11>0,$A71<>\"\",(BC71+BD71)>0), BE$11, IF(AND($A71<>\"\",(BC71+BD71)>0),\n (BE$6*1000*1000/((BC$244+BD$244)*1000* Data!$B$7))+ ((BE$12-BE$6)*1000*1000/((BC$244+BD$244-BC$241-BD$241)*1000* Data!$B$7)),0))","v":0},52,{"$f":"IF(A71<>\"\", (Data!$B$127*1000*Data!$B$3)/Data!$B$7,  \"\")","v":""},"","",{"$f":"IF(A71<>\"\",  ROUND( (Data!$B$8-BI71)/Data!$B$8,3),   \"\")","v":""},"","","","",{"$f":"IF(A71<>\"\",  IF(TYPE(BN71)=1, ROUND( (Data!$B$8-BN71)/Data!$B$8,3),   \"\"),\"\")","v":""},"",52,"","","",null,""]
[{"$f":"IF(Uppgradering!A60<>\"\",Uppgradering!A60,\"\")","v":""},53,{"$f":"IF($A72<>\"\",Uppgradering!C60,\"\")","v":""},{"$f":"IF($A72<>\"\",Uppgradering!D60,\"\")","v":""},{"$f":"IF($A72<>\"\",Uppgradering!E60,\"\")","v":""},{"$f":"IF($A72<>\"\",Uppgradering!F60,\"\")","v":""},{"$f":"IF($A72<>\"\",Uppgradering!G60,\"\")","v":""},{"$f":"Uppgradering!AS60","v":""},{"$f":"Uppgradering!AP60","v":""},{"$f":"Uppgradering!AO60","v":""},{"$f":"Uppgradering!AT60","v":""},{"$f":"Uppgradering!AW60","v":""},"",null,null,null,{"$f":"IF(AND($A72<>\"\",(O72+P72)>0),    IF(P$13=\"Nm3\",(Q$12*1000*1000/((O$242+P$242+O$243+P$243)*1000*  $K72 * Data!$B$6)),  (Q$12*1000*1000/(((O$242+P$242+O$243+P$243)/Denscalc($K72))*1000*  $K72 * Data!$B$6)) ), 0    )","v":0},53,null,null,{"$f":"IF(AND($A72<>\"\",(S72+T72)>0),    IF(T$13=\"Nm3\",(U$12*1000*1000/((S$242+T$242+S$243+T$243)*1000*  $K72 * Data!$B$6)),  (U$12*1000*1000/(((S$242+T$242+S$243+T$243)/Denscalc($K72))*1000*  $K72 * Data!$B$6)) ), 0     )","v":0},53,null,null,{"$f":"IF(AND($A72<>\"\",(W72+X72)>0),     IF(X$13=\"Nm3\",(Y$12*1000*1000/((W$242+X$242+W$243+X$243)*1000*  $K72 * Data!$B$6)),  (Y$12*1000*1000/(((W$242+X$242+W$243+X$243)/Denscalc($K72))*1000*  $K72 * Data!$B$6)) ), 0   )","v":0},53,null,null,{"$f":"IF(AND($A72<>\"\",(AA72+AB72)>0),     IF(AB$13=\"Nm3\",(AC$12*1000*1000/((AA$242+AB$242+AA$243+AB$243)*1000*  $K72 * Data!$B$6)),  (AC$12*1000*1000/(((AA$242+AB$242+AA$243+AB$243)/Denscalc($K72))*1000*  $K72 * Data!$B$6)) ), 0     )","v":0},53,null,null,{"$f":"IF(AND($A72<>\"\",(AE72+AF72)>0),     IF(AF$13=\"Nm3\",(AG$12*1000*1000/((AE$242+AF$242+AE$243+AF$243)*1000*  $K72 * Data!$B$6)),  (AG$12*1000*1000/(((AE$242+AF$242+AE$243+AF$243)/Denscalc($K72))*1000*  $K72 * Data!$B$6)) ), 0    )","v":0},53,null,null,{"$f":"IF(AND($A72<>\"\",(AI72+AJ72)>0),    IF(AJ$13=\"Nm3\",(AK$12*1000*1000/((AI$242+AJ$242+AI$243+AJ$243)*1000*  $K72 * Data!$B$6)),  (AK$12*1000*1000/(((AI$242+AJ$242+AI$243+AJ$243)/Denscalc($K72))*1000*  $K72 * Data!$B$6)) ), 0    )","v":0},53,null,null,{"$f":"IF(AND($A72<>\"\",(AM72+AN72)>0),     IF(AN$13=\"Nm3\",(AO$12*1000*1000/((AM$242+AN$242+AM$243+AN$243)*1000*  $K72 * Data!$B$6)),  (AO$12*1000*1000/(((AM$242+AN$242+AM$243+AN$243)/Denscalc($K72))*1000*  $K72 * Data!$B$6)) ), 0    )","v":0},53,null,null,{"$f":"IF(AND($A72<>\"\",(AQ72+AR72)>0),     IF(AR$13=\"Nm3\",(AS$12*1000*1000/((AQ$242+AR$242+AQ$243+AR$243)*1000*  $K72 * Data!$B$6)),  (AS$12*1000*1000/(((AQ$242+AR$242+AQ$243+AR$243)/Denscalc($K72))*1000*  $K72 * Data!$B$6)) ), 0     )","v":0},53,null,null,{"$f":"IF(AND($A72<>\"\",(AU72+AV72)>0),     IF(AV$13=\"Nm3\",(AW$12*1000*1000/((AU$242+AV$242+AU$243+AV$243)*1000*  $K72 * Data!$B$6)),  (AW$12*1000*1000/(((AU$242+AV$242+AU$243+AV$243)/Denscalc($K72))*1000*  $K72 * Data!$B$6)) ), 0   )","v":0},53,null,null,{"$f":"IF(AND(BA$11>0,$A72<>\"\",(AY72+AZ72)>0), BA$11, IF(AND($A72<>\"\",(AY72+AZ72)>0),\nIF(AZ$13=\"Nm3\",(BA$6*1000*1000/((AY$242+AZ$242+AY$243+AZ$243)*1000*$K72*Data!$B$6))+((BA$12-BA$6)*1000*1000/((AY$242+AZ$242+AY$243+AZ$243-AY$241-AZ$241)*1000*$K72*Data!$B$6)),\n(BA$6*1000*1000/(((AY$242+AZ$242+AY$243+AZ$243)/Denscalc($K72))*1000*$K72*Data!$B$6))+((BA$12-BA$6)*1000*1000/(((AY$242+AZ$242+AY$243+AZ$243-AY$241-AZ$241)/Denscalc($K72))*1000*$K72*Data!$B$6))),0))","v":0},53,null,null,{"$f":"IF(AND(BE$11>0,$A72<>\"\",(BC72+BD72)>0), BE$11, IF(AND($A72<>\"\",(BC72+BD72)>0),\n (BE$6*1000*1000/((BC$244+BD$244)*1000* Data!$B$7))+ ((BE$12-BE$6)*1000*1000/((BC$244+BD$244-BC$241-BD$241)*1000* Data!$B$7)),0))","v":0},53,{"$f":"IF(A72<>\"\", (Data!$B$127*1000*Data!$B$3)/Data!$B$7,  \"\")","v":""},"","",{"$f":"IF(A72<>\"\",  ROUND( (Data!$B$8-BI72)/Data!$B$8,3),   \"\")","v":""},"","","","",{"$f":"IF(A72<>\"\",  IF(TYPE(BN72)=1, ROUND( (Data!$B$8-BN72)/Data!$B$8,3),   \"\"),\"\")","v":""},"",53,"","","",null,""]
[{"$f":"IF(Uppgradering!A61<>\"\",Uppgradering!A61,\"\")","v":""},54,{"$f":"IF($A73<>\"\",Uppgradering!C61,\"\")","v":""},{"$f":"IF($A73<>\"\",Uppgradering!D61,\"\")","v":""},{"$f":"IF($A73<>\"\",Uppgradering!E61,\"\")","v":""},{"$f":"IF($A73<>\"\",Uppgradering!F61,\"\")","v":""},{"$f":"IF($A73<>\"\",Uppgradering!G61,\"\")","v":""},{"$f":"Uppgradering!AS61","v":""},{"$f":"Uppgradering!AP61","v":""},{"$f":"Uppgradering!AO61","v":""},{"$f":"Uppgradering!AT61","v":""},{"$f":"Uppgradering!AW61","v":""},"",null,null,null,{"$f":"IF(AND($A73<>\"\",(O73+P73)>0),    IF(P$13=\"Nm3\",(Q$12*1000*1000/((O$242+P$242+O$243+P$243)*1000*  $K73 * Data!$B$6)),  (Q$12*1000*1000/(((O$242+P$242+O$243+P$243)/Denscalc($K73))*1000*  $K73 * Data!$B$6)) ), 0    )","v":0},54,null,null,{"$f":"IF(AND($A73<>\"\",(S73+T73)>0),    IF(T$13=\"Nm3\",(U$12*1000*1000/((S$242+T$242+S$243+T$243)*1000*  $K73 * Data!$B$6)),  (U$12*1000*1000/(((S$242+T$242+S$243+T$243)/Denscalc($K73))*1000*  $K73 * Data!$B$6)) ), 0     )","v":0},54,null,null,{"$f":"IF(AND($A73<>\"\",(W73+X73)>0),     IF(X$13=\"Nm3\",(Y$12*1000*1000/((W$242+X$242+W$243+X$243)*1000*  $K73 * Data!$B$6)),  (Y$12*1000*1000/(((W$242+X$242+W$243+X$243)/Denscalc($K73))*1000*  $K73 * Data!$B$6)) ), 0   )","v":0},54,null,null,{"$f":"IF(AND($A73<>\"\",(AA73+AB73)>0),     IF(AB$13=\"Nm3\",(AC$12*1000*1000/((AA$242+AB$242+AA$243+AB$243)*1000*  $K73 * Data!$B$6)),  (AC$12*1000*1000/(((AA$242+AB$242+AA$243+AB$243)/Denscalc($K73))*1000*  $K73 * Data!$B$6)) ), 0     )","v":0},54,null,null,{"$f":"IF(AND($A73<>\"\",(AE73+AF73)>0),     IF(AF$13=\"Nm3\",(AG$12*1000*1000/((AE$242+AF$242+AE$243+AF$243)*1000*  $K73 * Data!$B$6)),  (AG$12*1000*1000/(((AE$242+AF$242+AE$243+AF$243)/Denscalc($K73))*1000*  $K73 * Data!$B$6)) ), 0    )","v":0},54,null,null,{"$f":"IF(AND($A73<>\"\",(AI73+AJ73)>0),    IF(AJ$13=\"Nm3\",(AK$12*1000*1000/((AI$242+AJ$242+AI$243+AJ$243)*1000*  $K73 * Data!$B$6)),  (AK$12*1000*1000/(((AI$242+AJ$242+AI$243+AJ$243)/Denscalc($K73))*1000*  $K73 * Data!$B$6)) ), 0    )","v":0},54,null,null,{"$f":"IF(AND($A73<>\"\",(AM73+AN73)>0),     IF(AN$13=\"Nm3\",(AO$12*1000*1000/((AM$242+AN$242+AM$243+AN$243)*1000*  $K73 * Data!$B$6)),  (AO$12*1000*1000/(((AM$242+AN$242+AM$243+AN$243)/Denscalc($K73))*1000*  $K73 * Data!$B$6)) ), 0    )","v":0},54,null,null,{"$f":"IF(AND($A73<>\"\",(AQ73+AR73)>0),     IF(AR$13=\"Nm3\",(AS$12*1000*1000/((AQ$242+AR$242+AQ$243+AR$243)*1000*  $K73 * Data!$B$6)),  (AS$12*1000*1000/(((AQ$242+AR$242+AQ$243+AR$243)/Denscalc($K73))*1000*  $K73 * Data!$B$6)) ), 0     )","v":0},54,null,null,{"$f":"IF(AND($A73<>\"\",(AU73+AV73)>0),     IF(AV$13=\"Nm3\",(AW$12*1000*1000/((AU$242+AV$242+AU$243+AV$243)*1000*  $K73 * Data!$B$6)),  (AW$12*1000*1000/(((AU$242+AV$242+AU$243+AV$243)/Denscalc($K73))*1000*  $K73 * Data!$B$6)) ), 0   )","v":0},54,null,null,{"$f":"IF(AND(BA$11>0,$A73<>\"\",(AY73+AZ73)>0), BA$11, IF(AND($A73<>\"\",(AY73+AZ73)>0),\nIF(AZ$13=\"Nm3\",(BA$6*1000*1000/((AY$242+AZ$242+AY$243+AZ$243)*1000*$K73*Data!$B$6))+((BA$12-BA$6)*1000*1000/((AY$242+AZ$242+AY$243+AZ$243-AY$241-AZ$241)*1000*$K73*Data!$B$6)),\n(BA$6*1000*1000/(((AY$242+AZ$242+AY$243+AZ$243)/Denscalc($K73))*1000*$K73*Data!$B$6))+((BA$12-BA$6)*1000*1000/(((AY$242+AZ$242+AY$243+AZ$243-AY$241-AZ$241)/Denscalc($K73))*1000*$K73*Data!$B$6))),0))","v":0},54,null,null,{"$f":"IF(AND(BE$11>0,$A73<>\"\",(BC73+BD73)>0), BE$11, IF(AND($A73<>\"\",(BC73+BD73)>0),\n (BE$6*1000*1000/((BC$244+BD$244)*1000* Data!$B$7))+ ((BE$12-BE$6)*1000*1000/((BC$244+BD$244-BC$241-BD$241)*1000* Data!$B$7)),0))","v":0},54,{"$f":"IF(A73<>\"\", (Data!$B$127*1000*Data!$B$3)/Data!$B$7,  \"\")","v":""},"","",{"$f":"IF(A73<>\"\",  ROUND( (Data!$B$8-BI73)/Data!$B$8,3),   \"\")","v":""},"","","","",{"$f":"IF(A73<>\"\",  IF(TYPE(BN73)=1, ROUND( (Data!$B$8-BN73)/Data!$B$8,3),   \"\"),\"\")","v":""},"",54,"","","",null,""]
[{"$f":"IF(Uppgradering!A62<>\"\",Uppgradering!A62,\"\")","v":""},55,{"$f":"IF($A74<>\"\",Uppgradering!C62,\"\")","v":""},{"$f":"IF($A74<>\"\",Uppgradering!D62,\"\")","v":""},{"$f":"IF($A74<>\"\",Uppgradering!E62,\"\")","v":""},{"$f":"IF($A74<>\"\",Uppgradering!F62,\"\")","v":""},{"$f":"IF($A74<>\"\",Uppgradering!G62,\"\")","v":""},{"$f":"Uppgradering!AS62","v":""},{"$f":"Uppgradering!AP62","v":""},{"$f":"Uppgradering!AO62","v":""},{"$f":"Uppgradering!AT62","v":""},{"$f":"Uppgradering!AW62","v":""},"",null,null,null,{"$f":"IF(AND($A74<>\"\",(O74+P74)>0),    IF(P$13=\"Nm3\",(Q$12*1000*1000/((O$242+P$242+O$243+P$243)*1000*  $K74 * Data!$B$6)),  (Q$12*1000*1000/(((O$242+P$242+O$243+P$243)/Denscalc($K74))*1000*  $K74 * Data!$B$6)) ), 0    )","v":0},55,null,null,{"$f":"IF(AND($A74<>\"\",(S74+T74)>0),    IF(T$13=\"Nm3\",(U$12*1000*1000/((S$242+T$242+S$243+T$243)*1000*  $K74 * Data!$B$6)),  (U$12*1000*1000/(((S$242+T$242+S$243+T$243)/Denscalc($K74))*1000*  $K74 * Data!$B$6)) ), 0     )","v":0},55,null,null,{"$f":"IF(AND($A74<>\"\",(W74+X74)>0),     IF(X$13=\"Nm3\",(Y$12*1000*1000/((W$242+X$242+W$243+X$243)*1000*  $K74 * Data!$B$6)),  (Y$12*1000*1000/(((W$242+X$242+W$243+X$243)/Denscalc($K74))*1000*  $K74 * Data!$B$6)) ), 0   )","v":0},55,null,null,{"$f":"IF(AND($A74<>\"\",(AA74+AB74)>0),     IF(AB$13=\"Nm3\",(AC$12*1000*1000/((AA$242+AB$242+AA$243+AB$243)*1000*  $K74 * Data!$B$6)),  (AC$12*1000*1000/(((AA$242+AB$242+AA$243+AB$243)/Denscalc($K74))*1000*  $K74 * Data!$B$6)) ), 0     )","v":0},55,null,null,{"$f":"IF(AND($A74<>\"\",(AE74+AF74)>0),     IF(AF$13=\"Nm3\",(AG$12*1000*1000/((AE$242+AF$242+AE$243+AF$243)*1000*  $K74 * Data!$B$6)),  (AG$12*1000*1000/(((AE$242+AF$242+AE$243+AF$243)/Denscalc($K74))*1000*  $K74 * Data!$B$6)) ), 0    )","v":0},55,null,null,{"$f":"IF(AND($A74<>\"\",(AI74+AJ74)>0),    IF(AJ$13=\"Nm3\",(AK$12*1000*1000/((AI$242+AJ$242+AI$243+AJ$243)*1000*  $K74 * Data!$B$6)),  (AK$12*1000*1000/(((AI$242+AJ$242+AI$243+AJ$243)/Denscalc($K74))*1000*  $K74 * Data!$B$6)) ), 0    )","v":0},55,null,null,{"$f":"IF(AND($A74<>\"\",(AM74+AN74)>0),     IF(AN$13=\"Nm3\",(AO$12*1000*1000/((AM$242+AN$242+AM$243+AN$243)*1000*  $K74 * Data!$B$6)),  (AO$12*1000*1000/(((AM$242+AN$242+AM$243+AN$243)/Denscalc($K74))*1000*  $K74 * Data!$B$6)) ), 0    )","v":0},55,null,null,{"$f":"IF(AND($A74<>\"\",(AQ74+AR74)>0),     IF(AR$13=\"Nm3\",(AS$12*1000*1000/((AQ$242+AR$242+AQ$243+AR$243)*1000*  $K74 * Data!$B$6)),  (AS$12*1000*1000/(((AQ$242+AR$242+AQ$243+AR$243)/Denscalc($K74))*1000*  $K74 * Data!$B$6)) ), 0     )","v":0},55,null,null,{"$f":"IF(AND($A74<>\"\",(AU74+AV74)>0),     IF(AV$13=\"Nm3\",(AW$12*1000*1000/((AU$242+AV$242+AU$243+AV$243)*1000*  $K74 * Data!$B$6)),  (AW$12*1000*1000/(((AU$242+AV$242+AU$243+AV$243)/Denscalc($K74))*1000*  $K74 * Data!$B$6)) ), 0   )","v":0},55,null,null,{"$f":"IF(AND(BA$11>0,$A74<>\"\",(AY74+AZ74)>0), BA$11, IF(AND($A74<>\"\",(AY74+AZ74)>0),\nIF(AZ$13=\"Nm3\",(BA$6*1000*1000/((AY$242+AZ$242+AY$243+AZ$243)*1000*$K74*Data!$B$6))+((BA$12-BA$6)*1000*1000/((AY$242+AZ$242+AY$243+AZ$243-AY$241-AZ$241)*1000*$K74*Data!$B$6)),\n(BA$6*1000*1000/(((AY$242+AZ$242+AY$243+AZ$243)/Denscalc($K74))*1000*$K74*Data!$B$6))+((BA$12-BA$6)*1000*1000/(((AY$242+AZ$242+AY$243+AZ$243-AY$241-AZ$241)/Denscalc($K74))*1000*$K74*Data!$B$6))),0))","v":0},55,null,null,{"$f":"IF(AND(BE$11>0,$A74<>\"\",(BC74+BD74)>0), BE$11, IF(AND($A74<>\"\",(BC74+BD74)>0),\n (BE$6*1000*1000/((BC$244+BD$244)*1000* Data!$B$7))+ ((BE$12-BE$6)*1000*1000/((BC$244+BD$244-BC$241-BD$241)*1000* Data!$B$7)),0))","v":0},55,{"$f":"IF(A74<>\"\", (Data!$B$127*1000*Data!$B$3)/Data!$B$7,  \"\")","v":""},"","",{"$f":"IF(A74<>\"\",  ROUND( (Data!$B$8-BI74)/Data!$B$8,3),   \"\")","v":""},"","","","",{"$f":"IF(A74<>\"\",  IF(TYPE(BN74)=1, ROUND( (Data!$B$8-BN74)/Data!$B$8,3),   \"\"),\"\")","v":""},"",55,"","","",null,""]
[{"$f":"IF(Uppgradering!A63<>\"\",Uppgradering!A63,\"\")","v":""},56,{"$f":"IF($A75<>\"\",Uppgradering!C63,\"\")","v":""},{"$f":"IF($A75<>\"\",Uppgradering!D63,\"\")","v":""},{"$f":"IF($A75<>\"\",Uppgradering!E63,\"\")","v":""},{"$f":"IF($A75<>\"\",Uppgradering!F63,\"\")","v":""},{"$f":"IF($A75<>\"\",Uppgradering!G63,\"\")","v":""},{"$f":"Uppgradering!AS63","v":""},{"$f":"Uppgradering!AP63","v":""},{"$f":"Uppgradering!AO63","v":""},{"$f":"Uppgradering!AT63","v":""},{"$f":"Uppgradering!AW63","v":""},"",null,null,null,{"$f":"IF(AND($A75<>\"\",(O75+P75)>0),    IF(P$13=\"Nm3\",(Q$12*1000*1000/((O$242+P$242+O$243+P$243)*1000*  $K75 * Data!$B$6)),  (Q$12*1000*1000/(((O$242+P$242+O$243+P$243)/Denscalc($K75))*1000*  $K75 * Data!$B$6)) ), 0    )","v":0},56,null,null,{"$f":"IF(AND($A75<>\"\",(S75+T75)>0),    IF(T$13=\"Nm3\",(U$12*1000*1000/((S$242+T$242+S$243+T$243)*1000*  $K75 * Data!$B$6)),  (U$12*1000*1000/(((S$242+T$242+S$243+T$243)/Denscalc($K75))*1000*  $K75 * Data!$B$6)) ), 0     )","v":0},56,null,null,{"$f":"IF(AND($A75<>\"\",(W75+X75)>0),     IF(X$13=\"Nm3\",(Y$12*1000*1000/((W$242+X$242+W$243+X$243)*1000*  $K75 * Data!$B$6)),  (Y$12*1000*1000/(((W$242+X$242+W$243+X$243)/Denscalc($K75))*1000*  $K75 * Data!$B$6)) ), 0   )","v":0},56,null,null,{"$f":"IF(AND($A75<>\"\",(AA75+AB75)>0),     IF(AB$13=\"Nm3\",(AC$12*1000*1000/((AA$242+AB$242+AA$243+AB$243)*1000*  $K75 * Data!$B$6)),  (AC$12*1000*1000/(((AA$242+AB$242+AA$243+AB$243)/Denscalc($K75))*1000*  $K75 * Data!$B$6)) ), 0     )","v":0},56,null,null,{"$f":"IF(AND($A75<>\"\",(AE75+AF75)>0),     IF(AF$13=\"Nm3\",(AG$12*1000*1000/((AE$242+AF$242+AE$243+AF$243)*1000*  $K75 * Data!$B$6)),  (AG$12*1000*1000/(((AE$242+AF$242+AE$243+AF$243)/Denscalc($K75))*1000*  $K75 * Data!$B$6)) ), 0    )","v":0},56,null,null,{"$f":"IF(AND($A75<>\"\",(AI75+AJ75)>0),    IF(AJ$13=\"Nm3\",(AK$12*1000*1000/((AI$242+AJ$242+AI$243+AJ$243)*1000*  $K75 * Data!$B$6)),  (AK$12*1000*1000/(((AI$242+AJ$242+AI$243+AJ$243)/Denscalc($K75))*1000*  $K75 * Data!$B$6)) ), 0    )","v":0},56,null,null,{"$f":"IF(AND($A75<>\"\",(AM75+AN75)>0),     IF(AN$13=\"Nm3\",(AO$12*1000*1000/((AM$242+AN$242+AM$243+AN$243)*1000*  $K75 * Data!$B$6)),  (AO$12*1000*1000/(((AM$242+AN$242+AM$243+AN$243)/Denscalc($K75))*1000*  $K75 * Data!$B$6)) ), 0    )","v":0},56,null,null,{"$f":"IF(AND($A75<>\"\",(AQ75+AR75)>0),     IF(AR$13=\"Nm3\",(AS$12*1000*1000/((AQ$242+AR$242+AQ$243+AR$243)*1000*  $K75 * Data!$B$6)),  (AS$12*1000*1000/(((AQ$242+AR$242+AQ$243+AR$243)/Denscalc($K75))*1000*  $K75 * Data!$B$6)) ), 0     )","v":0},56,null,null,{"$f":"IF(AND($A75<>\"\",(AU75+AV75)>0),     IF(AV$13=\"Nm3\",(AW$12*1000*1000/((AU$242+AV$242+AU$243+AV$243)*1000*  $K75 * Data!$B$6)),  (AW$12*1000*1000/(((AU$242+AV$242+AU$243+AV$243)/Denscalc($K75))*1000*  $K75 * Data!$B$6)) ), 0   )","v":0},56,null,null,{"$f":"IF(AND(BA$11>0,$A75<>\"\",(AY75+AZ75)>0), BA$11, IF(AND($A75<>\"\",(AY75+AZ75)>0),\nIF(AZ$13=\"Nm3\",(BA$6*1000*1000/((AY$242+AZ$242+AY$243+AZ$243)*1000*$K75*Data!$B$6))+((BA$12-BA$6)*1000*1000/((AY$242+AZ$242+AY$243+AZ$243-AY$241-AZ$241)*1000*$K75*Data!$B$6)),\n(BA$6*1000*1000/(((AY$242+AZ$242+AY$243+AZ$243)/Denscalc($K75))*1000*$K75*Data!$B$6))+((BA$12-BA$6)*1000*1000/(((AY$242+AZ$242+AY$243+AZ$243-AY$241-AZ$241)/Denscalc($K75))*1000*$K75*Data!$B$6))),0))","v":0},56,null,null,{"$f":"IF(AND(BE$11>0,$A75<>\"\",(BC75+BD75)>0), BE$11, IF(AND($A75<>\"\",(BC75+BD75)>0),\n (BE$6*1000*1000/((BC$244+BD$244)*1000* Data!$B$7))+ ((BE$12-BE$6)*1000*1000/((BC$244+BD$244-BC$241-BD$241)*1000* Data!$B$7)),0))","v":0},56,{"$f":"IF(A75<>\"\", (Data!$B$127*1000*Data!$B$3)/Data!$B$7,  \"\")","v":""},"","",{"$f":"IF(A75<>\"\",  ROUND( (Data!$B$8-BI75)/Data!$B$8,3),   \"\")","v":""},"","","","",{"$f":"IF(A75<>\"\",  IF(TYPE(BN75)=1, ROUND( (Data!$B$8-BN75)/Data!$B$8,3),   \"\"),\"\")","v":""},"",56,"","","",null,""]
[{"$f":"IF(Uppgradering!A64<>\"\",Uppgradering!A64,\"\")","v":""},57,{"$f":"IF($A76<>\"\",Uppgradering!C64,\"\")","v":""},{"$f":"IF($A76<>\"\",Uppgradering!D64,\"\")","v":""},{"$f":"IF($A76<>\"\",Uppgradering!E64,\"\")","v":""},{"$f":"IF($A76<>\"\",Uppgradering!F64,\"\")","v":""},{"$f":"IF($A76<>\"\",Uppgradering!G64,\"\")","v":""},{"$f":"Uppgradering!AS64","v":""},{"$f":"Uppgradering!AP64","v":""},{"$f":"Uppgradering!AO64","v":""},{"$f":"Uppgradering!AT64","v":""},{"$f":"Uppgradering!AW64","v":""},"",null,null,null,{"$f":"IF(AND($A76<>\"\",(O76+P76)>0),    IF(P$13=\"Nm3\",(Q$12*1000*1000/((O$242+P$242+O$243+P$243)*1000*  $K76 * Data!$B$6)),  (Q$12*1000*1000/(((O$242+P$242+O$243+P$243)/Denscalc($K76))*1000*  $K76 * Data!$B$6)) ), 0    )","v":0},57,null,null,{"$f":"IF(AND($A76<>\"\",(S76+T76)>0),    IF(T$13=\"Nm3\",(U$12*1000*1000/((S$242+T$242+S$243+T$243)*1000*  $K76 * Data!$B$6)),  (U$12*1000*1000/(((S$242+T$242+S$243+T$243)/Denscalc($K76))*1000*  $K76 * Data!$B$6)) ), 0     )","v":0},57,null,null,{"$f":"IF(AND($A76<>\"\",(W76+X76)>0),     IF(X$13=\"Nm3\",(Y$12*1000*1000/((W$242+X$242+W$243+X$243)*1000*  $K76 * Data!$B$6)),  (Y$12*1000*1000/(((W$242+X$242+W$243+X$243)/Denscalc($K76))*1000*  $K76 * Data!$B$6)) ), 0   )","v":0},57,null,null,{"$f":"IF(AND($A76<>\"\",(AA76+AB76)>0),     IF(AB$13=\"Nm3\",(AC$12*1000*1000/((AA$242+AB$242+AA$243+AB$243)*1000*  $K76 * Data!$B$6)),  (AC$12*1000*1000/(((AA$242+AB$242+AA$243+AB$243)/Denscalc($K76))*1000*  $K76 * Data!$B$6)) ), 0     )","v":0},57,null,null,{"$f":"IF(AND($A76<>\"\",(AE76+AF76)>0),     IF(AF$13=\"Nm3\",(AG$12*1000*1000/((AE$242+AF$242+AE$243+AF$243)*1000*  $K76 * Data!$B$6)),  (AG$12*1000*1000/(((AE$242+AF$242+AE$243+AF$243)/Denscalc($K76))*1000*  $K76 * Data!$B$6)) ), 0    )","v":0},57,null,null,{"$f":"IF(AND($A76<>\"\",(AI76+AJ76)>0),    IF(AJ$13=\"Nm3\",(AK$12*1000*1000/((AI$242+AJ$242+AI$243+AJ$243)*1000*  $K76 * Data!$B$6)),  (AK$12*1000*1000/(((AI$242+AJ$242+AI$243+AJ$243)/Denscalc($K76))*1000*  $K76 * Data!$B$6)) ), 0    )","v":0},57,null,null,{"$f":"IF(AND($A76<>\"\",(AM76+AN76)>0),     IF(AN$13=\"Nm3\",(AO$12*1000*1000/((AM$242+AN$242+AM$243+AN$243)*1000*  $K76 * Data!$B$6)),  (AO$12*1000*1000/(((AM$242+AN$242+AM$243+AN$243)/Denscalc($K76))*1000*  $K76 * Data!$B$6)) ), 0    )","v":0},57,null,null,{"$f":"IF(AND($A76<>\"\",(AQ76+AR76)>0),     IF(AR$13=\"Nm3\",(AS$12*1000*1000/((AQ$242+AR$242+AQ$243+AR$243)*1000*  $K76 * Data!$B$6)),  (AS$12*1000*1000/(((AQ$242+AR$242+AQ$243+AR$243)/Denscalc($K76))*1000*  $K76 * Data!$B$6)) ), 0     )","v":0},57,null,null,{"$f":"IF(AND($A76<>\"\",(AU76+AV76)>0),     IF(AV$13=\"Nm3\",(AW$12*1000*1000/((AU$242+AV$242+AU$243+AV$243)*1000*  $K76 * Data!$B$6)),  (AW$12*1000*1000/(((AU$242+AV$242+AU$243+AV$243)/Denscalc($K76))*1000*  $K76 * Data!$B$6)) ), 0   )","v":0},57,null,null,{"$f":"IF(AND(BA$11>0,$A76<>\"\",(AY76+AZ76)>0), BA$11, IF(AND($A76<>\"\",(AY76+AZ76)>0),\nIF(AZ$13=\"Nm3\",(BA$6*1000*1000/((AY$242+AZ$242+AY$243+AZ$243)*1000*$K76*Data!$B$6))+((BA$12-BA$6)*1000*1000/((AY$242+AZ$242+AY$243+AZ$243-AY$241-AZ$241)*1000*$K76*Data!$B$6)),\n(BA$6*1000*1000/(((AY$242+AZ$242+AY$243+AZ$243)/Denscalc($K76))*1000*$K76*Data!$B$6))+((BA$12-BA$6)*1000*1000/(((AY$242+AZ$242+AY$243+AZ$243-AY$241-AZ$241)/Denscalc($K76))*1000*$K76*Data!$B$6))),0))","v":0},57,null,null,{"$f":"IF(AND(BE$11>0,$A76<>\"\",(BC76+BD76)>0), BE$11, IF(AND($A76<>\"\",(BC76+BD76)>0),\n (BE$6*1000*1000/((BC$244+BD$244)*1000* Data!$B$7))+ ((BE$12-BE$6)*1000*1000/((BC$244+BD$244-BC$241-BD$241)*1000* Data!$B$7)),0))","v":0},57,{"$f":"IF(A76<>\"\", (Data!$B$127*1000*Data!$B$3)/Data!$B$7,  \"\")","v":""},"","",{"$f":"IF(A76<>\"\",  ROUND( (Data!$B$8-BI76)/Data!$B$8,3),   \"\")","v":""},"","","","",{"$f":"IF(A76<>\"\",  IF(TYPE(BN76)=1, ROUND( (Data!$B$8-BN76)/Data!$B$8,3),   \"\"),\"\")","v":""},"",57,"","","",null,""]
[{"$f":"IF(Uppgradering!A65<>\"\",Uppgradering!A65,\"\")","v":""},58,{"$f":"IF($A77<>\"\",Uppgradering!C65,\"\")","v":""},{"$f":"IF($A77<>\"\",Uppgradering!D65,\"\")","v":""},{"$f":"IF($A77<>\"\",Uppgradering!E65,\"\")","v":""},{"$f":"IF($A77<>\"\",Uppgradering!F65,\"\")","v":""},{"$f":"IF($A77<>\"\",Uppgradering!G65,\"\")","v":""},{"$f":"Uppgradering!AS65","v":""},{"$f":"Uppgradering!AP65","v":""},{"$f":"Uppgradering!AO65","v":""},{"$f":"Uppgradering!AT65","v":""},{"$f":"Uppgradering!AW65","v":""},"",null,null,null,{"$f":"IF(AND($A77<>\"\",(O77+P77)>0),    IF(P$13=\"Nm3\",(Q$12*1000*1000/((O$242+P$242+O$243+P$243)*1000*  $K77 * Data!$B$6)),  (Q$12*1000*1000/(((O$242+P$242+O$243+P$243)/Denscalc($K77))*1000*  $K77 * Data!$B$6)) ), 0    )","v":0},58,null,null,{"$f":"IF(AND($A77<>\"\",(S77+T77)>0),    IF(T$13=\"Nm3\",(U$12*1000*1000/((S$242+T$242+S$243+T$243)*1000*  $K77 * Data!$B$6)),  (U$12*1000*1000/(((S$242+T$242+S$243+T$243)/Denscalc($K77))*1000*  $K77 * Data!$B$6)) ), 0     )","v":0},58,null,null,{"$f":"IF(AND($A77<>\"\",(W77+X77)>0),     IF(X$13=\"Nm3\",(Y$12*1000*1000/((W$242+X$242+W$243+X$243)*1000*  $K77 * Data!$B$6)),  (Y$12*1000*1000/(((W$242+X$242+W$243+X$243)/Denscalc($K77))*1000*  $K77 * Data!$B$6)) ), 0   )","v":0},58,null,null,{"$f":"IF(AND($A77<>\"\",(AA77+AB77)>0),     IF(AB$13=\"Nm3\",(AC$12*1000*1000/((AA$242+AB$242+AA$243+AB$243)*1000*  $K77 * Data!$B$6)),  (AC$12*1000*1000/(((AA$242+AB$242+AA$243+AB$243)/Denscalc($K77))*1000*  $K77 * Data!$B$6)) ), 0     )","v":0},58,null,null,{"$f":"IF(AND($A77<>\"\",(AE77+AF77)>0),     IF(AF$13=\"Nm3\",(AG$12*1000*1000/((AE$242+AF$242+AE$243+AF$243)*1000*  $K77 * Data!$B$6)),  (AG$12*1000*1000/(((AE$242+AF$242+AE$243+AF$243)/Denscalc($K77))*1000*  $K77 * Data!$B$6)) ), 0    )","v":0},58,null,null,{"$f":"IF(AND($A77<>\"\",(AI77+AJ77)>0),    IF(AJ$13=\"Nm3\",(AK$12*1000*1000/((AI$242+AJ$242+AI$243+AJ$243)*1000*  $K77 * Data!$B$6)),  (AK$12*1000*1000/(((AI$242+AJ$242+AI$243+AJ$243)/Denscalc($K77))*1000*  $K77 * Data!$B$6)) ), 0    )","v":0},58,null,null,{"$f":"IF(AND($A77<>\"\",(AM77+AN77)>0),     IF(AN$13=\"Nm3\",(AO$12*1000*1000/((AM$242+AN$242+AM$243+AN$243)*1000*  $K77 * Data!$B$6)),  (AO$12*1000*1000/(((AM$242+AN$242+AM$243+AN$243)/Denscalc($K77))*1000*  $K77 * Data!$B$6)) ), 0    )","v":0},58,null,null,{"$f":"IF(AND($A77<>\"\",(AQ77+AR77)>0),     IF(AR$13=\"Nm3\",(AS$12*1000*1000/((AQ$242+AR$242+AQ$243+AR$243)*1000*  $K77 * Data!$B$6)),  (AS$12*1000*1000/(((AQ$242+AR$242+AQ$243+AR$243)/Denscalc($K77))*1000*  $K77 * Data!$B$6)) ), 0     )","v":0},58,null,null,{"$f":"IF(AND($A77<>\"\",(AU77+AV77)>0),     IF(AV$13=\"Nm3\",(AW$12*1000*1000/((AU$242+AV$242+AU$243+AV$243)*1000*  $K77 * Data!$B$6)),  (AW$12*1000*1000/(((AU$242+AV$242+AU$243+AV$243)/Denscalc($K77))*1000*  $K77 * Data!$B$6)) ), 0   )","v":0},58,null,null,{"$f":"IF(AND(BA$11>0,$A77<>\"\",(AY77+AZ77)>0), BA$11, IF(AND($A77<>\"\",(AY77+AZ77)>0),\nIF(AZ$13=\"Nm3\",(BA$6*1000*1000/((AY$242+AZ$242+AY$243+AZ$243)*1000*$K77*Data!$B$6))+((BA$12-BA$6)*1000*1000/((AY$242+AZ$242+AY$243+AZ$243-AY$241-AZ$241)*1000*$K77*Data!$B$6)),\n(BA$6*1000*1000/(((AY$242+AZ$242+AY$243+AZ$243)/Denscalc($K77))*1000*$K77*Data!$B$6))+((BA$12-BA$6)*1000*1000/(((AY$242+AZ$242+AY$243+AZ$243-AY$241-AZ$241)/Denscalc($K77))*1000*$K77*Data!$B$6))),0))","v":0},58,null,null,{"$f":"IF(AND(BE$11>0,$A77<>\"\",(BC77+BD77)>0), BE$11, IF(AND($A77<>\"\",(BC77+BD77)>0),\n (BE$6*1000*1000/((BC$244+BD$244)*1000* Data!$B$7))+ ((BE$12-BE$6)*1000*1000/((BC$244+BD$244-BC$241-BD$241)*1000* Data!$B$7)),0))","v":0},58,{"$f":"IF(A77<>\"\", (Data!$B$127*1000*Data!$B$3)/Data!$B$7,  \"\")","v":""},"","",{"$f":"IF(A77<>\"\",  ROUND( (Data!$B$8-BI77)/Data!$B$8,3),   \"\")","v":""},"","","","",{"$f":"IF(A77<>\"\",  IF(TYPE(BN77)=1, ROUND( (Data!$B$8-BN77)/Data!$B$8,3),   \"\"),\"\")","v":""},"",58,"","","",null,""]
[{"$f":"IF(Uppgradering!A66<>\"\",Uppgradering!A66,\"\")","v":""},59,{"$f":"IF($A78<>\"\",Uppgradering!C66,\"\")","v":""},{"$f":"IF($A78<>\"\",Uppgradering!D66,\"\")","v":""},{"$f":"IF($A78<>\"\",Uppgradering!E66,\"\")","v":""},{"$f":"IF($A78<>\"\",Uppgradering!F66,\"\")","v":""},{"$f":"IF($A78<>\"\",Uppgradering!G66,\"\")","v":""},{"$f":"Uppgradering!AS66","v":""},{"$f":"Uppgradering!AP66","v":""},{"$f":"Uppgradering!AO66","v":""},{"$f":"Uppgradering!AT66","v":""},{"$f":"Uppgradering!AW66","v":""},"",null,null,null,{"$f":"IF(AND($A78<>\"\",(O78+P78)>0),    IF(P$13=\"Nm3\",(Q$12*1000*1000/((O$242+P$242+O$243+P$243)*1000*  $K78 * Data!$B$6)),  (Q$12*1000*1000/(((O$242+P$242+O$243+P$243)/Denscalc($K78))*1000*  $K78 * Data!$B$6)) ), 0    )","v":0},59,null,null,{"$f":"IF(AND($A78<>\"\",(S78+T78)>0),    IF(T$13=\"Nm3\",(U$12*1000*1000/((S$242+T$242+S$243+T$243)*1000*  $K78 * Data!$B$6)),  (U$12*1000*1000/(((S$242+T$242+S$243+T$243)/Denscalc($K78))*1000*  $K78 * Data!$B$6)) ), 0     )","v":0},59,null,null,{"$f":"IF(AND($A78<>\"\",(W78+X78)>0),     IF(X$13=\"Nm3\",(Y$12*1000*1000/((W$242+X$242+W$243+X$243)*1000*  $K78 * Data!$B$6)),  (Y$12*1000*1000/(((W$242+X$242+W$243+X$243)/Denscalc($K78))*1000*  $K78 * Data!$B$6)) ), 0   )","v":0},59,null,null,{"$f":"IF(AND($A78<>\"\",(AA78+AB78)>0),     IF(AB$13=\"Nm3\",(AC$12*1000*1000/((AA$242+AB$242+AA$243+AB$243)*1000*  $K78 * Data!$B$6)),  (AC$12*1000*1000/(((AA$242+AB$242+AA$243+AB$243)/Denscalc($K78))*1000*  $K78 * Data!$B$6)) ), 0     )","v":0},59,null,null,{"$f":"IF(AND($A78<>\"\",(AE78+AF78)>0),     IF(AF$13=\"Nm3\",(AG$12*1000*1000/((AE$242+AF$242+AE$243+AF$243)*1000*  $K78 * Data!$B$6)),  (AG$12*1000*1000/(((AE$242+AF$242+AE$243+AF$243)/Denscalc($K78))*1000*  $K78 * Data!$B$6)) ), 0    )","v":0},59,null,null,{"$f":"IF(AND($A78<>\"\",(AI78+AJ78)>0),    IF(AJ$13=\"Nm3\",(AK$12*1000*1000/((AI$242+AJ$242+AI$243+AJ$243)*1000*  $K78 * Data!$B$6)),  (AK$12*1000*1000/(((AI$242+AJ$242+AI$243+AJ$243)/Denscalc($K78))*1000*  $K78 * Data!$B$6)) ), 0    )","v":0},59,null,null,{"$f":"IF(AND($A78<>\"\",(AM78+AN78)>0),     IF(AN$13=\"Nm3\",(AO$12*1000*1000/((AM$242+AN$242+AM$243+AN$243)*1000*  $K78 * Data!$B$6)),  (AO$12*1000*1000/(((AM$242+AN$242+AM$243+AN$243)/Denscalc($K78))*1000*  $K78 * Data!$B$6)) ), 0    )","v":0},59,null,null,{"$f":"IF(AND($A78<>\"\",(AQ78+AR78)>0),     IF(AR$13=\"Nm3\",(AS$12*1000*1000/((AQ$242+AR$242+AQ$243+AR$243)*1000*  $K78 * Data!$B$6)),  (AS$12*1000*1000/(((AQ$242+AR$242+AQ$243+AR$243)/Denscalc($K78))*1000*  $K78 * Data!$B$6)) ), 0     )","v":0},59,null,null,{"$f":"IF(AND($A78<>\"\",(AU78+AV78)>0),     IF(AV$13=\"Nm3\",(AW$12*1000*1000/((AU$242+AV$242+AU$243+AV$243)*1000*  $K78 * Data!$B$6)),  (AW$12*1000*1000/(((AU$242+AV$242+AU$243+AV$243)/Denscalc($K78))*1000*  $K78 * Data!$B$6)) ), 0   )","v":0},59,null,null,{"$f":"IF(AND(BA$11>0,$A78<>\"\",(AY78+AZ78)>0), BA$11, IF(AND($A78<>\"\",(AY78+AZ78)>0),\nIF(AZ$13=\"Nm3\",(BA$6*1000*1000/((AY$242+AZ$242+AY$243+AZ$243)*1000*$K78*Data!$B$6))+((BA$12-BA$6)*1000*1000/((AY$242+AZ$242+AY$243+AZ$243-AY$241-AZ$241)*1000*$K78*Data!$B$6)),\n(BA$6*1000*1000/(((AY$242+AZ$242+AY$243+AZ$243)/Denscalc($K78))*1000*$K78*Data!$B$6))+((BA$12-BA$6)*1000*1000/(((AY$242+AZ$242+AY$243+AZ$243-AY$241-AZ$241)/Denscalc($K78))*1000*$K78*Data!$B$6))),0))","v":0},59,null,null,{"$f":"IF(AND(BE$11>0,$A78<>\"\",(BC78+BD78)>0), BE$11, IF(AND($A78<>\"\",(BC78+BD78)>0),\n (BE$6*1000*1000/((BC$244+BD$244)*1000* Data!$B$7))+ ((BE$12-BE$6)*1000*1000/((BC$244+BD$244-BC$241-BD$241)*1000* Data!$B$7)),0))","v":0},59,{"$f":"IF(A78<>\"\", (Data!$B$127*1000*Data!$B$3)/Data!$B$7,  \"\")","v":""},"","",{"$f":"IF(A78<>\"\",  ROUND( (Data!$B$8-BI78)/Data!$B$8,3),   \"\")","v":""},"","","","",{"$f":"IF(A78<>\"\",  IF(TYPE(BN78)=1, ROUND( (Data!$B$8-BN78)/Data!$B$8,3),   \"\"),\"\")","v":""},"",59,"","","",null,""]
[{"$f":"IF(Uppgradering!A67<>\"\",Uppgradering!A67,\"\")","v":""},60,{"$f":"IF($A79<>\"\",Uppgradering!C67,\"\")","v":""},{"$f":"IF($A79<>\"\",Uppgradering!D67,\"\")","v":""},{"$f":"IF($A79<>\"\",Uppgradering!E67,\"\")","v":""},{"$f":"IF($A79<>\"\",Uppgradering!F67,\"\")","v":""},{"$f":"IF($A79<>\"\",Uppgradering!G67,\"\")","v":""},{"$f":"Uppgradering!AS67","v":""},{"$f":"Uppgradering!AP67","v":""},{"$f":"Uppgradering!AO67","v":""},{"$f":"Uppgradering!AT67","v":""},{"$f":"Uppgradering!AW67","v":""},"",null,null,null,{"$f":"IF(AND($A79<>\"\",(O79+P79)>0),    IF(P$13=\"Nm3\",(Q$12*1000*1000/((O$242+P$242+O$243+P$243)*1000*  $K79 * Data!$B$6)),  (Q$12*1000*1000/(((O$242+P$242+O$243+P$243)/Denscalc($K79))*1000*  $K79 * Data!$B$6)) ), 0    )","v":0},60,null,null,{"$f":"IF(AND($A79<>\"\",(S79+T79)>0),    IF(T$13=\"Nm3\",(U$12*1000*1000/((S$242+T$242+S$243+T$243)*1000*  $K79 * Data!$B$6)),  (U$12*1000*1000/(((S$242+T$242+S$243+T$243)/Denscalc($K79))*1000*  $K79 * Data!$B$6)) ), 0     )","v":0},60,null,null,{"$f":"IF(AND($A79<>\"\",(W79+X79)>0),     IF(X$13=\"Nm3\",(Y$12*1000*1000/((W$242+X$242+W$243+X$243)*1000*  $K79 * Data!$B$6)),  (Y$12*1000*1000/(((W$242+X$242+W$243+X$243)/Denscalc($K79))*1000*  $K79 * Data!$B$6)) ), 0   )","v":0},60,null,null,{"$f":"IF(AND($A79<>\"\",(AA79+AB79)>0),     IF(AB$13=\"Nm3\",(AC$12*1000*1000/((AA$242+AB$242+AA$243+AB$243)*1000*  $K79 * Data!$B$6)),  (AC$12*1000*1000/(((AA$242+AB$242+AA$243+AB$243)/Denscalc($K79))*1000*  $K79 * Data!$B$6)) ), 0     )","v":0},60,null,null,{"$f":"IF(AND($A79<>\"\",(AE79+AF79)>0),     IF(AF$13=\"Nm3\",(AG$12*1000*1000/((AE$242+AF$242+AE$243+AF$243)*1000*  $K79 * Data!$B$6)),  (AG$12*1000*1000/(((AE$242+AF$242+AE$243+AF$243)/Denscalc($K79))*1000*  $K79 * Data!$B$6)) ), 0    )","v":0},60,null,null,{"$f":"IF(AND($A79<>\"\",(AI79+AJ79)>0),    IF(AJ$13=\"Nm3\",(AK$12*1000*1000/((AI$242+AJ$242+AI$243+AJ$243)*1000*  $K79 * Data!$B$6)),  (AK$12*1000*1000/(((AI$242+AJ$242+AI$243+AJ$243)/Denscalc($K79))*1000*  $K79 * Data!$B$6)) ), 0    )","v":0},60,null,null,{"$f":"IF(AND($A79<>\"\",(AM79+AN79)>0),     IF(AN$13=\"Nm3\",(AO$12*1000*1000/((AM$242+AN$242+AM$243+AN$243)*1000*  $K79 * Data!$B$6)),  (AO$12*1000*1000/(((AM$242+AN$242+AM$243+AN$243)/Denscalc($K79))*1000*  $K79 * Data!$B$6)) ), 0    )","v":0},60,null,null,{"$f":"IF(AND($A79<>\"\",(AQ79+AR79)>0),     IF(AR$13=\"Nm3\",(AS$12*1000*1000/((AQ$242+AR$242+AQ$243+AR$243)*1000*  $K79 * Data!$B$6)),  (AS$12*1000*1000/(((AQ$242+AR$242+AQ$243+AR$243)/Denscalc($K79))*1000*  $K79 * Data!$B$6)) ), 0     )","v":0},60,null,null,{"$f":"IF(AND($A79<>\"\",(AU79+AV79)>0),     IF(AV$13=\"Nm3\",(AW$12*1000*1000/((AU$242+AV$242+AU$243+AV$243)*1000*  $K79 * Data!$B$6)),  (AW$12*1000*1000/(((AU$242+AV$242+AU$243+AV$243)/Denscalc($K79))*1000*  $K79 * Data!$B$6)) ), 0   )","v":0},60,null,null,{"$f":"IF(AND(BA$11>0,$A79<>\"\",(AY79+AZ79)>0), BA$11, IF(AND($A79<>\"\",(AY79+AZ79)>0),\nIF(AZ$13=\"Nm3\",(BA$6*1000*1000/((AY$242+AZ$242+AY$243+AZ$243)*1000*$K79*Data!$B$6))+((BA$12-BA$6)*1000*1000/((AY$242+AZ$242+AY$243+AZ$243-AY$241-AZ$241)*1000*$K79*Data!$B$6)),\n(BA$6*1000*1000/(((AY$242+AZ$242+AY$243+AZ$243)/Denscalc($K79))*1000*$K79*Data!$B$6))+((BA$12-BA$6)*1000*1000/(((AY$242+AZ$242+AY$243+AZ$243-AY$241-AZ$241)/Denscalc($K79))*1000*$K79*Data!$B$6))),0))","v":0},60,null,null,{"$f":"IF(AND(BE$11>0,$A79<>\"\",(BC79+BD79)>0), BE$11, IF(AND($A79<>\"\",(BC79+BD79)>0),\n (BE$6*1000*1000/((BC$244+BD$244)*1000* Data!$B$7))+ ((BE$12-BE$6)*1000*1000/((BC$244+BD$244-BC$241-BD$241)*1000* Data!$B$7)),0))","v":0},60,{"$f":"IF(A79<>\"\", (Data!$B$127*1000*Data!$B$3)/Data!$B$7,  \"\")","v":""},"","",{"$f":"IF(A79<>\"\",  ROUND( (Data!$B$8-BI79)/Data!$B$8,3),   \"\")","v":""},"","","","",{"$f":"IF(A79<>\"\",  IF(TYPE(BN79)=1, ROUND( (Data!$B$8-BN79)/Data!$B$8,3),   \"\"),\"\")","v":""},"",60,"","","",null,""]
["Summa egen producerad biogas (gasform, Nm3 )",null,null,null,null,null,null,{"$f":"SUMIFS(H50:H79,I50:I79,\"=Gas\",J50:J79,\"=Nm3\")","v":0},"Nm3","Såld gas (gasform)",null,null,null,null,{"$f":"IF(P13=\"Nm3\", SUM(O50:O79),\"\")","v":0},{"$f":"IF(P13=\"Nm3\", SUM(P50:P79),\"\")","v":0},"Nm3",null,{"$f":"IF(T13=\"Nm3\", SUM(S50:S79),\"\")","v":""},{"$f":"IF(T13=\"Nm3\", SUM(T50:T79),\"\")","v":""},"Nm3",null,{"$f":"IF(X13=\"Nm3\", SUM(W50:W79),\"\")","v":""},{"$f":"IF(X13=\"Nm3\", SUM(X50:X79),\"\")","v":""},"Nm3",null,{"$f":"IF(AB13=\"Nm3\", SUM(AA50:AA79),\"\")","v":""},{"$f":"IF(AB13=\"Nm3\", SUM(AB50:AB79),\"\")","v":""},"Nm3",null,{"$f":"IF(AF13=\"Nm3\", SUM(AE50:AE79),\"\")","v":""},{"$f":"IF(AF13=\"Nm3\", SUM(AF50:AF79),\"\")","v":""},"Nm3",null,{"$f":"IF(AJ13=\"Nm3\", SUM(AI50:AI79),\"\")","v":""},{"$f":"IF(AJ13=\"Nm3\", SUM(AJ50:AJ79),\"\")","v":""},"Nm3",null,{"$f":"IF(AN13=\"Nm3\", SUM(AM50:AM79),\"\")","v":""},{"$f":"IF(AN13=\"Nm3\", SUM(AN50:AN79),\"\")","v":""},"Nm3",null,{"$f":"IF(AR13=\"Nm3\", SUM(AQ50:AQ79),\"\")","v":""},{"$f":"IF(AR13=\"Nm3\", SUM(AR50:AR79),\"\")","v":""},"Nm3",null,{"$f":"IF(AV13=\"Nm3\", SUM(AU50:AU79),\"\")","v":""},{"$f":"IF(AV13=\"Nm3\", SUM(AV50:AV79),\"\")","v":""},"Nm3",null,{"$f":"IF(AZ13=\"Nm3\", SUM(AY50:AY79),\"\")","v":""},{"$f":"IF(AZ13=\"Nm3\", SUM(AZ50:AZ79),\"\")","v":""},"Nm3",null,null,null,null,null,null,null,null,"Summa",{"$f":"SUM(BK50:BK79)","v":0},null,"Nm3",null,null,null,null,{"$f":"SUM(BR50:BR79)","v":0}]
["Summa egen producerad biogas (gasform, kg)",null,null,null,null,null,null,{"$f":"SUMIFS(H50:H79,I50:I79,\"=Gas\",J50:J79,\"=kg\")","v":0},"kg","Såld gas (gasform)",null,null,null,null,{"$f":"IF(P13=\"kg\", SUM(O50:O79),\"\")","v":""},{"$f":"IF(P13=\"kg\", SUM(P50:P79),\"\")","v":""},"kg",null,{"$f":"IF(T13=\"kg\", SUM(S50:S79),\"\")","v":0},{"$f":"IF(T13=\"kg\", SUM(T50:T79),\"\")","v":0},"kg",null,{"$f":"IF(X13=\"kg\", SUM(W50:W79),\"\")","v":0},{"$f":"IF(X13=\"kg\", SUM(X50:X79),\"\")","v":0},"kg",null,{"$f":"IF(AB13=\"kg\", SUM(AA50:AA79),\"\")","v":0},{"$f":"IF(AB13=\"kg\", SUM(AB50:AB79),\"\")","v":0},"kg",null,{"$f":"IF(AF13=\"kg\", SUM(AE50:AE79),\"\")","v":0},{"$f":"IF(AF13=\"kg\", SUM(AF50:AF79),\"\")","v":0},"kg",null,{"$f":"IF(AJ13=\"kg\", SUM(AI50:AI79),\"\")","v":0},{"$f":"IF(AJ13=\"kg\", SUM(AJ50:AJ79),\"\")","v":0},"kg",null,{"$f":"IF(AN13=\"kg\", SUM(AM50:AM79),\"\")","v":0},{"$f":"IF(AN13=\"kg\", SUM(AN50:AN79),\"\")","v":0},"kg",null,{"$f":"IF(AR13=\"kg\", SUM(AQ50:AQ79),\"\")","v":0},{"$f":"IF(AR13=\"kg\", SUM(AR50:AR79),\"\")","v":0},"kg",null,{"$f":"IF(AV13=\"kg\", SUM(AU50:AU79),\"\")","v":0},{"$f":"IF(AV13=\"kg\", SUM(AV50:AV79),\"\")","v":0},"kg",null,{"$f":"IF(AZ13=\"kg\", SUM(AY50:AY79),\"\")","v":0},{"$f":"IF(AZ13=\"kg\", SUM(AZ50:AZ79),\"\")","v":0},"kg",null,null,null,null,null,null,null,null,"Summa",null,{"$f":"SUM(BL50:BL79)","v":0},"kg",null,null,null,null,null,{"$f":"SUM(BS50:BS79)","v":0}]
["Summa inköpt rågas som uppgraderats (flytande form, kg)",null,null,null,null,null,null,{"$f":"SUMIF(I50:I79,\"=Flytande\",H50:H79)","v":0},"kg",null,null,null,null,null,null,null,null,null,null,null,null,null,null,null,null,null,null,null,null,null,null,null,null,null,null,null,null,null,null,null,null,null,null,null,null,null,null,null,null,null,"Såld gas (flytande form)  ",null,null,null,{"$f":"SUM(BC50:BC79)","v":0},{"$f":"SUM(BD50:BD79)","v":0},null,null,null,null,null,null,null,null,null,null,"Summa",{"$f":"SUM(BP50:BP79)","v":0},null,null,null,{"$f":"SUM(BT50:BT79)","v":0}]
["Inköpt uppgraderad biogas",null,null,null,null,null,null,null,null,null,null,null,null,"Certifiering utöver HBK",null,null,null,null,null,null,null,null,null,null,null,null,null,null,null,null,null,null,null,null,null,null,null,null,null,null,null,null,null,null,null,null,null,null,null,null,null,null,null,null,null,null,null,null,"Inköpt uppgraderad biogas"]
[null,61,null,null,"",null,null,null,null,null,null,null,null,null,null,null,{"$f":"IF(AND($A84<>\"\",(O84+P84)>0),    IF(P$13=\"Nm3\",(Q$12*1000*1000/((O$242+P$242+O$243+P$243)*1000*  $K84 * Data!$B$6)),  (Q$12*1000*1000/(((O$242+P$242+O$243+P$243)/Denscalc($K84))*1000*  $K84 * Data!$B$6)) ), 0    )","v":0},61,null,null,{"$f":"IF(AND($A84<>\"\",(S84+T84)>0),    IF(T$13=\"Nm3\",(U$12*1000*1000/((S$242+T$242+S$243+T$243)*1000*  $K84 * Data!$B$6)),  (U$12*1000*1000/(((S$242+T$242+S$243+T$243)/Denscalc($K84))*1000*  $K84 * Data!$B$6)) ), 0     )","v":0},61,null,null,{"$f":"IF(AND($A84<>\"\",(W84+X84)>0),     IF(X$13=\"Nm3\",(Y$12*1000*1000/((W$242+X$242+W$243+X$243)*1000*  $K84 * Data!$B$6)),  (Y$12*1000*1000/(((W$242+X$242+W$243+X$243)/Denscalc($K84))*1000*  $K84 * Data!$B$6)) ), 0   )","v":0},61,null,null,{"$f":"IF(AND($A84<>\"\",(AA84+AB84)>0),     IF(AB$13=\"Nm3\",(AC$12*1000*1000/((AA$242+AB$242+AA$243+AB$243)*1000*  $K84 * Data!$B$6)),  (AC$12*1000*1000/(((AA$242+AB$242+AA$243+AB$243)/Denscalc($K84))*1000*  $K84 * Data!$B$6)) ), 0     )","v":0},61,null,null,{"$f":"IF(AND($A84<>\"\",(AE84+AF84)>0),     IF(AF$13=\"Nm3\",(AG$12*1000*1000/((AE$242+AF$242+AE$243+AF$243)*1000*  $K84 * Data!$B$6)),  (AG$12*1000*1000/(((AE$242+AF$242+AE$243+AF$243)/Denscalc($K84))*1000*  $K84 * Data!$B$6)) ), 0    )","v":0},61,null,null,{"$f":"IF(AND($A84<>\"\",(AI84+AJ84)>0),    IF(AJ$13=\"Nm3\",(AK$12*1000*1000/((AI$242+AJ$242+AI$243+AJ$243)*1000*  $K84 * Data!$B$6)),  (AK$12*1000*1000/(((AI$242+AJ$242+AI$243+AJ$243)/Denscalc($K84))*1000*  $K84 * Data!$B$6)) ), 0    )","v":0},61,null,null,{"$f":"IF(AND($A84<>\"\",(AM84+AN84)>0),     IF(AN$13=\"Nm3\",(AO$12*1000*1000/((AM$242+AN$242+AM$243+AN$243)*1000*  $K84 * Data!$B$6)),  (AO$12*1000*1000/(((AM$242+AN$242+AM$243+AN$243)/Denscalc($K84))*1000*  $K84 * Data!$B$6)) ), 0    )","v":0},61,null,null,{"$f":"IF(AND($A84<>\"\",(AQ84+AR84)>0),     IF(AR$13=\"Nm3\",(AS$12*1000*1000/((AQ$242+AR$242+AQ$243+AR$243)*1000*  $K84 * Data!$B$6)),  (AS$12*1000*1000/(((AQ$242+AR$242+AQ$243+AR$243)/Denscalc($K84))*1000*  $K84 * Data!$B$6)) ), 0     )","v":0},61,null,null,{"$f":"IF(AND($A84<>\"\",(AU84+AV84)>0),     IF(AV$13=\"Nm3\",(AW$12*1000*1000/((AU$242+AV$242+AU$243+AV$243)*1000*  $K84 * Data!$B$6)),  (AW$12*1000*1000/(((AU$242+AV$242+AU$243+AV$243)/Denscalc($K84))*1000*  $K84 * Data!$B$6)) ), 0   )","v":0},61,null,null,{"$f":"IF(AND(BA$11>0,$A84<>\"\",(AY84+AZ84)>0), BA$11, IF(AND($A84<>\"\",(AY84+AZ84)>0),\nIF(AZ$13=\"Nm3\",(BA$6*1000*1000/((AY$242+AZ$242+AY$243+AZ$243)*1000*$K84*Data!$B$6))+((BA$12-BA$6)*1000*1000/((AY$242+AZ$242+AY$243+AZ$243-AY$241-AZ$241)*1000*$K84*Data!$B$6)),\n(BA$6*1000*1000/(((AY$242+AZ$242+AY$243+AZ$243)/Denscalc($K84))*1000*$K84*Data!$B$6))+((BA$12-BA$6)*1000*1000/(((AY$242+AZ$242+AY$243+AZ$243-AY$241-AZ$241)/Denscalc($K84))*1000*$K84*Data!$B$6))),0))","v":0},61,null,null,{"$f":"IF(AND(BE$11>0,$A84<>\"\",(BC84+BD84)>0), BE$11, IF(AND($A84<>\"\",(BC84+BD84)>0),\n (BE$6*1000*1000/((BC$244+BD$244)*1000* Data!$B$7))+ ((BE$12-BE$6)*1000*1000/((BC$244+BD$244-BC$241-BD$241)*1000* Data!$B$7)),0))","v":0},61,{"$f":"IF(A84<>\"\", (Data!$B$127*1000*Data!$B$3)/Data!$B$7,  \"\")","v":""},{"$f":"IF(A84<>\"\",   IF(I84=\"Gas\",\nIF((BK84+BL84)=0, Q84+BG84, ( (( U84*(S84+T84) + Y84*(W84+X84) + AC84*(AA84+AB84) + AG84*(AE84+AF84) + AK84*(AI84+AJ84) + AO84*(AM84+AN84) + AS84*(AQ84+AR84) + AW84*(AU84+AV84)  )) /\n( S84+T84+W84+X84+AA84+AB84+AE84+AF84+AI84+AJ84+AM84+AN84+AQ84+AR84+AU84+AV84)+Q84+BG84)),\nBA84+BG84 ),  \"\")","v":""},{"$f":"IF(A84<>\"\",   (L84+BH84), \"\")","v":""},{"$f":"IF(A84<>\"\",  ROUND( (Data!$B$8-BI84)/Data!$B$8,3),   \"\")","v":""},{"$f":"IF(A84<>\"\", SUM( IF(T$13=\"Nm3\",S84,0),  IF(X$13=\"Nm3\",W84,0),  IF(AB$13=\"Nm3\",AA84,0),  IF(AF$13=\"Nm3\",AE84,0), IF(AJ$13=\"Nm3\",AI84,0),  IF(AN$13=\"Nm3\",AM84,0),  IF(AR$13=\"Nm3\",AQ84,0),  IF(AV$13=\"Nm3\",AU84,0), IF(AZ$13=\"Nm3\",AY84,0),  ),\"\")","v":""},{"$f":"IF(A84<>\"\", SUM(  IF(T$13=\"kg\",S84,0),  IF(X$13=\"kg\",W84,0),  IF(AB$13=\"kg\",AA84,0),  IF(AF$13=\"kg\",AE84,0), IF(AJ$13=\"kg\",AI84,0),  IF(AN$13=\"kg\",AM84,0),  IF(AR$13=\"kg\",AQ84,0),  IF(AV$13=\"kg\",AU84,0), IF(AZ$13=\"kg\",AY84,0),  ),\"\")","v":""},{"$f":"IF(A84<>\"\",   IF(I84=\"Flytande\", BE84+BG84, \"\"    ), \"\")","v":""},{"$f":"IF(A84<>\"\", IF(I84=\"Flytande\",    (L84+BM84), \"\"), \"\")","v":""},{"$f":"IF(A84<>\"\",  IF(TYPE(BN84)=1, ROUND( (Data!$B$8-BN84)/Data!$B$8,3),   \"\"),\"\")","v":""},{"$f":"IF(A84<>\"\",BC84,\"\")","v":""},61,{"$f":"IF(A84<>\"\", SUM(IF(P$13=\"Nm3\",P84,0),  IF(T$13=\"Nm3\",T84,0),  IF(X$13=\"Nm3\",X84,0),  IF(AB$13=\"Nm3\",AB84,0),  IF(AF$13=\"Nm3\",AF84,0), IF(AJ$13=\"Nm3\",AJ84,0),  IF(AN$13=\"Nm3\",AN84,0),  IF(AR$13=\"Nm3\",AR84,0),  IF(AV$13=\"Nm3\",AV84,0), IF(AZ$13=\"Nm3\",AZ84,0),  ),\"\")","v":""},{"$f":"IF(A84<>\"\", SUM(IF(P$13=\"kg\",P84,0),  IF(T$13=\"kg\",T84,0),  IF(X$13=\"kg\",X84,0),  IF(AB$13=\"kg\",AB84,0),  IF(AF$13=\"kg\",AF84,0), IF(AJ$13=\"kg\",AJ84,0),  IF(AN$13=\"kg\",AN84,0),  IF(AR$13=\"kg\",AR84,0),  IF(AV$13=\"kg\",AV84,0), IF(AZ$13=\"kg\",AZ84,0),  ),\"\")","v":""},{"$f":"IF(A84<>\"\",BD84,\"\")","v":""},null,{"$f":"IF(A84<>\"\",    IF(I84=\"Gas\", IF(J84=\"kg\", ((BK84*Denscalc(K84) +BL84+BR84*Denscalc(K84)+BS84)-H84), ( (BK84+BL84/Denscalc(K84) + BR84+BS84/Denscalc(K84))-H84)), ( (   BK84*Denscalc(K84)+BL84+BP84+BR84*Denscalc(K84)+BS84+BT84)-H84)  ), \"\")","v":""}]
[null,62,null,null,"",null,null,null,null,null,null,null,null,null,null,null,{"$f":"IF(AND($A85<>\"\",(O85+P85)>0),    IF(P$13=\"Nm3\",(Q$12*1000*1000/((O$242+P$242+O$243+P$243)*1000*  $K85 * Data!$B$6)),  (Q$12*1000*1000/(((O$242+P$242+O$243+P$243)/Denscalc($K85))*1000*  $K85 * Data!$B$6)) ), 0    )","v":0},62,null,null,{"$f":"IF(AND($A85<>\"\",(S85+T85)>0),    IF(T$13=\"Nm3\",(U$12*1000*1000/((S$242+T$242+S$243+T$243)*1000*  $K85 * Data!$B$6)),  (U$12*1000*1000/(((S$242+T$242+S$243+T$243)/Denscalc($K85))*1000*  $K85 * Data!$B$6)) ), 0     )","v":0},62,null,null,{"$f":"IF(AND($A85<>\"\",(W85+X85)>0),     IF(X$13=\"Nm3\",(Y$12*1000*1000/((W$242+X$242+W$243+X$243)*1000*  $K85 * Data!$B$6)),  (Y$12*1000*1000/(((W$242+X$242+W$243+X$243)/Denscalc($K85))*1000*  $K85 * Data!$B$6)) ), 0   )","v":0},62,null,null,{"$f":"IF(AND($A85<>\"\",(AA85+AB85)>0),     IF(AB$13=\"Nm3\",(AC$12*1000*1000/((AA$242+AB$242+AA$243+AB$243)*1000*  $K85 * Data!$B$6)),  (AC$12*1000*1000/(((AA$242+AB$242+AA$243+AB$243)/Denscalc($K85))*1000*  $K85 * Data!$B$6)) ), 0     )","v":0},62,null,null,{"$f":"IF(AND($A85<>\"\",(AE85+AF85)>0),     IF(AF$13=\"Nm3\",(AG$12*1000*1000/((AE$242+AF$242+AE$243+AF$243)*1000*  $K85 * Data!$B$6)),  (AG$12*1000*1000/(((AE$242+AF$242+AE$243+AF$243)/Denscalc($K85))*1000*  $K85 * Data!$B$6)) ), 0    )","v":0},62,null,null,{"$f":"IF(AND($A85<>\"\",(AI85+AJ85)>0),    IF(AJ$13=\"Nm3\",(AK$12*1000*1000/((AI$242+AJ$242+AI$243+AJ$243)*1000*  $K85 * Data!$B$6)),  (AK$12*1000*1000/(((AI$242+AJ$242+AI$243+AJ$243)/Denscalc($K85))*1000*  $K85 * Data!$B$6)) ), 0    )","v":0},62,null,null,{"$f":"IF(AND($A85<>\"\",(AM85+AN85)>0),     IF(AN$13=\"Nm3\",(AO$12*1000*1000/((AM$242+AN$242+AM$243+AN$243)*1000*  $K85 * Data!$B$6)),  (AO$12*1000*1000/(((AM$242+AN$242+AM$243+AN$243)/Denscalc($K85))*1000*  $K85 * Data!$B$6)) ), 0    )","v":0},62,null,null,{"$f":"IF(AND($A85<>\"\",(AQ85+AR85)>0),     IF(AR$13=\"Nm3\",(AS$12*1000*1000/((AQ$242+AR$242+AQ$243+AR$243)*1000*  $K85 * Data!$B$6)),  (AS$12*1000*1000/(((AQ$242+AR$242+AQ$243+AR$243)/Denscalc($K85))*1000*  $K85 * Data!$B$6)) ), 0     )","v":0},62,null,null,{"$f":"IF(AND($A85<>\"\",(AU85+AV85)>0),     IF(AV$13=\"Nm3\",(AW$12*1000*1000/((AU$242+AV$242+AU$243+AV$243)*1000*  $K85 * Data!$B$6)),  (AW$12*1000*1000/(((AU$242+AV$242+AU$243+AV$243)/Denscalc($K85))*1000*  $K85 * Data!$B$6)) ), 0   )","v":0},62,null,null,{"$f":"IF(AND(BA$11>0,$A85<>\"\",(AY85+AZ85)>0), BA$11, IF(AND($A85<>\"\",(AY85+AZ85)>0),\nIF(AZ$13=\"Nm3\",(BA$6*1000*1000/((AY$242+AZ$242+AY$243+AZ$243)*1000*$K85*Data!$B$6))+((BA$12-BA$6)*1000*1000/((AY$242+AZ$242+AY$243+AZ$243-AY$241-AZ$241)*1000*$K85*Data!$B$6)),\n(BA$6*1000*1000/(((AY$242+AZ$242+AY$243+AZ$243)/Denscalc($K85))*1000*$K85*Data!$B$6))+((BA$12-BA$6)*1000*1000/(((AY$242+AZ$242+AY$243+AZ$243-AY$241-AZ$241)/Denscalc($K85))*1000*$K85*Data!$B$6))),0))","v":0},62,null,null,{"$f":"IF(AND(BE$11>0,$A85<>\"\",(BC85+BD85)>0), BE$11, IF(AND($A85<>\"\",(BC85+BD85)>0),\n (BE$6*1000*1000/((BC$244+BD$244)*1000* Data!$B$7))+ ((BE$12-BE$6)*1000*1000/((BC$244+BD$244-BC$241-BD$241)*1000* Data!$B$7)),0))","v":0},62,{"$f":"IF(A85<>\"\", (Data!$B$127*1000*Data!$B$3)/Data!$B$7,  \"\")","v":""},"","",{"$f":"IF(A85<>\"\",  ROUND( (Data!$B$8-BI85)/Data!$B$8,3),   \"\")","v":""},"","","","",{"$f":"IF(A85<>\"\",  IF(TYPE(BN85)=1, ROUND( (Data!$B$8-BN85)/Data!$B$8,3),   \"\"),\"\")","v":""},"",62,"","","",null,""]
[null,63,null,null,"",null,null,null,null,null,null,null,null,null,null,null,{"$f":"IF(AND($A86<>\"\",(O86+P86)>0),    IF(P$13=\"Nm3\",(Q$12*1000*1000/((O$242+P$242+O$243+P$243)*1000*  $K86 * Data!$B$6)),  (Q$12*1000*1000/(((O$242+P$242+O$243+P$243)/Denscalc($K86))*1000*  $K86 * Data!$B$6)) ), 0    )","v":0},63,null,null,{"$f":"IF(AND($A86<>\"\",(S86+T86)>0),    IF(T$13=\"Nm3\",(U$12*1000*1000/((S$242+T$242+S$243+T$243)*1000*  $K86 * Data!$B$6)),  (U$12*1000*1000/(((S$242+T$242+S$243+T$243)/Denscalc($K86))*1000*  $K86 * Data!$B$6)) ), 0     )","v":0},63,null,null,{"$f":"IF(AND($A86<>\"\",(W86+X86)>0),     IF(X$13=\"Nm3\",(Y$12*1000*1000/((W$242+X$242+W$243+X$243)*1000*  $K86 * Data!$B$6)),  (Y$12*1000*1000/(((W$242+X$242+W$243+X$243)/Denscalc($K86))*1000*  $K86 * Data!$B$6)) ), 0   )","v":0},63,null,null,{"$f":"IF(AND($A86<>\"\",(AA86+AB86)>0),     IF(AB$13=\"Nm3\",(AC$12*1000*1000/((AA$242+AB$242+AA$243+AB$243)*1000*  $K86 * Data!$B$6)),  (AC$12*1000*1000/(((AA$242+AB$242+AA$243+AB$243)/Denscalc($K86))*1000*  $K86 * Data!$B$6)) ), 0     )","v":0},63,null,null,{"$f":"IF(AND($A86<>\"\",(AE86+AF86)>0),     IF(AF$13=\"Nm3\",(AG$12*1000*1000/((AE$242+AF$242+AE$243+AF$243)*1000*  $K86 * Data!$B$6)),  (AG$12*1000*1000/(((AE$242+AF$242+AE$243+AF$243)/Denscalc($K86))*1000*  $K86 * Data!$B$6)) ), 0    )","v":0},63,null,null,{"$f":"IF(AND($A86<>\"\",(AI86+AJ86)>0),    IF(AJ$13=\"Nm3\",(AK$12*1000*1000/((AI$242+AJ$242+AI$243+AJ$243)*1000*  $K86 * Data!$B$6)),  (AK$12*1000*1000/(((AI$242+AJ$242+AI$243+AJ$243)/Denscalc($K86))*1000*  $K86 * Data!$B$6)) ), 0    )","v":0},63,null,null,{"$f":"IF(AND($A86<>\"\",(AM86+AN86)>0),     IF(AN$13=\"Nm3\",(AO$12*1000*1000/((AM$242+AN$242+AM$243+AN$243)*1000*  $K86 * Data!$B$6)),  (AO$12*1000*1000/(((AM$242+AN$242+AM$243+AN$243)/Denscalc($K86))*1000*  $K86 * Data!$B$6)) ), 0    )","v":0},63,null,null,{"$f":"IF(AND($A86<>\"\",(AQ86+AR86)>0),     IF(AR$13=\"Nm3\",(AS$12*1000*1000/((AQ$242+AR$242+AQ$243+AR$243)*1000*  $K86 * Data!$B$6)),  (AS$12*1000*1000/(((AQ$242+AR$242+AQ$243+AR$243)/Denscalc($K86))*1000*  $K86 * Data!$B$6)) ), 0     )","v":0},63,null,null,{"$f":"IF(AND($A86<>\"\",(AU86+AV86)>0),     IF(AV$13=\"Nm3\",(AW$12*1000*1000/((AU$242+AV$242+AU$243+AV$243)*1000*  $K86 * Data!$B$6)),  (AW$12*1000*1000/(((AU$242+AV$242+AU$243+AV$243)/Denscalc($K86))*1000*  $K86 * Data!$B$6)) ), 0   )","v":0},63,null,null,{"$f":"IF(AND(BA$11>0,$A86<>\"\",(AY86+AZ86)>0), BA$11, IF(AND($A86<>\"\",(AY86+AZ86)>0),\nIF(AZ$13=\"Nm3\",(BA$6*1000*1000/((AY$242+AZ$242+AY$243+AZ$243)*1000*$K86*Data!$B$6))+((BA$12-BA$6)*1000*1000/((AY$242+AZ$242+AY$243+AZ$243-AY$241-AZ$241)*1000*$K86*Data!$B$6)),\n(BA$6*1000*1000/(((AY$242+AZ$242+AY$243+AZ$243)/Denscalc($K86))*1000*$K86*Data!$B$6))+((BA$12-BA$6)*1000*1000/(((AY$242+AZ$242+AY$243+AZ$243-AY$241-AZ$241)/Denscalc($K86))*1000*$K86*Data!$B$6))),0))","v":0},63,null,null,{"$f":"IF(AND(BE$11>0,$A86<>\"\",(BC86+BD86)>0), BE$11, IF(AND($A86<>\"\",(BC86+BD86)>0),\n (BE$6*1000*1000/((BC$244+BD$244)*1000* Data!$B$7))+ ((BE$12-BE$6)*1000*1000/((BC$244+BD$244-BC$241-BD$241)*1000* Data!$B$7)),0))","v":0},63,{"$f":"IF(A86<>\"\", (Data!$B$127*1000*Data!$B$3)/Data!$B$7,  \"\")","v":""},"","",{"$f":"IF(A86<>\"\",  ROUND( (Data!$B$8-BI86)/Data!$B$8,3),   \"\")","v":""},"","","","",{"$f":"IF(A86<>\"\",  IF(TYPE(BN86)=1, ROUND( (Data!$B$8-BN86)/Data!$B$8,3),   \"\"),\"\")","v":""},"",63,"","","",null,""]
[null,64,null,null,"",null,null,null,null,null,null,null,null,null,null,null,{"$f":"IF(AND($A87<>\"\",(O87+P87)>0),    IF(P$13=\"Nm3\",(Q$12*1000*1000/((O$242+P$242+O$243+P$243)*1000*  $K87 * Data!$B$6)),  (Q$12*1000*1000/(((O$242+P$242+O$243+P$243)/Denscalc($K87))*1000*  $K87 * Data!$B$6)) ), 0    )","v":0},64,null,null,{"$f":"IF(AND($A87<>\"\",(S87+T87)>0),    IF(T$13=\"Nm3\",(U$12*1000*1000/((S$242+T$242+S$243+T$243)*1000*  $K87 * Data!$B$6)),  (U$12*1000*1000/(((S$242+T$242+S$243+T$243)/Denscalc($K87))*1000*  $K87 * Data!$B$6)) ), 0     )","v":0},64,null,null,{"$f":"IF(AND($A87<>\"\",(W87+X87)>0),     IF(X$13=\"Nm3\",(Y$12*1000*1000/((W$242+X$242+W$243+X$243)*1000*  $K87 * Data!$B$6)),  (Y$12*1000*1000/(((W$242+X$242+W$243+X$243)/Denscalc($K87))*1000*  $K87 * Data!$B$6)) ), 0   )","v":0},64,null,null,{"$f":"IF(AND($A87<>\"\",(AA87+AB87)>0),     IF(AB$13=\"Nm3\",(AC$12*1000*1000/((AA$242+AB$242+AA$243+AB$243)*1000*  $K87 * Data!$B$6)),  (AC$12*1000*1000/(((AA$242+AB$242+AA$243+AB$243)/Denscalc($K87))*1000*  $K87 * Data!$B$6)) ), 0     )","v":0},64,null,null,{"$f":"IF(AND($A87<>\"\",(AE87+AF87)>0),     IF(AF$13=\"Nm3\",(AG$12*1000*1000/((AE$242+AF$242+AE$243+AF$243)*1000*  $K87 * Data!$B$6)),  (AG$12*1000*1000/(((AE$242+AF$242+AE$243+AF$243)/Denscalc($K87))*1000*  $K87 * Data!$B$6)) ), 0    )","v":0},64,null,null,{"$f":"IF(AND($A87<>\"\",(AI87+AJ87)>0),    IF(AJ$13=\"Nm3\",(AK$12*1000*1000/((AI$242+AJ$242+AI$243+AJ$243)*1000*  $K87 * Data!$B$6)),  (AK$12*1000*1000/(((AI$242+AJ$242+AI$243+AJ$243)/Denscalc($K87))*1000*  $K87 * Data!$B$6)) ), 0    )","v":0},64,null,null,{"$f":"IF(AND($A87<>\"\",(AM87+AN87)>0),     IF(AN$13=\"Nm3\",(AO$12*1000*1000/((AM$242+AN$242+AM$243+AN$243)*1000*  $K87 * Data!$B$6)),  (AO$12*1000*1000/(((AM$242+AN$242+AM$243+AN$243)/Denscalc($K87))*1000*  $K87 * Data!$B$6)) ), 0    )","v":0},64,null,null,{"$f":"IF(AND($A87<>\"\",(AQ87+AR87)>0),     IF(AR$13=\"Nm3\",(AS$12*1000*1000/((AQ$242+AR$242+AQ$243+AR$243)*1000*  $K87 * Data!$B$6)),  (AS$12*1000*1000/(((AQ$242+AR$242+AQ$243+AR$243)/Denscalc($K87))*1000*  $K87 * Data!$B$6)) ), 0     )","v":0},64,null,null,{"$f":"IF(AND($A87<>\"\",(AU87+AV87)>0),     IF(AV$13=\"Nm3\",(AW$12*1000*1000/((AU$242+AV$242+AU$243+AV$243)*1000*  $K87 * Data!$B$6)),  (AW$12*1000*1000/(((AU$242+AV$242+AU$243+AV$243)/Denscalc($K87))*1000*  $K87 * Data!$B$6)) ), 0   )","v":0},64,null,null,{"$f":"IF(AND(BA$11>0,$A87<>\"\",(AY87+AZ87)>0), BA$11, IF(AND($A87<>\"\",(AY87+AZ87)>0),\nIF(AZ$13=\"Nm3\",(BA$6*1000*1000/((AY$242+AZ$242+AY$243+AZ$243)*1000*$K87*Data!$B$6))+((BA$12-BA$6)*1000*1000/((AY$242+AZ$242+AY$243+AZ$243-AY$241-AZ$241)*1000*$K87*Data!$B$6)),\n(BA$6*1000*1000/(((AY$242+AZ$242+AY$243+AZ$243)/Denscalc($K87))*1000*$K87*Data!$B$6))+((BA$12-BA$6)*1000*1000/(((AY$242+AZ$242+AY$243+AZ$243-AY$241-AZ$241)/Denscalc($K87))*1000*$K87*Data!$B$6))),0))","v":0},64,null,null,{"$f":"IF(AND(BE$11>0,$A87<>\"\",(BC87+BD87)>0), BE$11, IF(AND($A87<>\"\",(BC87+BD87)>0),\n (BE$6*1000*1000/((BC$244+BD$244)*1000* Data!$B$7))+ ((BE$12-BE$6)*1000*1000/((BC$244+BD$244-BC$241-BD$241)*1000* Data!$B$7)),0))","v":0},64,{"$f":"IF(A87<>\"\", (Data!$B$127*1000*Data!$B$3)/Data!$B$7,  \"\")","v":""},"","",{"$f":"IF(A87<>\"\",  ROUND( (Data!$B$8-BI87)/Data!$B$8,3),   \"\")","v":""},"","","","",{"$f":"IF(A87<>\"\",  IF(TYPE(BN87)=1, ROUND( (Data!$B$8-BN87)/Data!$B$8,3),   \"\"),\"\")","v":""},"",64,"","","",null,""]
[null,65,null,null,"",null,null,null,null,null,null,null,null,null,null,null,{"$f":"IF(AND($A88<>\"\",(O88+P88)>0),    IF(P$13=\"Nm3\",(Q$12*1000*1000/((O$242+P$242+O$243+P$243)*1000*  $K88 * Data!$B$6)),  (Q$12*1000*1000/(((O$242+P$242+O$243+P$243)/Denscalc($K88))*1000*  $K88 * Data!$B$6)) ), 0    )","v":0},65,null,null,{"$f":"IF(AND($A88<>\"\",(S88+T88)>0),    IF(T$13=\"Nm3\",(U$12*1000*1000/((S$242+T$242+S$243+T$243)*1000*  $K88 * Data!$B$6)),  (U$12*1000*1000/(((S$242+T$242+S$243+T$243)/Denscalc($K88))*1000*  $K88 * Data!$B$6)) ), 0     )","v":0},65,null,null,{"$f":"IF(AND($A88<>\"\",(W88+X88)>0),     IF(X$13=\"Nm3\",(Y$12*1000*1000/((W$242+X$242+W$243+X$243)*1000*  $K88 * Data!$B$6)),  (Y$12*1000*1000/(((W$242+X$242+W$243+X$243)/Denscalc($K88))*1000*  $K88 * Data!$B$6)) ), 0   )","v":0},65,null,null,{"$f":"IF(AND($A88<>\"\",(AA88+AB88)>0),     IF(AB$13=\"Nm3\",(AC$12*1000*1000/((AA$242+AB$242+AA$243+AB$243)*1000*  $K88 * Data!$B$6)),  (AC$12*1000*1000/(((AA$242+AB$242+AA$243+AB$243)/Denscalc($K88))*1000*  $K88 * Data!$B$6)) ), 0     )","v":0},65,null,null,{"$f":"IF(AND($A88<>\"\",(AE88+AF88)>0),     IF(AF$13=\"Nm3\",(AG$12*1000*1000/((AE$242+AF$242+AE$243+AF$243)*1000*  $K88 * Data!$B$6)),  (AG$12*1000*1000/(((AE$242+AF$242+AE$243+AF$243)/Denscalc($K88))*1000*  $K88 * Data!$B$6)) ), 0    )","v":0},65,null,null,{"$f":"IF(AND($A88<>\"\",(AI88+AJ88)>0),    IF(AJ$13=\"Nm3\",(AK$12*1000*1000/((AI$242+AJ$242+AI$243+AJ$243)*1000*  $K88 * Data!$B$6)),  (AK$12*1000*1000/(((AI$242+AJ$242+AI$243+AJ$243)/Denscalc($K88))*1000*  $K88 * Data!$B$6)) ), 0    )","v":0},65,null,null,{"$f":"IF(AND($A88<>\"\",(AM88+AN88)>0),     IF(AN$13=\"Nm3\",(AO$12*1000*1000/((AM$242+AN$242+AM$243+AN$243)*1000*  $K88 * Data!$B$6)),  (AO$12*1000*1000/(((AM$242+AN$242+AM$243+AN$243)/Denscalc($K88))*1000*  $K88 * Data!$B$6)) ), 0    )","v":0},65,null,null,{"$f":"IF(AND($A88<>\"\",(AQ88+AR88)>0),     IF(AR$13=\"Nm3\",(AS$12*1000*1000/((AQ$242+AR$242+AQ$243+AR$243)*1000*  $K88 * Data!$B$6)),  (AS$12*1000*1000/(((AQ$242+AR$242+AQ$243+AR$243)/Denscalc($K88))*1000*  $K88 * Data!$B$6)) ), 0     )","v":0},65,null,null,{"$f":"IF(AND($A88<>\"\",(AU88+AV88)>0),     IF(AV$13=\"Nm3\",(AW$12*1000*1000/((AU$242+AV$242+AU$243+AV$243)*1000*  $K88 * Data!$B$6)),  (AW$12*1000*1000/(((AU$242+AV$242+AU$243+AV$243)/Denscalc($K88))*1000*  $K88 * Data!$B$6)) ), 0   )","v":0},65,null,null,{"$f":"IF(AND(BA$11>0,$A88<>\"\",(AY88+AZ88)>0), BA$11, IF(AND($A88<>\"\",(AY88+AZ88)>0),\nIF(AZ$13=\"Nm3\",(BA$6*1000*1000/((AY$242+AZ$242+AY$243+AZ$243)*1000*$K88*Data!$B$6))+((BA$12-BA$6)*1000*1000/((AY$242+AZ$242+AY$243+AZ$243-AY$241-AZ$241)*1000*$K88*Data!$B$6)),\n(BA$6*1000*1000/(((AY$242+AZ$242+AY$243+AZ$243)/Denscalc($K88))*1000*$K88*Data!$B$6))+((BA$12-BA$6)*1000*1000/(((AY$242+AZ$242+AY$243+AZ$243-AY$241-AZ$241)/Denscalc($K88))*1000*$K88*Data!$B$6))),0))","v":0},65,null,null,{"$f":"IF(AND(BE$11>0,$A88<>\"\",(BC88+BD88)>0), BE$11, IF(AND($A88<>\"\",(BC88+BD88)>0),\n (BE$6*1000*1000/((BC$244+BD$244)*1000* Data!$B$7))+ ((BE$12-BE$6)*1000*1000/((BC$244+BD$244-BC$241-BD$241)*1000* Data!$B$7)),0))","v":0},65,{"$f":"IF(A88<>\"\", (Data!$B$127*1000*Data!$B$3)/Data!$B$7,  \"\")","v":""},"","",{"$f":"IF(A88<>\"\",  ROUND( (Data!$B$8-BI88)/Data!$B$8,3),   \"\")","v":""},"","","","",{"$f":"IF(A88<>\"\",  IF(TYPE(BN88)=1, ROUND( (Data!$B$8-BN88)/Data!$B$8,3),   \"\"),\"\")","v":""},"",65,"","","",null,""]
[null,66,null,null,"",null,null,null,null,null,null,null,null,null,null,null,{"$f":"IF(AND($A89<>\"\",(O89+P89)>0),    IF(P$13=\"Nm3\",(Q$12*1000*1000/((O$242+P$242+O$243+P$243)*1000*  $K89 * Data!$B$6)),  (Q$12*1000*1000/(((O$242+P$242+O$243+P$243)/Denscalc($K89))*1000*  $K89 * Data!$B$6)) ), 0    )","v":0},66,null,null,{"$f":"IF(AND($A89<>\"\",(S89+T89)>0),    IF(T$13=\"Nm3\",(U$12*1000*1000/((S$242+T$242+S$243+T$243)*1000*  $K89 * Data!$B$6)),  (U$12*1000*1000/(((S$242+T$242+S$243+T$243)/Denscalc($K89))*1000*  $K89 * Data!$B$6)) ), 0     )","v":0},66,null,null,{"$f":"IF(AND($A89<>\"\",(W89+X89)>0),     IF(X$13=\"Nm3\",(Y$12*1000*1000/((W$242+X$242+W$243+X$243)*1000*  $K89 * Data!$B$6)),  (Y$12*1000*1000/(((W$242+X$242+W$243+X$243)/Denscalc($K89))*1000*  $K89 * Data!$B$6)) ), 0   )","v":0},66,null,null,{"$f":"IF(AND($A89<>\"\",(AA89+AB89)>0),     IF(AB$13=\"Nm3\",(AC$12*1000*1000/((AA$242+AB$242+AA$243+AB$243)*1000*  $K89 * Data!$B$6)),  (AC$12*1000*1000/(((AA$242+AB$242+AA$243+AB$243)/Denscalc($K89))*1000*  $K89 * Data!$B$6)) ), 0     )","v":0},66,null,null,{"$f":"IF(AND($A89<>\"\",(AE89+AF89)>0),     IF(AF$13=\"Nm3\",(AG$12*1000*1000/((AE$242+AF$242+AE$243+AF$243)*1000*  $K89 * Data!$B$6)),  (AG$12*1000*1000/(((AE$242+AF$242+AE$243+AF$243)/Denscalc($K89))*1000*  $K89 * Data!$B$6)) ), 0    )","v":0},66,null,null,{"$f":"IF(AND($A89<>\"\",(AI89+AJ89)>0),    IF(AJ$13=\"Nm3\",(AK$12*1000*1000/((AI$242+AJ$242+AI$243+AJ$243)*1000*  $K89 * Data!$B$6)),  (AK$12*1000*1000/(((AI$242+AJ$242+AI$243+AJ$243)/Denscalc($K89))*1000*  $K89 * Data!$B$6)) ), 0    )","v":0},66,null,null,{"$f":"IF(AND($A89<>\"\",(AM89+AN89)>0),     IF(AN$13=\"Nm3\",(AO$12*1000*1000/((AM$242+AN$242+AM$243+AN$243)*1000*  $K89 * Data!$B$6)),  (AO$12*1000*1000/(((AM$242+AN$242+AM$243+AN$243)/Denscalc($K89))*1000*  $K89 * Data!$B$6)) ), 0    )","v":0},66,null,null,{"$f":"IF(AND($A89<>\"\",(AQ89+AR89)>0),     IF(AR$13=\"Nm3\",(AS$12*1000*1000/((AQ$242+AR$242+AQ$243+AR$243)*1000*  $K89 * Data!$B$6)),  (AS$12*1000*1000/(((AQ$242+AR$242+AQ$243+AR$243)/Denscalc($K89))*1000*  $K89 * Data!$B$6)) ), 0     )","v":0},66,null,null,{"$f":"IF(AND($A89<>\"\",(AU89+AV89)>0),     IF(AV$13=\"Nm3\",(AW$12*1000*1000/((AU$242+AV$242+AU$243+AV$243)*1000*  $K89 * Data!$B$6)),  (AW$12*1000*1000/(((AU$242+AV$242+AU$243+AV$243)/Denscalc($K89))*1000*  $K89 * Data!$B$6)) ), 0   )","v":0},66,null,null,{"$f":"IF(AND(BA$11>0,$A89<>\"\",(AY89+AZ89)>0), BA$11, IF(AND($A89<>\"\",(AY89+AZ89)>0),\nIF(AZ$13=\"Nm3\",(BA$6*1000*1000/((AY$242+AZ$242+AY$243+AZ$243)*1000*$K89*Data!$B$6))+((BA$12-BA$6)*1000*1000/((AY$242+AZ$242+AY$243+AZ$243-AY$241-AZ$241)*1000*$K89*Data!$B$6)),\n(BA$6*1000*1000/(((AY$242+AZ$242+AY$243+AZ$243)/Denscalc($K89))*1000*$K89*Data!$B$6))+((BA$12-BA$6)*1000*1000/(((AY$242+AZ$242+AY$243+AZ$243-AY$241-AZ$241)/Denscalc($K89))*1000*$K89*Data!$B$6))),0))","v":0},66,null,null,{"$f":"IF(AND(BE$11>0,$A89<>\"\",(BC89+BD89)>0), BE$11, IF(AND($A89<>\"\",(BC89+BD89)>0),\n (BE$6*1000*1000/((BC$244+BD$244)*1000* Data!$B$7))+ ((BE$12-BE$6)*1000*1000/((BC$244+BD$244-BC$241-BD$241)*1000* Data!$B$7)),0))","v":0},66,{"$f":"IF(A89<>\"\", (Data!$B$127*1000*Data!$B$3)/Data!$B$7,  \"\")","v":""},"","",{"$f":"IF(A89<>\"\",  ROUND( (Data!$B$8-BI89)/Data!$B$8,3),   \"\")","v":""},"","","","",{"$f":"IF(A89<>\"\",  IF(TYPE(BN89)=1, ROUND( (Data!$B$8-BN89)/Data!$B$8,3),   \"\"),\"\")","v":""},"",66,"","","",null,""]
[null,67,null,null,"",null,null,null,null,null,null,null,null,null,null,null,{"$f":"IF(AND($A90<>\"\",(O90+P90)>0),    IF(P$13=\"Nm3\",(Q$12*1000*1000/((O$242+P$242+O$243+P$243)*1000*  $K90 * Data!$B$6)),  (Q$12*1000*1000/(((O$242+P$242+O$243+P$243)/Denscalc($K90))*1000*  $K90 * Data!$B$6)) ), 0    )","v":0},67,null,null,{"$f":"IF(AND($A90<>\"\",(S90+T90)>0),    IF(T$13=\"Nm3\",(U$12*1000*1000/((S$242+T$242+S$243+T$243)*1000*  $K90 * Data!$B$6)),  (U$12*1000*1000/(((S$242+T$242+S$243+T$243)/Denscalc($K90))*1000*  $K90 * Data!$B$6)) ), 0     )","v":0},67,null,null,{"$f":"IF(AND($A90<>\"\",(W90+X90)>0),     IF(X$13=\"Nm3\",(Y$12*1000*1000/((W$242+X$242+W$243+X$243)*1000*  $K90 * Data!$B$6)),  (Y$12*1000*1000/(((W$242+X$242+W$243+X$243)/Denscalc($K90))*1000*  $K90 * Data!$B$6)) ), 0   )","v":0},67,null,null,{"$f":"IF(AND($A90<>\"\",(AA90+AB90)>0),     IF(AB$13=\"Nm3\",(AC$12*1000*1000/((AA$242+AB$242+AA$243+AB$243)*1000*  $K90 * Data!$B$6)),  (AC$12*1000*1000/(((AA$242+AB$242+AA$243+AB$243)/Denscalc($K90))*1000*  $K90 * Data!$B$6)) ), 0     )","v":0},67,null,null,{"$f":"IF(AND($A90<>\"\",(AE90+AF90)>0),     IF(AF$13=\"Nm3\",(AG$12*1000*1000/((AE$242+AF$242+AE$243+AF$243)*1000*  $K90 * Data!$B$6)),  (AG$12*1000*1000/(((AE$242+AF$242+AE$243+AF$243)/Denscalc($K90))*1000*  $K90 * Data!$B$6)) ), 0    )","v":0},67,null,null,{"$f":"IF(AND($A90<>\"\",(AI90+AJ90)>0),    IF(AJ$13=\"Nm3\",(AK$12*1000*1000/((AI$242+AJ$242+AI$243+AJ$243)*1000*  $K90 * Data!$B$6)),  (AK$12*1000*1000/(((AI$242+AJ$242+AI$243+AJ$243)/Denscalc($K90))*1000*  $K90 * Data!$B$6)) ), 0    )","v":0},67,null,null,{"$f":"IF(AND($A90<>\"\",(AM90+AN90)>0),     IF(AN$13=\"Nm3\",(AO$12*1000*1000/((AM$242+AN$242+AM$243+AN$243)*1000*  $K90 * Data!$B$6)),  (AO$12*1000*1000/(((AM$242+AN$242+AM$243+AN$243)/Denscalc($K90))*1000*  $K90 * Data!$B$6)) ), 0    )","v":0},67,null,null,{"$f":"IF(AND($A90<>\"\",(AQ90+AR90)>0),     IF(AR$13=\"Nm3\",(AS$12*1000*1000/((AQ$242+AR$242+AQ$243+AR$243)*1000*  $K90 * Data!$B$6)),  (AS$12*1000*1000/(((AQ$242+AR$242+AQ$243+AR$243)/Denscalc($K90))*1000*  $K90 * Data!$B$6)) ), 0     )","v":0},67,null,null,{"$f":"IF(AND($A90<>\"\",(AU90+AV90)>0),     IF(AV$13=\"Nm3\",(AW$12*1000*1000/((AU$242+AV$242+AU$243+AV$243)*1000*  $K90 * Data!$B$6)),  (AW$12*1000*1000/(((AU$242+AV$242+AU$243+AV$243)/Denscalc($K90))*1000*  $K90 * Data!$B$6)) ), 0   )","v":0},67,null,null,{"$f":"IF(AND(BA$11>0,$A90<>\"\",(AY90+AZ90)>0), BA$11, IF(AND($A90<>\"\",(AY90+AZ90)>0),\nIF(AZ$13=\"Nm3\",(BA$6*1000*1000/((AY$242+AZ$242+AY$243+AZ$243)*1000*$K90*Data!$B$6))+((BA$12-BA$6)*1000*1000/((AY$242+AZ$242+AY$243+AZ$243-AY$241-AZ$241)*1000*$K90*Data!$B$6)),\n(BA$6*1000*1000/(((AY$242+AZ$242+AY$243+AZ$243)/Denscalc($K90))*1000*$K90*Data!$B$6))+((BA$12-BA$6)*1000*1000/(((AY$242+AZ$242+AY$243+AZ$243-AY$241-AZ$241)/Denscalc($K90))*1000*$K90*Data!$B$6))),0))","v":0},67,null,null,{"$f":"IF(AND(BE$11>0,$A90<>\"\",(BC90+BD90)>0), BE$11, IF(AND($A90<>\"\",(BC90+BD90)>0),\n (BE$6*1000*1000/((BC$244+BD$244)*1000* Data!$B$7))+ ((BE$12-BE$6)*1000*1000/((BC$244+BD$244-BC$241-BD$241)*1000* Data!$B$7)),0))","v":0},67,{"$f":"IF(A90<>\"\", (Data!$B$127*1000*Data!$B$3)/Data!$B$7,  \"\")","v":""},"","",{"$f":"IF(A90<>\"\",  ROUND( (Data!$B$8-BI90)/Data!$B$8,3),   \"\")","v":""},"","","","",{"$f":"IF(A90<>\"\",  IF(TYPE(BN90)=1, ROUND( (Data!$B$8-BN90)/Data!$B$8,3),   \"\"),\"\")","v":""},"",67,"","","",null,""]
[null,68,null,null,"",null,null,null,null,null,null,null,null,null,null,null,{"$f":"IF(AND($A91<>\"\",(O91+P91)>0),    IF(P$13=\"Nm3\",(Q$12*1000*1000/((O$242+P$242+O$243+P$243)*1000*  $K91 * Data!$B$6)),  (Q$12*1000*1000/(((O$242+P$242+O$243+P$243)/Denscalc($K91))*1000*  $K91 * Data!$B$6)) ), 0    )","v":0},68,null,null,{"$f":"IF(AND($A91<>\"\",(S91+T91)>0),    IF(T$13=\"Nm3\",(U$12*1000*1000/((S$242+T$242+S$243+T$243)*1000*  $K91 * Data!$B$6)),  (U$12*1000*1000/(((S$242+T$242+S$243+T$243)/Denscalc($K91))*1000*  $K91 * Data!$B$6)) ), 0     )","v":0},68,null,null,{"$f":"IF(AND($A91<>\"\",(W91+X91)>0),     IF(X$13=\"Nm3\",(Y$12*1000*1000/((W$242+X$242+W$243+X$243)*1000*  $K91 * Data!$B$6)),  (Y$12*1000*1000/(((W$242+X$242+W$243+X$243)/Denscalc($K91))*1000*  $K91 * Data!$B$6)) ), 0   )","v":0},68,null,null,{"$f":"IF(AND($A91<>\"\",(AA91+AB91)>0),     IF(AB$13=\"Nm3\",(AC$12*1000*1000/((AA$242+AB$242+AA$243+AB$243)*1000*  $K91 * Data!$B$6)),  (AC$12*1000*1000/(((AA$242+AB$242+AA$243+AB$243)/Denscalc($K91))*1000*  $K91 * Data!$B$6)) ), 0     )","v":0},68,null,null,{"$f":"IF(AND($A91<>\"\",(AE91+AF91)>0),     IF(AF$13=\"Nm3\",(AG$12*1000*1000/((AE$242+AF$242+AE$243+AF$243)*1000*  $K91 * Data!$B$6)),  (AG$12*1000*1000/(((AE$242+AF$242+AE$243+AF$243)/Denscalc($K91))*1000*  $K91 * Data!$B$6)) ), 0    )","v":0},68,null,null,{"$f":"IF(AND($A91<>\"\",(AI91+AJ91)>0),    IF(AJ$13=\"Nm3\",(AK$12*1000*1000/((AI$242+AJ$242+AI$243+AJ$243)*1000*  $K91 * Data!$B$6)),  (AK$12*1000*1000/(((AI$242+AJ$242+AI$243+AJ$243)/Denscalc($K91))*1000*  $K91 * Data!$B$6)) ), 0    )","v":0},68,null,null,{"$f":"IF(AND($A91<>\"\",(AM91+AN91)>0),     IF(AN$13=\"Nm3\",(AO$12*1000*1000/((AM$242+AN$242+AM$243+AN$243)*1000*  $K91 * Data!$B$6)),  (AO$12*1000*1000/(((AM$242+AN$242+AM$243+AN$243)/Denscalc($K91))*1000*  $K91 * Data!$B$6)) ), 0    )","v":0},68,null,null,{"$f":"IF(AND($A91<>\"\",(AQ91+AR91)>0),     IF(AR$13=\"Nm3\",(AS$12*1000*1000/((AQ$242+AR$242+AQ$243+AR$243)*1000*  $K91 * Data!$B$6)),  (AS$12*1000*1000/(((AQ$242+AR$242+AQ$243+AR$243)/Denscalc($K91))*1000*  $K91 * Data!$B$6)) ), 0     )","v":0},68,null,null,{"$f":"IF(AND($A91<>\"\",(AU91+AV91)>0),     IF(AV$13=\"Nm3\",(AW$12*1000*1000/((AU$242+AV$242+AU$243+AV$243)*1000*  $K91 * Data!$B$6)),  (AW$12*1000*1000/(((AU$242+AV$242+AU$243+AV$243)/Denscalc($K91))*1000*  $K91 * Data!$B$6)) ), 0   )","v":0},68,null,null,{"$f":"IF(AND(BA$11>0,$A91<>\"\",(AY91+AZ91)>0), BA$11, IF(AND($A91<>\"\",(AY91+AZ91)>0),\nIF(AZ$13=\"Nm3\",(BA$6*1000*1000/((AY$242+AZ$242+AY$243+AZ$243)*1000*$K91*Data!$B$6))+((BA$12-BA$6)*1000*1000/((AY$242+AZ$242+AY$243+AZ$243-AY$241-AZ$241)*1000*$K91*Data!$B$6)),\n(BA$6*1000*1000/(((AY$242+AZ$242+AY$243+AZ$243)/Denscalc($K91))*1000*$K91*Data!$B$6))+((BA$12-BA$6)*1000*1000/(((AY$242+AZ$242+AY$243+AZ$243-AY$241-AZ$241)/Denscalc($K91))*1000*$K91*Data!$B$6))),0))","v":0},68,null,null,{"$f":"IF(AND(BE$11>0,$A91<>\"\",(BC91+BD91)>0), BE$11, IF(AND($A91<>\"\",(BC91+BD91)>0),\n (BE$6*1000*1000/((BC$244+BD$244)*1000* Data!$B$7))+ ((BE$12-BE$6)*1000*1000/((BC$244+BD$244-BC$241-BD$241)*1000* Data!$B$7)),0))","v":0},68,{"$f":"IF(A91<>\"\", (Data!$B$127*1000*Data!$B$3)/Data!$B$7,  \"\")","v":""},"","",{"$f":"IF(A91<>\"\",  ROUND( (Data!$B$8-BI91)/Data!$B$8,3),   \"\")","v":""},"","","","",{"$f":"IF(A91<>\"\",  IF(TYPE(BN91)=1, ROUND( (Data!$B$8-BN91)/Data!$B$8,3),   \"\"),\"\")","v":""},"",68,"","","",null,""]
[null,69,null,null,"",null,null,null,null,null,null,null,null,null,null,null,{"$f":"IF(AND($A92<>\"\",(O92+P92)>0),    IF(P$13=\"Nm3\",(Q$12*1000*1000/((O$242+P$242+O$243+P$243)*1000*  $K92 * Data!$B$6)),  (Q$12*1000*1000/(((O$242+P$242+O$243+P$243)/Denscalc($K92))*1000*  $K92 * Data!$B$6)) ), 0    )","v":0},69,null,null,{"$f":"IF(AND($A92<>\"\",(S92+T92)>0),    IF(T$13=\"Nm3\",(U$12*1000*1000/((S$242+T$242+S$243+T$243)*1000*  $K92 * Data!$B$6)),  (U$12*1000*1000/(((S$242+T$242+S$243+T$243)/Denscalc($K92))*1000*  $K92 * Data!$B$6)) ), 0     )","v":0},69,null,null,{"$f":"IF(AND($A92<>\"\",(W92+X92)>0),     IF(X$13=\"Nm3\",(Y$12*1000*1000/((W$242+X$242+W$243+X$243)*1000*  $K92 * Data!$B$6)),  (Y$12*1000*1000/(((W$242+X$242+W$243+X$243)/Denscalc($K92))*1000*  $K92 * Data!$B$6)) ), 0   )","v":0},69,null,null,{"$f":"IF(AND($A92<>\"\",(AA92+AB92)>0),     IF(AB$13=\"Nm3\",(AC$12*1000*1000/((AA$242+AB$242+AA$243+AB$243)*1000*  $K92 * Data!$B$6)),  (AC$12*1000*1000/(((AA$242+AB$242+AA$243+AB$243)/Denscalc($K92))*1000*  $K92 * Data!$B$6)) ), 0     )","v":0},69,null,null,{"$f":"IF(AND($A92<>\"\",(AE92+AF92)>0),     IF(AF$13=\"Nm3\",(AG$12*1000*1000/((AE$242+AF$242+AE$243+AF$243)*1000*  $K92 * Data!$B$6)),  (AG$12*1000*1000/(((AE$242+AF$242+AE$243+AF$243)/Denscalc($K92))*1000*  $K92 * Data!$B$6)) ), 0    )","v":0},69,null,null,{"$f":"IF(AND($A92<>\"\",(AI92+AJ92)>0),    IF(AJ$13=\"Nm3\",(AK$12*1000*1000/((AI$242+AJ$242+AI$243+AJ$243)*1000*  $K92 * Data!$B$6)),  (AK$12*1000*1000/(((AI$242+AJ$242+AI$243+AJ$243)/Denscalc($K92))*1000*  $K92 * Data!$B$6)) ), 0    )","v":0},69,null,null,{"$f":"IF(AND($A92<>\"\",(AM92+AN92)>0),     IF(AN$13=\"Nm3\",(AO$12*1000*1000/((AM$242+AN$242+AM$243+AN$243)*1000*  $K92 * Data!$B$6)),  (AO$12*1000*1000/(((AM$242+AN$242+AM$243+AN$243)/Denscalc($K92))*1000*  $K92 * Data!$B$6)) ), 0    )","v":0},69,null,null,{"$f":"IF(AND($A92<>\"\",(AQ92+AR92)>0),     IF(AR$13=\"Nm3\",(AS$12*1000*1000/((AQ$242+AR$242+AQ$243+AR$243)*1000*  $K92 * Data!$B$6)),  (AS$12*1000*1000/(((AQ$242+AR$242+AQ$243+AR$243)/Denscalc($K92))*1000*  $K92 * Data!$B$6)) ), 0     )","v":0},69,null,null,{"$f":"IF(AND($A92<>\"\",(AU92+AV92)>0),     IF(AV$13=\"Nm3\",(AW$12*1000*1000/((AU$242+AV$242+AU$243+AV$243)*1000*  $K92 * Data!$B$6)),  (AW$12*1000*1000/(((AU$242+AV$242+AU$243+AV$243)/Denscalc($K92))*1000*  $K92 * Data!$B$6)) ), 0   )","v":0},69,null,null,{"$f":"IF(AND(BA$11>0,$A92<>\"\",(AY92+AZ92)>0), BA$11, IF(AND($A92<>\"\",(AY92+AZ92)>0),\nIF(AZ$13=\"Nm3\",(BA$6*1000*1000/((AY$242+AZ$242+AY$243+AZ$243)*1000*$K92*Data!$B$6))+((BA$12-BA$6)*1000*1000/((AY$242+AZ$242+AY$243+AZ$243-AY$241-AZ$241)*1000*$K92*Data!$B$6)),\n(BA$6*1000*1000/(((AY$242+AZ$242+AY$243+AZ$243)/Denscalc($K92))*1000*$K92*Data!$B$6))+((BA$12-BA$6)*1000*1000/(((AY$242+AZ$242+AY$243+AZ$243-AY$241-AZ$241)/Denscalc($K92))*1000*$K92*Data!$B$6))),0))","v":0},69,null,null,{"$f":"IF(AND(BE$11>0,$A92<>\"\",(BC92+BD92)>0), BE$11, IF(AND($A92<>\"\",(BC92+BD92)>0),\n (BE$6*1000*1000/((BC$244+BD$244)*1000* Data!$B$7))+ ((BE$12-BE$6)*1000*1000/((BC$244+BD$244-BC$241-BD$241)*1000* Data!$B$7)),0))","v":0},69,{"$f":"IF(A92<>\"\", (Data!$B$127*1000*Data!$B$3)/Data!$B$7,  \"\")","v":""},"","",{"$f":"IF(A92<>\"\",  ROUND( (Data!$B$8-BI92)/Data!$B$8,3),   \"\")","v":""},"","","","",{"$f":"IF(A92<>\"\",  IF(TYPE(BN92)=1, ROUND( (Data!$B$8-BN92)/Data!$B$8,3),   \"\"),\"\")","v":""},"",69,"","","",null,""]
[null,70,null,null,"",null,null,null,null,null,null,null,null,null,null,null,{"$f":"IF(AND($A93<>\"\",(O93+P93)>0),    IF(P$13=\"Nm3\",(Q$12*1000*1000/((O$242+P$242+O$243+P$243)*1000*  $K93 * Data!$B$6)),  (Q$12*1000*1000/(((O$242+P$242+O$243+P$243)/Denscalc($K93))*1000*  $K93 * Data!$B$6)) ), 0    )","v":0},70,null,null,{"$f":"IF(AND($A93<>\"\",(S93+T93)>0),    IF(T$13=\"Nm3\",(U$12*1000*1000/((S$242+T$242+S$243+T$243)*1000*  $K93 * Data!$B$6)),  (U$12*1000*1000/(((S$242+T$242+S$243+T$243)/Denscalc($K93))*1000*  $K93 * Data!$B$6)) ), 0     )","v":0},70,null,null,{"$f":"IF(AND($A93<>\"\",(W93+X93)>0),     IF(X$13=\"Nm3\",(Y$12*1000*1000/((W$242+X$242+W$243+X$243)*1000*  $K93 * Data!$B$6)),  (Y$12*1000*1000/(((W$242+X$242+W$243+X$243)/Denscalc($K93))*1000*  $K93 * Data!$B$6)) ), 0   )","v":0},70,null,null,{"$f":"IF(AND($A93<>\"\",(AA93+AB93)>0),     IF(AB$13=\"Nm3\",(AC$12*1000*1000/((AA$242+AB$242+AA$243+AB$243)*1000*  $K93 * Data!$B$6)),  (AC$12*1000*1000/(((AA$242+AB$242+AA$243+AB$243)/Denscalc($K93))*1000*  $K93 * Data!$B$6)) ), 0     )","v":0},70,null,null,{"$f":"IF(AND($A93<>\"\",(AE93+AF93)>0),     IF(AF$13=\"Nm3\",(AG$12*1000*1000/((AE$242+AF$242+AE$243+AF$243)*1000*  $K93 * Data!$B$6)),  (AG$12*1000*1000/(((AE$242+AF$242+AE$243+AF$243)/Denscalc($K93))*1000*  $K93 * Data!$B$6)) ), 0    )","v":0},70,null,null,{"$f":"IF(AND($A93<>\"\",(AI93+AJ93)>0),    IF(AJ$13=\"Nm3\",(AK$12*1000*1000/((AI$242+AJ$242+AI$243+AJ$243)*1000*  $K93 * Data!$B$6)),  (AK$12*1000*1000/(((AI$242+AJ$242+AI$243+AJ$243)/Denscalc($K93))*1000*  $K93 * Data!$B$6)) ), 0    )","v":0},70,null,null,{"$f":"IF(AND($A93<>\"\",(AM93+AN93)>0),     IF(AN$13=\"Nm3\",(AO$12*1000*1000/((AM$242+AN$242+AM$243+AN$243)*1000*  $K93 * Data!$B$6)),  (AO$12*1000*1000/(((AM$242+AN$242+AM$243+AN$243)/Denscalc($K93))*1000*  $K93 * Data!$B$6)) ), 0    )","v":0},70,null,null,{"$f":"IF(AND($A93<>\"\",(AQ93+AR93)>0),     IF(AR$13=\"Nm3\",(AS$12*1000*1000/((AQ$242+AR$242+AQ$243+AR$243)*1000*  $K93 * Data!$B$6)),  (AS$12*1000*1000/(((AQ$242+AR$242+AQ$243+AR$243)/Denscalc($K93))*1000*  $K93 * Data!$B$6)) ), 0     )","v":0},70,null,null,{"$f":"IF(AND($A93<>\"\",(AU93+AV93)>0),     IF(AV$13=\"Nm3\",(AW$12*1000*1000/((AU$242+AV$242+AU$243+AV$243)*1000*  $K93 * Data!$B$6)),  (AW$12*1000*1000/(((AU$242+AV$242+AU$243+AV$243)/Denscalc($K93))*1000*  $K93 * Data!$B$6)) ), 0   )","v":0},70,null,null,{"$f":"IF(AND(BA$11>0,$A93<>\"\",(AY93+AZ93)>0), BA$11, IF(AND($A93<>\"\",(AY93+AZ93)>0),\nIF(AZ$13=\"Nm3\",(BA$6*1000*1000/((AY$242+AZ$242+AY$243+AZ$243)*1000*$K93*Data!$B$6))+((BA$12-BA$6)*1000*1000/((AY$242+AZ$242+AY$243+AZ$243-AY$241-AZ$241)*1000*$K93*Data!$B$6)),\n(BA$6*1000*1000/(((AY$242+AZ$242+AY$243+AZ$243)/Denscalc($K93))*1000*$K93*Data!$B$6))+((BA$12-BA$6)*1000*1000/(((AY$242+AZ$242+AY$243+AZ$243-AY$241-AZ$241)/Denscalc($K93))*1000*$K93*Data!$B$6))),0))","v":0},70,null,null,{"$f":"IF(AND(BE$11>0,$A93<>\"\",(BC93+BD93)>0), BE$11, IF(AND($A93<>\"\",(BC93+BD93)>0),\n (BE$6*1000*1000/((BC$244+BD$244)*1000* Data!$B$7))+ ((BE$12-BE$6)*1000*1000/((BC$244+BD$244-BC$241-BD$241)*1000* Data!$B$7)),0))","v":0},70,{"$f":"IF(A93<>\"\", (Data!$B$127*1000*Data!$B$3)/Data!$B$7,  \"\")","v":""},"","",{"$f":"IF(A93<>\"\",  ROUND( (Data!$B$8-BI93)/Data!$B$8,3),   \"\")","v":""},"","","","",{"$f":"IF(A93<>\"\",  IF(TYPE(BN93)=1, ROUND( (Data!$B$8-BN93)/Data!$B$8,3),   \"\"),\"\")","v":""},"",70,"","","",null,""]
[null,71,null,null,"",null,null,null,null,null,null,null,null,null,null,null,{"$f":"IF(AND($A94<>\"\",(O94+P94)>0),    IF(P$13=\"Nm3\",(Q$12*1000*1000/((O$242+P$242+O$243+P$243)*1000*  $K94 * Data!$B$6)),  (Q$12*1000*1000/(((O$242+P$242+O$243+P$243)/Denscalc($K94))*1000*  $K94 * Data!$B$6)) ), 0    )","v":0},71,null,null,{"$f":"IF(AND($A94<>\"\",(S94+T94)>0),    IF(T$13=\"Nm3\",(U$12*1000*1000/((S$242+T$242+S$243+T$243)*1000*  $K94 * Data!$B$6)),  (U$12*1000*1000/(((S$242+T$242+S$243+T$243)/Denscalc($K94))*1000*  $K94 * Data!$B$6)) ), 0     )","v":0},71,null,null,{"$f":"IF(AND($A94<>\"\",(W94+X94)>0),     IF(X$13=\"Nm3\",(Y$12*1000*1000/((W$242+X$242+W$243+X$243)*1000*  $K94 * Data!$B$6)),  (Y$12*1000*1000/(((W$242+X$242+W$243+X$243)/Denscalc($K94))*1000*  $K94 * Data!$B$6)) ), 0   )","v":0},71,null,null,{"$f":"IF(AND($A94<>\"\",(AA94+AB94)>0),     IF(AB$13=\"Nm3\",(AC$12*1000*1000/((AA$242+AB$242+AA$243+AB$243)*1000*  $K94 * Data!$B$6)),  (AC$12*1000*1000/(((AA$242+AB$242+AA$243+AB$243)/Denscalc($K94))*1000*  $K94 * Data!$B$6)) ), 0     )","v":0},71,null,null,{"$f":"IF(AND($A94<>\"\",(AE94+AF94)>0),     IF(AF$13=\"Nm3\",(AG$12*1000*1000/((AE$242+AF$242+AE$243+AF$243)*1000*  $K94 * Data!$B$6)),  (AG$12*1000*1000/(((AE$242+AF$242+AE$243+AF$243)/Denscalc($K94))*1000*  $K94 * Data!$B$6)) ), 0    )","v":0},71,null,null,{"$f":"IF(AND($A94<>\"\",(AI94+AJ94)>0),    IF(AJ$13=\"Nm3\",(AK$12*1000*1000/((AI$242+AJ$242+AI$243+AJ$243)*1000*  $K94 * Data!$B$6)),  (AK$12*1000*1000/(((AI$242+AJ$242+AI$243+AJ$243)/Denscalc($K94))*1000*  $K94 * Data!$B$6)) ), 0    )","v":0},71,null,null,{"$f":"IF(AND($A94<>\"\",(AM94+AN94)>0),     IF(AN$13=\"Nm3\",(AO$12*1000*1000/((AM$242+AN$242+AM$243+AN$243)*1000*  $K94 * Data!$B$6)),  (AO$12*1000*1000/(((AM$242+AN$242+AM$243+AN$243)/Denscalc($K94))*1000*  $K94 * Data!$B$6)) ), 0    )","v":0},71,null,null,{"$f":"IF(AND($A94<>\"\",(AQ94+AR94)>0),     IF(AR$13=\"Nm3\",(AS$12*1000*1000/((AQ$242+AR$242+AQ$243+AR$243)*1000*  $K94 * Data!$B$6)),  (AS$12*1000*1000/(((AQ$242+AR$242+AQ$243+AR$243)/Denscalc($K94))*1000*  $K94 * Data!$B$6)) ), 0     )","v":0},71,null,null,{"$f":"IF(AND($A94<>\"\",(AU94+AV94)>0),     IF(AV$13=\"Nm3\",(AW$12*1000*1000/((AU$242+AV$242+AU$243+AV$243)*1000*  $K94 * Data!$B$6)),  (AW$12*1000*1000/(((AU$242+AV$242+AU$243+AV$243)/Denscalc($K94))*1000*  $K94 * Data!$B$6)) ), 0   )","v":0},71,null,null,{"$f":"IF(AND(BA$11>0,$A94<>\"\",(AY94+AZ94)>0), BA$11, IF(AND($A94<>\"\",(AY94+AZ94)>0),\nIF(AZ$13=\"Nm3\",(BA$6*1000*1000/((AY$242+AZ$242+AY$243+AZ$243)*1000*$K94*Data!$B$6))+((BA$12-BA$6)*1000*1000/((AY$242+AZ$242+AY$243+AZ$243-AY$241-AZ$241)*1000*$K94*Data!$B$6)),\n(BA$6*1000*1000/(((AY$242+AZ$242+AY$243+AZ$243)/Denscalc($K94))*1000*$K94*Data!$B$6))+((BA$12-BA$6)*1000*1000/(((AY$242+AZ$242+AY$243+AZ$243-AY$241-AZ$241)/Denscalc($K94))*1000*$K94*Data!$B$6))),0))","v":0},71,null,null,{"$f":"IF(AND(BE$11>0,$A94<>\"\",(BC94+BD94)>0), BE$11, IF(AND($A94<>\"\",(BC94+BD94)>0),\n (BE$6*1000*1000/((BC$244+BD$244)*1000* Data!$B$7))+ ((BE$12-BE$6)*1000*1000/((BC$244+BD$244-BC$241-BD$241)*1000* Data!$B$7)),0))","v":0},71,{"$f":"IF(A94<>\"\", (Data!$B$127*1000*Data!$B$3)/Data!$B$7,  \"\")","v":""},"","",{"$f":"IF(A94<>\"\",  ROUND( (Data!$B$8-BI94)/Data!$B$8,3),   \"\")","v":""},"","","","",{"$f":"IF(A94<>\"\",  IF(TYPE(BN94)=1, ROUND( (Data!$B$8-BN94)/Data!$B$8,3),   \"\"),\"\")","v":""},"",71,"","","",null,""]
[null,72,null,null,"",null,null,null,null,null,null,null,null,null,null,null,{"$f":"IF(AND($A95<>\"\",(O95+P95)>0),    IF(P$13=\"Nm3\",(Q$12*1000*1000/((O$242+P$242+O$243+P$243)*1000*  $K95 * Data!$B$6)),  (Q$12*1000*1000/(((O$242+P$242+O$243+P$243)/Denscalc($K95))*1000*  $K95 * Data!$B$6)) ), 0    )","v":0},72,null,null,{"$f":"IF(AND($A95<>\"\",(S95+T95)>0),    IF(T$13=\"Nm3\",(U$12*1000*1000/((S$242+T$242+S$243+T$243)*1000*  $K95 * Data!$B$6)),  (U$12*1000*1000/(((S$242+T$242+S$243+T$243)/Denscalc($K95))*1000*  $K95 * Data!$B$6)) ), 0     )","v":0},72,null,null,{"$f":"IF(AND($A95<>\"\",(W95+X95)>0),     IF(X$13=\"Nm3\",(Y$12*1000*1000/((W$242+X$242+W$243+X$243)*1000*  $K95 * Data!$B$6)),  (Y$12*1000*1000/(((W$242+X$242+W$243+X$243)/Denscalc($K95))*1000*  $K95 * Data!$B$6)) ), 0   )","v":0},72,null,null,{"$f":"IF(AND($A95<>\"\",(AA95+AB95)>0),     IF(AB$13=\"Nm3\",(AC$12*1000*1000/((AA$242+AB$242+AA$243+AB$243)*1000*  $K95 * Data!$B$6)),  (AC$12*1000*1000/(((AA$242+AB$242+AA$243+AB$243)/Denscalc($K95))*1000*  $K95 * Data!$B$6)) ), 0     )","v":0},72,null,null,{"$f":"IF(AND($A95<>\"\",(AE95+AF95)>0),     IF(AF$13=\"Nm3\",(AG$12*1000*1000/((AE$242+AF$242+AE$243+AF$243)*1000*  $K95 * Data!$B$6)),  (AG$12*1000*1000/(((AE$242+AF$242+AE$243+AF$243)/Denscalc($K95))*1000*  $K95 * Data!$B$6)) ), 0    )","v":0},72,null,null,{"$f":"IF(AND($A95<>\"\",(AI95+AJ95)>0),    IF(AJ$13=\"Nm3\",(AK$12*1000*1000/((AI$242+AJ$242+AI$243+AJ$243)*1000*  $K95 * Data!$B$6)),  (AK$12*1000*1000/(((AI$242+AJ$242+AI$243+AJ$243)/Denscalc($K95))*1000*  $K95 * Data!$B$6)) ), 0    )","v":0},72,null,null,{"$f":"IF(AND($A95<>\"\",(AM95+AN95)>0),     IF(AN$13=\"Nm3\",(AO$12*1000*1000/((AM$242+AN$242+AM$243+AN$243)*1000*  $K95 * Data!$B$6)),  (AO$12*1000*1000/(((AM$242+AN$242+AM$243+AN$243)/Denscalc($K95))*1000*  $K95 * Data!$B$6)) ), 0    )","v":0},72,null,null,{"$f":"IF(AND($A95<>\"\",(AQ95+AR95)>0),     IF(AR$13=\"Nm3\",(AS$12*1000*1000/((AQ$242+AR$242+AQ$243+AR$243)*1000*  $K95 * Data!$B$6)),  (AS$12*1000*1000/(((AQ$242+AR$242+AQ$243+AR$243)/Denscalc($K95))*1000*  $K95 * Data!$B$6)) ), 0     )","v":0},72,null,null,{"$f":"IF(AND($A95<>\"\",(AU95+AV95)>0),     IF(AV$13=\"Nm3\",(AW$12*1000*1000/((AU$242+AV$242+AU$243+AV$243)*1000*  $K95 * Data!$B$6)),  (AW$12*1000*1000/(((AU$242+AV$242+AU$243+AV$243)/Denscalc($K95))*1000*  $K95 * Data!$B$6)) ), 0   )","v":0},72,null,null,{"$f":"IF(AND(BA$11>0,$A95<>\"\",(AY95+AZ95)>0), BA$11, IF(AND($A95<>\"\",(AY95+AZ95)>0),\nIF(AZ$13=\"Nm3\",(BA$6*1000*1000/((AY$242+AZ$242+AY$243+AZ$243)*1000*$K95*Data!$B$6))+((BA$12-BA$6)*1000*1000/((AY$242+AZ$242+AY$243+AZ$243-AY$241-AZ$241)*1000*$K95*Data!$B$6)),\n(BA$6*1000*1000/(((AY$242+AZ$242+AY$243+AZ$243)/Denscalc($K95))*1000*$K95*Data!$B$6))+((BA$12-BA$6)*1000*1000/(((AY$242+AZ$242+AY$243+AZ$243-AY$241-AZ$241)/Denscalc($K95))*1000*$K95*Data!$B$6))),0))","v":0},72,null,null,{"$f":"IF(AND(BE$11>0,$A95<>\"\",(BC95+BD95)>0), BE$11, IF(AND($A95<>\"\",(BC95+BD95)>0),\n (BE$6*1000*1000/((BC$244+BD$244)*1000* Data!$B$7))+ ((BE$12-BE$6)*1000*1000/((BC$244+BD$244-BC$241-BD$241)*1000* Data!$B$7)),0))","v":0},72,{"$f":"IF(A95<>\"\", (Data!$B$127*1000*Data!$B$3)/Data!$B$7,  \"\")","v":""},"","",{"$f":"IF(A95<>\"\",  ROUND( (Data!$B$8-BI95)/Data!$B$8,3),   \"\")","v":""},"","","","",{"$f":"IF(A95<>\"\",  IF(TYPE(BN95)=1, ROUND( (Data!$B$8-BN95)/Data!$B$8,3),   \"\"),\"\")","v":""},"",72,"","","",null,""]
[null,73,null,null,"",null,null,null,null,null,null,null,null,null,null,null,{"$f":"IF(AND($A96<>\"\",(O96+P96)>0),    IF(P$13=\"Nm3\",(Q$12*1000*1000/((O$242+P$242+O$243+P$243)*1000*  $K96 * Data!$B$6)),  (Q$12*1000*1000/(((O$242+P$242+O$243+P$243)/Denscalc($K96))*1000*  $K96 * Data!$B$6)) ), 0    )","v":0},73,null,null,{"$f":"IF(AND($A96<>\"\",(S96+T96)>0),    IF(T$13=\"Nm3\",(U$12*1000*1000/((S$242+T$242+S$243+T$243)*1000*  $K96 * Data!$B$6)),  (U$12*1000*1000/(((S$242+T$242+S$243+T$243)/Denscalc($K96))*1000*  $K96 * Data!$B$6)) ), 0     )","v":0},73,null,null,{"$f":"IF(AND($A96<>\"\",(W96+X96)>0),     IF(X$13=\"Nm3\",(Y$12*1000*1000/((W$242+X$242+W$243+X$243)*1000*  $K96 * Data!$B$6)),  (Y$12*1000*1000/(((W$242+X$242+W$243+X$243)/Denscalc($K96))*1000*  $K96 * Data!$B$6)) ), 0   )","v":0},73,null,null,{"$f":"IF(AND($A96<>\"\",(AA96+AB96)>0),     IF(AB$13=\"Nm3\",(AC$12*1000*1000/((AA$242+AB$242+AA$243+AB$243)*1000*  $K96 * Data!$B$6)),  (AC$12*1000*1000/(((AA$242+AB$242+AA$243+AB$243)/Denscalc($K96))*1000*  $K96 * Data!$B$6)) ), 0     )","v":0},73,null,null,{"$f":"IF(AND($A96<>\"\",(AE96+AF96)>0),     IF(AF$13=\"Nm3\",(AG$12*1000*1000/((AE$242+AF$242+AE$243+AF$243)*1000*  $K96 * Data!$B$6)),  (AG$12*1000*1000/(((AE$242+AF$242+AE$243+AF$243)/Denscalc($K96))*1000*  $K96 * Data!$B$6)) ), 0    )","v":0},73,null,null,{"$f":"IF(AND($A96<>\"\",(AI96+AJ96)>0),    IF(AJ$13=\"Nm3\",(AK$12*1000*1000/((AI$242+AJ$242+AI$243+AJ$243)*1000*  $K96 * Data!$B$6)),  (AK$12*1000*1000/(((AI$242+AJ$242+AI$243+AJ$243)/Denscalc($K96))*1000*  $K96 * Data!$B$6)) ), 0    )","v":0},73,null,null,{"$f":"IF(AND($A96<>\"\",(AM96+AN96)>0),     IF(AN$13=\"Nm3\",(AO$12*1000*1000/((AM$242+AN$242+AM$243+AN$243)*1000*  $K96 * Data!$B$6)),  (AO$12*1000*1000/(((AM$242+AN$242+AM$243+AN$243)/Denscalc($K96))*1000*  $K96 * Data!$B$6)) ), 0    )","v":0},73,null,null,{"$f":"IF(AND($A96<>\"\",(AQ96+AR96)>0),     IF(AR$13=\"Nm3\",(AS$12*1000*1000/((AQ$242+AR$242+AQ$243+AR$243)*1000*  $K96 * Data!$B$6)),  (AS$12*1000*1000/(((AQ$242+AR$242+AQ$243+AR$243)/Denscalc($K96))*1000*  $K96 * Data!$B$6)) ), 0     )","v":0},73,null,null,{"$f":"IF(AND($A96<>\"\",(AU96+AV96)>0),     IF(AV$13=\"Nm3\",(AW$12*1000*1000/((AU$242+AV$242+AU$243+AV$243)*1000*  $K96 * Data!$B$6)),  (AW$12*1000*1000/(((AU$242+AV$242+AU$243+AV$243)/Denscalc($K96))*1000*  $K96 * Data!$B$6)) ), 0   )","v":0},73,null,null,{"$f":"IF(AND(BA$11>0,$A96<>\"\",(AY96+AZ96)>0), BA$11, IF(AND($A96<>\"\",(AY96+AZ96)>0),\nIF(AZ$13=\"Nm3\",(BA$6*1000*1000/((AY$242+AZ$242+AY$243+AZ$243)*1000*$K96*Data!$B$6))+((BA$12-BA$6)*1000*1000/((AY$242+AZ$242+AY$243+AZ$243-AY$241-AZ$241)*1000*$K96*Data!$B$6)),\n(BA$6*1000*1000/(((AY$242+AZ$242+AY$243+AZ$243)/Denscalc($K96))*1000*$K96*Data!$B$6))+((BA$12-BA$6)*1000*1000/(((AY$242+AZ$242+AY$243+AZ$243-AY$241-AZ$241)/Denscalc($K96))*1000*$K96*Data!$B$6))),0))","v":0},73,null,null,{"$f":"IF(AND(BE$11>0,$A96<>\"\",(BC96+BD96)>0), BE$11, IF(AND($A96<>\"\",(BC96+BD96)>0),\n (BE$6*1000*1000/((BC$244+BD$244)*1000* Data!$B$7))+ ((BE$12-BE$6)*1000*1000/((BC$244+BD$244-BC$241-BD$241)*1000* Data!$B$7)),0))","v":0},73,{"$f":"IF(A96<>\"\", (Data!$B$127*1000*Data!$B$3)/Data!$B$7,  \"\")","v":""},"","",{"$f":"IF(A96<>\"\",  ROUND( (Data!$B$8-BI96)/Data!$B$8,3),   \"\")","v":""},"","","","",{"$f":"IF(A96<>\"\",  IF(TYPE(BN96)=1, ROUND( (Data!$B$8-BN96)/Data!$B$8,3),   \"\"),\"\")","v":""},"",73,"","","",null,""]
[null,74,null,null,"",null,null,null,null,null,null,null,null,null,null,null,{"$f":"IF(AND($A97<>\"\",(O97+P97)>0),    IF(P$13=\"Nm3\",(Q$12*1000*1000/((O$242+P$242+O$243+P$243)*1000*  $K97 * Data!$B$6)),  (Q$12*1000*1000/(((O$242+P$242+O$243+P$243)/Denscalc($K97))*1000*  $K97 * Data!$B$6)) ), 0    )","v":0},74,null,null,{"$f":"IF(AND($A97<>\"\",(S97+T97)>0),    IF(T$13=\"Nm3\",(U$12*1000*1000/((S$242+T$242+S$243+T$243)*1000*  $K97 * Data!$B$6)),  (U$12*1000*1000/(((S$242+T$242+S$243+T$243)/Denscalc($K97))*1000*  $K97 * Data!$B$6)) ), 0     )","v":0},74,null,null,{"$f":"IF(AND($A97<>\"\",(W97+X97)>0),     IF(X$13=\"Nm3\",(Y$12*1000*1000/((W$242+X$242+W$243+X$243)*1000*  $K97 * Data!$B$6)),  (Y$12*1000*1000/(((W$242+X$242+W$243+X$243)/Denscalc($K97))*1000*  $K97 * Data!$B$6)) ), 0   )","v":0},74,null,null,{"$f":"IF(AND($A97<>\"\",(AA97+AB97)>0),     IF(AB$13=\"Nm3\",(AC$12*1000*1000/((AA$242+AB$242+AA$243+AB$243)*1000*  $K97 * Data!$B$6)),  (AC$12*1000*1000/(((AA$242+AB$242+AA$243+AB$243)/Denscalc($K97))*1000*  $K97 * Data!$B$6)) ), 0     )","v":0},74,null,null,{"$f":"IF(AND($A97<>\"\",(AE97+AF97)>0),     IF(AF$13=\"Nm3\",(AG$12*1000*1000/((AE$242+AF$242+AE$243+AF$243)*1000*  $K97 * Data!$B$6)),  (AG$12*1000*1000/(((AE$242+AF$242+AE$243+AF$243)/Denscalc($K97))*1000*  $K97 * Data!$B$6)) ), 0    )","v":0},74,null,null,{"$f":"IF(AND($A97<>\"\",(AI97+AJ97)>0),    IF(AJ$13=\"Nm3\",(AK$12*1000*1000/((AI$242+AJ$242+AI$243+AJ$243)*1000*  $K97 * Data!$B$6)),  (AK$12*1000*1000/(((AI$242+AJ$242+AI$243+AJ$243)/Denscalc($K97))*1000*  $K97 * Data!$B$6)) ), 0    )","v":0},74,null,null,{"$f":"IF(AND($A97<>\"\",(AM97+AN97)>0),     IF(AN$13=\"Nm3\",(AO$12*1000*1000/((AM$242+AN$242+AM$243+AN$243)*1000*  $K97 * Data!$B$6)),  (AO$12*1000*1000/(((AM$242+AN$242+AM$243+AN$243)/Denscalc($K97))*1000*  $K97 * Data!$B$6)) ), 0    )","v":0},74,null,null,{"$f":"IF(AND($A97<>\"\",(AQ97+AR97)>0),     IF(AR$13=\"Nm3\",(AS$12*1000*1000/((AQ$242+AR$242+AQ$243+AR$243)*1000*  $K97 * Data!$B$6)),  (AS$12*1000*1000/(((AQ$242+AR$242+AQ$243+AR$243)/Denscalc($K97))*1000*  $K97 * Data!$B$6)) ), 0     )","v":0},74,null,null,{"$f":"IF(AND($A97<>\"\",(AU97+AV97)>0),     IF(AV$13=\"Nm3\",(AW$12*1000*1000/((AU$242+AV$242+AU$243+AV$243)*1000*  $K97 * Data!$B$6)),  (AW$12*1000*1000/(((AU$242+AV$242+AU$243+AV$243)/Denscalc($K97))*1000*  $K97 * Data!$B$6)) ), 0   )","v":0},74,null,null,{"$f":"IF(AND(BA$11>0,$A97<>\"\",(AY97+AZ97)>0), BA$11, IF(AND($A97<>\"\",(AY97+AZ97)>0),\nIF(AZ$13=\"Nm3\",(BA$6*1000*1000/((AY$242+AZ$242+AY$243+AZ$243)*1000*$K97*Data!$B$6))+((BA$12-BA$6)*1000*1000/((AY$242+AZ$242+AY$243+AZ$243-AY$241-AZ$241)*1000*$K97*Data!$B$6)),\n(BA$6*1000*1000/(((AY$242+AZ$242+AY$243+AZ$243)/Denscalc($K97))*1000*$K97*Data!$B$6))+((BA$12-BA$6)*1000*1000/(((AY$242+AZ$242+AY$243+AZ$243-AY$241-AZ$241)/Denscalc($K97))*1000*$K97*Data!$B$6))),0))","v":0},74,null,null,{"$f":"IF(AND(BE$11>0,$A97<>\"\",(BC97+BD97)>0), BE$11, IF(AND($A97<>\"\",(BC97+BD97)>0),\n (BE$6*1000*1000/((BC$244+BD$244)*1000* Data!$B$7))+ ((BE$12-BE$6)*1000*1000/((BC$244+BD$244-BC$241-BD$241)*1000* Data!$B$7)),0))","v":0},74,{"$f":"IF(A97<>\"\", (Data!$B$127*1000*Data!$B$3)/Data!$B$7,  \"\")","v":""},"","",{"$f":"IF(A97<>\"\",  ROUND( (Data!$B$8-BI97)/Data!$B$8,3),   \"\")","v":""},"","","","",{"$f":"IF(A97<>\"\",  IF(TYPE(BN97)=1, ROUND( (Data!$B$8-BN97)/Data!$B$8,3),   \"\"),\"\")","v":""},"",74,"","","",null,""]
[null,75,null,null,"",null,null,null,null,null,null,null,null,null,null,null,{"$f":"IF(AND($A98<>\"\",(O98+P98)>0),    IF(P$13=\"Nm3\",(Q$12*1000*1000/((O$242+P$242+O$243+P$243)*1000*  $K98 * Data!$B$6)),  (Q$12*1000*1000/(((O$242+P$242+O$243+P$243)/Denscalc($K98))*1000*  $K98 * Data!$B$6)) ), 0    )","v":0},75,null,null,{"$f":"IF(AND($A98<>\"\",(S98+T98)>0),    IF(T$13=\"Nm3\",(U$12*1000*1000/((S$242+T$242+S$243+T$243)*1000*  $K98 * Data!$B$6)),  (U$12*1000*1000/(((S$242+T$242+S$243+T$243)/Denscalc($K98))*1000*  $K98 * Data!$B$6)) ), 0     )","v":0},75,null,null,{"$f":"IF(AND($A98<>\"\",(W98+X98)>0),     IF(X$13=\"Nm3\",(Y$12*1000*1000/((W$242+X$242+W$243+X$243)*1000*  $K98 * Data!$B$6)),  (Y$12*1000*1000/(((W$242+X$242+W$243+X$243)/Denscalc($K98))*1000*  $K98 * Data!$B$6)) ), 0   )","v":0},75,null,null,{"$f":"IF(AND($A98<>\"\",(AA98+AB98)>0),     IF(AB$13=\"Nm3\",(AC$12*1000*1000/((AA$242+AB$242+AA$243+AB$243)*1000*  $K98 * Data!$B$6)),  (AC$12*1000*1000/(((AA$242+AB$242+AA$243+AB$243)/Denscalc($K98))*1000*  $K98 * Data!$B$6)) ), 0     )","v":0},75,null,null,{"$f":"IF(AND($A98<>\"\",(AE98+AF98)>0),     IF(AF$13=\"Nm3\",(AG$12*1000*1000/((AE$242+AF$242+AE$243+AF$243)*1000*  $K98 * Data!$B$6)),  (AG$12*1000*1000/(((AE$242+AF$242+AE$243+AF$243)/Denscalc($K98))*1000*  $K98 * Data!$B$6)) ), 0    )","v":0},75,null,null,{"$f":"IF(AND($A98<>\"\",(AI98+AJ98)>0),    IF(AJ$13=\"Nm3\",(AK$12*1000*1000/((AI$242+AJ$242+AI$243+AJ$243)*1000*  $K98 * Data!$B$6)),  (AK$12*1000*1000/(((AI$242+AJ$242+AI$243+AJ$243)/Denscalc($K98))*1000*  $K98 * Data!$B$6)) ), 0    )","v":0},75,null,null,{"$f":"IF(AND($A98<>\"\",(AM98+AN98)>0),     IF(AN$13=\"Nm3\",(AO$12*1000*1000/((AM$242+AN$242+AM$243+AN$243)*1000*  $K98 * Data!$B$6)),  (AO$12*1000*1000/(((AM$242+AN$242+AM$243+AN$243)/Denscalc($K98))*1000*  $K98 * Data!$B$6)) ), 0    )","v":0},75,null,null,{"$f":"IF(AND($A98<>\"\",(AQ98+AR98)>0),     IF(AR$13=\"Nm3\",(AS$12*1000*1000/((AQ$242+AR$242+AQ$243+AR$243)*1000*  $K98 * Data!$B$6)),  (AS$12*1000*1000/(((AQ$242+AR$242+AQ$243+AR$243)/Denscalc($K98))*1000*  $K98 * Data!$B$6)) ), 0     )","v":0},75,null,null,{"$f":"IF(AND($A98<>\"\",(AU98+AV98)>0),     IF(AV$13=\"Nm3\",(AW$12*1000*1000/((AU$242+AV$242+AU$243+AV$243)*1000*  $K98 * Data!$B$6)),  (AW$12*1000*1000/(((AU$242+AV$242+AU$243+AV$243)/Denscalc($K98))*1000*  $K98 * Data!$B$6)) ), 0   )","v":0},75,null,null,{"$f":"IF(AND(BA$11>0,$A98<>\"\",(AY98+AZ98)>0), BA$11, IF(AND($A98<>\"\",(AY98+AZ98)>0),\nIF(AZ$13=\"Nm3\",(BA$6*1000*1000/((AY$242+AZ$242+AY$243+AZ$243)*1000*$K98*Data!$B$6))+((BA$12-BA$6)*1000*1000/((AY$242+AZ$242+AY$243+AZ$243-AY$241-AZ$241)*1000*$K98*Data!$B$6)),\n(BA$6*1000*1000/(((AY$242+AZ$242+AY$243+AZ$243)/Denscalc($K98))*1000*$K98*Data!$B$6))+((BA$12-BA$6)*1000*1000/(((AY$242+AZ$242+AY$243+AZ$243-AY$241-AZ$241)/Denscalc($K98))*1000*$K98*Data!$B$6))),0))","v":0},75,null,null,{"$f":"IF(AND(BE$11>0,$A98<>\"\",(BC98+BD98)>0), BE$11, IF(AND($A98<>\"\",(BC98+BD98)>0),\n (BE$6*1000*1000/((BC$244+BD$244)*1000* Data!$B$7))+ ((BE$12-BE$6)*1000*1000/((BC$244+BD$244-BC$241-BD$241)*1000* Data!$B$7)),0))","v":0},75,{"$f":"IF(A98<>\"\", (Data!$B$127*1000*Data!$B$3)/Data!$B$7,  \"\")","v":""},"","",{"$f":"IF(A98<>\"\",  ROUND( (Data!$B$8-BI98)/Data!$B$8,3),   \"\")","v":""},"","","","",{"$f":"IF(A98<>\"\",  IF(TYPE(BN98)=1, ROUND( (Data!$B$8-BN98)/Data!$B$8,3),   \"\"),\"\")","v":""},"",75,"","","",null,""]
[null,76,null,null,"",null,null,null,null,null,null,null,null,null,null,null,{"$f":"IF(AND($A99<>\"\",(O99+P99)>0),    IF(P$13=\"Nm3\",(Q$12*1000*1000/((O$242+P$242+O$243+P$243)*1000*  $K99 * Data!$B$6)),  (Q$12*1000*1000/(((O$242+P$242+O$243+P$243)/Denscalc($K99))*1000*  $K99 * Data!$B$6)) ), 0    )","v":0},76,null,null,{"$f":"IF(AND($A99<>\"\",(S99+T99)>0),    IF(T$13=\"Nm3\",(U$12*1000*1000/((S$242+T$242+S$243+T$243)*1000*  $K99 * Data!$B$6)),  (U$12*1000*1000/(((S$242+T$242+S$243+T$243)/Denscalc($K99))*1000*  $K99 * Data!$B$6)) ), 0     )","v":0},76,null,null,{"$f":"IF(AND($A99<>\"\",(W99+X99)>0),     IF(X$13=\"Nm3\",(Y$12*1000*1000/((W$242+X$242+W$243+X$243)*1000*  $K99 * Data!$B$6)),  (Y$12*1000*1000/(((W$242+X$242+W$243+X$243)/Denscalc($K99))*1000*  $K99 * Data!$B$6)) ), 0   )","v":0},76,null,null,{"$f":"IF(AND($A99<>\"\",(AA99+AB99)>0),     IF(AB$13=\"Nm3\",(AC$12*1000*1000/((AA$242+AB$242+AA$243+AB$243)*1000*  $K99 * Data!$B$6)),  (AC$12*1000*1000/(((AA$242+AB$242+AA$243+AB$243)/Denscalc($K99))*1000*  $K99 * Data!$B$6)) ), 0     )","v":0},76,null,null,{"$f":"IF(AND($A99<>\"\",(AE99+AF99)>0),     IF(AF$13=\"Nm3\",(AG$12*1000*1000/((AE$242+AF$242+AE$243+AF$243)*1000*  $K99 * Data!$B$6)),  (AG$12*1000*1000/(((AE$242+AF$242+AE$243+AF$243)/Denscalc($K99))*1000*  $K99 * Data!$B$6)) ), 0    )","v":0},76,null,null,{"$f":"IF(AND($A99<>\"\",(AI99+AJ99)>0),    IF(AJ$13=\"Nm3\",(AK$12*1000*1000/((AI$242+AJ$242+AI$243+AJ$243)*1000*  $K99 * Data!$B$6)),  (AK$12*1000*1000/(((AI$242+AJ$242+AI$243+AJ$243)/Denscalc($K99))*1000*  $K99 * Data!$B$6)) ), 0    )","v":0},76,null,null,{"$f":"IF(AND($A99<>\"\",(AM99+AN99)>0),     IF(AN$13=\"Nm3\",(AO$12*1000*1000/((AM$242+AN$242+AM$243+AN$243)*1000*  $K99 * Data!$B$6)),  (AO$12*1000*1000/(((AM$242+AN$242+AM$243+AN$243)/Denscalc($K99))*1000*  $K99 * Data!$B$6)) ), 0    )","v":0},76,null,null,{"$f":"IF(AND($A99<>\"\",(AQ99+AR99)>0),     IF(AR$13=\"Nm3\",(AS$12*1000*1000/((AQ$242+AR$242+AQ$243+AR$243)*1000*  $K99 * Data!$B$6)),  (AS$12*1000*1000/(((AQ$242+AR$242+AQ$243+AR$243)/Denscalc($K99))*1000*  $K99 * Data!$B$6)) ), 0     )","v":0},76,null,null,{"$f":"IF(AND($A99<>\"\",(AU99+AV99)>0),     IF(AV$13=\"Nm3\",(AW$12*1000*1000/((AU$242+AV$242+AU$243+AV$243)*1000*  $K99 * Data!$B$6)),  (AW$12*1000*1000/(((AU$242+AV$242+AU$243+AV$243)/Denscalc($K99))*1000*  $K99 * Data!$B$6)) ), 0   )","v":0},76,null,null,{"$f":"IF(AND(BA$11>0,$A99<>\"\",(AY99+AZ99)>0), BA$11, IF(AND($A99<>\"\",(AY99+AZ99)>0),\nIF(AZ$13=\"Nm3\",(BA$6*1000*1000/((AY$242+AZ$242+AY$243+AZ$243)*1000*$K99*Data!$B$6))+((BA$12-BA$6)*1000*1000/((AY$242+AZ$242+AY$243+AZ$243-AY$241-AZ$241)*1000*$K99*Data!$B$6)),\n(BA$6*1000*1000/(((AY$242+AZ$242+AY$243+AZ$243)/Denscalc($K99))*1000*$K99*Data!$B$6))+((BA$12-BA$6)*1000*1000/(((AY$242+AZ$242+AY$243+AZ$243-AY$241-AZ$241)/Denscalc($K99))*1000*$K99*Data!$B$6))),0))","v":0},76,null,null,{"$f":"IF(AND(BE$11>0,$A99<>\"\",(BC99+BD99)>0), BE$11, IF(AND($A99<>\"\",(BC99+BD99)>0),\n (BE$6*1000*1000/((BC$244+BD$244)*1000* Data!$B$7))+ ((BE$12-BE$6)*1000*1000/((BC$244+BD$244-BC$241-BD$241)*1000* Data!$B$7)),0))","v":0},76,{"$f":"IF(A99<>\"\", (Data!$B$127*1000*Data!$B$3)/Data!$B$7,  \"\")","v":""},"","",{"$f":"IF(A99<>\"\",  ROUND( (Data!$B$8-BI99)/Data!$B$8,3),   \"\")","v":""},"","","","",{"$f":"IF(A99<>\"\",  IF(TYPE(BN99)=1, ROUND( (Data!$B$8-BN99)/Data!$B$8,3),   \"\"),\"\")","v":""},"",76,"","","",null,""]
[null,77,null,null,"",null,null,null,null,null,null,null,null,null,null,null,{"$f":"IF(AND($A100<>\"\",(O100+P100)>0),    IF(P$13=\"Nm3\",(Q$12*1000*1000/((O$242+P$242+O$243+P$243)*1000*  $K100 * Data!$B$6)),  (Q$12*1000*1000/(((O$242+P$242+O$243+P$243)/Denscalc($K100))*1000*  $K100 * Data!$B$6)) ), 0    )","v":0},77,null,null,{"$f":"IF(AND($A100<>\"\",(S100+T100)>0),    IF(T$13=\"Nm3\",(U$12*1000*1000/((S$242+T$242+S$243+T$243)*1000*  $K100 * Data!$B$6)),  (U$12*1000*1000/(((S$242+T$242+S$243+T$243)/Denscalc($K100))*1000*  $K100 * Data!$B$6)) ), 0     )","v":0},77,null,null,{"$f":"IF(AND($A100<>\"\",(W100+X100)>0),     IF(X$13=\"Nm3\",(Y$12*1000*1000/((W$242+X$242+W$243+X$243)*1000*  $K100 * Data!$B$6)),  (Y$12*1000*1000/(((W$242+X$242+W$243+X$243)/Denscalc($K100))*1000*  $K100 * Data!$B$6)) ), 0   )","v":0},77,null,null,{"$f":"IF(AND($A100<>\"\",(AA100+AB100)>0),     IF(AB$13=\"Nm3\",(AC$12*1000*1000/((AA$242+AB$242+AA$243+AB$243)*1000*  $K100 * Data!$B$6)),  (AC$12*1000*1000/(((AA$242+AB$242+AA$243+AB$243)/Denscalc($K100))*1000*  $K100 * Data!$B$6)) ), 0     )","v":0},77,null,null,{"$f":"IF(AND($A100<>\"\",(AE100+AF100)>0),     IF(AF$13=\"Nm3\",(AG$12*1000*1000/((AE$242+AF$242+AE$243+AF$243)*1000*  $K100 * Data!$B$6)),  (AG$12*1000*1000/(((AE$242+AF$242+AE$243+AF$243)/Denscalc($K100))*1000*  $K100 * Data!$B$6)) ), 0    )","v":0},77,null,null,{"$f":"IF(AND($A100<>\"\",(AI100+AJ100)>0),    IF(AJ$13=\"Nm3\",(AK$12*1000*1000/((AI$242+AJ$242+AI$243+AJ$243)*1000*  $K100 * Data!$B$6)),  (AK$12*1000*1000/(((AI$242+AJ$242+AI$243+AJ$243)/Denscalc($K100))*1000*  $K100 * Data!$B$6)) ), 0    )","v":0},77,null,null,{"$f":"IF(AND($A100<>\"\",(AM100+AN100)>0),     IF(AN$13=\"Nm3\",(AO$12*1000*1000/((AM$242+AN$242+AM$243+AN$243)*1000*  $K100 * Data!$B$6)),  (AO$12*1000*1000/(((AM$242+AN$242+AM$243+AN$243)/Denscalc($K100))*1000*  $K100 * Data!$B$6)) ), 0    )","v":0},77,null,null,{"$f":"IF(AND($A100<>\"\",(AQ100+AR100)>0),     IF(AR$13=\"Nm3\",(AS$12*1000*1000/((AQ$242+AR$242+AQ$243+AR$243)*1000*  $K100 * Data!$B$6)),  (AS$12*1000*1000/(((AQ$242+AR$242+AQ$243+AR$243)/Denscalc($K100))*1000*  $K100 * Data!$B$6)) ), 0     )","v":0},77,null,null,{"$f":"IF(AND($A100<>\"\",(AU100+AV100)>0),     IF(AV$13=\"Nm3\",(AW$12*1000*1000/((AU$242+AV$242+AU$243+AV$243)*1000*  $K100 * Data!$B$6)),  (AW$12*1000*1000/(((AU$242+AV$242+AU$243+AV$243)/Denscalc($K100))*1000*  $K100 * Data!$B$6)) ), 0   )","v":0},77,null,null,{"$f":"IF(AND(BA$11>0,$A100<>\"\",(AY100+AZ100)>0), BA$11, IF(AND($A100<>\"\",(AY100+AZ100)>0),\nIF(AZ$13=\"Nm3\",(BA$6*1000*1000/((AY$242+AZ$242+AY$243+AZ$243)*1000*$K100*Data!$B$6))+((BA$12-BA$6)*1000*1000/((AY$242+AZ$242+AY$243+AZ$243-AY$241-AZ$241)*1000*$K100*Data!$B$6)),\n(BA$6*1000*1000/(((AY$242+AZ$242+AY$243+AZ$243)/Denscalc($K100))*1000*$K100*Data!$B$6))+((BA$12-BA$6)*1000*1000/(((AY$242+AZ$242+AY$243+AZ$243-AY$241-AZ$241)/Denscalc($K100))*1000*$K100*Data!$B$6))),0))","v":0},77,null,null,{"$f":"IF(AND(BE$11>0,$A100<>\"\",(BC100+BD100)>0), BE$11, IF(AND($A100<>\"\",(BC100+BD100)>0),\n (BE$6*1000*1000/((BC$244+BD$244)*1000* Data!$B$7))+ ((BE$12-BE$6)*1000*1000/((BC$244+BD$244-BC$241-BD$241)*1000* Data!$B$7)),0))","v":0},77,{"$f":"IF(A100<>\"\", (Data!$B$127*1000*Data!$B$3)/Data!$B$7,  \"\")","v":""},"","",{"$f":"IF(A100<>\"\",  ROUND( (Data!$B$8-BI100)/Data!$B$8,3),   \"\")","v":""},"","","","",{"$f":"IF(A100<>\"\",  IF(TYPE(BN100)=1, ROUND( (Data!$B$8-BN100)/Data!$B$8,3),   \"\"),\"\")","v":""},"",77,"","","",null,""]
[null,78,null,null,"",null,null,null,null,null,null,null,null,null,null,null,{"$f":"IF(AND($A101<>\"\",(O101+P101)>0),    IF(P$13=\"Nm3\",(Q$12*1000*1000/((O$242+P$242+O$243+P$243)*1000*  $K101 * Data!$B$6)),  (Q$12*1000*1000/(((O$242+P$242+O$243+P$243)/Denscalc($K101))*1000*  $K101 * Data!$B$6)) ), 0    )","v":0},78,null,null,{"$f":"IF(AND($A101<>\"\",(S101+T101)>0),    IF(T$13=\"Nm3\",(U$12*1000*1000/((S$242+T$242+S$243+T$243)*1000*  $K101 * Data!$B$6)),  (U$12*1000*1000/(((S$242+T$242+S$243+T$243)/Denscalc($K101))*1000*  $K101 * Data!$B$6)) ), 0     )","v":0},78,null,null,{"$f":"IF(AND($A101<>\"\",(W101+X101)>0),     IF(X$13=\"Nm3\",(Y$12*1000*1000/((W$242+X$242+W$243+X$243)*1000*  $K101 * Data!$B$6)),  (Y$12*1000*1000/(((W$242+X$242+W$243+X$243)/Denscalc($K101))*1000*  $K101 * Data!$B$6)) ), 0   )","v":0},78,null,null,{"$f":"IF(AND($A101<>\"\",(AA101+AB101)>0),     IF(AB$13=\"Nm3\",(AC$12*1000*1000/((AA$242+AB$242+AA$243+AB$243)*1000*  $K101 * Data!$B$6)),  (AC$12*1000*1000/(((AA$242+AB$242+AA$243+AB$243)/Denscalc($K101))*1000*  $K101 * Data!$B$6)) ), 0     )","v":0},78,null,null,{"$f":"IF(AND($A101<>\"\",(AE101+AF101)>0),     IF(AF$13=\"Nm3\",(AG$12*1000*1000/((AE$242+AF$242+AE$243+AF$243)*1000*  $K101 * Data!$B$6)),  (AG$12*1000*1000/(((AE$242+AF$242+AE$243+AF$243)/Denscalc($K101))*1000*  $K101 * Data!$B$6)) ), 0    )","v":0},78,null,null,{"$f":"IF(AND($A101<>\"\",(AI101+AJ101)>0),    IF(AJ$13=\"Nm3\",(AK$12*1000*1000/((AI$242+AJ$242+AI$243+AJ$243)*1000*  $K101 * Data!$B$6)),  (AK$12*1000*1000/(((AI$242+AJ$242+AI$243+AJ$243)/Denscalc($K101))*1000*  $K101 * Data!$B$6)) ), 0    )","v":0},78,null,null,{"$f":"IF(AND($A101<>\"\",(AM101+AN101)>0),     IF(AN$13=\"Nm3\",(AO$12*1000*1000/((AM$242+AN$242+AM$243+AN$243)*1000*  $K101 * Data!$B$6)),  (AO$12*1000*1000/(((AM$242+AN$242+AM$243+AN$243)/Denscalc($K101))*1000*  $K101 * Data!$B$6)) ), 0    )","v":0},78,null,null,{"$f":"IF(AND($A101<>\"\",(AQ101+AR101)>0),     IF(AR$13=\"Nm3\",(AS$12*1000*1000/((AQ$242+AR$242+AQ$243+AR$243)*1000*  $K101 * Data!$B$6)),  (AS$12*1000*1000/(((AQ$242+AR$242+AQ$243+AR$243)/Denscalc($K101))*1000*  $K101 * Data!$B$6)) ), 0     )","v":0},78,null,null,{"$f":"IF(AND($A101<>\"\",(AU101+AV101)>0),     IF(AV$13=\"Nm3\",(AW$12*1000*1000/((AU$242+AV$242+AU$243+AV$243)*1000*  $K101 * Data!$B$6)),  (AW$12*1000*1000/(((AU$242+AV$242+AU$243+AV$243)/Denscalc($K101))*1000*  $K101 * Data!$B$6)) ), 0   )","v":0},78,null,null,{"$f":"IF(AND(BA$11>0,$A101<>\"\",(AY101+AZ101)>0), BA$11, IF(AND($A101<>\"\",(AY101+AZ101)>0),\nIF(AZ$13=\"Nm3\",(BA$6*1000*1000/((AY$242+AZ$242+AY$243+AZ$243)*1000*$K101*Data!$B$6))+((BA$12-BA$6)*1000*1000/((AY$242+AZ$242+AY$243+AZ$243-AY$241-AZ$241)*1000*$K101*Data!$B$6)),\n(BA$6*1000*1000/(((AY$242+AZ$242+AY$243+AZ$243)/Denscalc($K101))*1000*$K101*Data!$B$6))+((BA$12-BA$6)*1000*1000/(((AY$242+AZ$242+AY$243+AZ$243-AY$241-AZ$241)/Denscalc($K101))*1000*$K101*Data!$B$6))),0))","v":0},78,null,null,{"$f":"IF(AND(BE$11>0,$A101<>\"\",(BC101+BD101)>0), BE$11, IF(AND($A101<>\"\",(BC101+BD101)>0),\n (BE$6*1000*1000/((BC$244+BD$244)*1000* Data!$B$7))+ ((BE$12-BE$6)*1000*1000/((BC$244+BD$244-BC$241-BD$241)*1000* Data!$B$7)),0))","v":0},78,{"$f":"IF(A101<>\"\", (Data!$B$127*1000*Data!$B$3)/Data!$B$7,  \"\")","v":""},"","",{"$f":"IF(A101<>\"\",  ROUND( (Data!$B$8-BI101)/Data!$B$8,3),   \"\")","v":""},"","","","",{"$f":"IF(A101<>\"\",  IF(TYPE(BN101)=1, ROUND( (Data!$B$8-BN101)/Data!$B$8,3),   \"\"),\"\")","v":""},"",78,"","","",null,""]
[null,79,null,null,"",null,null,null,null,null,null,null,null,null,null,null,{"$f":"IF(AND($A102<>\"\",(O102+P102)>0),    IF(P$13=\"Nm3\",(Q$12*1000*1000/((O$242+P$242+O$243+P$243)*1000*  $K102 * Data!$B$6)),  (Q$12*1000*1000/(((O$242+P$242+O$243+P$243)/Denscalc($K102))*1000*  $K102 * Data!$B$6)) ), 0    )","v":0},79,null,null,{"$f":"IF(AND($A102<>\"\",(S102+T102)>0),    IF(T$13=\"Nm3\",(U$12*1000*1000/((S$242+T$242+S$243+T$243)*1000*  $K102 * Data!$B$6)),  (U$12*1000*1000/(((S$242+T$242+S$243+T$243)/Denscalc($K102))*1000*  $K102 * Data!$B$6)) ), 0     )","v":0},79,null,null,{"$f":"IF(AND($A102<>\"\",(W102+X102)>0),     IF(X$13=\"Nm3\",(Y$12*1000*1000/((W$242+X$242+W$243+X$243)*1000*  $K102 * Data!$B$6)),  (Y$12*1000*1000/(((W$242+X$242+W$243+X$243)/Denscalc($K102))*1000*  $K102 * Data!$B$6)) ), 0   )","v":0},79,null,null,{"$f":"IF(AND($A102<>\"\",(AA102+AB102)>0),     IF(AB$13=\"Nm3\",(AC$12*1000*1000/((AA$242+AB$242+AA$243+AB$243)*1000*  $K102 * Data!$B$6)),  (AC$12*1000*1000/(((AA$242+AB$242+AA$243+AB$243)/Denscalc($K102))*1000*  $K102 * Data!$B$6)) ), 0     )","v":0},79,null,null,{"$f":"IF(AND($A102<>\"\",(AE102+AF102)>0),     IF(AF$13=\"Nm3\",(AG$12*1000*1000/((AE$242+AF$242+AE$243+AF$243)*1000*  $K102 * Data!$B$6)),  (AG$12*1000*1000/(((AE$242+AF$242+AE$243+AF$243)/Denscalc($K102))*1000*  $K102 * Data!$B$6)) ), 0    )","v":0},79,null,null,{"$f":"IF(AND($A102<>\"\",(AI102+AJ102)>0),    IF(AJ$13=\"Nm3\",(AK$12*1000*1000/((AI$242+AJ$242+AI$243+AJ$243)*1000*  $K102 * Data!$B$6)),  (AK$12*1000*1000/(((AI$242+AJ$242+AI$243+AJ$243)/Denscalc($K102))*1000*  $K102 * Data!$B$6)) ), 0    )","v":0},79,null,null,{"$f":"IF(AND($A102<>\"\",(AM102+AN102)>0),     IF(AN$13=\"Nm3\",(AO$12*1000*1000/((AM$242+AN$242+AM$243+AN$243)*1000*  $K102 * Data!$B$6)),  (AO$12*1000*1000/(((AM$242+AN$242+AM$243+AN$243)/Denscalc($K102))*1000*  $K102 * Data!$B$6)) ), 0    )","v":0},79,null,null,{"$f":"IF(AND($A102<>\"\",(AQ102+AR102)>0),     IF(AR$13=\"Nm3\",(AS$12*1000*1000/((AQ$242+AR$242+AQ$243+AR$243)*1000*  $K102 * Data!$B$6)),  (AS$12*1000*1000/(((AQ$242+AR$242+AQ$243+AR$243)/Denscalc($K102))*1000*  $K102 * Data!$B$6)) ), 0     )","v":0},79,null,null,{"$f":"IF(AND($A102<>\"\",(AU102+AV102)>0),     IF(AV$13=\"Nm3\",(AW$12*1000*1000/((AU$242+AV$242+AU$243+AV$243)*1000*  $K102 * Data!$B$6)),  (AW$12*1000*1000/(((AU$242+AV$242+AU$243+AV$243)/Denscalc($K102))*1000*  $K102 * Data!$B$6)) ), 0   )","v":0},79,null,null,{"$f":"IF(AND(BA$11>0,$A102<>\"\",(AY102+AZ102)>0), BA$11, IF(AND($A102<>\"\",(AY102+AZ102)>0),\nIF(AZ$13=\"Nm3\",(BA$6*1000*1000/((AY$242+AZ$242+AY$243+AZ$243)*1000*$K102*Data!$B$6))+((BA$12-BA$6)*1000*1000/((AY$242+AZ$242+AY$243+AZ$243-AY$241-AZ$241)*1000*$K102*Data!$B$6)),\n(BA$6*1000*1000/(((AY$242+AZ$242+AY$243+AZ$243)/Denscalc($K102))*1000*$K102*Data!$B$6))+((BA$12-BA$6)*1000*1000/(((AY$242+AZ$242+AY$243+AZ$243-AY$241-AZ$241)/Denscalc($K102))*1000*$K102*Data!$B$6))),0))","v":0},79,null,null,{"$f":"IF(AND(BE$11>0,$A102<>\"\",(BC102+BD102)>0), BE$11, IF(AND($A102<>\"\",(BC102+BD102)>0),\n (BE$6*1000*1000/((BC$244+BD$244)*1000* Data!$B$7))+ ((BE$12-BE$6)*1000*1000/((BC$244+BD$244-BC$241-BD$241)*1000* Data!$B$7)),0))","v":0},79,{"$f":"IF(A102<>\"\", (Data!$B$127*1000*Data!$B$3)/Data!$B$7,  \"\")","v":""},"","",{"$f":"IF(A102<>\"\",  ROUND( (Data!$B$8-BI102)/Data!$B$8,3),   \"\")","v":""},"","","","",{"$f":"IF(A102<>\"\",  IF(TYPE(BN102)=1, ROUND( (Data!$B$8-BN102)/Data!$B$8,3),   \"\"),\"\")","v":""},"",79,"","","",null,""]
[null,80,null,null,"",null,null,null,null,null,null,null,null,null,null,null,{"$f":"IF(AND($A103<>\"\",(O103+P103)>0),    IF(P$13=\"Nm3\",(Q$12*1000*1000/((O$242+P$242+O$243+P$243)*1000*  $K103 * Data!$B$6)),  (Q$12*1000*1000/(((O$242+P$242+O$243+P$243)/Denscalc($K103))*1000*  $K103 * Data!$B$6)) ), 0    )","v":0},80,null,null,{"$f":"IF(AND($A103<>\"\",(S103+T103)>0),    IF(T$13=\"Nm3\",(U$12*1000*1000/((S$242+T$242+S$243+T$243)*1000*  $K103 * Data!$B$6)),  (U$12*1000*1000/(((S$242+T$242+S$243+T$243)/Denscalc($K103))*1000*  $K103 * Data!$B$6)) ), 0     )","v":0},80,null,null,{"$f":"IF(AND($A103<>\"\",(W103+X103)>0),     IF(X$13=\"Nm3\",(Y$12*1000*1000/((W$242+X$242+W$243+X$243)*1000*  $K103 * Data!$B$6)),  (Y$12*1000*1000/(((W$242+X$242+W$243+X$243)/Denscalc($K103))*1000*  $K103 * Data!$B$6)) ), 0   )","v":0},80,null,null,{"$f":"IF(AND($A103<>\"\",(AA103+AB103)>0),     IF(AB$13=\"Nm3\",(AC$12*1000*1000/((AA$242+AB$242+AA$243+AB$243)*1000*  $K103 * Data!$B$6)),  (AC$12*1000*1000/(((AA$242+AB$242+AA$243+AB$243)/Denscalc($K103))*1000*  $K103 * Data!$B$6)) ), 0     )","v":0},80,null,null,{"$f":"IF(AND($A103<>\"\",(AE103+AF103)>0),     IF(AF$13=\"Nm3\",(AG$12*1000*1000/((AE$242+AF$242+AE$243+AF$243)*1000*  $K103 * Data!$B$6)),  (AG$12*1000*1000/(((AE$242+AF$242+AE$243+AF$243)/Denscalc($K103))*1000*  $K103 * Data!$B$6)) ), 0    )","v":0},80,null,null,{"$f":"IF(AND($A103<>\"\",(AI103+AJ103)>0),    IF(AJ$13=\"Nm3\",(AK$12*1000*1000/((AI$242+AJ$242+AI$243+AJ$243)*1000*  $K103 * Data!$B$6)),  (AK$12*1000*1000/(((AI$242+AJ$242+AI$243+AJ$243)/Denscalc($K103))*1000*  $K103 * Data!$B$6)) ), 0    )","v":0},80,null,null,{"$f":"IF(AND($A103<>\"\",(AM103+AN103)>0),     IF(AN$13=\"Nm3\",(AO$12*1000*1000/((AM$242+AN$242+AM$243+AN$243)*1000*  $K103 * Data!$B$6)),  (AO$12*1000*1000/(((AM$242+AN$242+AM$243+AN$243)/Denscalc($K103))*1000*  $K103 * Data!$B$6)) ), 0    )","v":0},80,null,null,{"$f":"IF(AND($A103<>\"\",(AQ103+AR103)>0),     IF(AR$13=\"Nm3\",(AS$12*1000*1000/((AQ$242+AR$242+AQ$243+AR$243)*1000*  $K103 * Data!$B$6)),  (AS$12*1000*1000/(((AQ$242+AR$242+AQ$243+AR$243)/Denscalc($K103))*1000*  $K103 * Data!$B$6)) ), 0     )","v":0},80,null,null,{"$f":"IF(AND($A103<>\"\",(AU103+AV103)>0),     IF(AV$13=\"Nm3\",(AW$12*1000*1000/((AU$242+AV$242+AU$243+AV$243)*1000*  $K103 * Data!$B$6)),  (AW$12*1000*1000/(((AU$242+AV$242+AU$243+AV$243)/Denscalc($K103))*1000*  $K103 * Data!$B$6)) ), 0   )","v":0},80,null,null,{"$f":"IF(AND(BA$11>0,$A103<>\"\",(AY103+AZ103)>0), BA$11, IF(AND($A103<>\"\",(AY103+AZ103)>0),\nIF(AZ$13=\"Nm3\",(BA$6*1000*1000/((AY$242+AZ$242+AY$243+AZ$243)*1000*$K103*Data!$B$6))+((BA$12-BA$6)*1000*1000/((AY$242+AZ$242+AY$243+AZ$243-AY$241-AZ$241)*1000*$K103*Data!$B$6)),\n(BA$6*1000*1000/(((AY$242+AZ$242+AY$243+AZ$243)/Denscalc($K103))*1000*$K103*Data!$B$6))+((BA$12-BA$6)*1000*1000/(((AY$242+AZ$242+AY$243+AZ$243-AY$241-AZ$241)/Denscalc($K103))*1000*$K103*Data!$B$6))),0))","v":0},80,null,null,{"$f":"IF(AND(BE$11>0,$A103<>\"\",(BC103+BD103)>0), BE$11, IF(AND($A103<>\"\",(BC103+BD103)>0),\n (BE$6*1000*1000/((BC$244+BD$244)*1000* Data!$B$7))+ ((BE$12-BE$6)*1000*1000/((BC$244+BD$244-BC$241-BD$241)*1000* Data!$B$7)),0))","v":0},80,{"$f":"IF(A103<>\"\", (Data!$B$127*1000*Data!$B$3)/Data!$B$7,  \"\")","v":""},"","",{"$f":"IF(A103<>\"\",  ROUND( (Data!$B$8-BI103)/Data!$B$8,3),   \"\")","v":""},"","","","",{"$f":"IF(A103<>\"\",  IF(TYPE(BN103)=1, ROUND( (Data!$B$8-BN103)/Data!$B$8,3),   \"\"),\"\")","v":""},"",80,"","","",null,""]
[null,81,null,null,"",null,null,null,null,null,null,null,null,null,null,null,{"$f":"IF(AND($A104<>\"\",(O104+P104)>0),    IF(P$13=\"Nm3\",(Q$12*1000*1000/((O$242+P$242+O$243+P$243)*1000*  $K104 * Data!$B$6)),  (Q$12*1000*1000/(((O$242+P$242+O$243+P$243)/Denscalc($K104))*1000*  $K104 * Data!$B$6)) ), 0    )","v":0},81,null,null,{"$f":"IF(AND($A104<>\"\",(S104+T104)>0),    IF(T$13=\"Nm3\",(U$12*1000*1000/((S$242+T$242+S$243+T$243)*1000*  $K104 * Data!$B$6)),  (U$12*1000*1000/(((S$242+T$242+S$243+T$243)/Denscalc($K104))*1000*  $K104 * Data!$B$6)) ), 0     )","v":0},81,null,null,{"$f":"IF(AND($A104<>\"\",(W104+X104)>0),     IF(X$13=\"Nm3\",(Y$12*1000*1000/((W$242+X$242+W$243+X$243)*1000*  $K104 * Data!$B$6)),  (Y$12*1000*1000/(((W$242+X$242+W$243+X$243)/Denscalc($K104))*1000*  $K104 * Data!$B$6)) ), 0   )","v":0},81,null,null,{"$f":"IF(AND($A104<>\"\",(AA104+AB104)>0),     IF(AB$13=\"Nm3\",(AC$12*1000*1000/((AA$242+AB$242+AA$243+AB$243)*1000*  $K104 * Data!$B$6)),  (AC$12*1000*1000/(((AA$242+AB$242+AA$243+AB$243)/Denscalc($K104))*1000*  $K104 * Data!$B$6)) ), 0     )","v":0},81,null,null,{"$f":"IF(AND($A104<>\"\",(AE104+AF104)>0),     IF(AF$13=\"Nm3\",(AG$12*1000*1000/((AE$242+AF$242+AE$243+AF$243)*1000*  $K104 * Data!$B$6)),  (AG$12*1000*1000/(((AE$242+AF$242+AE$243+AF$243)/Denscalc($K104))*1000*  $K104 * Data!$B$6)) ), 0    )","v":0},81,null,null,{"$f":"IF(AND($A104<>\"\",(AI104+AJ104)>0),    IF(AJ$13=\"Nm3\",(AK$12*1000*1000/((AI$242+AJ$242+AI$243+AJ$243)*1000*  $K104 * Data!$B$6)),  (AK$12*1000*1000/(((AI$242+AJ$242+AI$243+AJ$243)/Denscalc($K104))*1000*  $K104 * Data!$B$6)) ), 0    )","v":0},81,null,null,{"$f":"IF(AND($A104<>\"\",(AM104+AN104)>0),     IF(AN$13=\"Nm3\",(AO$12*1000*1000/((AM$242+AN$242+AM$243+AN$243)*1000*  $K104 * Data!$B$6)),  (AO$12*1000*1000/(((AM$242+AN$242+AM$243+AN$243)/Denscalc($K104))*1000*  $K104 * Data!$B$6)) ), 0    )","v":0},81,null,null,{"$f":"IF(AND($A104<>\"\",(AQ104+AR104)>0),     IF(AR$13=\"Nm3\",(AS$12*1000*1000/((AQ$242+AR$242+AQ$243+AR$243)*1000*  $K104 * Data!$B$6)),  (AS$12*1000*1000/(((AQ$242+AR$242+AQ$243+AR$243)/Denscalc($K104))*1000*  $K104 * Data!$B$6)) ), 0     )","v":0},81,null,null,{"$f":"IF(AND($A104<>\"\",(AU104+AV104)>0),     IF(AV$13=\"Nm3\",(AW$12*1000*1000/((AU$242+AV$242+AU$243+AV$243)*1000*  $K104 * Data!$B$6)),  (AW$12*1000*1000/(((AU$242+AV$242+AU$243+AV$243)/Denscalc($K104))*1000*  $K104 * Data!$B$6)) ), 0   )","v":0},81,null,null,{"$f":"IF(AND(BA$11>0,$A104<>\"\",(AY104+AZ104)>0), BA$11, IF(AND($A104<>\"\",(AY104+AZ104)>0),\nIF(AZ$13=\"Nm3\",(BA$6*1000*1000/((AY$242+AZ$242+AY$243+AZ$243)*1000*$K104*Data!$B$6))+((BA$12-BA$6)*1000*1000/((AY$242+AZ$242+AY$243+AZ$243-AY$241-AZ$241)*1000*$K104*Data!$B$6)),\n(BA$6*1000*1000/(((AY$242+AZ$242+AY$243+AZ$243)/Denscalc($K104))*1000*$K104*Data!$B$6))+((BA$12-BA$6)*1000*1000/(((AY$242+AZ$242+AY$243+AZ$243-AY$241-AZ$241)/Denscalc($K104))*1000*$K104*Data!$B$6))),0))","v":0},81,null,null,{"$f":"IF(AND(BE$11>0,$A104<>\"\",(BC104+BD104)>0), BE$11, IF(AND($A104<>\"\",(BC104+BD104)>0),\n (BE$6*1000*1000/((BC$244+BD$244)*1000* Data!$B$7))+ ((BE$12-BE$6)*1000*1000/((BC$244+BD$244-BC$241-BD$241)*1000* Data!$B$7)),0))","v":0},81,{"$f":"IF(A104<>\"\", (Data!$B$127*1000*Data!$B$3)/Data!$B$7,  \"\")","v":""},"","",{"$f":"IF(A104<>\"\",  ROUND( (Data!$B$8-BI104)/Data!$B$8,3),   \"\")","v":""},"","","","",{"$f":"IF(A104<>\"\",  IF(TYPE(BN104)=1, ROUND( (Data!$B$8-BN104)/Data!$B$8,3),   \"\"),\"\")","v":""},"",81,"","","",null,""]
[null,82,null,null,"",null,null,null,null,null,null,null,null,null,null,null,{"$f":"IF(AND($A105<>\"\",(O105+P105)>0),    IF(P$13=\"Nm3\",(Q$12*1000*1000/((O$242+P$242+O$243+P$243)*1000*  $K105 * Data!$B$6)),  (Q$12*1000*1000/(((O$242+P$242+O$243+P$243)/Denscalc($K105))*1000*  $K105 * Data!$B$6)) ), 0    )","v":0},82,null,null,{"$f":"IF(AND($A105<>\"\",(S105+T105)>0),    IF(T$13=\"Nm3\",(U$12*1000*1000/((S$242+T$242+S$243+T$243)*1000*  $K105 * Data!$B$6)),  (U$12*1000*1000/(((S$242+T$242+S$243+T$243)/Denscalc($K105))*1000*  $K105 * Data!$B$6)) ), 0     )","v":0},82,null,null,{"$f":"IF(AND($A105<>\"\",(W105+X105)>0),     IF(X$13=\"Nm3\",(Y$12*1000*1000/((W$242+X$242+W$243+X$243)*1000*  $K105 * Data!$B$6)),  (Y$12*1000*1000/(((W$242+X$242+W$243+X$243)/Denscalc($K105))*1000*  $K105 * Data!$B$6)) ), 0   )","v":0},82,null,null,{"$f":"IF(AND($A105<>\"\",(AA105+AB105)>0),     IF(AB$13=\"Nm3\",(AC$12*1000*1000/((AA$242+AB$242+AA$243+AB$243)*1000*  $K105 * Data!$B$6)),  (AC$12*1000*1000/(((AA$242+AB$242+AA$243+AB$243)/Denscalc($K105))*1000*  $K105 * Data!$B$6)) ), 0     )","v":0},82,null,null,{"$f":"IF(AND($A105<>\"\",(AE105+AF105)>0),     IF(AF$13=\"Nm3\",(AG$12*1000*1000/((AE$242+AF$242+AE$243+AF$243)*1000*  $K105 * Data!$B$6)),  (AG$12*1000*1000/(((AE$242+AF$242+AE$243+AF$243)/Denscalc($K105))*1000*  $K105 * Data!$B$6)) ), 0    )","v":0},82,null,null,{"$f":"IF(AND($A105<>\"\",(AI105+AJ105)>0),    IF(AJ$13=\"Nm3\",(AK$12*1000*1000/((AI$242+AJ$242+AI$243+AJ$243)*1000*  $K105 * Data!$B$6)),  (AK$12*1000*1000/(((AI$242+AJ$242+AI$243+AJ$243)/Denscalc($K105))*1000*  $K105 * Data!$B$6)) ), 0    )","v":0},82,null,null,{"$f":"IF(AND($A105<>\"\",(AM105+AN105)>0),     IF(AN$13=\"Nm3\",(AO$12*1000*1000/((AM$242+AN$242+AM$243+AN$243)*1000*  $K105 * Data!$B$6)),  (AO$12*1000*1000/(((AM$242+AN$242+AM$243+AN$243)/Denscalc($K105))*1000*  $K105 * Data!$B$6)) ), 0    )","v":0},82,null,null,{"$f":"IF(AND($A105<>\"\",(AQ105+AR105)>0),     IF(AR$13=\"Nm3\",(AS$12*1000*1000/((AQ$242+AR$242+AQ$243+AR$243)*1000*  $K105 * Data!$B$6)),  (AS$12*1000*1000/(((AQ$242+AR$242+AQ$243+AR$243)/Denscalc($K105))*1000*  $K105 * Data!$B$6)) ), 0     )","v":0},82,null,null,{"$f":"IF(AND($A105<>\"\",(AU105+AV105)>0),     IF(AV$13=\"Nm3\",(AW$12*1000*1000/((AU$242+AV$242+AU$243+AV$243)*1000*  $K105 * Data!$B$6)),  (AW$12*1000*1000/(((AU$242+AV$242+AU$243+AV$243)/Denscalc($K105))*1000*  $K105 * Data!$B$6)) ), 0   )","v":0},82,null,null,{"$f":"IF(AND(BA$11>0,$A105<>\"\",(AY105+AZ105)>0), BA$11, IF(AND($A105<>\"\",(AY105+AZ105)>0),\nIF(AZ$13=\"Nm3\",(BA$6*1000*1000/((AY$242+AZ$242+AY$243+AZ$243)*1000*$K105*Data!$B$6))+((BA$12-BA$6)*1000*1000/((AY$242+AZ$242+AY$243+AZ$243-AY$241-AZ$241)*1000*$K105*Data!$B$6)),\n(BA$6*1000*1000/(((AY$242+AZ$242+AY$243+AZ$243)/Denscalc($K105))*1000*$K105*Data!$B$6))+((BA$12-BA$6)*1000*1000/(((AY$242+AZ$242+AY$243+AZ$243-AY$241-AZ$241)/Denscalc($K105))*1000*$K105*Data!$B$6))),0))","v":0},82,null,null,{"$f":"IF(AND(BE$11>0,$A105<>\"\",(BC105+BD105)>0), BE$11, IF(AND($A105<>\"\",(BC105+BD105)>0),\n (BE$6*1000*1000/((BC$244+BD$244)*1000* Data!$B$7))+ ((BE$12-BE$6)*1000*1000/((BC$244+BD$244-BC$241-BD$241)*1000* Data!$B$7)),0))","v":0},82,{"$f":"IF(A105<>\"\", (Data!$B$127*1000*Data!$B$3)/Data!$B$7,  \"\")","v":""},"","",{"$f":"IF(A105<>\"\",  ROUND( (Data!$B$8-BI105)/Data!$B$8,3),   \"\")","v":""},"","","","",{"$f":"IF(A105<>\"\",  IF(TYPE(BN105)=1, ROUND( (Data!$B$8-BN105)/Data!$B$8,3),   \"\"),\"\")","v":""},"",82,"","","",null,""]
[null,83,null,null,"",null,null,null,null,null,null,null,null,null,null,null,{"$f":"IF(AND($A106<>\"\",(O106+P106)>0),    IF(P$13=\"Nm3\",(Q$12*1000*1000/((O$242+P$242+O$243+P$243)*1000*  $K106 * Data!$B$6)),  (Q$12*1000*1000/(((O$242+P$242+O$243+P$243)/Denscalc($K106))*1000*  $K106 * Data!$B$6)) ), 0    )","v":0},83,null,null,{"$f":"IF(AND($A106<>\"\",(S106+T106)>0),    IF(T$13=\"Nm3\",(U$12*1000*1000/((S$242+T$242+S$243+T$243)*1000*  $K106 * Data!$B$6)),  (U$12*1000*1000/(((S$242+T$242+S$243+T$243)/Denscalc($K106))*1000*  $K106 * Data!$B$6)) ), 0     )","v":0},83,null,null,{"$f":"IF(AND($A106<>\"\",(W106+X106)>0),     IF(X$13=\"Nm3\",(Y$12*1000*1000/((W$242+X$242+W$243+X$243)*1000*  $K106 * Data!$B$6)),  (Y$12*1000*1000/(((W$242+X$242+W$243+X$243)/Denscalc($K106))*1000*  $K106 * Data!$B$6)) ), 0   )","v":0},83,null,null,{"$f":"IF(AND($A106<>\"\",(AA106+AB106)>0),     IF(AB$13=\"Nm3\",(AC$12*1000*1000/((AA$242+AB$242+AA$243+AB$243)*1000*  $K106 * Data!$B$6)),  (AC$12*1000*1000/(((AA$242+AB$242+AA$243+AB$243)/Denscalc($K106))*1000*  $K106 * Data!$B$6)) ), 0     )","v":0},83,null,null,{"$f":"IF(AND($A106<>\"\",(AE106+AF106)>0),     IF(AF$13=\"Nm3\",(AG$12*1000*1000/((AE$242+AF$242+AE$243+AF$243)*1000*  $K106 * Data!$B$6)),  (AG$12*1000*1000/(((AE$242+AF$242+AE$243+AF$243)/Denscalc($K106))*1000*  $K106 * Data!$B$6)) ), 0    )","v":0},83,null,null,{"$f":"IF(AND($A106<>\"\",(AI106+AJ106)>0),    IF(AJ$13=\"Nm3\",(AK$12*1000*1000/((AI$242+AJ$242+AI$243+AJ$243)*1000*  $K106 * Data!$B$6)),  (AK$12*1000*1000/(((AI$242+AJ$242+AI$243+AJ$243)/Denscalc($K106))*1000*  $K106 * Data!$B$6)) ), 0    )","v":0},83,null,null,{"$f":"IF(AND($A106<>\"\",(AM106+AN106)>0),     IF(AN$13=\"Nm3\",(AO$12*1000*1000/((AM$242+AN$242+AM$243+AN$243)*1000*  $K106 * Data!$B$6)),  (AO$12*1000*1000/(((AM$242+AN$242+AM$243+AN$243)/Denscalc($K106))*1000*  $K106 * Data!$B$6)) ), 0    )","v":0},83,null,null,{"$f":"IF(AND($A106<>\"\",(AQ106+AR106)>0),     IF(AR$13=\"Nm3\",(AS$12*1000*1000/((AQ$242+AR$242+AQ$243+AR$243)*1000*  $K106 * Data!$B$6)),  (AS$12*1000*1000/(((AQ$242+AR$242+AQ$243+AR$243)/Denscalc($K106))*1000*  $K106 * Data!$B$6)) ), 0     )","v":0},83,null,null,{"$f":"IF(AND($A106<>\"\",(AU106+AV106)>0),     IF(AV$13=\"Nm3\",(AW$12*1000*1000/((AU$242+AV$242+AU$243+AV$243)*1000*  $K106 * Data!$B$6)),  (AW$12*1000*1000/(((AU$242+AV$242+AU$243+AV$243)/Denscalc($K106))*1000*  $K106 * Data!$B$6)) ), 0   )","v":0},83,null,null,{"$f":"IF(AND(BA$11>0,$A106<>\"\",(AY106+AZ106)>0), BA$11, IF(AND($A106<>\"\",(AY106+AZ106)>0),\nIF(AZ$13=\"Nm3\",(BA$6*1000*1000/((AY$242+AZ$242+AY$243+AZ$243)*1000*$K106*Data!$B$6))+((BA$12-BA$6)*1000*1000/((AY$242+AZ$242+AY$243+AZ$243-AY$241-AZ$241)*1000*$K106*Data!$B$6)),\n(BA$6*1000*1000/(((AY$242+AZ$242+AY$243+AZ$243)/Denscalc($K106))*1000*$K106*Data!$B$6))+((BA$12-BA$6)*1000*1000/(((AY$242+AZ$242+AY$243+AZ$243-AY$241-AZ$241)/Denscalc($K106))*1000*$K106*Data!$B$6))),0))","v":0},83,null,null,{"$f":"IF(AND(BE$11>0,$A106<>\"\",(BC106+BD106)>0), BE$11, IF(AND($A106<>\"\",(BC106+BD106)>0),\n (BE$6*1000*1000/((BC$244+BD$244)*1000* Data!$B$7))+ ((BE$12-BE$6)*1000*1000/((BC$244+BD$244-BC$241-BD$241)*1000* Data!$B$7)),0))","v":0},83,{"$f":"IF(A106<>\"\", (Data!$B$127*1000*Data!$B$3)/Data!$B$7,  \"\")","v":""},"","",{"$f":"IF(A106<>\"\",  ROUND( (Data!$B$8-BI106)/Data!$B$8,3),   \"\")","v":""},"","","","",{"$f":"IF(A106<>\"\",  IF(TYPE(BN106)=1, ROUND( (Data!$B$8-BN106)/Data!$B$8,3),   \"\"),\"\")","v":""},"",83,"","","",null,""]
[null,84,null,null,"",null,null,null,null,null,null,null,null,null,null,null,{"$f":"IF(AND($A107<>\"\",(O107+P107)>0),    IF(P$13=\"Nm3\",(Q$12*1000*1000/((O$242+P$242+O$243+P$243)*1000*  $K107 * Data!$B$6)),  (Q$12*1000*1000/(((O$242+P$242+O$243+P$243)/Denscalc($K107))*1000*  $K107 * Data!$B$6)) ), 0    )","v":0},84,null,null,{"$f":"IF(AND($A107<>\"\",(S107+T107)>0),    IF(T$13=\"Nm3\",(U$12*1000*1000/((S$242+T$242+S$243+T$243)*1000*  $K107 * Data!$B$6)),  (U$12*1000*1000/(((S$242+T$242+S$243+T$243)/Denscalc($K107))*1000*  $K107 * Data!$B$6)) ), 0     )","v":0},84,null,null,{"$f":"IF(AND($A107<>\"\",(W107+X107)>0),     IF(X$13=\"Nm3\",(Y$12*1000*1000/((W$242+X$242+W$243+X$243)*1000*  $K107 * Data!$B$6)),  (Y$12*1000*1000/(((W$242+X$242+W$243+X$243)/Denscalc($K107))*1000*  $K107 * Data!$B$6)) ), 0   )","v":0},84,null,null,{"$f":"IF(AND($A107<>\"\",(AA107+AB107)>0),     IF(AB$13=\"Nm3\",(AC$12*1000*1000/((AA$242+AB$242+AA$243+AB$243)*1000*  $K107 * Data!$B$6)),  (AC$12*1000*1000/(((AA$242+AB$242+AA$243+AB$243)/Denscalc($K107))*1000*  $K107 * Data!$B$6)) ), 0     )","v":0},84,null,null,{"$f":"IF(AND($A107<>\"\",(AE107+AF107)>0),     IF(AF$13=\"Nm3\",(AG$12*1000*1000/((AE$242+AF$242+AE$243+AF$243)*1000*  $K107 * Data!$B$6)),  (AG$12*1000*1000/(((AE$242+AF$242+AE$243+AF$243)/Denscalc($K107))*1000*  $K107 * Data!$B$6)) ), 0    )","v":0},84,null,null,{"$f":"IF(AND($A107<>\"\",(AI107+AJ107)>0),    IF(AJ$13=\"Nm3\",(AK$12*1000*1000/((AI$242+AJ$242+AI$243+AJ$243)*1000*  $K107 * Data!$B$6)),  (AK$12*1000*1000/(((AI$242+AJ$242+AI$243+AJ$243)/Denscalc($K107))*1000*  $K107 * Data!$B$6)) ), 0    )","v":0},84,null,null,{"$f":"IF(AND($A107<>\"\",(AM107+AN107)>0),     IF(AN$13=\"Nm3\",(AO$12*1000*1000/((AM$242+AN$242+AM$243+AN$243)*1000*  $K107 * Data!$B$6)),  (AO$12*1000*1000/(((AM$242+AN$242+AM$243+AN$243)/Denscalc($K107))*1000*  $K107 * Data!$B$6)) ), 0    )","v":0},84,null,null,{"$f":"IF(AND($A107<>\"\",(AQ107+AR107)>0),     IF(AR$13=\"Nm3\",(AS$12*1000*1000/((AQ$242+AR$242+AQ$243+AR$243)*1000*  $K107 * Data!$B$6)),  (AS$12*1000*1000/(((AQ$242+AR$242+AQ$243+AR$243)/Denscalc($K107))*1000*  $K107 * Data!$B$6)) ), 0     )","v":0},84,null,null,{"$f":"IF(AND($A107<>\"\",(AU107+AV107)>0),     IF(AV$13=\"Nm3\",(AW$12*1000*1000/((AU$242+AV$242+AU$243+AV$243)*1000*  $K107 * Data!$B$6)),  (AW$12*1000*1000/(((AU$242+AV$242+AU$243+AV$243)/Denscalc($K107))*1000*  $K107 * Data!$B$6)) ), 0   )","v":0},84,null,null,{"$f":"IF(AND(BA$11>0,$A107<>\"\",(AY107+AZ107)>0), BA$11, IF(AND($A107<>\"\",(AY107+AZ107)>0),\nIF(AZ$13=\"Nm3\",(BA$6*1000*1000/((AY$242+AZ$242+AY$243+AZ$243)*1000*$K107*Data!$B$6))+((BA$12-BA$6)*1000*1000/((AY$242+AZ$242+AY$243+AZ$243-AY$241-AZ$241)*1000*$K107*Data!$B$6)),\n(BA$6*1000*1000/(((AY$242+AZ$242+AY$243+AZ$243)/Denscalc($K107))*1000*$K107*Data!$B$6))+((BA$12-BA$6)*1000*1000/(((AY$242+AZ$242+AY$243+AZ$243-AY$241-AZ$241)/Denscalc($K107))*1000*$K107*Data!$B$6))),0))","v":0},84,null,null,{"$f":"IF(AND(BE$11>0,$A107<>\"\",(BC107+BD107)>0), BE$11, IF(AND($A107<>\"\",(BC107+BD107)>0),\n (BE$6*1000*1000/((BC$244+BD$244)*1000* Data!$B$7))+ ((BE$12-BE$6)*1000*1000/((BC$244+BD$244-BC$241-BD$241)*1000* Data!$B$7)),0))","v":0},84,{"$f":"IF(A107<>\"\", (Data!$B$127*1000*Data!$B$3)/Data!$B$7,  \"\")","v":""},"","",{"$f":"IF(A107<>\"\",  ROUND( (Data!$B$8-BI107)/Data!$B$8,3),   \"\")","v":""},"","","","",{"$f":"IF(A107<>\"\",  IF(TYPE(BN107)=1, ROUND( (Data!$B$8-BN107)/Data!$B$8,3),   \"\"),\"\")","v":""},"",84,"","","",null,""]
[null,85,null,null,"",null,null,null,null,null,null,null,null,null,null,null,{"$f":"IF(AND($A108<>\"\",(O108+P108)>0),    IF(P$13=\"Nm3\",(Q$12*1000*1000/((O$242+P$242+O$243+P$243)*1000*  $K108 * Data!$B$6)),  (Q$12*1000*1000/(((O$242+P$242+O$243+P$243)/Denscalc($K108))*1000*  $K108 * Data!$B$6)) ), 0    )","v":0},85,null,null,{"$f":"IF(AND($A108<>\"\",(S108+T108)>0),    IF(T$13=\"Nm3\",(U$12*1000*1000/((S$242+T$242+S$243+T$243)*1000*  $K108 * Data!$B$6)),  (U$12*1000*1000/(((S$242+T$242+S$243+T$243)/Denscalc($K108))*1000*  $K108 * Data!$B$6)) ), 0     )","v":0},85,null,null,{"$f":"IF(AND($A108<>\"\",(W108+X108)>0),     IF(X$13=\"Nm3\",(Y$12*1000*1000/((W$242+X$242+W$243+X$243)*1000*  $K108 * Data!$B$6)),  (Y$12*1000*1000/(((W$242+X$242+W$243+X$243)/Denscalc($K108))*1000*  $K108 * Data!$B$6)) ), 0   )","v":0},85,null,null,{"$f":"IF(AND($A108<>\"\",(AA108+AB108)>0),     IF(AB$13=\"Nm3\",(AC$12*1000*1000/((AA$242+AB$242+AA$243+AB$243)*1000*  $K108 * Data!$B$6)),  (AC$12*1000*1000/(((AA$242+AB$242+AA$243+AB$243)/Denscalc($K108))*1000*  $K108 * Data!$B$6)) ), 0     )","v":0},85,null,null,{"$f":"IF(AND($A108<>\"\",(AE108+AF108)>0),     IF(AF$13=\"Nm3\",(AG$12*1000*1000/((AE$242+AF$242+AE$243+AF$243)*1000*  $K108 * Data!$B$6)),  (AG$12*1000*1000/(((AE$242+AF$242+AE$243+AF$243)/Denscalc($K108))*1000*  $K108 * Data!$B$6)) ), 0    )","v":0},85,null,null,{"$f":"IF(AND($A108<>\"\",(AI108+AJ108)>0),    IF(AJ$13=\"Nm3\",(AK$12*1000*1000/((AI$242+AJ$242+AI$243+AJ$243)*1000*  $K108 * Data!$B$6)),  (AK$12*1000*1000/(((AI$242+AJ$242+AI$243+AJ$243)/Denscalc($K108))*1000*  $K108 * Data!$B$6)) ), 0    )","v":0},85,null,null,{"$f":"IF(AND($A108<>\"\",(AM108+AN108)>0),     IF(AN$13=\"Nm3\",(AO$12*1000*1000/((AM$242+AN$242+AM$243+AN$243)*1000*  $K108 * Data!$B$6)),  (AO$12*1000*1000/(((AM$242+AN$242+AM$243+AN$243)/Denscalc($K108))*1000*  $K108 * Data!$B$6)) ), 0    )","v":0},85,null,null,{"$f":"IF(AND($A108<>\"\",(AQ108+AR108)>0),     IF(AR$13=\"Nm3\",(AS$12*1000*1000/((AQ$242+AR$242+AQ$243+AR$243)*1000*  $K108 * Data!$B$6)),  (AS$12*1000*1000/(((AQ$242+AR$242+AQ$243+AR$243)/Denscalc($K108))*1000*  $K108 * Data!$B$6)) ), 0     )","v":0},85,null,null,{"$f":"IF(AND($A108<>\"\",(AU108+AV108)>0),     IF(AV$13=\"Nm3\",(AW$12*1000*1000/((AU$242+AV$242+AU$243+AV$243)*1000*  $K108 * Data!$B$6)),  (AW$12*1000*1000/(((AU$242+AV$242+AU$243+AV$243)/Denscalc($K108))*1000*  $K108 * Data!$B$6)) ), 0   )","v":0},85,null,null,{"$f":"IF(AND(BA$11>0,$A108<>\"\",(AY108+AZ108)>0), BA$11, IF(AND($A108<>\"\",(AY108+AZ108)>0),\nIF(AZ$13=\"Nm3\",(BA$6*1000*1000/((AY$242+AZ$242+AY$243+AZ$243)*1000*$K108*Data!$B$6))+((BA$12-BA$6)*1000*1000/((AY$242+AZ$242+AY$243+AZ$243-AY$241-AZ$241)*1000*$K108*Data!$B$6)),\n(BA$6*1000*1000/(((AY$242+AZ$242+AY$243+AZ$243)/Denscalc($K108))*1000*$K108*Data!$B$6))+((BA$12-BA$6)*1000*1000/(((AY$242+AZ$242+AY$243+AZ$243-AY$241-AZ$241)/Denscalc($K108))*1000*$K108*Data!$B$6))),0))","v":0},85,null,null,{"$f":"IF(AND(BE$11>0,$A108<>\"\",(BC108+BD108)>0), BE$11, IF(AND($A108<>\"\",(BC108+BD108)>0),\n (BE$6*1000*1000/((BC$244+BD$244)*1000* Data!$B$7))+ ((BE$12-BE$6)*1000*1000/((BC$244+BD$244-BC$241-BD$241)*1000* Data!$B$7)),0))","v":0},85,{"$f":"IF(A108<>\"\", (Data!$B$127*1000*Data!$B$3)/Data!$B$7,  \"\")","v":""},"","",{"$f":"IF(A108<>\"\",  ROUND( (Data!$B$8-BI108)/Data!$B$8,3),   \"\")","v":""},"","","","",{"$f":"IF(A108<>\"\",  IF(TYPE(BN108)=1, ROUND( (Data!$B$8-BN108)/Data!$B$8,3),   \"\"),\"\")","v":""},"",85,"","","",null,""]
[null,86,null,null,"",null,null,null,null,null,null,null,null,null,null,null,{"$f":"IF(AND($A109<>\"\",(O109+P109)>0),    IF(P$13=\"Nm3\",(Q$12*1000*1000/((O$242+P$242+O$243+P$243)*1000*  $K109 * Data!$B$6)),  (Q$12*1000*1000/(((O$242+P$242+O$243+P$243)/Denscalc($K109))*1000*  $K109 * Data!$B$6)) ), 0    )","v":0},86,null,null,{"$f":"IF(AND($A109<>\"\",(S109+T109)>0),    IF(T$13=\"Nm3\",(U$12*1000*1000/((S$242+T$242+S$243+T$243)*1000*  $K109 * Data!$B$6)),  (U$12*1000*1000/(((S$242+T$242+S$243+T$243)/Denscalc($K109))*1000*  $K109 * Data!$B$6)) ), 0     )","v":0},86,null,null,{"$f":"IF(AND($A109<>\"\",(W109+X109)>0),     IF(X$13=\"Nm3\",(Y$12*1000*1000/((W$242+X$242+W$243+X$243)*1000*  $K109 * Data!$B$6)),  (Y$12*1000*1000/(((W$242+X$242+W$243+X$243)/Denscalc($K109))*1000*  $K109 * Data!$B$6)) ), 0   )","v":0},86,null,null,{"$f":"IF(AND($A109<>\"\",(AA109+AB109)>0),     IF(AB$13=\"Nm3\",(AC$12*1000*1000/((AA$242+AB$242+AA$243+AB$243)*1000*  $K109 * Data!$B$6)),  (AC$12*1000*1000/(((AA$242+AB$242+AA$243+AB$243)/Denscalc($K109))*1000*  $K109 * Data!$B$6)) ), 0     )","v":0},86,null,null,{"$f":"IF(AND($A109<>\"\",(AE109+AF109)>0),     IF(AF$13=\"Nm3\",(AG$12*1000*1000/((AE$242+AF$242+AE$243+AF$243)*1000*  $K109 * Data!$B$6)),  (AG$12*1000*1000/(((AE$242+AF$242+AE$243+AF$243)/Denscalc($K109))*1000*  $K109 * Data!$B$6)) ), 0    )","v":0},86,null,null,{"$f":"IF(AND($A109<>\"\",(AI109+AJ109)>0),    IF(AJ$13=\"Nm3\",(AK$12*1000*1000/((AI$242+AJ$242+AI$243+AJ$243)*1000*  $K109 * Data!$B$6)),  (AK$12*1000*1000/(((AI$242+AJ$242+AI$243+AJ$243)/Denscalc($K109))*1000*  $K109 * Data!$B$6)) ), 0    )","v":0},86,null,null,{"$f":"IF(AND($A109<>\"\",(AM109+AN109)>0),     IF(AN$13=\"Nm3\",(AO$12*1000*1000/((AM$242+AN$242+AM$243+AN$243)*1000*  $K109 * Data!$B$6)),  (AO$12*1000*1000/(((AM$242+AN$242+AM$243+AN$243)/Denscalc($K109))*1000*  $K109 * Data!$B$6)) ), 0    )","v":0},86,null,null,{"$f":"IF(AND($A109<>\"\",(AQ109+AR109)>0),     IF(AR$13=\"Nm3\",(AS$12*1000*1000/((AQ$242+AR$242+AQ$243+AR$243)*1000*  $K109 * Data!$B$6)),  (AS$12*1000*1000/(((AQ$242+AR$242+AQ$243+AR$243)/Denscalc($K109))*1000*  $K109 * Data!$B$6)) ), 0     )","v":0},86,null,null,{"$f":"IF(AND($A109<>\"\",(AU109+AV109)>0),     IF(AV$13=\"Nm3\",(AW$12*1000*1000/((AU$242+AV$242+AU$243+AV$243)*1000*  $K109 * Data!$B$6)),  (AW$12*1000*1000/(((AU$242+AV$242+AU$243+AV$243)/Denscalc($K109))*1000*  $K109 * Data!$B$6)) ), 0   )","v":0},86,null,null,{"$f":"IF(AND(BA$11>0,$A109<>\"\",(AY109+AZ109)>0), BA$11, IF(AND($A109<>\"\",(AY109+AZ109)>0),\nIF(AZ$13=\"Nm3\",(BA$6*1000*1000/((AY$242+AZ$242+AY$243+AZ$243)*1000*$K109*Data!$B$6))+((BA$12-BA$6)*1000*1000/((AY$242+AZ$242+AY$243+AZ$243-AY$241-AZ$241)*1000*$K109*Data!$B$6)),\n(BA$6*1000*1000/(((AY$242+AZ$242+AY$243+AZ$243)/Denscalc($K109))*1000*$K109*Data!$B$6))+((BA$12-BA$6)*1000*1000/(((AY$242+AZ$242+AY$243+AZ$243-AY$241-AZ$241)/Denscalc($K109))*1000*$K109*Data!$B$6))),0))","v":0},86,null,null,{"$f":"IF(AND(BE$11>0,$A109<>\"\",(BC109+BD109)>0), BE$11, IF(AND($A109<>\"\",(BC109+BD109)>0),\n (BE$6*1000*1000/((BC$244+BD$244)*1000* Data!$B$7))+ ((BE$12-BE$6)*1000*1000/((BC$244+BD$244-BC$241-BD$241)*1000* Data!$B$7)),0))","v":0},86,{"$f":"IF(A109<>\"\", (Data!$B$127*1000*Data!$B$3)/Data!$B$7,  \"\")","v":""},"","",{"$f":"IF(A109<>\"\",  ROUND( (Data!$B$8-BI109)/Data!$B$8,3),   \"\")","v":""},"","","","",{"$f":"IF(A109<>\"\",  IF(TYPE(BN109)=1, ROUND( (Data!$B$8-BN109)/Data!$B$8,3),   \"\"),\"\")","v":""},"",86,"","","",null,""]
[null,87,null,null,"",null,null,null,null,null,null,null,null,null,null,null,{"$f":"IF(AND($A110<>\"\",(O110+P110)>0),    IF(P$13=\"Nm3\",(Q$12*1000*1000/((O$242+P$242+O$243+P$243)*1000*  $K110 * Data!$B$6)),  (Q$12*1000*1000/(((O$242+P$242+O$243+P$243)/Denscalc($K110))*1000*  $K110 * Data!$B$6)) ), 0    )","v":0},87,null,null,{"$f":"IF(AND($A110<>\"\",(S110+T110)>0),    IF(T$13=\"Nm3\",(U$12*1000*1000/((S$242+T$242+S$243+T$243)*1000*  $K110 * Data!$B$6)),  (U$12*1000*1000/(((S$242+T$242+S$243+T$243)/Denscalc($K110))*1000*  $K110 * Data!$B$6)) ), 0     )","v":0},87,null,null,{"$f":"IF(AND($A110<>\"\",(W110+X110)>0),     IF(X$13=\"Nm3\",(Y$12*1000*1000/((W$242+X$242+W$243+X$243)*1000*  $K110 * Data!$B$6)),  (Y$12*1000*1000/(((W$242+X$242+W$243+X$243)/Denscalc($K110))*1000*  $K110 * Data!$B$6)) ), 0   )","v":0},87,null,null,{"$f":"IF(AND($A110<>\"\",(AA110+AB110)>0),     IF(AB$13=\"Nm3\",(AC$12*1000*1000/((AA$242+AB$242+AA$243+AB$243)*1000*  $K110 * Data!$B$6)),  (AC$12*1000*1000/(((AA$242+AB$242+AA$243+AB$243)/Denscalc($K110))*1000*  $K110 * Data!$B$6)) ), 0     )","v":0},87,null,null,{"$f":"IF(AND($A110<>\"\",(AE110+AF110)>0),     IF(AF$13=\"Nm3\",(AG$12*1000*1000/((AE$242+AF$242+AE$243+AF$243)*1000*  $K110 * Data!$B$6)),  (AG$12*1000*1000/(((AE$242+AF$242+AE$243+AF$243)/Denscalc($K110))*1000*  $K110 * Data!$B$6)) ), 0    )","v":0},87,null,null,{"$f":"IF(AND($A110<>\"\",(AI110+AJ110)>0),    IF(AJ$13=\"Nm3\",(AK$12*1000*1000/((AI$242+AJ$242+AI$243+AJ$243)*1000*  $K110 * Data!$B$6)),  (AK$12*1000*1000/(((AI$242+AJ$242+AI$243+AJ$243)/Denscalc($K110))*1000*  $K110 * Data!$B$6)) ), 0    )","v":0},87,null,null,{"$f":"IF(AND($A110<>\"\",(AM110+AN110)>0),     IF(AN$13=\"Nm3\",(AO$12*1000*1000/((AM$242+AN$242+AM$243+AN$243)*1000*  $K110 * Data!$B$6)),  (AO$12*1000*1000/(((AM$242+AN$242+AM$243+AN$243)/Denscalc($K110))*1000*  $K110 * Data!$B$6)) ), 0    )","v":0},87,null,null,{"$f":"IF(AND($A110<>\"\",(AQ110+AR110)>0),     IF(AR$13=\"Nm3\",(AS$12*1000*1000/((AQ$242+AR$242+AQ$243+AR$243)*1000*  $K110 * Data!$B$6)),  (AS$12*1000*1000/(((AQ$242+AR$242+AQ$243+AR$243)/Denscalc($K110))*1000*  $K110 * Data!$B$6)) ), 0     )","v":0},87,null,null,{"$f":"IF(AND($A110<>\"\",(AU110+AV110)>0),     IF(AV$13=\"Nm3\",(AW$12*1000*1000/((AU$242+AV$242+AU$243+AV$243)*1000*  $K110 * Data!$B$6)),  (AW$12*1000*1000/(((AU$242+AV$242+AU$243+AV$243)/Denscalc($K110))*1000*  $K110 * Data!$B$6)) ), 0   )","v":0},87,null,null,{"$f":"IF(AND(BA$11>0,$A110<>\"\",(AY110+AZ110)>0), BA$11, IF(AND($A110<>\"\",(AY110+AZ110)>0),\nIF(AZ$13=\"Nm3\",(BA$6*1000*1000/((AY$242+AZ$242+AY$243+AZ$243)*1000*$K110*Data!$B$6))+((BA$12-BA$6)*1000*1000/((AY$242+AZ$242+AY$243+AZ$243-AY$241-AZ$241)*1000*$K110*Data!$B$6)),\n(BA$6*1000*1000/(((AY$242+AZ$242+AY$243+AZ$243)/Denscalc($K110))*1000*$K110*Data!$B$6))+((BA$12-BA$6)*1000*1000/(((AY$242+AZ$242+AY$243+AZ$243-AY$241-AZ$241)/Denscalc($K110))*1000*$K110*Data!$B$6))),0))","v":0},87,null,null,{"$f":"IF(AND(BE$11>0,$A110<>\"\",(BC110+BD110)>0), BE$11, IF(AND($A110<>\"\",(BC110+BD110)>0),\n (BE$6*1000*1000/((BC$244+BD$244)*1000* Data!$B$7))+ ((BE$12-BE$6)*1000*1000/((BC$244+BD$244-BC$241-BD$241)*1000* Data!$B$7)),0))","v":0},87,{"$f":"IF(A110<>\"\", (Data!$B$127*1000*Data!$B$3)/Data!$B$7,  \"\")","v":""},"","",{"$f":"IF(A110<>\"\",  ROUND( (Data!$B$8-BI110)/Data!$B$8,3),   \"\")","v":""},"","","","",{"$f":"IF(A110<>\"\",  IF(TYPE(BN110)=1, ROUND( (Data!$B$8-BN110)/Data!$B$8,3),   \"\"),\"\")","v":""},"",87,"","","",null,""]
[null,88,null,null,"",null,null,null,null,null,null,null,null,null,null,null,{"$f":"IF(AND($A111<>\"\",(O111+P111)>0),    IF(P$13=\"Nm3\",(Q$12*1000*1000/((O$242+P$242+O$243+P$243)*1000*  $K111 * Data!$B$6)),  (Q$12*1000*1000/(((O$242+P$242+O$243+P$243)/Denscalc($K111))*1000*  $K111 * Data!$B$6)) ), 0    )","v":0},88,null,null,{"$f":"IF(AND($A111<>\"\",(S111+T111)>0),    IF(T$13=\"Nm3\",(U$12*1000*1000/((S$242+T$242+S$243+T$243)*1000*  $K111 * Data!$B$6)),  (U$12*1000*1000/(((S$242+T$242+S$243+T$243)/Denscalc($K111))*1000*  $K111 * Data!$B$6)) ), 0     )","v":0},88,null,null,{"$f":"IF(AND($A111<>\"\",(W111+X111)>0),     IF(X$13=\"Nm3\",(Y$12*1000*1000/((W$242+X$242+W$243+X$243)*1000*  $K111 * Data!$B$6)),  (Y$12*1000*1000/(((W$242+X$242+W$243+X$243)/Denscalc($K111))*1000*  $K111 * Data!$B$6)) ), 0   )","v":0},88,null,null,{"$f":"IF(AND($A111<>\"\",(AA111+AB111)>0),     IF(AB$13=\"Nm3\",(AC$12*1000*1000/((AA$242+AB$242+AA$243+AB$243)*1000*  $K111 * Data!$B$6)),  (AC$12*1000*1000/(((AA$242+AB$242+AA$243+AB$243)/Denscalc($K111))*1000*  $K111 * Data!$B$6)) ), 0     )","v":0},88,null,null,{"$f":"IF(AND($A111<>\"\",(AE111+AF111)>0),     IF(AF$13=\"Nm3\",(AG$12*1000*1000/((AE$242+AF$242+AE$243+AF$243)*1000*  $K111 * Data!$B$6)),  (AG$12*1000*1000/(((AE$242+AF$242+AE$243+AF$243)/Denscalc($K111))*1000*  $K111 * Data!$B$6)) ), 0    )","v":0},88,null,null,{"$f":"IF(AND($A111<>\"\",(AI111+AJ111)>0),    IF(AJ$13=\"Nm3\",(AK$12*1000*1000/((AI$242+AJ$242+AI$243+AJ$243)*1000*  $K111 * Data!$B$6)),  (AK$12*1000*1000/(((AI$242+AJ$242+AI$243+AJ$243)/Denscalc($K111))*1000*  $K111 * Data!$B$6)) ), 0    )","v":0},88,null,null,{"$f":"IF(AND($A111<>\"\",(AM111+AN111)>0),     IF(AN$13=\"Nm3\",(AO$12*1000*1000/((AM$242+AN$242+AM$243+AN$243)*1000*  $K111 * Data!$B$6)),  (AO$12*1000*1000/(((AM$242+AN$242+AM$243+AN$243)/Denscalc($K111))*1000*  $K111 * Data!$B$6)) ), 0    )","v":0},88,null,null,{"$f":"IF(AND($A111<>\"\",(AQ111+AR111)>0),     IF(AR$13=\"Nm3\",(AS$12*1000*1000/((AQ$242+AR$242+AQ$243+AR$243)*1000*  $K111 * Data!$B$6)),  (AS$12*1000*1000/(((AQ$242+AR$242+AQ$243+AR$243)/Denscalc($K111))*1000*  $K111 * Data!$B$6)) ), 0     )","v":0},88,null,null,{"$f":"IF(AND($A111<>\"\",(AU111+AV111)>0),     IF(AV$13=\"Nm3\",(AW$12*1000*1000/((AU$242+AV$242+AU$243+AV$243)*1000*  $K111 * Data!$B$6)),  (AW$12*1000*1000/(((AU$242+AV$242+AU$243+AV$243)/Denscalc($K111))*1000*  $K111 * Data!$B$6)) ), 0   )","v":0},88,null,null,{"$f":"IF(AND(BA$11>0,$A111<>\"\",(AY111+AZ111)>0), BA$11, IF(AND($A111<>\"\",(AY111+AZ111)>0),\nIF(AZ$13=\"Nm3\",(BA$6*1000*1000/((AY$242+AZ$242+AY$243+AZ$243)*1000*$K111*Data!$B$6))+((BA$12-BA$6)*1000*1000/((AY$242+AZ$242+AY$243+AZ$243-AY$241-AZ$241)*1000*$K111*Data!$B$6)),\n(BA$6*1000*1000/(((AY$242+AZ$242+AY$243+AZ$243)/Denscalc($K111))*1000*$K111*Data!$B$6))+((BA$12-BA$6)*1000*1000/(((AY$242+AZ$242+AY$243+AZ$243-AY$241-AZ$241)/Denscalc($K111))*1000*$K111*Data!$B$6))),0))","v":0},88,null,null,{"$f":"IF(AND(BE$11>0,$A111<>\"\",(BC111+BD111)>0), BE$11, IF(AND($A111<>\"\",(BC111+BD111)>0),\n (BE$6*1000*1000/((BC$244+BD$244)*1000* Data!$B$7))+ ((BE$12-BE$6)*1000*1000/((BC$244+BD$244-BC$241-BD$241)*1000* Data!$B$7)),0))","v":0},88,{"$f":"IF(A111<>\"\", (Data!$B$127*1000*Data!$B$3)/Data!$B$7,  \"\")","v":""},"","",{"$f":"IF(A111<>\"\",  ROUND( (Data!$B$8-BI111)/Data!$B$8,3),   \"\")","v":""},"","","","",{"$f":"IF(A111<>\"\",  IF(TYPE(BN111)=1, ROUND( (Data!$B$8-BN111)/Data!$B$8,3),   \"\"),\"\")","v":""},"",88,"","","",null,""]
[null,89,null,null,"",null,null,null,null,null,null,null,null,null,null,null,{"$f":"IF(AND($A112<>\"\",(O112+P112)>0),    IF(P$13=\"Nm3\",(Q$12*1000*1000/((O$242+P$242+O$243+P$243)*1000*  $K112 * Data!$B$6)),  (Q$12*1000*1000/(((O$242+P$242+O$243+P$243)/Denscalc($K112))*1000*  $K112 * Data!$B$6)) ), 0    )","v":0},89,null,null,{"$f":"IF(AND($A112<>\"\",(S112+T112)>0),    IF(T$13=\"Nm3\",(U$12*1000*1000/((S$242+T$242+S$243+T$243)*1000*  $K112 * Data!$B$6)),  (U$12*1000*1000/(((S$242+T$242+S$243+T$243)/Denscalc($K112))*1000*  $K112 * Data!$B$6)) ), 0     )","v":0},89,null,null,{"$f":"IF(AND($A112<>\"\",(W112+X112)>0),     IF(X$13=\"Nm3\",(Y$12*1000*1000/((W$242+X$242+W$243+X$243)*1000*  $K112 * Data!$B$6)),  (Y$12*1000*1000/(((W$242+X$242+W$243+X$243)/Denscalc($K112))*1000*  $K112 * Data!$B$6)) ), 0   )","v":0},89,null,null,{"$f":"IF(AND($A112<>\"\",(AA112+AB112)>0),     IF(AB$13=\"Nm3\",(AC$12*1000*1000/((AA$242+AB$242+AA$243+AB$243)*1000*  $K112 * Data!$B$6)),  (AC$12*1000*1000/(((AA$242+AB$242+AA$243+AB$243)/Denscalc($K112))*1000*  $K112 * Data!$B$6)) ), 0     )","v":0},89,null,null,{"$f":"IF(AND($A112<>\"\",(AE112+AF112)>0),     IF(AF$13=\"Nm3\",(AG$12*1000*1000/((AE$242+AF$242+AE$243+AF$243)*1000*  $K112 * Data!$B$6)),  (AG$12*1000*1000/(((AE$242+AF$242+AE$243+AF$243)/Denscalc($K112))*1000*  $K112 * Data!$B$6)) ), 0    )","v":0},89,null,null,{"$f":"IF(AND($A112<>\"\",(AI112+AJ112)>0),    IF(AJ$13=\"Nm3\",(AK$12*1000*1000/((AI$242+AJ$242+AI$243+AJ$243)*1000*  $K112 * Data!$B$6)),  (AK$12*1000*1000/(((AI$242+AJ$242+AI$243+AJ$243)/Denscalc($K112))*1000*  $K112 * Data!$B$6)) ), 0    )","v":0},89,null,null,{"$f":"IF(AND($A112<>\"\",(AM112+AN112)>0),     IF(AN$13=\"Nm3\",(AO$12*1000*1000/((AM$242+AN$242+AM$243+AN$243)*1000*  $K112 * Data!$B$6)),  (AO$12*1000*1000/(((AM$242+AN$242+AM$243+AN$243)/Denscalc($K112))*1000*  $K112 * Data!$B$6)) ), 0    )","v":0},89,null,null,{"$f":"IF(AND($A112<>\"\",(AQ112+AR112)>0),     IF(AR$13=\"Nm3\",(AS$12*1000*1000/((AQ$242+AR$242+AQ$243+AR$243)*1000*  $K112 * Data!$B$6)),  (AS$12*1000*1000/(((AQ$242+AR$242+AQ$243+AR$243)/Denscalc($K112))*1000*  $K112 * Data!$B$6)) ), 0     )","v":0},89,null,null,{"$f":"IF(AND($A112<>\"\",(AU112+AV112)>0),     IF(AV$13=\"Nm3\",(AW$12*1000*1000/((AU$242+AV$242+AU$243+AV$243)*1000*  $K112 * Data!$B$6)),  (AW$12*1000*1000/(((AU$242+AV$242+AU$243+AV$243)/Denscalc($K112))*1000*  $K112 * Data!$B$6)) ), 0   )","v":0},89,null,null,{"$f":"IF(AND(BA$11>0,$A112<>\"\",(AY112+AZ112)>0), BA$11, IF(AND($A112<>\"\",(AY112+AZ112)>0),\nIF(AZ$13=\"Nm3\",(BA$6*1000*1000/((AY$242+AZ$242+AY$243+AZ$243)*1000*$K112*Data!$B$6))+((BA$12-BA$6)*1000*1000/((AY$242+AZ$242+AY$243+AZ$243-AY$241-AZ$241)*1000*$K112*Data!$B$6)),\n(BA$6*1000*1000/(((AY$242+AZ$242+AY$243+AZ$243)/Denscalc($K112))*1000*$K112*Data!$B$6))+((BA$12-BA$6)*1000*1000/(((AY$242+AZ$242+AY$243+AZ$243-AY$241-AZ$241)/Denscalc($K112))*1000*$K112*Data!$B$6))),0))","v":0},89,null,null,{"$f":"IF(AND(BE$11>0,$A112<>\"\",(BC112+BD112)>0), BE$11, IF(AND($A112<>\"\",(BC112+BD112)>0),\n (BE$6*1000*1000/((BC$244+BD$244)*1000* Data!$B$7))+ ((BE$12-BE$6)*1000*1000/((BC$244+BD$244-BC$241-BD$241)*1000* Data!$B$7)),0))","v":0},89,{"$f":"IF(A112<>\"\", (Data!$B$127*1000*Data!$B$3)/Data!$B$7,  \"\")","v":""},"","",{"$f":"IF(A112<>\"\",  ROUND( (Data!$B$8-BI112)/Data!$B$8,3),   \"\")","v":""},"","","","",{"$f":"IF(A112<>\"\",  IF(TYPE(BN112)=1, ROUND( (Data!$B$8-BN112)/Data!$B$8,3),   \"\"),\"\")","v":""},"",89,"","","",null,""]
[null,90,null,null,"",null,null,null,null,null,null,null,null,null,null,null,{"$f":"IF(AND($A113<>\"\",(O113+P113)>0),    IF(P$13=\"Nm3\",(Q$12*1000*1000/((O$242+P$242+O$243+P$243)*1000*  $K113 * Data!$B$6)),  (Q$12*1000*1000/(((O$242+P$242+O$243+P$243)/Denscalc($K113))*1000*  $K113 * Data!$B$6)) ), 0    )","v":0},90,null,null,{"$f":"IF(AND($A113<>\"\",(S113+T113)>0),    IF(T$13=\"Nm3\",(U$12*1000*1000/((S$242+T$242+S$243+T$243)*1000*  $K113 * Data!$B$6)),  (U$12*1000*1000/(((S$242+T$242+S$243+T$243)/Denscalc($K113))*1000*  $K113 * Data!$B$6)) ), 0     )","v":0},90,null,null,{"$f":"IF(AND($A113<>\"\",(W113+X113)>0),     IF(X$13=\"Nm3\",(Y$12*1000*1000/((W$242+X$242+W$243+X$243)*1000*  $K113 * Data!$B$6)),  (Y$12*1000*1000/(((W$242+X$242+W$243+X$243)/Denscalc($K113))*1000*  $K113 * Data!$B$6)) ), 0   )","v":0},90,null,null,{"$f":"IF(AND($A113<>\"\",(AA113+AB113)>0),     IF(AB$13=\"Nm3\",(AC$12*1000*1000/((AA$242+AB$242+AA$243+AB$243)*1000*  $K113 * Data!$B$6)),  (AC$12*1000*1000/(((AA$242+AB$242+AA$243+AB$243)/Denscalc($K113))*1000*  $K113 * Data!$B$6)) ), 0     )","v":0},90,null,null,{"$f":"IF(AND($A113<>\"\",(AE113+AF113)>0),     IF(AF$13=\"Nm3\",(AG$12*1000*1000/((AE$242+AF$242+AE$243+AF$243)*1000*  $K113 * Data!$B$6)),  (AG$12*1000*1000/(((AE$242+AF$242+AE$243+AF$243)/Denscalc($K113))*1000*  $K113 * Data!$B$6)) ), 0    )","v":0},90,null,null,{"$f":"IF(AND($A113<>\"\",(AI113+AJ113)>0),    IF(AJ$13=\"Nm3\",(AK$12*1000*1000/((AI$242+AJ$242+AI$243+AJ$243)*1000*  $K113 * Data!$B$6)),  (AK$12*1000*1000/(((AI$242+AJ$242+AI$243+AJ$243)/Denscalc($K113))*1000*  $K113 * Data!$B$6)) ), 0    )","v":0},90,null,null,{"$f":"IF(AND($A113<>\"\",(AM113+AN113)>0),     IF(AN$13=\"Nm3\",(AO$12*1000*1000/((AM$242+AN$242+AM$243+AN$243)*1000*  $K113 * Data!$B$6)),  (AO$12*1000*1000/(((AM$242+AN$242+AM$243+AN$243)/Denscalc($K113))*1000*  $K113 * Data!$B$6)) ), 0    )","v":0},90,null,null,{"$f":"IF(AND($A113<>\"\",(AQ113+AR113)>0),     IF(AR$13=\"Nm3\",(AS$12*1000*1000/((AQ$242+AR$242+AQ$243+AR$243)*1000*  $K113 * Data!$B$6)),  (AS$12*1000*1000/(((AQ$242+AR$242+AQ$243+AR$243)/Denscalc($K113))*1000*  $K113 * Data!$B$6)) ), 0     )","v":0},90,null,null,{"$f":"IF(AND($A113<>\"\",(AU113+AV113)>0),     IF(AV$13=\"Nm3\",(AW$12*1000*1000/((AU$242+AV$242+AU$243+AV$243)*1000*  $K113 * Data!$B$6)),  (AW$12*1000*1000/(((AU$242+AV$242+AU$243+AV$243)/Denscalc($K113))*1000*  $K113 * Data!$B$6)) ), 0   )","v":0},90,null,null,{"$f":"IF(AND(BA$11>0,$A113<>\"\",(AY113+AZ113)>0), BA$11, IF(AND($A113<>\"\",(AY113+AZ113)>0),\nIF(AZ$13=\"Nm3\",(BA$6*1000*1000/((AY$242+AZ$242+AY$243+AZ$243)*1000*$K113*Data!$B$6))+((BA$12-BA$6)*1000*1000/((AY$242+AZ$242+AY$243+AZ$243-AY$241-AZ$241)*1000*$K113*Data!$B$6)),\n(BA$6*1000*1000/(((AY$242+AZ$242+AY$243+AZ$243)/Denscalc($K113))*1000*$K113*Data!$B$6))+((BA$12-BA$6)*1000*1000/(((AY$242+AZ$242+AY$243+AZ$243-AY$241-AZ$241)/Denscalc($K113))*1000*$K113*Data!$B$6))),0))","v":0},90,null,null,{"$f":"IF(AND(BE$11>0,$A113<>\"\",(BC113+BD113)>0), BE$11, IF(AND($A113<>\"\",(BC113+BD113)>0),\n (BE$6*1000*1000/((BC$244+BD$244)*1000* Data!$B$7))+ ((BE$12-BE$6)*1000*1000/((BC$244+BD$244-BC$241-BD$241)*1000* Data!$B$7)),0))","v":0},90,{"$f":"IF(A113<>\"\", (Data!$B$127*1000*Data!$B$3)/Data!$B$7,  \"\")","v":""},"","",{"$f":"IF(A113<>\"\",  ROUND( (Data!$B$8-BI113)/Data!$B$8,3),   \"\")","v":""},"","","","",{"$f":"IF(A113<>\"\",  IF(TYPE(BN113)=1, ROUND( (Data!$B$8-BN113)/Data!$B$8,3),   \"\"),\"\")","v":""},"",90,"","","",null,""]
[null,91,null,null,"",null,null,null,null,null,null,null,null,null,null,null,{"$f":"IF(AND($A114<>\"\",(O114+P114)>0),    IF(P$13=\"Nm3\",(Q$12*1000*1000/((O$242+P$242+O$243+P$243)*1000*  $K114 * Data!$B$6)),  (Q$12*1000*1000/(((O$242+P$242+O$243+P$243)/Denscalc($K114))*1000*  $K114 * Data!$B$6)) ), 0    )","v":0},91,null,null,{"$f":"IF(AND($A114<>\"\",(S114+T114)>0),    IF(T$13=\"Nm3\",(U$12*1000*1000/((S$242+T$242+S$243+T$243)*1000*  $K114 * Data!$B$6)),  (U$12*1000*1000/(((S$242+T$242+S$243+T$243)/Denscalc($K114))*1000*  $K114 * Data!$B$6)) ), 0     )","v":0},91,null,null,{"$f":"IF(AND($A114<>\"\",(W114+X114)>0),     IF(X$13=\"Nm3\",(Y$12*1000*1000/((W$242+X$242+W$243+X$243)*1000*  $K114 * Data!$B$6)),  (Y$12*1000*1000/(((W$242+X$242+W$243+X$243)/Denscalc($K114))*1000*  $K114 * Data!$B$6)) ), 0   )","v":0},91,null,null,{"$f":"IF(AND($A114<>\"\",(AA114+AB114)>0),     IF(AB$13=\"Nm3\",(AC$12*1000*1000/((AA$242+AB$242+AA$243+AB$243)*1000*  $K114 * Data!$B$6)),  (AC$12*1000*1000/(((AA$242+AB$242+AA$243+AB$243)/Denscalc($K114))*1000*  $K114 * Data!$B$6)) ), 0     )","v":0},91,null,null,{"$f":"IF(AND($A114<>\"\",(AE114+AF114)>0),     IF(AF$13=\"Nm3\",(AG$12*1000*1000/((AE$242+AF$242+AE$243+AF$243)*1000*  $K114 * Data!$B$6)),  (AG$12*1000*1000/(((AE$242+AF$242+AE$243+AF$243)/Denscalc($K114))*1000*  $K114 * Data!$B$6)) ), 0    )","v":0},91,null,null,{"$f":"IF(AND($A114<>\"\",(AI114+AJ114)>0),    IF(AJ$13=\"Nm3\",(AK$12*1000*1000/((AI$242+AJ$242+AI$243+AJ$243)*1000*  $K114 * Data!$B$6)),  (AK$12*1000*1000/(((AI$242+AJ$242+AI$243+AJ$243)/Denscalc($K114))*1000*  $K114 * Data!$B$6)) ), 0    )","v":0},91,null,null,{"$f":"IF(AND($A114<>\"\",(AM114+AN114)>0),     IF(AN$13=\"Nm3\",(AO$12*1000*1000/((AM$242+AN$242+AM$243+AN$243)*1000*  $K114 * Data!$B$6)),  (AO$12*1000*1000/(((AM$242+AN$242+AM$243+AN$243)/Denscalc($K114))*1000*  $K114 * Data!$B$6)) ), 0    )","v":0},91,null,null,{"$f":"IF(AND($A114<>\"\",(AQ114+AR114)>0),     IF(AR$13=\"Nm3\",(AS$12*1000*1000/((AQ$242+AR$242+AQ$243+AR$243)*1000*  $K114 * Data!$B$6)),  (AS$12*1000*1000/(((AQ$242+AR$242+AQ$243+AR$243)/Denscalc($K114))*1000*  $K114 * Data!$B$6)) ), 0     )","v":0},91,null,null,{"$f":"IF(AND($A114<>\"\",(AU114+AV114)>0),     IF(AV$13=\"Nm3\",(AW$12*1000*1000/((AU$242+AV$242+AU$243+AV$243)*1000*  $K114 * Data!$B$6)),  (AW$12*1000*1000/(((AU$242+AV$242+AU$243+AV$243)/Denscalc($K114))*1000*  $K114 * Data!$B$6)) ), 0   )","v":0},91,null,null,{"$f":"IF(AND(BA$11>0,$A114<>\"\",(AY114+AZ114)>0), BA$11, IF(AND($A114<>\"\",(AY114+AZ114)>0),\nIF(AZ$13=\"Nm3\",(BA$6*1000*1000/((AY$242+AZ$242+AY$243+AZ$243)*1000*$K114*Data!$B$6))+((BA$12-BA$6)*1000*1000/((AY$242+AZ$242+AY$243+AZ$243-AY$241-AZ$241)*1000*$K114*Data!$B$6)),\n(BA$6*1000*1000/(((AY$242+AZ$242+AY$243+AZ$243)/Denscalc($K114))*1000*$K114*Data!$B$6))+((BA$12-BA$6)*1000*1000/(((AY$242+AZ$242+AY$243+AZ$243-AY$241-AZ$241)/Denscalc($K114))*1000*$K114*Data!$B$6))),0))","v":0},91,null,null,{"$f":"IF(AND(BE$11>0,$A114<>\"\",(BC114+BD114)>0), BE$11, IF(AND($A114<>\"\",(BC114+BD114)>0),\n (BE$6*1000*1000/((BC$244+BD$244)*1000* Data!$B$7))+ ((BE$12-BE$6)*1000*1000/((BC$244+BD$244-BC$241-BD$241)*1000* Data!$B$7)),0))","v":0},91,{"$f":"IF(A114<>\"\", (Data!$B$127*1000*Data!$B$3)/Data!$B$7,  \"\")","v":""},"","",{"$f":"IF(A114<>\"\",  ROUND( (Data!$B$8-BI114)/Data!$B$8,3),   \"\")","v":""},"","","","",{"$f":"IF(A114<>\"\",  IF(TYPE(BN114)=1, ROUND( (Data!$B$8-BN114)/Data!$B$8,3),   \"\"),\"\")","v":""},"",91,"","","",null,""]
[null,92,null,null,"",null,null,null,null,null,null,null,null,null,null,null,{"$f":"IF(AND($A115<>\"\",(O115+P115)>0),    IF(P$13=\"Nm3\",(Q$12*1000*1000/((O$242+P$242+O$243+P$243)*1000*  $K115 * Data!$B$6)),  (Q$12*1000*1000/(((O$242+P$242+O$243+P$243)/Denscalc($K115))*1000*  $K115 * Data!$B$6)) ), 0    )","v":0},92,null,null,{"$f":"IF(AND($A115<>\"\",(S115+T115)>0),    IF(T$13=\"Nm3\",(U$12*1000*1000/((S$242+T$242+S$243+T$243)*1000*  $K115 * Data!$B$6)),  (U$12*1000*1000/(((S$242+T$242+S$243+T$243)/Denscalc($K115))*1000*  $K115 * Data!$B$6)) ), 0     )","v":0},92,null,null,{"$f":"IF(AND($A115<>\"\",(W115+X115)>0),     IF(X$13=\"Nm3\",(Y$12*1000*1000/((W$242+X$242+W$243+X$243)*1000*  $K115 * Data!$B$6)),  (Y$12*1000*1000/(((W$242+X$242+W$243+X$243)/Denscalc($K115))*1000*  $K115 * Data!$B$6)) ), 0   )","v":0},92,null,null,{"$f":"IF(AND($A115<>\"\",(AA115+AB115)>0),     IF(AB$13=\"Nm3\",(AC$12*1000*1000/((AA$242+AB$242+AA$243+AB$243)*1000*  $K115 * Data!$B$6)),  (AC$12*1000*1000/(((AA$242+AB$242+AA$243+AB$243)/Denscalc($K115))*1000*  $K115 * Data!$B$6)) ), 0     )","v":0},92,null,null,{"$f":"IF(AND($A115<>\"\",(AE115+AF115)>0),     IF(AF$13=\"Nm3\",(AG$12*1000*1000/((AE$242+AF$242+AE$243+AF$243)*1000*  $K115 * Data!$B$6)),  (AG$12*1000*1000/(((AE$242+AF$242+AE$243+AF$243)/Denscalc($K115))*1000*  $K115 * Data!$B$6)) ), 0    )","v":0},92,null,null,{"$f":"IF(AND($A115<>\"\",(AI115+AJ115)>0),    IF(AJ$13=\"Nm3\",(AK$12*1000*1000/((AI$242+AJ$242+AI$243+AJ$243)*1000*  $K115 * Data!$B$6)),  (AK$12*1000*1000/(((AI$242+AJ$242+AI$243+AJ$243)/Denscalc($K115))*1000*  $K115 * Data!$B$6)) ), 0    )","v":0},92,null,null,{"$f":"IF(AND($A115<>\"\",(AM115+AN115)>0),     IF(AN$13=\"Nm3\",(AO$12*1000*1000/((AM$242+AN$242+AM$243+AN$243)*1000*  $K115 * Data!$B$6)),  (AO$12*1000*1000/(((AM$242+AN$242+AM$243+AN$243)/Denscalc($K115))*1000*  $K115 * Data!$B$6)) ), 0    )","v":0},92,null,null,{"$f":"IF(AND($A115<>\"\",(AQ115+AR115)>0),     IF(AR$13=\"Nm3\",(AS$12*1000*1000/((AQ$242+AR$242+AQ$243+AR$243)*1000*  $K115 * Data!$B$6)),  (AS$12*1000*1000/(((AQ$242+AR$242+AQ$243+AR$243)/Denscalc($K115))*1000*  $K115 * Data!$B$6)) ), 0     )","v":0},92,null,null,{"$f":"IF(AND($A115<>\"\",(AU115+AV115)>0),     IF(AV$13=\"Nm3\",(AW$12*1000*1000/((AU$242+AV$242+AU$243+AV$243)*1000*  $K115 * Data!$B$6)),  (AW$12*1000*1000/(((AU$242+AV$242+AU$243+AV$243)/Denscalc($K115))*1000*  $K115 * Data!$B$6)) ), 0   )","v":0},92,null,null,{"$f":"IF(AND(BA$11>0,$A115<>\"\",(AY115+AZ115)>0), BA$11, IF(AND($A115<>\"\",(AY115+AZ115)>0),\nIF(AZ$13=\"Nm3\",(BA$6*1000*1000/((AY$242+AZ$242+AY$243+AZ$243)*1000*$K115*Data!$B$6))+((BA$12-BA$6)*1000*1000/((AY$242+AZ$242+AY$243+AZ$243-AY$241-AZ$241)*1000*$K115*Data!$B$6)),\n(BA$6*1000*1000/(((AY$242+AZ$242+AY$243+AZ$243)/Denscalc($K115))*1000*$K115*Data!$B$6))+((BA$12-BA$6)*1000*1000/(((AY$242+AZ$242+AY$243+AZ$243-AY$241-AZ$241)/Denscalc($K115))*1000*$K115*Data!$B$6))),0))","v":0},92,null,null,{"$f":"IF(AND(BE$11>0,$A115<>\"\",(BC115+BD115)>0), BE$11, IF(AND($A115<>\"\",(BC115+BD115)>0),\n (BE$6*1000*1000/((BC$244+BD$244)*1000* Data!$B$7))+ ((BE$12-BE$6)*1000*1000/((BC$244+BD$244-BC$241-BD$241)*1000* Data!$B$7)),0))","v":0},92,{"$f":"IF(A115<>\"\", (Data!$B$127*1000*Data!$B$3)/Data!$B$7,  \"\")","v":""},"","",{"$f":"IF(A115<>\"\",  ROUND( (Data!$B$8-BI115)/Data!$B$8,3),   \"\")","v":""},"","","","",{"$f":"IF(A115<>\"\",  IF(TYPE(BN115)=1, ROUND( (Data!$B$8-BN115)/Data!$B$8,3),   \"\"),\"\")","v":""},"",92,"","","",null,""]
[null,93,null,null,"",null,null,null,null,null,null,null,null,null,null,null,{"$f":"IF(AND($A116<>\"\",(O116+P116)>0),    IF(P$13=\"Nm3\",(Q$12*1000*1000/((O$242+P$242+O$243+P$243)*1000*  $K116 * Data!$B$6)),  (Q$12*1000*1000/(((O$242+P$242+O$243+P$243)/Denscalc($K116))*1000*  $K116 * Data!$B$6)) ), 0    )","v":0},93,null,null,{"$f":"IF(AND($A116<>\"\",(S116+T116)>0),    IF(T$13=\"Nm3\",(U$12*1000*1000/((S$242+T$242+S$243+T$243)*1000*  $K116 * Data!$B$6)),  (U$12*1000*1000/(((S$242+T$242+S$243+T$243)/Denscalc($K116))*1000*  $K116 * Data!$B$6)) ), 0     )","v":0},93,null,null,{"$f":"IF(AND($A116<>\"\",(W116+X116)>0),     IF(X$13=\"Nm3\",(Y$12*1000*1000/((W$242+X$242+W$243+X$243)*1000*  $K116 * Data!$B$6)),  (Y$12*1000*1000/(((W$242+X$242+W$243+X$243)/Denscalc($K116))*1000*  $K116 * Data!$B$6)) ), 0   )","v":0},93,null,null,{"$f":"IF(AND($A116<>\"\",(AA116+AB116)>0),     IF(AB$13=\"Nm3\",(AC$12*1000*1000/((AA$242+AB$242+AA$243+AB$243)*1000*  $K116 * Data!$B$6)),  (AC$12*1000*1000/(((AA$242+AB$242+AA$243+AB$243)/Denscalc($K116))*1000*  $K116 * Data!$B$6)) ), 0     )","v":0},93,null,null,{"$f":"IF(AND($A116<>\"\",(AE116+AF116)>0),     IF(AF$13=\"Nm3\",(AG$12*1000*1000/((AE$242+AF$242+AE$243+AF$243)*1000*  $K116 * Data!$B$6)),  (AG$12*1000*1000/(((AE$242+AF$242+AE$243+AF$243)/Denscalc($K116))*1000*  $K116 * Data!$B$6)) ), 0    )","v":0},93,null,null,{"$f":"IF(AND($A116<>\"\",(AI116+AJ116)>0),    IF(AJ$13=\"Nm3\",(AK$12*1000*1000/((AI$242+AJ$242+AI$243+AJ$243)*1000*  $K116 * Data!$B$6)),  (AK$12*1000*1000/(((AI$242+AJ$242+AI$243+AJ$243)/Denscalc($K116))*1000*  $K116 * Data!$B$6)) ), 0    )","v":0},93,null,null,{"$f":"IF(AND($A116<>\"\",(AM116+AN116)>0),     IF(AN$13=\"Nm3\",(AO$12*1000*1000/((AM$242+AN$242+AM$243+AN$243)*1000*  $K116 * Data!$B$6)),  (AO$12*1000*1000/(((AM$242+AN$242+AM$243+AN$243)/Denscalc($K116))*1000*  $K116 * Data!$B$6)) ), 0    )","v":0},93,null,null,{"$f":"IF(AND($A116<>\"\",(AQ116+AR116)>0),     IF(AR$13=\"Nm3\",(AS$12*1000*1000/((AQ$242+AR$242+AQ$243+AR$243)*1000*  $K116 * Data!$B$6)),  (AS$12*1000*1000/(((AQ$242+AR$242+AQ$243+AR$243)/Denscalc($K116))*1000*  $K116 * Data!$B$6)) ), 0     )","v":0},93,null,null,{"$f":"IF(AND($A116<>\"\",(AU116+AV116)>0),     IF(AV$13=\"Nm3\",(AW$12*1000*1000/((AU$242+AV$242+AU$243+AV$243)*1000*  $K116 * Data!$B$6)),  (AW$12*1000*1000/(((AU$242+AV$242+AU$243+AV$243)/Denscalc($K116))*1000*  $K116 * Data!$B$6)) ), 0   )","v":0},93,null,null,{"$f":"IF(AND(BA$11>0,$A116<>\"\",(AY116+AZ116)>0), BA$11, IF(AND($A116<>\"\",(AY116+AZ116)>0),\nIF(AZ$13=\"Nm3\",(BA$6*1000*1000/((AY$242+AZ$242+AY$243+AZ$243)*1000*$K116*Data!$B$6))+((BA$12-BA$6)*1000*1000/((AY$242+AZ$242+AY$243+AZ$243-AY$241-AZ$241)*1000*$K116*Data!$B$6)),\n(BA$6*1000*1000/(((AY$242+AZ$242+AY$243+AZ$243)/Denscalc($K116))*1000*$K116*Data!$B$6))+((BA$12-BA$6)*1000*1000/(((AY$242+AZ$242+AY$243+AZ$243-AY$241-AZ$241)/Denscalc($K116))*1000*$K116*Data!$B$6))),0))","v":0},93,null,null,{"$f":"IF(AND(BE$11>0,$A116<>\"\",(BC116+BD116)>0), BE$11, IF(AND($A116<>\"\",(BC116+BD116)>0),\n (BE$6*1000*1000/((BC$244+BD$244)*1000* Data!$B$7))+ ((BE$12-BE$6)*1000*1000/((BC$244+BD$244-BC$241-BD$241)*1000* Data!$B$7)),0))","v":0},93,{"$f":"IF(A116<>\"\", (Data!$B$127*1000*Data!$B$3)/Data!$B$7,  \"\")","v":""},"","",{"$f":"IF(A116<>\"\",  ROUND( (Data!$B$8-BI116)/Data!$B$8,3),   \"\")","v":""},"","","","",{"$f":"IF(A116<>\"\",  IF(TYPE(BN116)=1, ROUND( (Data!$B$8-BN116)/Data!$B$8,3),   \"\"),\"\")","v":""},"",93,{"$f":"IF(A116<>\"\", SUM(IF(P$13=\"Nm3\",P116,0),  IF(T$13=\"Nm3\",T116,0),  IF(X$13=\"Nm3\",X116,0),  IF(AB$13=\"Nm3\",AB116,0),  IF(AF$13=\"Nm3\",AF116,0), IF(AJ$13=\"Nm3\",AJ116,0),  IF(AN$13=\"Nm3\",AN116,0),  IF(AR$13=\"Nm3\",AR116,0),  IF(AV$13=\"Nm3\",AV116,0), IF(AZ$13=\"Nm3\",AZ116,0),  ),\"\")","v":""},{"$f":"IF(A116<>\"\", SUM(IF(P$13=\"kg\",P116,0),  IF(T$13=\"kg\",T116,0),  IF(X$13=\"kg\",X116,0),  IF(AB$13=\"kg\",AB116,0),  IF(AF$13=\"kg\",AF116,0), IF(AJ$13=\"kg\",AJ116,0),  IF(AN$13=\"kg\",AN116,0),  IF(AR$13=\"kg\",AR116,0),  IF(AV$13=\"kg\",AV116,0), IF(AZ$13=\"kg\",AZ116,0),  ),\"\")","v":""},{"$f":"IF(A116<>\"\",BD116,\"\")","v":""},null,{"$f":"IF(A116<>\"\",    IF(I116=\"Gas\", IF(J116=\"kg\", ((BK116*Denscalc(K116) +BL116+BR116*Denscalc(K116)+BS116)-H116), ( (BK116+BL116/Denscalc(K116) + BR116+BS116/Denscalc(K116))-H116)), ( (   BK116*Denscalc(K116)+BL116+BP116+BR116*Denscalc(K116)+BS116+BT116)-H116)  ), \"\")","v":""}]
[null,94,null,null,"",null,null,null,null,null,null,null,null,null,null,null,{"$f":"IF(AND($A117<>\"\",(O117+P117)>0),    IF(P$13=\"Nm3\",(Q$12*1000*1000/((O$242+P$242+O$243+P$243)*1000*  $K117 * Data!$B$6)),  (Q$12*1000*1000/(((O$242+P$242+O$243+P$243)/Denscalc($K117))*1000*  $K117 * Data!$B$6)) ), 0    )","v":0},94,null,null,{"$f":"IF(AND($A117<>\"\",(S117+T117)>0),    IF(T$13=\"Nm3\",(U$12*1000*1000/((S$242+T$242+S$243+T$243)*1000*  $K117 * Data!$B$6)),  (U$12*1000*1000/(((S$242+T$242+S$243+T$243)/Denscalc($K117))*1000*  $K117 * Data!$B$6)) ), 0     )","v":0},94,null,null,{"$f":"IF(AND($A117<>\"\",(W117+X117)>0),     IF(X$13=\"Nm3\",(Y$12*1000*1000/((W$242+X$242+W$243+X$243)*1000*  $K117 * Data!$B$6)),  (Y$12*1000*1000/(((W$242+X$242+W$243+X$243)/Denscalc($K117))*1000*  $K117 * Data!$B$6)) ), 0   )","v":0},94,null,null,{"$f":"IF(AND($A117<>\"\",(AA117+AB117)>0),     IF(AB$13=\"Nm3\",(AC$12*1000*1000/((AA$242+AB$242+AA$243+AB$243)*1000*  $K117 * Data!$B$6)),  (AC$12*1000*1000/(((AA$242+AB$242+AA$243+AB$243)/Denscalc($K117))*1000*  $K117 * Data!$B$6)) ), 0     )","v":0},94,null,null,{"$f":"IF(AND($A117<>\"\",(AE117+AF117)>0),     IF(AF$13=\"Nm3\",(AG$12*1000*1000/((AE$242+AF$242+AE$243+AF$243)*1000*  $K117 * Data!$B$6)),  (AG$12*1000*1000/(((AE$242+AF$242+AE$243+AF$243)/Denscalc($K117))*1000*  $K117 * Data!$B$6)) ), 0    )","v":0},94,null,null,{"$f":"IF(AND($A117<>\"\",(AI117+AJ117)>0),    IF(AJ$13=\"Nm3\",(AK$12*1000*1000/((AI$242+AJ$242+AI$243+AJ$243)*1000*  $K117 * Data!$B$6)),  (AK$12*1000*1000/(((AI$242+AJ$242+AI$243+AJ$243)/Denscalc($K117))*1000*  $K117 * Data!$B$6)) ), 0    )","v":0},94,null,null,{"$f":"IF(AND($A117<>\"\",(AM117+AN117)>0),     IF(AN$13=\"Nm3\",(AO$12*1000*1000/((AM$242+AN$242+AM$243+AN$243)*1000*  $K117 * Data!$B$6)),  (AO$12*1000*1000/(((AM$242+AN$242+AM$243+AN$243)/Denscalc($K117))*1000*  $K117 * Data!$B$6)) ), 0    )","v":0},94,null,null,{"$f":"IF(AND($A117<>\"\",(AQ117+AR117)>0),     IF(AR$13=\"Nm3\",(AS$12*1000*1000/((AQ$242+AR$242+AQ$243+AR$243)*1000*  $K117 * Data!$B$6)),  (AS$12*1000*1000/(((AQ$242+AR$242+AQ$243+AR$243)/Denscalc($K117))*1000*  $K117 * Data!$B$6)) ), 0     )","v":0},94,null,null,{"$f":"IF(AND($A117<>\"\",(AU117+AV117)>0),     IF(AV$13=\"Nm3\",(AW$12*1000*1000/((AU$242+AV$242+AU$243+AV$243)*1000*  $K117 * Data!$B$6)),  (AW$12*1000*1000/(((AU$242+AV$242+AU$243+AV$243)/Denscalc($K117))*1000*  $K117 * Data!$B$6)) ), 0   )","v":0},94,null,null,{"$f":"IF(AND(BA$11>0,$A117<>\"\",(AY117+AZ117)>0), BA$11, IF(AND($A117<>\"\",(AY117+AZ117)>0),\nIF(AZ$13=\"Nm3\",(BA$6*1000*1000/((AY$242+AZ$242+AY$243+AZ$243)*1000*$K117*Data!$B$6))+((BA$12-BA$6)*1000*1000/((AY$242+AZ$242+AY$243+AZ$243-AY$241-AZ$241)*1000*$K117*Data!$B$6)),\n(BA$6*1000*1000/(((AY$242+AZ$242+AY$243+AZ$243)/Denscalc($K117))*1000*$K117*Data!$B$6))+((BA$12-BA$6)*1000*1000/(((AY$242+AZ$242+AY$243+AZ$243-AY$241-AZ$241)/Denscalc($K117))*1000*$K117*Data!$B$6))),0))","v":0},94,null,null,{"$f":"IF(AND(BE$11>0,$A117<>\"\",(BC117+BD117)>0), BE$11, IF(AND($A117<>\"\",(BC117+BD117)>0),\n (BE$6*1000*1000/((BC$244+BD$244)*1000* Data!$B$7))+ ((BE$12-BE$6)*1000*1000/((BC$244+BD$244-BC$241-BD$241)*1000* Data!$B$7)),0))","v":0},94,{"$f":"IF(A117<>\"\", (Data!$B$127*1000*Data!$B$3)/Data!$B$7,  \"\")","v":""},"","",{"$f":"IF(A117<>\"\",  ROUND( (Data!$B$8-BI117)/Data!$B$8,3),   \"\")","v":""},"","","","",{"$f":"IF(A117<>\"\",  IF(TYPE(BN117)=1, ROUND( (Data!$B$8-BN117)/Data!$B$8,3),   \"\"),\"\")","v":""},"",94,"","","",null,""]
[null,95,null,null,"",null,null,null,null,null,null,null,null,null,null,null,{"$f":"IF(AND($A118<>\"\",(O118+P118)>0),    IF(P$13=\"Nm3\",(Q$12*1000*1000/((O$242+P$242+O$243+P$243)*1000*  $K118 * Data!$B$6)),  (Q$12*1000*1000/(((O$242+P$242+O$243+P$243)/Denscalc($K118))*1000*  $K118 * Data!$B$6)) ), 0    )","v":0},95,null,null,{"$f":"IF(AND($A118<>\"\",(S118+T118)>0),    IF(T$13=\"Nm3\",(U$12*1000*1000/((S$242+T$242+S$243+T$243)*1000*  $K118 * Data!$B$6)),  (U$12*1000*1000/(((S$242+T$242+S$243+T$243)/Denscalc($K118))*1000*  $K118 * Data!$B$6)) ), 0     )","v":0},95,null,null,{"$f":"IF(AND($A118<>\"\",(W118+X118)>0),     IF(X$13=\"Nm3\",(Y$12*1000*1000/((W$242+X$242+W$243+X$243)*1000*  $K118 * Data!$B$6)),  (Y$12*1000*1000/(((W$242+X$242+W$243+X$243)/Denscalc($K118))*1000*  $K118 * Data!$B$6)) ), 0   )","v":0},95,null,null,{"$f":"IF(AND($A118<>\"\",(AA118+AB118)>0),     IF(AB$13=\"Nm3\",(AC$12*1000*1000/((AA$242+AB$242+AA$243+AB$243)*1000*  $K118 * Data!$B$6)),  (AC$12*1000*1000/(((AA$242+AB$242+AA$243+AB$243)/Denscalc($K118))*1000*  $K118 * Data!$B$6)) ), 0     )","v":0},95,null,null,{"$f":"IF(AND($A118<>\"\",(AE118+AF118)>0),     IF(AF$13=\"Nm3\",(AG$12*1000*1000/((AE$242+AF$242+AE$243+AF$243)*1000*  $K118 * Data!$B$6)),  (AG$12*1000*1000/(((AE$242+AF$242+AE$243+AF$243)/Denscalc($K118))*1000*  $K118 * Data!$B$6)) ), 0    )","v":0},95,null,null,{"$f":"IF(AND($A118<>\"\",(AI118+AJ118)>0),    IF(AJ$13=\"Nm3\",(AK$12*1000*1000/((AI$242+AJ$242+AI$243+AJ$243)*1000*  $K118 * Data!$B$6)),  (AK$12*1000*1000/(((AI$242+AJ$242+AI$243+AJ$243)/Denscalc($K118))*1000*  $K118 * Data!$B$6)) ), 0    )","v":0},95,null,null,{"$f":"IF(AND($A118<>\"\",(AM118+AN118)>0),     IF(AN$13=\"Nm3\",(AO$12*1000*1000/((AM$242+AN$242+AM$243+AN$243)*1000*  $K118 * Data!$B$6)),  (AO$12*1000*1000/(((AM$242+AN$242+AM$243+AN$243)/Denscalc($K118))*1000*  $K118 * Data!$B$6)) ), 0    )","v":0},95,null,null,{"$f":"IF(AND($A118<>\"\",(AQ118+AR118)>0),     IF(AR$13=\"Nm3\",(AS$12*1000*1000/((AQ$242+AR$242+AQ$243+AR$243)*1000*  $K118 * Data!$B$6)),  (AS$12*1000*1000/(((AQ$242+AR$242+AQ$243+AR$243)/Denscalc($K118))*1000*  $K118 * Data!$B$6)) ), 0     )","v":0},95,null,null,{"$f":"IF(AND($A118<>\"\",(AU118+AV118)>0),     IF(AV$13=\"Nm3\",(AW$12*1000*1000/((AU$242+AV$242+AU$243+AV$243)*1000*  $K118 * Data!$B$6)),  (AW$12*1000*1000/(((AU$242+AV$242+AU$243+AV$243)/Denscalc($K118))*1000*  $K118 * Data!$B$6)) ), 0   )","v":0},95,null,null,{"$f":"IF(AND(BA$11>0,$A118<>\"\",(AY118+AZ118)>0), BA$11, IF(AND($A118<>\"\",(AY118+AZ118)>0),\nIF(AZ$13=\"Nm3\",(BA$6*1000*1000/((AY$242+AZ$242+AY$243+AZ$243)*1000*$K118*Data!$B$6))+((BA$12-BA$6)*1000*1000/((AY$242+AZ$242+AY$243+AZ$243-AY$241-AZ$241)*1000*$K118*Data!$B$6)),\n(BA$6*1000*1000/(((AY$242+AZ$242+AY$243+AZ$243)/Denscalc($K118))*1000*$K118*Data!$B$6))+((BA$12-BA$6)*1000*1000/(((AY$242+AZ$242+AY$243+AZ$243-AY$241-AZ$241)/Denscalc($K118))*1000*$K118*Data!$B$6))),0))","v":0},95,null,null,{"$f":"IF(AND(BE$11>0,$A118<>\"\",(BC118+BD118)>0), BE$11, IF(AND($A118<>\"\",(BC118+BD118)>0),\n (BE$6*1000*1000/((BC$244+BD$244)*1000* Data!$B$7))+ ((BE$12-BE$6)*1000*1000/((BC$244+BD$244-BC$241-BD$241)*1000* Data!$B$7)),0))","v":0},95,{"$f":"IF(A118<>\"\", (Data!$B$127*1000*Data!$B$3)/Data!$B$7,  \"\")","v":""},"","",{"$f":"IF(A118<>\"\",  ROUND( (Data!$B$8-BI118)/Data!$B$8,3),   \"\")","v":""},"","","","",{"$f":"IF(A118<>\"\",  IF(TYPE(BN118)=1, ROUND( (Data!$B$8-BN118)/Data!$B$8,3),   \"\"),\"\")","v":""},"",95,"","","",null,""]
[null,96,null,null,"",null,null,null,null,null,null,null,null,null,null,null,{"$f":"IF(AND($A119<>\"\",(O119+P119)>0),    IF(P$13=\"Nm3\",(Q$12*1000*1000/((O$242+P$242+O$243+P$243)*1000*  $K119 * Data!$B$6)),  (Q$12*1000*1000/(((O$242+P$242+O$243+P$243)/Denscalc($K119))*1000*  $K119 * Data!$B$6)) ), 0    )","v":0},96,null,null,{"$f":"IF(AND($A119<>\"\",(S119+T119)>0),    IF(T$13=\"Nm3\",(U$12*1000*1000/((S$242+T$242+S$243+T$243)*1000*  $K119 * Data!$B$6)),  (U$12*1000*1000/(((S$242+T$242+S$243+T$243)/Denscalc($K119))*1000*  $K119 * Data!$B$6)) ), 0     )","v":0},96,null,null,{"$f":"IF(AND($A119<>\"\",(W119+X119)>0),     IF(X$13=\"Nm3\",(Y$12*1000*1000/((W$242+X$242+W$243+X$243)*1000*  $K119 * Data!$B$6)),  (Y$12*1000*1000/(((W$242+X$242+W$243+X$243)/Denscalc($K119))*1000*  $K119 * Data!$B$6)) ), 0   )","v":0},96,null,null,{"$f":"IF(AND($A119<>\"\",(AA119+AB119)>0),     IF(AB$13=\"Nm3\",(AC$12*1000*1000/((AA$242+AB$242+AA$243+AB$243)*1000*  $K119 * Data!$B$6)),  (AC$12*1000*1000/(((AA$242+AB$242+AA$243+AB$243)/Denscalc($K119))*1000*  $K119 * Data!$B$6)) ), 0     )","v":0},96,null,null,{"$f":"IF(AND($A119<>\"\",(AE119+AF119)>0),     IF(AF$13=\"Nm3\",(AG$12*1000*1000/((AE$242+AF$242+AE$243+AF$243)*1000*  $K119 * Data!$B$6)),  (AG$12*1000*1000/(((AE$242+AF$242+AE$243+AF$243)/Denscalc($K119))*1000*  $K119 * Data!$B$6)) ), 0    )","v":0},96,null,null,{"$f":"IF(AND($A119<>\"\",(AI119+AJ119)>0),    IF(AJ$13=\"Nm3\",(AK$12*1000*1000/((AI$242+AJ$242+AI$243+AJ$243)*1000*  $K119 * Data!$B$6)),  (AK$12*1000*1000/(((AI$242+AJ$242+AI$243+AJ$243)/Denscalc($K119))*1000*  $K119 * Data!$B$6)) ), 0    )","v":0},96,null,null,{"$f":"IF(AND($A119<>\"\",(AM119+AN119)>0),     IF(AN$13=\"Nm3\",(AO$12*1000*1000/((AM$242+AN$242+AM$243+AN$243)*1000*  $K119 * Data!$B$6)),  (AO$12*1000*1000/(((AM$242+AN$242+AM$243+AN$243)/Denscalc($K119))*1000*  $K119 * Data!$B$6)) ), 0    )","v":0},96,null,null,{"$f":"IF(AND($A119<>\"\",(AQ119+AR119)>0),     IF(AR$13=\"Nm3\",(AS$12*1000*1000/((AQ$242+AR$242+AQ$243+AR$243)*1000*  $K119 * Data!$B$6)),  (AS$12*1000*1000/(((AQ$242+AR$242+AQ$243+AR$243)/Denscalc($K119))*1000*  $K119 * Data!$B$6)) ), 0     )","v":0},96,null,null,{"$f":"IF(AND($A119<>\"\",(AU119+AV119)>0),     IF(AV$13=\"Nm3\",(AW$12*1000*1000/((AU$242+AV$242+AU$243+AV$243)*1000*  $K119 * Data!$B$6)),  (AW$12*1000*1000/(((AU$242+AV$242+AU$243+AV$243)/Denscalc($K119))*1000*  $K119 * Data!$B$6)) ), 0   )","v":0},96,null,null,{"$f":"IF(AND(BA$11>0,$A119<>\"\",(AY119+AZ119)>0), BA$11, IF(AND($A119<>\"\",(AY119+AZ119)>0),\nIF(AZ$13=\"Nm3\",(BA$6*1000*1000/((AY$242+AZ$242+AY$243+AZ$243)*1000*$K119*Data!$B$6))+((BA$12-BA$6)*1000*1000/((AY$242+AZ$242+AY$243+AZ$243-AY$241-AZ$241)*1000*$K119*Data!$B$6)),\n(BA$6*1000*1000/(((AY$242+AZ$242+AY$243+AZ$243)/Denscalc($K119))*1000*$K119*Data!$B$6))+((BA$12-BA$6)*1000*1000/(((AY$242+AZ$242+AY$243+AZ$243-AY$241-AZ$241)/Denscalc($K119))*1000*$K119*Data!$B$6))),0))","v":0},96,null,null,{"$f":"IF(AND(BE$11>0,$A119<>\"\",(BC119+BD119)>0), BE$11, IF(AND($A119<>\"\",(BC119+BD119)>0),\n (BE$6*1000*1000/((BC$244+BD$244)*1000* Data!$B$7))+ ((BE$12-BE$6)*1000*1000/((BC$244+BD$244-BC$241-BD$241)*1000* Data!$B$7)),0))","v":0},96,{"$f":"IF(A119<>\"\", (Data!$B$127*1000*Data!$B$3)/Data!$B$7,  \"\")","v":""},"","",{"$f":"IF(A119<>\"\",  ROUND( (Data!$B$8-BI119)/Data!$B$8,3),   \"\")","v":""},"","","","",{"$f":"IF(A119<>\"\",  IF(TYPE(BN119)=1, ROUND( (Data!$B$8-BN119)/Data!$B$8,3),   \"\"),\"\")","v":""},"",96,"","","",null,""]
[null,97,null,null,"",null,null,null,null,null,null,null,null,null,null,null,{"$f":"IF(AND($A120<>\"\",(O120+P120)>0),    IF(P$13=\"Nm3\",(Q$12*1000*1000/((O$242+P$242+O$243+P$243)*1000*  $K120 * Data!$B$6)),  (Q$12*1000*1000/(((O$242+P$242+O$243+P$243)/Denscalc($K120))*1000*  $K120 * Data!$B$6)) ), 0    )","v":0},97,null,null,{"$f":"IF(AND($A120<>\"\",(S120+T120)>0),    IF(T$13=\"Nm3\",(U$12*1000*1000/((S$242+T$242+S$243+T$243)*1000*  $K120 * Data!$B$6)),  (U$12*1000*1000/(((S$242+T$242+S$243+T$243)/Denscalc($K120))*1000*  $K120 * Data!$B$6)) ), 0     )","v":0},97,null,null,{"$f":"IF(AND($A120<>\"\",(W120+X120)>0),     IF(X$13=\"Nm3\",(Y$12*1000*1000/((W$242+X$242+W$243+X$243)*1000*  $K120 * Data!$B$6)),  (Y$12*1000*1000/(((W$242+X$242+W$243+X$243)/Denscalc($K120))*1000*  $K120 * Data!$B$6)) ), 0   )","v":0},97,null,null,{"$f":"IF(AND($A120<>\"\",(AA120+AB120)>0),     IF(AB$13=\"Nm3\",(AC$12*1000*1000/((AA$242+AB$242+AA$243+AB$243)*1000*  $K120 * Data!$B$6)),  (AC$12*1000*1000/(((AA$242+AB$242+AA$243+AB$243)/Denscalc($K120))*1000*  $K120 * Data!$B$6)) ), 0     )","v":0},97,null,null,{"$f":"IF(AND($A120<>\"\",(AE120+AF120)>0),     IF(AF$13=\"Nm3\",(AG$12*1000*1000/((AE$242+AF$242+AE$243+AF$243)*1000*  $K120 * Data!$B$6)),  (AG$12*1000*1000/(((AE$242+AF$242+AE$243+AF$243)/Denscalc($K120))*1000*  $K120 * Data!$B$6)) ), 0    )","v":0},97,null,null,{"$f":"IF(AND($A120<>\"\",(AI120+AJ120)>0),    IF(AJ$13=\"Nm3\",(AK$12*1000*1000/((AI$242+AJ$242+AI$243+AJ$243)*1000*  $K120 * Data!$B$6)),  (AK$12*1000*1000/(((AI$242+AJ$242+AI$243+AJ$243)/Denscalc($K120))*1000*  $K120 * Data!$B$6)) ), 0    )","v":0},97,null,null,{"$f":"IF(AND($A120<>\"\",(AM120+AN120)>0),     IF(AN$13=\"Nm3\",(AO$12*1000*1000/((AM$242+AN$242+AM$243+AN$243)*1000*  $K120 * Data!$B$6)),  (AO$12*1000*1000/(((AM$242+AN$242+AM$243+AN$243)/Denscalc($K120))*1000*  $K120 * Data!$B$6)) ), 0    )","v":0},97,null,null,{"$f":"IF(AND($A120<>\"\",(AQ120+AR120)>0),     IF(AR$13=\"Nm3\",(AS$12*1000*1000/((AQ$242+AR$242+AQ$243+AR$243)*1000*  $K120 * Data!$B$6)),  (AS$12*1000*1000/(((AQ$242+AR$242+AQ$243+AR$243)/Denscalc($K120))*1000*  $K120 * Data!$B$6)) ), 0     )","v":0},97,null,null,{"$f":"IF(AND($A120<>\"\",(AU120+AV120)>0),     IF(AV$13=\"Nm3\",(AW$12*1000*1000/((AU$242+AV$242+AU$243+AV$243)*1000*  $K120 * Data!$B$6)),  (AW$12*1000*1000/(((AU$242+AV$242+AU$243+AV$243)/Denscalc($K120))*1000*  $K120 * Data!$B$6)) ), 0   )","v":0},97,null,null,{"$f":"IF(AND(BA$11>0,$A120<>\"\",(AY120+AZ120)>0), BA$11, IF(AND($A120<>\"\",(AY120+AZ120)>0),\nIF(AZ$13=\"Nm3\",(BA$6*1000*1000/((AY$242+AZ$242+AY$243+AZ$243)*1000*$K120*Data!$B$6))+((BA$12-BA$6)*1000*1000/((AY$242+AZ$242+AY$243+AZ$243-AY$241-AZ$241)*1000*$K120*Data!$B$6)),\n(BA$6*1000*1000/(((AY$242+AZ$242+AY$243+AZ$243)/Denscalc($K120))*1000*$K120*Data!$B$6))+((BA$12-BA$6)*1000*1000/(((AY$242+AZ$242+AY$243+AZ$243-AY$241-AZ$241)/Denscalc($K120))*1000*$K120*Data!$B$6))),0))","v":0},97,null,null,{"$f":"IF(AND(BE$11>0,$A120<>\"\",(BC120+BD120)>0), BE$11, IF(AND($A120<>\"\",(BC120+BD120)>0),\n (BE$6*1000*1000/((BC$244+BD$244)*1000* Data!$B$7))+ ((BE$12-BE$6)*1000*1000/((BC$244+BD$244-BC$241-BD$241)*1000* Data!$B$7)),0))","v":0},97,{"$f":"IF(A120<>\"\", (Data!$B$127*1000*Data!$B$3)/Data!$B$7,  \"\")","v":""},"","",{"$f":"IF(A120<>\"\",  ROUND( (Data!$B$8-BI120)/Data!$B$8,3),   \"\")","v":""},"","","","",{"$f":"IF(A120<>\"\",  IF(TYPE(BN120)=1, ROUND( (Data!$B$8-BN120)/Data!$B$8,3),   \"\"),\"\")","v":""},"",97,"","","",null,""]
[null,98,null,null,"",null,null,null,null,null,null,null,null,null,null,null,{"$f":"IF(AND($A121<>\"\",(O121+P121)>0),    IF(P$13=\"Nm3\",(Q$12*1000*1000/((O$242+P$242+O$243+P$243)*1000*  $K121 * Data!$B$6)),  (Q$12*1000*1000/(((O$242+P$242+O$243+P$243)/Denscalc($K121))*1000*  $K121 * Data!$B$6)) ), 0    )","v":0},98,null,null,{"$f":"IF(AND($A121<>\"\",(S121+T121)>0),    IF(T$13=\"Nm3\",(U$12*1000*1000/((S$242+T$242+S$243+T$243)*1000*  $K121 * Data!$B$6)),  (U$12*1000*1000/(((S$242+T$242+S$243+T$243)/Denscalc($K121))*1000*  $K121 * Data!$B$6)) ), 0     )","v":0},98,null,null,{"$f":"IF(AND($A121<>\"\",(W121+X121)>0),     IF(X$13=\"Nm3\",(Y$12*1000*1000/((W$242+X$242+W$243+X$243)*1000*  $K121 * Data!$B$6)),  (Y$12*1000*1000/(((W$242+X$242+W$243+X$243)/Denscalc($K121))*1000*  $K121 * Data!$B$6)) ), 0   )","v":0},98,null,null,{"$f":"IF(AND($A121<>\"\",(AA121+AB121)>0),     IF(AB$13=\"Nm3\",(AC$12*1000*1000/((AA$242+AB$242+AA$243+AB$243)*1000*  $K121 * Data!$B$6)),  (AC$12*1000*1000/(((AA$242+AB$242+AA$243+AB$243)/Denscalc($K121))*1000*  $K121 * Data!$B$6)) ), 0     )","v":0},98,null,null,{"$f":"IF(AND($A121<>\"\",(AE121+AF121)>0),     IF(AF$13=\"Nm3\",(AG$12*1000*1000/((AE$242+AF$242+AE$243+AF$243)*1000*  $K121 * Data!$B$6)),  (AG$12*1000*1000/(((AE$242+AF$242+AE$243+AF$243)/Denscalc($K121))*1000*  $K121 * Data!$B$6)) ), 0    )","v":0},98,null,null,{"$f":"IF(AND($A121<>\"\",(AI121+AJ121)>0),    IF(AJ$13=\"Nm3\",(AK$12*1000*1000/((AI$242+AJ$242+AI$243+AJ$243)*1000*  $K121 * Data!$B$6)),  (AK$12*1000*1000/(((AI$242+AJ$242+AI$243+AJ$243)/Denscalc($K121))*1000*  $K121 * Data!$B$6)) ), 0    )","v":0},98,null,null,{"$f":"IF(AND($A121<>\"\",(AM121+AN121)>0),     IF(AN$13=\"Nm3\",(AO$12*1000*1000/((AM$242+AN$242+AM$243+AN$243)*1000*  $K121 * Data!$B$6)),  (AO$12*1000*1000/(((AM$242+AN$242+AM$243+AN$243)/Denscalc($K121))*1000*  $K121 * Data!$B$6)) ), 0    )","v":0},98,null,null,{"$f":"IF(AND($A121<>\"\",(AQ121+AR121)>0),     IF(AR$13=\"Nm3\",(AS$12*1000*1000/((AQ$242+AR$242+AQ$243+AR$243)*1000*  $K121 * Data!$B$6)),  (AS$12*1000*1000/(((AQ$242+AR$242+AQ$243+AR$243)/Denscalc($K121))*1000*  $K121 * Data!$B$6)) ), 0     )","v":0},98,null,null,{"$f":"IF(AND($A121<>\"\",(AU121+AV121)>0),     IF(AV$13=\"Nm3\",(AW$12*1000*1000/((AU$242+AV$242+AU$243+AV$243)*1000*  $K121 * Data!$B$6)),  (AW$12*1000*1000/(((AU$242+AV$242+AU$243+AV$243)/Denscalc($K121))*1000*  $K121 * Data!$B$6)) ), 0   )","v":0},98,null,null,{"$f":"IF(AND(BA$11>0,$A121<>\"\",(AY121+AZ121)>0), BA$11, IF(AND($A121<>\"\",(AY121+AZ121)>0),\nIF(AZ$13=\"Nm3\",(BA$6*1000*1000/((AY$242+AZ$242+AY$243+AZ$243)*1000*$K121*Data!$B$6))+((BA$12-BA$6)*1000*1000/((AY$242+AZ$242+AY$243+AZ$243-AY$241-AZ$241)*1000*$K121*Data!$B$6)),\n(BA$6*1000*1000/(((AY$242+AZ$242+AY$243+AZ$243)/Denscalc($K121))*1000*$K121*Data!$B$6))+((BA$12-BA$6)*1000*1000/(((AY$242+AZ$242+AY$243+AZ$243-AY$241-AZ$241)/Denscalc($K121))*1000*$K121*Data!$B$6))),0))","v":0},98,null,null,{"$f":"IF(AND(BE$11>0,$A121<>\"\",(BC121+BD121)>0), BE$11, IF(AND($A121<>\"\",(BC121+BD121)>0),\n (BE$6*1000*1000/((BC$244+BD$244)*1000* Data!$B$7))+ ((BE$12-BE$6)*1000*1000/((BC$244+BD$244-BC$241-BD$241)*1000* Data!$B$7)),0))","v":0},98,{"$f":"IF(A121<>\"\", (Data!$B$127*1000*Data!$B$3)/Data!$B$7,  \"\")","v":""},"","",{"$f":"IF(A121<>\"\",  ROUND( (Data!$B$8-BI121)/Data!$B$8,3),   \"\")","v":""},"","","","",{"$f":"IF(A121<>\"\",  IF(TYPE(BN121)=1, ROUND( (Data!$B$8-BN121)/Data!$B$8,3),   \"\"),\"\")","v":""},"",98,"","","",null,""]
[null,99,null,null,"",null,null,null,null,null,null,null,null,null,null,null,{"$f":"IF(AND($A122<>\"\",(O122+P122)>0),    IF(P$13=\"Nm3\",(Q$12*1000*1000/((O$242+P$242+O$243+P$243)*1000*  $K122 * Data!$B$6)),  (Q$12*1000*1000/(((O$242+P$242+O$243+P$243)/Denscalc($K122))*1000*  $K122 * Data!$B$6)) ), 0    )","v":0},99,null,null,{"$f":"IF(AND($A122<>\"\",(S122+T122)>0),    IF(T$13=\"Nm3\",(U$12*1000*1000/((S$242+T$242+S$243+T$243)*1000*  $K122 * Data!$B$6)),  (U$12*1000*1000/(((S$242+T$242+S$243+T$243)/Denscalc($K122))*1000*  $K122 * Data!$B$6)) ), 0     )","v":0},99,null,null,{"$f":"IF(AND($A122<>\"\",(W122+X122)>0),     IF(X$13=\"Nm3\",(Y$12*1000*1000/((W$242+X$242+W$243+X$243)*1000*  $K122 * Data!$B$6)),  (Y$12*1000*1000/(((W$242+X$242+W$243+X$243)/Denscalc($K122))*1000*  $K122 * Data!$B$6)) ), 0   )","v":0},99,null,null,{"$f":"IF(AND($A122<>\"\",(AA122+AB122)>0),     IF(AB$13=\"Nm3\",(AC$12*1000*1000/((AA$242+AB$242+AA$243+AB$243)*1000*  $K122 * Data!$B$6)),  (AC$12*1000*1000/(((AA$242+AB$242+AA$243+AB$243)/Denscalc($K122))*1000*  $K122 * Data!$B$6)) ), 0     )","v":0},99,null,null,{"$f":"IF(AND($A122<>\"\",(AE122+AF122)>0),     IF(AF$13=\"Nm3\",(AG$12*1000*1000/((AE$242+AF$242+AE$243+AF$243)*1000*  $K122 * Data!$B$6)),  (AG$12*1000*1000/(((AE$242+AF$242+AE$243+AF$243)/Denscalc($K122))*1000*  $K122 * Data!$B$6)) ), 0    )","v":0},99,null,null,{"$f":"IF(AND($A122<>\"\",(AI122+AJ122)>0),    IF(AJ$13=\"Nm3\",(AK$12*1000*1000/((AI$242+AJ$242+AI$243+AJ$243)*1000*  $K122 * Data!$B$6)),  (AK$12*1000*1000/(((AI$242+AJ$242+AI$243+AJ$243)/Denscalc($K122))*1000*  $K122 * Data!$B$6)) ), 0    )","v":0},99,null,null,{"$f":"IF(AND($A122<>\"\",(AM122+AN122)>0),     IF(AN$13=\"Nm3\",(AO$12*1000*1000/((AM$242+AN$242+AM$243+AN$243)*1000*  $K122 * Data!$B$6)),  (AO$12*1000*1000/(((AM$242+AN$242+AM$243+AN$243)/Denscalc($K122))*1000*  $K122 * Data!$B$6)) ), 0    )","v":0},99,null,null,{"$f":"IF(AND($A122<>\"\",(AQ122+AR122)>0),     IF(AR$13=\"Nm3\",(AS$12*1000*1000/((AQ$242+AR$242+AQ$243+AR$243)*1000*  $K122 * Data!$B$6)),  (AS$12*1000*1000/(((AQ$242+AR$242+AQ$243+AR$243)/Denscalc($K122))*1000*  $K122 * Data!$B$6)) ), 0     )","v":0},99,null,null,{"$f":"IF(AND($A122<>\"\",(AU122+AV122)>0),     IF(AV$13=\"Nm3\",(AW$12*1000*1000/((AU$242+AV$242+AU$243+AV$243)*1000*  $K122 * Data!$B$6)),  (AW$12*1000*1000/(((AU$242+AV$242+AU$243+AV$243)/Denscalc($K122))*1000*  $K122 * Data!$B$6)) ), 0   )","v":0},99,null,null,{"$f":"IF(AND(BA$11>0,$A122<>\"\",(AY122+AZ122)>0), BA$11, IF(AND($A122<>\"\",(AY122+AZ122)>0),\nIF(AZ$13=\"Nm3\",(BA$6*1000*1000/((AY$242+AZ$242+AY$243+AZ$243)*1000*$K122*Data!$B$6))+((BA$12-BA$6)*1000*1000/((AY$242+AZ$242+AY$243+AZ$243-AY$241-AZ$241)*1000*$K122*Data!$B$6)),\n(BA$6*1000*1000/(((AY$242+AZ$242+AY$243+AZ$243)/Denscalc($K122))*1000*$K122*Data!$B$6))+((BA$12-BA$6)*1000*1000/(((AY$242+AZ$242+AY$243+AZ$243-AY$241-AZ$241)/Denscalc($K122))*1000*$K122*Data!$B$6))),0))","v":0},99,null,null,{"$f":"IF(AND(BE$11>0,$A122<>\"\",(BC122+BD122)>0), BE$11, IF(AND($A122<>\"\",(BC122+BD122)>0),\n (BE$6*1000*1000/((BC$244+BD$244)*1000* Data!$B$7))+ ((BE$12-BE$6)*1000*1000/((BC$244+BD$244-BC$241-BD$241)*1000* Data!$B$7)),0))","v":0},99,{"$f":"IF(A122<>\"\", (Data!$B$127*1000*Data!$B$3)/Data!$B$7,  \"\")","v":""},"","",{"$f":"IF(A122<>\"\",  ROUND( (Data!$B$8-BI122)/Data!$B$8,3),   \"\")","v":""},"","","","",{"$f":"IF(A122<>\"\",  IF(TYPE(BN122)=1, ROUND( (Data!$B$8-BN122)/Data!$B$8,3),   \"\"),\"\")","v":""},"",99,"","","",null,""]
[null,100,null,null,"",null,null,null,null,null,null,null,null,null,null,null,{"$f":"IF(AND($A123<>\"\",(O123+P123)>0),    IF(P$13=\"Nm3\",(Q$12*1000*1000/((O$242+P$242+O$243+P$243)*1000*  $K123 * Data!$B$6)),  (Q$12*1000*1000/(((O$242+P$242+O$243+P$243)/Denscalc($K123))*1000*  $K123 * Data!$B$6)) ), 0    )","v":0},100,null,null,{"$f":"IF(AND($A123<>\"\",(S123+T123)>0),    IF(T$13=\"Nm3\",(U$12*1000*1000/((S$242+T$242+S$243+T$243)*1000*  $K123 * Data!$B$6)),  (U$12*1000*1000/(((S$242+T$242+S$243+T$243)/Denscalc($K123))*1000*  $K123 * Data!$B$6)) ), 0     )","v":0},100,null,null,{"$f":"IF(AND($A123<>\"\",(W123+X123)>0),     IF(X$13=\"Nm3\",(Y$12*1000*1000/((W$242+X$242+W$243+X$243)*1000*  $K123 * Data!$B$6)),  (Y$12*1000*1000/(((W$242+X$242+W$243+X$243)/Denscalc($K123))*1000*  $K123 * Data!$B$6)) ), 0   )","v":0},100,null,null,{"$f":"IF(AND($A123<>\"\",(AA123+AB123)>0),     IF(AB$13=\"Nm3\",(AC$12*1000*1000/((AA$242+AB$242+AA$243+AB$243)*1000*  $K123 * Data!$B$6)),  (AC$12*1000*1000/(((AA$242+AB$242+AA$243+AB$243)/Denscalc($K123))*1000*  $K123 * Data!$B$6)) ), 0     )","v":0},100,null,null,{"$f":"IF(AND($A123<>\"\",(AE123+AF123)>0),     IF(AF$13=\"Nm3\",(AG$12*1000*1000/((AE$242+AF$242+AE$243+AF$243)*1000*  $K123 * Data!$B$6)),  (AG$12*1000*1000/(((AE$242+AF$242+AE$243+AF$243)/Denscalc($K123))*1000*  $K123 * Data!$B$6)) ), 0    )","v":0},100,null,null,{"$f":"IF(AND($A123<>\"\",(AI123+AJ123)>0),    IF(AJ$13=\"Nm3\",(AK$12*1000*1000/((AI$242+AJ$242+AI$243+AJ$243)*1000*  $K123 * Data!$B$6)),  (AK$12*1000*1000/(((AI$242+AJ$242+AI$243+AJ$243)/Denscalc($K123))*1000*  $K123 * Data!$B$6)) ), 0    )","v":0},100,null,null,{"$f":"IF(AND($A123<>\"\",(AM123+AN123)>0),     IF(AN$13=\"Nm3\",(AO$12*1000*1000/((AM$242+AN$242+AM$243+AN$243)*1000*  $K123 * Data!$B$6)),  (AO$12*1000*1000/(((AM$242+AN$242+AM$243+AN$243)/Denscalc($K123))*1000*  $K123 * Data!$B$6)) ), 0    )","v":0},100,null,null,{"$f":"IF(AND($A123<>\"\",(AQ123+AR123)>0),     IF(AR$13=\"Nm3\",(AS$12*1000*1000/((AQ$242+AR$242+AQ$243+AR$243)*1000*  $K123 * Data!$B$6)),  (AS$12*1000*1000/(((AQ$242+AR$242+AQ$243+AR$243)/Denscalc($K123))*1000*  $K123 * Data!$B$6)) ), 0     )","v":0},100,null,null,{"$f":"IF(AND($A123<>\"\",(AU123+AV123)>0),     IF(AV$13=\"Nm3\",(AW$12*1000*1000/((AU$242+AV$242+AU$243+AV$243)*1000*  $K123 * Data!$B$6)),  (AW$12*1000*1000/(((AU$242+AV$242+AU$243+AV$243)/Denscalc($K123))*1000*  $K123 * Data!$B$6)) ), 0   )","v":0},100,null,null,{"$f":"IF(AND(BA$11>0,$A123<>\"\",(AY123+AZ123)>0), BA$11, IF(AND($A123<>\"\",(AY123+AZ123)>0),\nIF(AZ$13=\"Nm3\",(BA$6*1000*1000/((AY$242+AZ$242+AY$243+AZ$243)*1000*$K123*Data!$B$6))+((BA$12-BA$6)*1000*1000/((AY$242+AZ$242+AY$243+AZ$243-AY$241-AZ$241)*1000*$K123*Data!$B$6)),\n(BA$6*1000*1000/(((AY$242+AZ$242+AY$243+AZ$243)/Denscalc($K123))*1000*$K123*Data!$B$6))+((BA$12-BA$6)*1000*1000/(((AY$242+AZ$242+AY$243+AZ$243-AY$241-AZ$241)/Denscalc($K123))*1000*$K123*Data!$B$6))),0))","v":0},100,null,null,{"$f":"IF(AND(BE$11>0,$A123<>\"\",(BC123+BD123)>0), BE$11, IF(AND($A123<>\"\",(BC123+BD123)>0),\n (BE$6*1000*1000/((BC$244+BD$244)*1000* Data!$B$7))+ ((BE$12-BE$6)*1000*1000/((BC$244+BD$244-BC$241-BD$241)*1000* Data!$B$7)),0))","v":0},100,{"$f":"IF(A123<>\"\", (Data!$B$127*1000*Data!$B$3)/Data!$B$7,  \"\")","v":""},"","",{"$f":"IF(A123<>\"\",  ROUND( (Data!$B$8-BI123)/Data!$B$8,3),   \"\")","v":""},"","","","",{"$f":"IF(A123<>\"\",  IF(TYPE(BN123)=1, ROUND( (Data!$B$8-BN123)/Data!$B$8,3),   \"\"),\"\")","v":""},"",100,"","","",null,""]
[null,101,null,null,"",null,null,null,null,null,null,null,null,null,null,null,{"$f":"IF(AND($A124<>\"\",(O124+P124)>0),    IF(P$13=\"Nm3\",(Q$12*1000*1000/((O$242+P$242+O$243+P$243)*1000*  $K124 * Data!$B$6)),  (Q$12*1000*1000/(((O$242+P$242+O$243+P$243)/Denscalc($K124))*1000*  $K124 * Data!$B$6)) ), 0    )","v":0},101,null,null,{"$f":"IF(AND($A124<>\"\",(S124+T124)>0),    IF(T$13=\"Nm3\",(U$12*1000*1000/((S$242+T$242+S$243+T$243)*1000*  $K124 * Data!$B$6)),  (U$12*1000*1000/(((S$242+T$242+S$243+T$243)/Denscalc($K124))*1000*  $K124 * Data!$B$6)) ), 0     )","v":0},101,null,null,{"$f":"IF(AND($A124<>\"\",(W124+X124)>0),     IF(X$13=\"Nm3\",(Y$12*1000*1000/((W$242+X$242+W$243+X$243)*1000*  $K124 * Data!$B$6)),  (Y$12*1000*1000/(((W$242+X$242+W$243+X$243)/Denscalc($K124))*1000*  $K124 * Data!$B$6)) ), 0   )","v":0},101,null,null,{"$f":"IF(AND($A124<>\"\",(AA124+AB124)>0),     IF(AB$13=\"Nm3\",(AC$12*1000*1000/((AA$242+AB$242+AA$243+AB$243)*1000*  $K124 * Data!$B$6)),  (AC$12*1000*1000/(((AA$242+AB$242+AA$243+AB$243)/Denscalc($K124))*1000*  $K124 * Data!$B$6)) ), 0     )","v":0},101,null,null,{"$f":"IF(AND($A124<>\"\",(AE124+AF124)>0),     IF(AF$13=\"Nm3\",(AG$12*1000*1000/((AE$242+AF$242+AE$243+AF$243)*1000*  $K124 * Data!$B$6)),  (AG$12*1000*1000/(((AE$242+AF$242+AE$243+AF$243)/Denscalc($K124))*1000*  $K124 * Data!$B$6)) ), 0    )","v":0},101,null,null,{"$f":"IF(AND($A124<>\"\",(AI124+AJ124)>0),    IF(AJ$13=\"Nm3\",(AK$12*1000*1000/((AI$242+AJ$242+AI$243+AJ$243)*1000*  $K124 * Data!$B$6)),  (AK$12*1000*1000/(((AI$242+AJ$242+AI$243+AJ$243)/Denscalc($K124))*1000*  $K124 * Data!$B$6)) ), 0    )","v":0},101,null,null,{"$f":"IF(AND($A124<>\"\",(AM124+AN124)>0),     IF(AN$13=\"Nm3\",(AO$12*1000*1000/((AM$242+AN$242+AM$243+AN$243)*1000*  $K124 * Data!$B$6)),  (AO$12*1000*1000/(((AM$242+AN$242+AM$243+AN$243)/Denscalc($K124))*1000*  $K124 * Data!$B$6)) ), 0    )","v":0},101,null,null,{"$f":"IF(AND($A124<>\"\",(AQ124+AR124)>0),     IF(AR$13=\"Nm3\",(AS$12*1000*1000/((AQ$242+AR$242+AQ$243+AR$243)*1000*  $K124 * Data!$B$6)),  (AS$12*1000*1000/(((AQ$242+AR$242+AQ$243+AR$243)/Denscalc($K124))*1000*  $K124 * Data!$B$6)) ), 0     )","v":0},101,null,null,{"$f":"IF(AND($A124<>\"\",(AU124+AV124)>0),     IF(AV$13=\"Nm3\",(AW$12*1000*1000/((AU$242+AV$242+AU$243+AV$243)*1000*  $K124 * Data!$B$6)),  (AW$12*1000*1000/(((AU$242+AV$242+AU$243+AV$243)/Denscalc($K124))*1000*  $K124 * Data!$B$6)) ), 0   )","v":0},101,null,null,{"$f":"IF(AND(BA$11>0,$A124<>\"\",(AY124+AZ124)>0), BA$11, IF(AND($A124<>\"\",(AY124+AZ124)>0),\nIF(AZ$13=\"Nm3\",(BA$6*1000*1000/((AY$242+AZ$242+AY$243+AZ$243)*1000*$K124*Data!$B$6))+((BA$12-BA$6)*1000*1000/((AY$242+AZ$242+AY$243+AZ$243-AY$241-AZ$241)*1000*$K124*Data!$B$6)),\n(BA$6*1000*1000/(((AY$242+AZ$242+AY$243+AZ$243)/Denscalc($K124))*1000*$K124*Data!$B$6))+((BA$12-BA$6)*1000*1000/(((AY$242+AZ$242+AY$243+AZ$243-AY$241-AZ$241)/Denscalc($K124))*1000*$K124*Data!$B$6))),0))","v":0},101,null,null,{"$f":"IF(AND(BE$11>0,$A124<>\"\",(BC124+BD124)>0), BE$11, IF(AND($A124<>\"\",(BC124+BD124)>0),\n (BE$6*1000*1000/((BC$244+BD$244)*1000* Data!$B$7))+ ((BE$12-BE$6)*1000*1000/((BC$244+BD$244-BC$241-BD$241)*1000* Data!$B$7)),0))","v":0},101,{"$f":"IF(A124<>\"\", (Data!$B$127*1000*Data!$B$3)/Data!$B$7,  \"\")","v":""},"","",{"$f":"IF(A124<>\"\",  ROUND( (Data!$B$8-BI124)/Data!$B$8,3),   \"\")","v":""},"","","","",{"$f":"IF(A124<>\"\",  IF(TYPE(BN124)=1, ROUND( (Data!$B$8-BN124)/Data!$B$8,3),   \"\"),\"\")","v":""},"",101,"","","",null,""]
[null,102,null,null,"",null,null,null,null,null,null,null,null,null,null,null,{"$f":"IF(AND($A125<>\"\",(O125+P125)>0),    IF(P$13=\"Nm3\",(Q$12*1000*1000/((O$242+P$242+O$243+P$243)*1000*  $K125 * Data!$B$6)),  (Q$12*1000*1000/(((O$242+P$242+O$243+P$243)/Denscalc($K125))*1000*  $K125 * Data!$B$6)) ), 0    )","v":0},102,null,null,{"$f":"IF(AND($A125<>\"\",(S125+T125)>0),    IF(T$13=\"Nm3\",(U$12*1000*1000/((S$242+T$242+S$243+T$243)*1000*  $K125 * Data!$B$6)),  (U$12*1000*1000/(((S$242+T$242+S$243+T$243)/Denscalc($K125))*1000*  $K125 * Data!$B$6)) ), 0     )","v":0},102,null,null,{"$f":"IF(AND($A125<>\"\",(W125+X125)>0),     IF(X$13=\"Nm3\",(Y$12*1000*1000/((W$242+X$242+W$243+X$243)*1000*  $K125 * Data!$B$6)),  (Y$12*1000*1000/(((W$242+X$242+W$243+X$243)/Denscalc($K125))*1000*  $K125 * Data!$B$6)) ), 0   )","v":0},102,null,null,{"$f":"IF(AND($A125<>\"\",(AA125+AB125)>0),     IF(AB$13=\"Nm3\",(AC$12*1000*1000/((AA$242+AB$242+AA$243+AB$243)*1000*  $K125 * Data!$B$6)),  (AC$12*1000*1000/(((AA$242+AB$242+AA$243+AB$243)/Denscalc($K125))*1000*  $K125 * Data!$B$6)) ), 0     )","v":0},102,null,null,{"$f":"IF(AND($A125<>\"\",(AE125+AF125)>0),     IF(AF$13=\"Nm3\",(AG$12*1000*1000/((AE$242+AF$242+AE$243+AF$243)*1000*  $K125 * Data!$B$6)),  (AG$12*1000*1000/(((AE$242+AF$242+AE$243+AF$243)/Denscalc($K125))*1000*  $K125 * Data!$B$6)) ), 0    )","v":0},102,null,null,{"$f":"IF(AND($A125<>\"\",(AI125+AJ125)>0),    IF(AJ$13=\"Nm3\",(AK$12*1000*1000/((AI$242+AJ$242+AI$243+AJ$243)*1000*  $K125 * Data!$B$6)),  (AK$12*1000*1000/(((AI$242+AJ$242+AI$243+AJ$243)/Denscalc($K125))*1000*  $K125 * Data!$B$6)) ), 0    )","v":0},102,null,null,{"$f":"IF(AND($A125<>\"\",(AM125+AN125)>0),     IF(AN$13=\"Nm3\",(AO$12*1000*1000/((AM$242+AN$242+AM$243+AN$243)*1000*  $K125 * Data!$B$6)),  (AO$12*1000*1000/(((AM$242+AN$242+AM$243+AN$243)/Denscalc($K125))*1000*  $K125 * Data!$B$6)) ), 0    )","v":0},102,null,null,{"$f":"IF(AND($A125<>\"\",(AQ125+AR125)>0),     IF(AR$13=\"Nm3\",(AS$12*1000*1000/((AQ$242+AR$242+AQ$243+AR$243)*1000*  $K125 * Data!$B$6)),  (AS$12*1000*1000/(((AQ$242+AR$242+AQ$243+AR$243)/Denscalc($K125))*1000*  $K125 * Data!$B$6)) ), 0     )","v":0},102,null,null,{"$f":"IF(AND($A125<>\"\",(AU125+AV125)>0),     IF(AV$13=\"Nm3\",(AW$12*1000*1000/((AU$242+AV$242+AU$243+AV$243)*1000*  $K125 * Data!$B$6)),  (AW$12*1000*1000/(((AU$242+AV$242+AU$243+AV$243)/Denscalc($K125))*1000*  $K125 * Data!$B$6)) ), 0   )","v":0},102,null,null,{"$f":"IF(AND(BA$11>0,$A125<>\"\",(AY125+AZ125)>0), BA$11, IF(AND($A125<>\"\",(AY125+AZ125)>0),\nIF(AZ$13=\"Nm3\",(BA$6*1000*1000/((AY$242+AZ$242+AY$243+AZ$243)*1000*$K125*Data!$B$6))+((BA$12-BA$6)*1000*1000/((AY$242+AZ$242+AY$243+AZ$243-AY$241-AZ$241)*1000*$K125*Data!$B$6)),\n(BA$6*1000*1000/(((AY$242+AZ$242+AY$243+AZ$243)/Denscalc($K125))*1000*$K125*Data!$B$6))+((BA$12-BA$6)*1000*1000/(((AY$242+AZ$242+AY$243+AZ$243-AY$241-AZ$241)/Denscalc($K125))*1000*$K125*Data!$B$6))),0))","v":0},102,null,null,{"$f":"IF(AND(BE$11>0,$A125<>\"\",(BC125+BD125)>0), BE$11, IF(AND($A125<>\"\",(BC125+BD125)>0),\n (BE$6*1000*1000/((BC$244+BD$244)*1000* Data!$B$7))+ ((BE$12-BE$6)*1000*1000/((BC$244+BD$244-BC$241-BD$241)*1000* Data!$B$7)),0))","v":0},102,{"$f":"IF(A125<>\"\", (Data!$B$127*1000*Data!$B$3)/Data!$B$7,  \"\")","v":""},"","",{"$f":"IF(A125<>\"\",  ROUND( (Data!$B$8-BI125)/Data!$B$8,3),   \"\")","v":""},"","","","",{"$f":"IF(A125<>\"\",  IF(TYPE(BN125)=1, ROUND( (Data!$B$8-BN125)/Data!$B$8,3),   \"\"),\"\")","v":""},"",102,"","","",null,""]
[null,103,null,null,"",null,null,null,null,null,null,null,null,null,null,null,{"$f":"IF(AND($A126<>\"\",(O126+P126)>0),    IF(P$13=\"Nm3\",(Q$12*1000*1000/((O$242+P$242+O$243+P$243)*1000*  $K126 * Data!$B$6)),  (Q$12*1000*1000/(((O$242+P$242+O$243+P$243)/Denscalc($K126))*1000*  $K126 * Data!$B$6)) ), 0    )","v":0},103,null,null,{"$f":"IF(AND($A126<>\"\",(S126+T126)>0),    IF(T$13=\"Nm3\",(U$12*1000*1000/((S$242+T$242+S$243+T$243)*1000*  $K126 * Data!$B$6)),  (U$12*1000*1000/(((S$242+T$242+S$243+T$243)/Denscalc($K126))*1000*  $K126 * Data!$B$6)) ), 0     )","v":0},103,null,null,{"$f":"IF(AND($A126<>\"\",(W126+X126)>0),     IF(X$13=\"Nm3\",(Y$12*1000*1000/((W$242+X$242+W$243+X$243)*1000*  $K126 * Data!$B$6)),  (Y$12*1000*1000/(((W$242+X$242+W$243+X$243)/Denscalc($K126))*1000*  $K126 * Data!$B$6)) ), 0   )","v":0},103,null,null,{"$f":"IF(AND($A126<>\"\",(AA126+AB126)>0),     IF(AB$13=\"Nm3\",(AC$12*1000*1000/((AA$242+AB$242+AA$243+AB$243)*1000*  $K126 * Data!$B$6)),  (AC$12*1000*1000/(((AA$242+AB$242+AA$243+AB$243)/Denscalc($K126))*1000*  $K126 * Data!$B$6)) ), 0     )","v":0},103,null,null,{"$f":"IF(AND($A126<>\"\",(AE126+AF126)>0),     IF(AF$13=\"Nm3\",(AG$12*1000*1000/((AE$242+AF$242+AE$243+AF$243)*1000*  $K126 * Data!$B$6)),  (AG$12*1000*1000/(((AE$242+AF$242+AE$243+AF$243)/Denscalc($K126))*1000*  $K126 * Data!$B$6)) ), 0    )","v":0},103,null,null,{"$f":"IF(AND($A126<>\"\",(AI126+AJ126)>0),    IF(AJ$13=\"Nm3\",(AK$12*1000*1000/((AI$242+AJ$242+AI$243+AJ$243)*1000*  $K126 * Data!$B$6)),  (AK$12*1000*1000/(((AI$242+AJ$242+AI$243+AJ$243)/Denscalc($K126))*1000*  $K126 * Data!$B$6)) ), 0    )","v":0},103,null,null,{"$f":"IF(AND($A126<>\"\",(AM126+AN126)>0),     IF(AN$13=\"Nm3\",(AO$12*1000*1000/((AM$242+AN$242+AM$243+AN$243)*1000*  $K126 * Data!$B$6)),  (AO$12*1000*1000/(((AM$242+AN$242+AM$243+AN$243)/Denscalc($K126))*1000*  $K126 * Data!$B$6)) ), 0    )","v":0},103,null,null,{"$f":"IF(AND($A126<>\"\",(AQ126+AR126)>0),     IF(AR$13=\"Nm3\",(AS$12*1000*1000/((AQ$242+AR$242+AQ$243+AR$243)*1000*  $K126 * Data!$B$6)),  (AS$12*1000*1000/(((AQ$242+AR$242+AQ$243+AR$243)/Denscalc($K126))*1000*  $K126 * Data!$B$6)) ), 0     )","v":0},103,null,null,{"$f":"IF(AND($A126<>\"\",(AU126+AV126)>0),     IF(AV$13=\"Nm3\",(AW$12*1000*1000/((AU$242+AV$242+AU$243+AV$243)*1000*  $K126 * Data!$B$6)),  (AW$12*1000*1000/(((AU$242+AV$242+AU$243+AV$243)/Denscalc($K126))*1000*  $K126 * Data!$B$6)) ), 0   )","v":0},103,null,null,{"$f":"IF(AND(BA$11>0,$A126<>\"\",(AY126+AZ126)>0), BA$11, IF(AND($A126<>\"\",(AY126+AZ126)>0),\nIF(AZ$13=\"Nm3\",(BA$6*1000*1000/((AY$242+AZ$242+AY$243+AZ$243)*1000*$K126*Data!$B$6))+((BA$12-BA$6)*1000*1000/((AY$242+AZ$242+AY$243+AZ$243-AY$241-AZ$241)*1000*$K126*Data!$B$6)),\n(BA$6*1000*1000/(((AY$242+AZ$242+AY$243+AZ$243)/Denscalc($K126))*1000*$K126*Data!$B$6))+((BA$12-BA$6)*1000*1000/(((AY$242+AZ$242+AY$243+AZ$243-AY$241-AZ$241)/Denscalc($K126))*1000*$K126*Data!$B$6))),0))","v":0},103,null,null,{"$f":"IF(AND(BE$11>0,$A126<>\"\",(BC126+BD126)>0), BE$11, IF(AND($A126<>\"\",(BC126+BD126)>0),\n (BE$6*1000*1000/((BC$244+BD$244)*1000* Data!$B$7))+ ((BE$12-BE$6)*1000*1000/((BC$244+BD$244-BC$241-BD$241)*1000* Data!$B$7)),0))","v":0},103,{"$f":"IF(A126<>\"\", (Data!$B$127*1000*Data!$B$3)/Data!$B$7,  \"\")","v":""},"","",{"$f":"IF(A126<>\"\",  ROUND( (Data!$B$8-BI126)/Data!$B$8,3),   \"\")","v":""},"","","","",{"$f":"IF(A126<>\"\",  IF(TYPE(BN126)=1, ROUND( (Data!$B$8-BN126)/Data!$B$8,3),   \"\"),\"\")","v":""},"",103,"","","",null,""]
[null,104,null,null,"",null,null,null,null,null,null,null,null,null,null,null,{"$f":"IF(AND($A127<>\"\",(O127+P127)>0),    IF(P$13=\"Nm3\",(Q$12*1000*1000/((O$242+P$242+O$243+P$243)*1000*  $K127 * Data!$B$6)),  (Q$12*1000*1000/(((O$242+P$242+O$243+P$243)/Denscalc($K127))*1000*  $K127 * Data!$B$6)) ), 0    )","v":0},104,null,null,{"$f":"IF(AND($A127<>\"\",(S127+T127)>0),    IF(T$13=\"Nm3\",(U$12*1000*1000/((S$242+T$242+S$243+T$243)*1000*  $K127 * Data!$B$6)),  (U$12*1000*1000/(((S$242+T$242+S$243+T$243)/Denscalc($K127))*1000*  $K127 * Data!$B$6)) ), 0     )","v":0},104,null,null,{"$f":"IF(AND($A127<>\"\",(W127+X127)>0),     IF(X$13=\"Nm3\",(Y$12*1000*1000/((W$242+X$242+W$243+X$243)*1000*  $K127 * Data!$B$6)),  (Y$12*1000*1000/(((W$242+X$242+W$243+X$243)/Denscalc($K127))*1000*  $K127 * Data!$B$6)) ), 0   )","v":0},104,null,null,{"$f":"IF(AND($A127<>\"\",(AA127+AB127)>0),     IF(AB$13=\"Nm3\",(AC$12*1000*1000/((AA$242+AB$242+AA$243+AB$243)*1000*  $K127 * Data!$B$6)),  (AC$12*1000*1000/(((AA$242+AB$242+AA$243+AB$243)/Denscalc($K127))*1000*  $K127 * Data!$B$6)) ), 0     )","v":0},104,null,null,{"$f":"IF(AND($A127<>\"\",(AE127+AF127)>0),     IF(AF$13=\"Nm3\",(AG$12*1000*1000/((AE$242+AF$242+AE$243+AF$243)*1000*  $K127 * Data!$B$6)),  (AG$12*1000*1000/(((AE$242+AF$242+AE$243+AF$243)/Denscalc($K127))*1000*  $K127 * Data!$B$6)) ), 0    )","v":0},104,null,null,{"$f":"IF(AND($A127<>\"\",(AI127+AJ127)>0),    IF(AJ$13=\"Nm3\",(AK$12*1000*1000/((AI$242+AJ$242+AI$243+AJ$243)*1000*  $K127 * Data!$B$6)),  (AK$12*1000*1000/(((AI$242+AJ$242+AI$243+AJ$243)/Denscalc($K127))*1000*  $K127 * Data!$B$6)) ), 0    )","v":0},104,null,null,{"$f":"IF(AND($A127<>\"\",(AM127+AN127)>0),     IF(AN$13=\"Nm3\",(AO$12*1000*1000/((AM$242+AN$242+AM$243+AN$243)*1000*  $K127 * Data!$B$6)),  (AO$12*1000*1000/(((AM$242+AN$242+AM$243+AN$243)/Denscalc($K127))*1000*  $K127 * Data!$B$6)) ), 0    )","v":0},104,null,null,{"$f":"IF(AND($A127<>\"\",(AQ127+AR127)>0),     IF(AR$13=\"Nm3\",(AS$12*1000*1000/((AQ$242+AR$242+AQ$243+AR$243)*1000*  $K127 * Data!$B$6)),  (AS$12*1000*1000/(((AQ$242+AR$242+AQ$243+AR$243)/Denscalc($K127))*1000*  $K127 * Data!$B$6)) ), 0     )","v":0},104,null,null,{"$f":"IF(AND($A127<>\"\",(AU127+AV127)>0),     IF(AV$13=\"Nm3\",(AW$12*1000*1000/((AU$242+AV$242+AU$243+AV$243)*1000*  $K127 * Data!$B$6)),  (AW$12*1000*1000/(((AU$242+AV$242+AU$243+AV$243)/Denscalc($K127))*1000*  $K127 * Data!$B$6)) ), 0   )","v":0},104,null,null,{"$f":"IF(AND(BA$11>0,$A127<>\"\",(AY127+AZ127)>0), BA$11, IF(AND($A127<>\"\",(AY127+AZ127)>0),\nIF(AZ$13=\"Nm3\",(BA$6*1000*1000/((AY$242+AZ$242+AY$243+AZ$243)*1000*$K127*Data!$B$6))+((BA$12-BA$6)*1000*1000/((AY$242+AZ$242+AY$243+AZ$243-AY$241-AZ$241)*1000*$K127*Data!$B$6)),\n(BA$6*1000*1000/(((AY$242+AZ$242+AY$243+AZ$243)/Denscalc($K127))*1000*$K127*Data!$B$6))+((BA$12-BA$6)*1000*1000/(((AY$242+AZ$242+AY$243+AZ$243-AY$241-AZ$241)/Denscalc($K127))*1000*$K127*Data!$B$6))),0))","v":0},104,null,null,{"$f":"IF(AND(BE$11>0,$A127<>\"\",(BC127+BD127)>0), BE$11, IF(AND($A127<>\"\",(BC127+BD127)>0),\n (BE$6*1000*1000/((BC$244+BD$244)*1000* Data!$B$7))+ ((BE$12-BE$6)*1000*1000/((BC$244+BD$244-BC$241-BD$241)*1000* Data!$B$7)),0))","v":0},104,{"$f":"IF(A127<>\"\", (Data!$B$127*1000*Data!$B$3)/Data!$B$7,  \"\")","v":""},"","",{"$f":"IF(A127<>\"\",  ROUND( (Data!$B$8-BI127)/Data!$B$8,3),   \"\")","v":""},"","","","",{"$f":"IF(A127<>\"\",  IF(TYPE(BN127)=1, ROUND( (Data!$B$8-BN127)/Data!$B$8,3),   \"\"),\"\")","v":""},"",104,"","","",null,""]
[null,105,null,null,"",null,null,null,null,null,null,null,null,null,null,null,{"$f":"IF(AND($A128<>\"\",(O128+P128)>0),    IF(P$13=\"Nm3\",(Q$12*1000*1000/((O$242+P$242+O$243+P$243)*1000*  $K128 * Data!$B$6)),  (Q$12*1000*1000/(((O$242+P$242+O$243+P$243)/Denscalc($K128))*1000*  $K128 * Data!$B$6)) ), 0    )","v":0},105,null,null,{"$f":"IF(AND($A128<>\"\",(S128+T128)>0),    IF(T$13=\"Nm3\",(U$12*1000*1000/((S$242+T$242+S$243+T$243)*1000*  $K128 * Data!$B$6)),  (U$12*1000*1000/(((S$242+T$242+S$243+T$243)/Denscalc($K128))*1000*  $K128 * Data!$B$6)) ), 0     )","v":0},105,null,null,{"$f":"IF(AND($A128<>\"\",(W128+X128)>0),     IF(X$13=\"Nm3\",(Y$12*1000*1000/((W$242+X$242+W$243+X$243)*1000*  $K128 * Data!$B$6)),  (Y$12*1000*1000/(((W$242+X$242+W$243+X$243)/Denscalc($K128))*1000*  $K128 * Data!$B$6)) ), 0   )","v":0},105,null,null,{"$f":"IF(AND($A128<>\"\",(AA128+AB128)>0),     IF(AB$13=\"Nm3\",(AC$12*1000*1000/((AA$242+AB$242+AA$243+AB$243)*1000*  $K128 * Data!$B$6)),  (AC$12*1000*1000/(((AA$242+AB$242+AA$243+AB$243)/Denscalc($K128))*1000*  $K128 * Data!$B$6)) ), 0     )","v":0},105,null,null,{"$f":"IF(AND($A128<>\"\",(AE128+AF128)>0),     IF(AF$13=\"Nm3\",(AG$12*1000*1000/((AE$242+AF$242+AE$243+AF$243)*1000*  $K128 * Data!$B$6)),  (AG$12*1000*1000/(((AE$242+AF$242+AE$243+AF$243)/Denscalc($K128))*1000*  $K128 * Data!$B$6)) ), 0    )","v":0},105,null,null,{"$f":"IF(AND($A128<>\"\",(AI128+AJ128)>0),    IF(AJ$13=\"Nm3\",(AK$12*1000*1000/((AI$242+AJ$242+AI$243+AJ$243)*1000*  $K128 * Data!$B$6)),  (AK$12*1000*1000/(((AI$242+AJ$242+AI$243+AJ$243)/Denscalc($K128))*1000*  $K128 * Data!$B$6)) ), 0    )","v":0},105,null,null,{"$f":"IF(AND($A128<>\"\",(AM128+AN128)>0),     IF(AN$13=\"Nm3\",(AO$12*1000*1000/((AM$242+AN$242+AM$243+AN$243)*1000*  $K128 * Data!$B$6)),  (AO$12*1000*1000/(((AM$242+AN$242+AM$243+AN$243)/Denscalc($K128))*1000*  $K128 * Data!$B$6)) ), 0    )","v":0},105,null,null,{"$f":"IF(AND($A128<>\"\",(AQ128+AR128)>0),     IF(AR$13=\"Nm3\",(AS$12*1000*1000/((AQ$242+AR$242+AQ$243+AR$243)*1000*  $K128 * Data!$B$6)),  (AS$12*1000*1000/(((AQ$242+AR$242+AQ$243+AR$243)/Denscalc($K128))*1000*  $K128 * Data!$B$6)) ), 0     )","v":0},105,null,null,{"$f":"IF(AND($A128<>\"\",(AU128+AV128)>0),     IF(AV$13=\"Nm3\",(AW$12*1000*1000/((AU$242+AV$242+AU$243+AV$243)*1000*  $K128 * Data!$B$6)),  (AW$12*1000*1000/(((AU$242+AV$242+AU$243+AV$243)/Denscalc($K128))*1000*  $K128 * Data!$B$6)) ), 0   )","v":0},105,null,null,{"$f":"IF(AND(BA$11>0,$A128<>\"\",(AY128+AZ128)>0), BA$11, IF(AND($A128<>\"\",(AY128+AZ128)>0),\nIF(AZ$13=\"Nm3\",(BA$6*1000*1000/((AY$242+AZ$242+AY$243+AZ$243)*1000*$K128*Data!$B$6))+((BA$12-BA$6)*1000*1000/((AY$242+AZ$242+AY$243+AZ$243-AY$241-AZ$241)*1000*$K128*Data!$B$6)),\n(BA$6*1000*1000/(((AY$242+AZ$242+AY$243+AZ$243)/Denscalc($K128))*1000*$K128*Data!$B$6))+((BA$12-BA$6)*1000*1000/(((AY$242+AZ$242+AY$243+AZ$243-AY$241-AZ$241)/Denscalc($K128))*1000*$K128*Data!$B$6))),0))","v":0},105,null,null,{"$f":"IF(AND(BE$11>0,$A128<>\"\",(BC128+BD128)>0), BE$11, IF(AND($A128<>\"\",(BC128+BD128)>0),\n (BE$6*1000*1000/((BC$244+BD$244)*1000* Data!$B$7))+ ((BE$12-BE$6)*1000*1000/((BC$244+BD$244-BC$241-BD$241)*1000* Data!$B$7)),0))","v":0},105,{"$f":"IF(A128<>\"\", (Data!$B$127*1000*Data!$B$3)/Data!$B$7,  \"\")","v":""},"","",{"$f":"IF(A128<>\"\",  ROUND( (Data!$B$8-BI128)/Data!$B$8,3),   \"\")","v":""},"","","","",{"$f":"IF(A128<>\"\",  IF(TYPE(BN128)=1, ROUND( (Data!$B$8-BN128)/Data!$B$8,3),   \"\"),\"\")","v":""},"",105,"","","",null,""]
[null,106,null,null,"",null,null,null,null,null,null,null,null,null,null,null,{"$f":"IF(AND($A129<>\"\",(O129+P129)>0),    IF(P$13=\"Nm3\",(Q$12*1000*1000/((O$242+P$242+O$243+P$243)*1000*  $K129 * Data!$B$6)),  (Q$12*1000*1000/(((O$242+P$242+O$243+P$243)/Denscalc($K129))*1000*  $K129 * Data!$B$6)) ), 0    )","v":0},106,null,null,{"$f":"IF(AND($A129<>\"\",(S129+T129)>0),    IF(T$13=\"Nm3\",(U$12*1000*1000/((S$242+T$242+S$243+T$243)*1000*  $K129 * Data!$B$6)),  (U$12*1000*1000/(((S$242+T$242+S$243+T$243)/Denscalc($K129))*1000*  $K129 * Data!$B$6)) ), 0     )","v":0},106,null,null,{"$f":"IF(AND($A129<>\"\",(W129+X129)>0),     IF(X$13=\"Nm3\",(Y$12*1000*1000/((W$242+X$242+W$243+X$243)*1000*  $K129 * Data!$B$6)),  (Y$12*1000*1000/(((W$242+X$242+W$243+X$243)/Denscalc($K129))*1000*  $K129 * Data!$B$6)) ), 0   )","v":0},106,null,null,{"$f":"IF(AND($A129<>\"\",(AA129+AB129)>0),     IF(AB$13=\"Nm3\",(AC$12*1000*1000/((AA$242+AB$242+AA$243+AB$243)*1000*  $K129 * Data!$B$6)),  (AC$12*1000*1000/(((AA$242+AB$242+AA$243+AB$243)/Denscalc($K129))*1000*  $K129 * Data!$B$6)) ), 0     )","v":0},106,null,null,{"$f":"IF(AND($A129<>\"\",(AE129+AF129)>0),     IF(AF$13=\"Nm3\",(AG$12*1000*1000/((AE$242+AF$242+AE$243+AF$243)*1000*  $K129 * Data!$B$6)),  (AG$12*1000*1000/(((AE$242+AF$242+AE$243+AF$243)/Denscalc($K129))*1000*  $K129 * Data!$B$6)) ), 0    )","v":0},106,null,null,{"$f":"IF(AND($A129<>\"\",(AI129+AJ129)>0),    IF(AJ$13=\"Nm3\",(AK$12*1000*1000/((AI$242+AJ$242+AI$243+AJ$243)*1000*  $K129 * Data!$B$6)),  (AK$12*1000*1000/(((AI$242+AJ$242+AI$243+AJ$243)/Denscalc($K129))*1000*  $K129 * Data!$B$6)) ), 0    )","v":0},106,null,null,{"$f":"IF(AND($A129<>\"\",(AM129+AN129)>0),     IF(AN$13=\"Nm3\",(AO$12*1000*1000/((AM$242+AN$242+AM$243+AN$243)*1000*  $K129 * Data!$B$6)),  (AO$12*1000*1000/(((AM$242+AN$242+AM$243+AN$243)/Denscalc($K129))*1000*  $K129 * Data!$B$6)) ), 0    )","v":0},106,null,null,{"$f":"IF(AND($A129<>\"\",(AQ129+AR129)>0),     IF(AR$13=\"Nm3\",(AS$12*1000*1000/((AQ$242+AR$242+AQ$243+AR$243)*1000*  $K129 * Data!$B$6)),  (AS$12*1000*1000/(((AQ$242+AR$242+AQ$243+AR$243)/Denscalc($K129))*1000*  $K129 * Data!$B$6)) ), 0     )","v":0},106,null,null,{"$f":"IF(AND($A129<>\"\",(AU129+AV129)>0),     IF(AV$13=\"Nm3\",(AW$12*1000*1000/((AU$242+AV$242+AU$243+AV$243)*1000*  $K129 * Data!$B$6)),  (AW$12*1000*1000/(((AU$242+AV$242+AU$243+AV$243)/Denscalc($K129))*1000*  $K129 * Data!$B$6)) ), 0   )","v":0},106,null,null,{"$f":"IF(AND(BA$11>0,$A129<>\"\",(AY129+AZ129)>0), BA$11, IF(AND($A129<>\"\",(AY129+AZ129)>0),\nIF(AZ$13=\"Nm3\",(BA$6*1000*1000/((AY$242+AZ$242+AY$243+AZ$243)*1000*$K129*Data!$B$6))+((BA$12-BA$6)*1000*1000/((AY$242+AZ$242+AY$243+AZ$243-AY$241-AZ$241)*1000*$K129*Data!$B$6)),\n(BA$6*1000*1000/(((AY$242+AZ$242+AY$243+AZ$243)/Denscalc($K129))*1000*$K129*Data!$B$6))+((BA$12-BA$6)*1000*1000/(((AY$242+AZ$242+AY$243+AZ$243-AY$241-AZ$241)/Denscalc($K129))*1000*$K129*Data!$B$6))),0))","v":0},106,null,null,{"$f":"IF(AND(BE$11>0,$A129<>\"\",(BC129+BD129)>0), BE$11, IF(AND($A129<>\"\",(BC129+BD129)>0),\n (BE$6*1000*1000/((BC$244+BD$244)*1000* Data!$B$7))+ ((BE$12-BE$6)*1000*1000/((BC$244+BD$244-BC$241-BD$241)*1000* Data!$B$7)),0))","v":0},106,{"$f":"IF(A129<>\"\", (Data!$B$127*1000*Data!$B$3)/Data!$B$7,  \"\")","v":""},"","",{"$f":"IF(A129<>\"\",  ROUND( (Data!$B$8-BI129)/Data!$B$8,3),   \"\")","v":""},"","","","",{"$f":"IF(A129<>\"\",  IF(TYPE(BN129)=1, ROUND( (Data!$B$8-BN129)/Data!$B$8,3),   \"\"),\"\")","v":""},"",106,"","","",null,""]
[null,107,null,null,"",null,null,null,null,null,null,null,null,null,null,null,{"$f":"IF(AND($A130<>\"\",(O130+P130)>0),    IF(P$13=\"Nm3\",(Q$12*1000*1000/((O$242+P$242+O$243+P$243)*1000*  $K130 * Data!$B$6)),  (Q$12*1000*1000/(((O$242+P$242+O$243+P$243)/Denscalc($K130))*1000*  $K130 * Data!$B$6)) ), 0    )","v":0},107,null,null,{"$f":"IF(AND($A130<>\"\",(S130+T130)>0),    IF(T$13=\"Nm3\",(U$12*1000*1000/((S$242+T$242+S$243+T$243)*1000*  $K130 * Data!$B$6)),  (U$12*1000*1000/(((S$242+T$242+S$243+T$243)/Denscalc($K130))*1000*  $K130 * Data!$B$6)) ), 0     )","v":0},107,null,null,{"$f":"IF(AND($A130<>\"\",(W130+X130)>0),     IF(X$13=\"Nm3\",(Y$12*1000*1000/((W$242+X$242+W$243+X$243)*1000*  $K130 * Data!$B$6)),  (Y$12*1000*1000/(((W$242+X$242+W$243+X$243)/Denscalc($K130))*1000*  $K130 * Data!$B$6)) ), 0   )","v":0},107,null,null,{"$f":"IF(AND($A130<>\"\",(AA130+AB130)>0),     IF(AB$13=\"Nm3\",(AC$12*1000*1000/((AA$242+AB$242+AA$243+AB$243)*1000*  $K130 * Data!$B$6)),  (AC$12*1000*1000/(((AA$242+AB$242+AA$243+AB$243)/Denscalc($K130))*1000*  $K130 * Data!$B$6)) ), 0     )","v":0},107,null,null,{"$f":"IF(AND($A130<>\"\",(AE130+AF130)>0),     IF(AF$13=\"Nm3\",(AG$12*1000*1000/((AE$242+AF$242+AE$243+AF$243)*1000*  $K130 * Data!$B$6)),  (AG$12*1000*1000/(((AE$242+AF$242+AE$243+AF$243)/Denscalc($K130))*1000*  $K130 * Data!$B$6)) ), 0    )","v":0},107,null,null,{"$f":"IF(AND($A130<>\"\",(AI130+AJ130)>0),    IF(AJ$13=\"Nm3\",(AK$12*1000*1000/((AI$242+AJ$242+AI$243+AJ$243)*1000*  $K130 * Data!$B$6)),  (AK$12*1000*1000/(((AI$242+AJ$242+AI$243+AJ$243)/Denscalc($K130))*1000*  $K130 * Data!$B$6)) ), 0    )","v":0},107,null,null,{"$f":"IF(AND($A130<>\"\",(AM130+AN130)>0),     IF(AN$13=\"Nm3\",(AO$12*1000*1000/((AM$242+AN$242+AM$243+AN$243)*1000*  $K130 * Data!$B$6)),  (AO$12*1000*1000/(((AM$242+AN$242+AM$243+AN$243)/Denscalc($K130))*1000*  $K130 * Data!$B$6)) ), 0    )","v":0},107,null,null,{"$f":"IF(AND($A130<>\"\",(AQ130+AR130)>0),     IF(AR$13=\"Nm3\",(AS$12*1000*1000/((AQ$242+AR$242+AQ$243+AR$243)*1000*  $K130 * Data!$B$6)),  (AS$12*1000*1000/(((AQ$242+AR$242+AQ$243+AR$243)/Denscalc($K130))*1000*  $K130 * Data!$B$6)) ), 0     )","v":0},107,null,null,{"$f":"IF(AND($A130<>\"\",(AU130+AV130)>0),     IF(AV$13=\"Nm3\",(AW$12*1000*1000/((AU$242+AV$242+AU$243+AV$243)*1000*  $K130 * Data!$B$6)),  (AW$12*1000*1000/(((AU$242+AV$242+AU$243+AV$243)/Denscalc($K130))*1000*  $K130 * Data!$B$6)) ), 0   )","v":0},107,null,null,{"$f":"IF(AND(BA$11>0,$A130<>\"\",(AY130+AZ130)>0), BA$11, IF(AND($A130<>\"\",(AY130+AZ130)>0),\nIF(AZ$13=\"Nm3\",(BA$6*1000*1000/((AY$242+AZ$242+AY$243+AZ$243)*1000*$K130*Data!$B$6))+((BA$12-BA$6)*1000*1000/((AY$242+AZ$242+AY$243+AZ$243-AY$241-AZ$241)*1000*$K130*Data!$B$6)),\n(BA$6*1000*1000/(((AY$242+AZ$242+AY$243+AZ$243)/Denscalc($K130))*1000*$K130*Data!$B$6))+((BA$12-BA$6)*1000*1000/(((AY$242+AZ$242+AY$243+AZ$243-AY$241-AZ$241)/Denscalc($K130))*1000*$K130*Data!$B$6))),0))","v":0},107,null,null,{"$f":"IF(AND(BE$11>0,$A130<>\"\",(BC130+BD130)>0), BE$11, IF(AND($A130<>\"\",(BC130+BD130)>0),\n (BE$6*1000*1000/((BC$244+BD$244)*1000* Data!$B$7))+ ((BE$12-BE$6)*1000*1000/((BC$244+BD$244-BC$241-BD$241)*1000* Data!$B$7)),0))","v":0},107,{"$f":"IF(A130<>\"\", (Data!$B$127*1000*Data!$B$3)/Data!$B$7,  \"\")","v":""},"","",{"$f":"IF(A130<>\"\",  ROUND( (Data!$B$8-BI130)/Data!$B$8,3),   \"\")","v":""},"","","","",{"$f":"IF(A130<>\"\",  IF(TYPE(BN130)=1, ROUND( (Data!$B$8-BN130)/Data!$B$8,3),   \"\"),\"\")","v":""},"",107,"","","",null,""]
[null,108,null,null,"",null,null,null,null,null,null,null,null,null,null,null,{"$f":"IF(AND($A131<>\"\",(O131+P131)>0),    IF(P$13=\"Nm3\",(Q$12*1000*1000/((O$242+P$242+O$243+P$243)*1000*  $K131 * Data!$B$6)),  (Q$12*1000*1000/(((O$242+P$242+O$243+P$243)/Denscalc($K131))*1000*  $K131 * Data!$B$6)) ), 0    )","v":0},108,null,null,{"$f":"IF(AND($A131<>\"\",(S131+T131)>0),    IF(T$13=\"Nm3\",(U$12*1000*1000/((S$242+T$242+S$243+T$243)*1000*  $K131 * Data!$B$6)),  (U$12*1000*1000/(((S$242+T$242+S$243+T$243)/Denscalc($K131))*1000*  $K131 * Data!$B$6)) ), 0     )","v":0},108,null,null,{"$f":"IF(AND($A131<>\"\",(W131+X131)>0),     IF(X$13=\"Nm3\",(Y$12*1000*1000/((W$242+X$242+W$243+X$243)*1000*  $K131 * Data!$B$6)),  (Y$12*1000*1000/(((W$242+X$242+W$243+X$243)/Denscalc($K131))*1000*  $K131 * Data!$B$6)) ), 0   )","v":0},108,null,null,{"$f":"IF(AND($A131<>\"\",(AA131+AB131)>0),     IF(AB$13=\"Nm3\",(AC$12*1000*1000/((AA$242+AB$242+AA$243+AB$243)*1000*  $K131 * Data!$B$6)),  (AC$12*1000*1000/(((AA$242+AB$242+AA$243+AB$243)/Denscalc($K131))*1000*  $K131 * Data!$B$6)) ), 0     )","v":0},108,null,null,{"$f":"IF(AND($A131<>\"\",(AE131+AF131)>0),     IF(AF$13=\"Nm3\",(AG$12*1000*1000/((AE$242+AF$242+AE$243+AF$243)*1000*  $K131 * Data!$B$6)),  (AG$12*1000*1000/(((AE$242+AF$242+AE$243+AF$243)/Denscalc($K131))*1000*  $K131 * Data!$B$6)) ), 0    )","v":0},108,null,null,{"$f":"IF(AND($A131<>\"\",(AI131+AJ131)>0),    IF(AJ$13=\"Nm3\",(AK$12*1000*1000/((AI$242+AJ$242+AI$243+AJ$243)*1000*  $K131 * Data!$B$6)),  (AK$12*1000*1000/(((AI$242+AJ$242+AI$243+AJ$243)/Denscalc($K131))*1000*  $K131 * Data!$B$6)) ), 0    )","v":0},108,null,null,{"$f":"IF(AND($A131<>\"\",(AM131+AN131)>0),     IF(AN$13=\"Nm3\",(AO$12*1000*1000/((AM$242+AN$242+AM$243+AN$243)*1000*  $K131 * Data!$B$6)),  (AO$12*1000*1000/(((AM$242+AN$242+AM$243+AN$243)/Denscalc($K131))*1000*  $K131 * Data!$B$6)) ), 0    )","v":0},108,null,null,{"$f":"IF(AND($A131<>\"\",(AQ131+AR131)>0),     IF(AR$13=\"Nm3\",(AS$12*1000*1000/((AQ$242+AR$242+AQ$243+AR$243)*1000*  $K131 * Data!$B$6)),  (AS$12*1000*1000/(((AQ$242+AR$242+AQ$243+AR$243)/Denscalc($K131))*1000*  $K131 * Data!$B$6)) ), 0     )","v":0},108,null,null,{"$f":"IF(AND($A131<>\"\",(AU131+AV131)>0),     IF(AV$13=\"Nm3\",(AW$12*1000*1000/((AU$242+AV$242+AU$243+AV$243)*1000*  $K131 * Data!$B$6)),  (AW$12*1000*1000/(((AU$242+AV$242+AU$243+AV$243)/Denscalc($K131))*1000*  $K131 * Data!$B$6)) ), 0   )","v":0},108,null,null,{"$f":"IF(AND(BA$11>0,$A131<>\"\",(AY131+AZ131)>0), BA$11, IF(AND($A131<>\"\",(AY131+AZ131)>0),\nIF(AZ$13=\"Nm3\",(BA$6*1000*1000/((AY$242+AZ$242+AY$243+AZ$243)*1000*$K131*Data!$B$6))+((BA$12-BA$6)*1000*1000/((AY$242+AZ$242+AY$243+AZ$243-AY$241-AZ$241)*1000*$K131*Data!$B$6)),\n(BA$6*1000*1000/(((AY$242+AZ$242+AY$243+AZ$243)/Denscalc($K131))*1000*$K131*Data!$B$6))+((BA$12-BA$6)*1000*1000/(((AY$242+AZ$242+AY$243+AZ$243-AY$241-AZ$241)/Denscalc($K131))*1000*$K131*Data!$B$6))),0))","v":0},108,null,null,{"$f":"IF(AND(BE$11>0,$A131<>\"\",(BC131+BD131)>0), BE$11, IF(AND($A131<>\"\",(BC131+BD131)>0),\n (BE$6*1000*1000/((BC$244+BD$244)*1000* Data!$B$7))+ ((BE$12-BE$6)*1000*1000/((BC$244+BD$244-BC$241-BD$241)*1000* Data!$B$7)),0))","v":0},108,{"$f":"IF(A131<>\"\", (Data!$B$127*1000*Data!$B$3)/Data!$B$7,  \"\")","v":""},"","",{"$f":"IF(A131<>\"\",  ROUND( (Data!$B$8-BI131)/Data!$B$8,3),   \"\")","v":""},"","","","",{"$f":"IF(A131<>\"\",  IF(TYPE(BN131)=1, ROUND( (Data!$B$8-BN131)/Data!$B$8,3),   \"\"),\"\")","v":""},"",108,"","","",null,""]
[null,109,null,null,"",null,null,null,null,null,null,null,null,null,null,null,{"$f":"IF(AND($A132<>\"\",(O132+P132)>0),    IF(P$13=\"Nm3\",(Q$12*1000*1000/((O$242+P$242+O$243+P$243)*1000*  $K132 * Data!$B$6)),  (Q$12*1000*1000/(((O$242+P$242+O$243+P$243)/Denscalc($K132))*1000*  $K132 * Data!$B$6)) ), 0    )","v":0},109,null,null,{"$f":"IF(AND($A132<>\"\",(S132+T132)>0),    IF(T$13=\"Nm3\",(U$12*1000*1000/((S$242+T$242+S$243+T$243)*1000*  $K132 * Data!$B$6)),  (U$12*1000*1000/(((S$242+T$242+S$243+T$243)/Denscalc($K132))*1000*  $K132 * Data!$B$6)) ), 0     )","v":0},109,null,null,{"$f":"IF(AND($A132<>\"\",(W132+X132)>0),     IF(X$13=\"Nm3\",(Y$12*1000*1000/((W$242+X$242+W$243+X$243)*1000*  $K132 * Data!$B$6)),  (Y$12*1000*1000/(((W$242+X$242+W$243+X$243)/Denscalc($K132))*1000*  $K132 * Data!$B$6)) ), 0   )","v":0},109,null,null,{"$f":"IF(AND($A132<>\"\",(AA132+AB132)>0),     IF(AB$13=\"Nm3\",(AC$12*1000*1000/((AA$242+AB$242+AA$243+AB$243)*1000*  $K132 * Data!$B$6)),  (AC$12*1000*1000/(((AA$242+AB$242+AA$243+AB$243)/Denscalc($K132))*1000*  $K132 * Data!$B$6)) ), 0     )","v":0},109,null,null,{"$f":"IF(AND($A132<>\"\",(AE132+AF132)>0),     IF(AF$13=\"Nm3\",(AG$12*1000*1000/((AE$242+AF$242+AE$243+AF$243)*1000*  $K132 * Data!$B$6)),  (AG$12*1000*1000/(((AE$242+AF$242+AE$243+AF$243)/Denscalc($K132))*1000*  $K132 * Data!$B$6)) ), 0    )","v":0},109,null,null,{"$f":"IF(AND($A132<>\"\",(AI132+AJ132)>0),    IF(AJ$13=\"Nm3\",(AK$12*1000*1000/((AI$242+AJ$242+AI$243+AJ$243)*1000*  $K132 * Data!$B$6)),  (AK$12*1000*1000/(((AI$242+AJ$242+AI$243+AJ$243)/Denscalc($K132))*1000*  $K132 * Data!$B$6)) ), 0    )","v":0},109,null,null,{"$f":"IF(AND($A132<>\"\",(AM132+AN132)>0),     IF(AN$13=\"Nm3\",(AO$12*1000*1000/((AM$242+AN$242+AM$243+AN$243)*1000*  $K132 * Data!$B$6)),  (AO$12*1000*1000/(((AM$242+AN$242+AM$243+AN$243)/Denscalc($K132))*1000*  $K132 * Data!$B$6)) ), 0    )","v":0},109,null,null,{"$f":"IF(AND($A132<>\"\",(AQ132+AR132)>0),     IF(AR$13=\"Nm3\",(AS$12*1000*1000/((AQ$242+AR$242+AQ$243+AR$243)*1000*  $K132 * Data!$B$6)),  (AS$12*1000*1000/(((AQ$242+AR$242+AQ$243+AR$243)/Denscalc($K132))*1000*  $K132 * Data!$B$6)) ), 0     )","v":0},109,null,null,{"$f":"IF(AND($A132<>\"\",(AU132+AV132)>0),     IF(AV$13=\"Nm3\",(AW$12*1000*1000/((AU$242+AV$242+AU$243+AV$243)*1000*  $K132 * Data!$B$6)),  (AW$12*1000*1000/(((AU$242+AV$242+AU$243+AV$243)/Denscalc($K132))*1000*  $K132 * Data!$B$6)) ), 0   )","v":0},109,null,null,{"$f":"IF(AND(BA$11>0,$A132<>\"\",(AY132+AZ132)>0), BA$11, IF(AND($A132<>\"\",(AY132+AZ132)>0),\nIF(AZ$13=\"Nm3\",(BA$6*1000*1000/((AY$242+AZ$242+AY$243+AZ$243)*1000*$K132*Data!$B$6))+((BA$12-BA$6)*1000*1000/((AY$242+AZ$242+AY$243+AZ$243-AY$241-AZ$241)*1000*$K132*Data!$B$6)),\n(BA$6*1000*1000/(((AY$242+AZ$242+AY$243+AZ$243)/Denscalc($K132))*1000*$K132*Data!$B$6))+((BA$12-BA$6)*1000*1000/(((AY$242+AZ$242+AY$243+AZ$243-AY$241-AZ$241)/Denscalc($K132))*1000*$K132*Data!$B$6))),0))","v":0},109,null,null,{"$f":"IF(AND(BE$11>0,$A132<>\"\",(BC132+BD132)>0), BE$11, IF(AND($A132<>\"\",(BC132+BD132)>0),\n (BE$6*1000*1000/((BC$244+BD$244)*1000* Data!$B$7))+ ((BE$12-BE$6)*1000*1000/((BC$244+BD$244-BC$241-BD$241)*1000* Data!$B$7)),0))","v":0},109,{"$f":"IF(A132<>\"\", (Data!$B$127*1000*Data!$B$3)/Data!$B$7,  \"\")","v":""},"","",{"$f":"IF(A132<>\"\",  ROUND( (Data!$B$8-BI132)/Data!$B$8,3),   \"\")","v":""},"","","","",{"$f":"IF(A132<>\"\",  IF(TYPE(BN132)=1, ROUND( (Data!$B$8-BN132)/Data!$B$8,3),   \"\"),\"\")","v":""},"",109,"","","",null,""]
[null,110,null,null,"",null,null,null,null,null,null,null,null,null,null,null,{"$f":"IF(AND($A133<>\"\",(O133+P133)>0),    IF(P$13=\"Nm3\",(Q$12*1000*1000/((O$242+P$242+O$243+P$243)*1000*  $K133 * Data!$B$6)),  (Q$12*1000*1000/(((O$242+P$242+O$243+P$243)/Denscalc($K133))*1000*  $K133 * Data!$B$6)) ), 0    )","v":0},110,null,null,{"$f":"IF(AND($A133<>\"\",(S133+T133)>0),    IF(T$13=\"Nm3\",(U$12*1000*1000/((S$242+T$242+S$243+T$243)*1000*  $K133 * Data!$B$6)),  (U$12*1000*1000/(((S$242+T$242+S$243+T$243)/Denscalc($K133))*1000*  $K133 * Data!$B$6)) ), 0     )","v":0},110,null,null,{"$f":"IF(AND($A133<>\"\",(W133+X133)>0),     IF(X$13=\"Nm3\",(Y$12*1000*1000/((W$242+X$242+W$243+X$243)*1000*  $K133 * Data!$B$6)),  (Y$12*1000*1000/(((W$242+X$242+W$243+X$243)/Denscalc($K133))*1000*  $K133 * Data!$B$6)) ), 0   )","v":0},110,null,null,{"$f":"IF(AND($A133<>\"\",(AA133+AB133)>0),     IF(AB$13=\"Nm3\",(AC$12*1000*1000/((AA$242+AB$242+AA$243+AB$243)*1000*  $K133 * Data!$B$6)),  (AC$12*1000*1000/(((AA$242+AB$242+AA$243+AB$243)/Denscalc($K133))*1000*  $K133 * Data!$B$6)) ), 0     )","v":0},110,null,null,{"$f":"IF(AND($A133<>\"\",(AE133+AF133)>0),     IF(AF$13=\"Nm3\",(AG$12*1000*1000/((AE$242+AF$242+AE$243+AF$243)*1000*  $K133 * Data!$B$6)),  (AG$12*1000*1000/(((AE$242+AF$242+AE$243+AF$243)/Denscalc($K133))*1000*  $K133 * Data!$B$6)) ), 0    )","v":0},110,null,null,{"$f":"IF(AND($A133<>\"\",(AI133+AJ133)>0),    IF(AJ$13=\"Nm3\",(AK$12*1000*1000/((AI$242+AJ$242+AI$243+AJ$243)*1000*  $K133 * Data!$B$6)),  (AK$12*1000*1000/(((AI$242+AJ$242+AI$243+AJ$243)/Denscalc($K133))*1000*  $K133 * Data!$B$6)) ), 0    )","v":0},110,null,null,{"$f":"IF(AND($A133<>\"\",(AM133+AN133)>0),     IF(AN$13=\"Nm3\",(AO$12*1000*1000/((AM$242+AN$242+AM$243+AN$243)*1000*  $K133 * Data!$B$6)),  (AO$12*1000*1000/(((AM$242+AN$242+AM$243+AN$243)/Denscalc($K133))*1000*  $K133 * Data!$B$6)) ), 0    )","v":0},110,null,null,{"$f":"IF(AND($A133<>\"\",(AQ133+AR133)>0),     IF(AR$13=\"Nm3\",(AS$12*1000*1000/((AQ$242+AR$242+AQ$243+AR$243)*1000*  $K133 * Data!$B$6)),  (AS$12*1000*1000/(((AQ$242+AR$242+AQ$243+AR$243)/Denscalc($K133))*1000*  $K133 * Data!$B$6)) ), 0     )","v":0},110,null,null,{"$f":"IF(AND($A133<>\"\",(AU133+AV133)>0),     IF(AV$13=\"Nm3\",(AW$12*1000*1000/((AU$242+AV$242+AU$243+AV$243)*1000*  $K133 * Data!$B$6)),  (AW$12*1000*1000/(((AU$242+AV$242+AU$243+AV$243)/Denscalc($K133))*1000*  $K133 * Data!$B$6)) ), 0   )","v":0},110,null,null,{"$f":"IF(AND(BA$11>0,$A133<>\"\",(AY133+AZ133)>0), BA$11, IF(AND($A133<>\"\",(AY133+AZ133)>0),\nIF(AZ$13=\"Nm3\",(BA$6*1000*1000/((AY$242+AZ$242+AY$243+AZ$243)*1000*$K133*Data!$B$6))+((BA$12-BA$6)*1000*1000/((AY$242+AZ$242+AY$243+AZ$243-AY$241-AZ$241)*1000*$K133*Data!$B$6)),\n(BA$6*1000*1000/(((AY$242+AZ$242+AY$243+AZ$243)/Denscalc($K133))*1000*$K133*Data!$B$6))+((BA$12-BA$6)*1000*1000/(((AY$242+AZ$242+AY$243+AZ$243-AY$241-AZ$241)/Denscalc($K133))*1000*$K133*Data!$B$6))),0))","v":0},110,null,null,{"$f":"IF(AND(BE$11>0,$A133<>\"\",(BC133+BD133)>0), BE$11, IF(AND($A133<>\"\",(BC133+BD133)>0),\n (BE$6*1000*1000/((BC$244+BD$244)*1000* Data!$B$7))+ ((BE$12-BE$6)*1000*1000/((BC$244+BD$244-BC$241-BD$241)*1000* Data!$B$7)),0))","v":0},110,{"$f":"IF(A133<>\"\", (Data!$B$127*1000*Data!$B$3)/Data!$B$7,  \"\")","v":""},"","",{"$f":"IF(A133<>\"\",  ROUND( (Data!$B$8-BI133)/Data!$B$8,3),   \"\")","v":""},"","","","",{"$f":"IF(A133<>\"\",  IF(TYPE(BN133)=1, ROUND( (Data!$B$8-BN133)/Data!$B$8,3),   \"\"),\"\")","v":""},"",110,"","","",null,""]
[null,111,null,null,"",null,null,null,null,null,null,null,null,null,null,null,{"$f":"IF(AND($A134<>\"\",(O134+P134)>0),    IF(P$13=\"Nm3\",(Q$12*1000*1000/((O$242+P$242+O$243+P$243)*1000*  $K134 * Data!$B$6)),  (Q$12*1000*1000/(((O$242+P$242+O$243+P$243)/Denscalc($K134))*1000*  $K134 * Data!$B$6)) ), 0    )","v":0},111,null,null,{"$f":"IF(AND($A134<>\"\",(S134+T134)>0),    IF(T$13=\"Nm3\",(U$12*1000*1000/((S$242+T$242+S$243+T$243)*1000*  $K134 * Data!$B$6)),  (U$12*1000*1000/(((S$242+T$242+S$243+T$243)/Denscalc($K134))*1000*  $K134 * Data!$B$6)) ), 0     )","v":0},111,null,null,{"$f":"IF(AND($A134<>\"\",(W134+X134)>0),     IF(X$13=\"Nm3\",(Y$12*1000*1000/((W$242+X$242+W$243+X$243)*1000*  $K134 * Data!$B$6)),  (Y$12*1000*1000/(((W$242+X$242+W$243+X$243)/Denscalc($K134))*1000*  $K134 * Data!$B$6)) ), 0   )","v":0},111,null,null,{"$f":"IF(AND($A134<>\"\",(AA134+AB134)>0),     IF(AB$13=\"Nm3\",(AC$12*1000*1000/((AA$242+AB$242+AA$243+AB$243)*1000*  $K134 * Data!$B$6)),  (AC$12*1000*1000/(((AA$242+AB$242+AA$243+AB$243)/Denscalc($K134))*1000*  $K134 * Data!$B$6)) ), 0     )","v":0},111,null,null,{"$f":"IF(AND($A134<>\"\",(AE134+AF134)>0),     IF(AF$13=\"Nm3\",(AG$12*1000*1000/((AE$242+AF$242+AE$243+AF$243)*1000*  $K134 * Data!$B$6)),  (AG$12*1000*1000/(((AE$242+AF$242+AE$243+AF$243)/Denscalc($K134))*1000*  $K134 * Data!$B$6)) ), 0    )","v":0},111,null,null,{"$f":"IF(AND($A134<>\"\",(AI134+AJ134)>0),    IF(AJ$13=\"Nm3\",(AK$12*1000*1000/((AI$242+AJ$242+AI$243+AJ$243)*1000*  $K134 * Data!$B$6)),  (AK$12*1000*1000/(((AI$242+AJ$242+AI$243+AJ$243)/Denscalc($K134))*1000*  $K134 * Data!$B$6)) ), 0    )","v":0},111,null,null,{"$f":"IF(AND($A134<>\"\",(AM134+AN134)>0),     IF(AN$13=\"Nm3\",(AO$12*1000*1000/((AM$242+AN$242+AM$243+AN$243)*1000*  $K134 * Data!$B$6)),  (AO$12*1000*1000/(((AM$242+AN$242+AM$243+AN$243)/Denscalc($K134))*1000*  $K134 * Data!$B$6)) ), 0    )","v":0},111,null,null,{"$f":"IF(AND($A134<>\"\",(AQ134+AR134)>0),     IF(AR$13=\"Nm3\",(AS$12*1000*1000/((AQ$242+AR$242+AQ$243+AR$243)*1000*  $K134 * Data!$B$6)),  (AS$12*1000*1000/(((AQ$242+AR$242+AQ$243+AR$243)/Denscalc($K134))*1000*  $K134 * Data!$B$6)) ), 0     )","v":0},111,null,null,{"$f":"IF(AND($A134<>\"\",(AU134+AV134)>0),     IF(AV$13=\"Nm3\",(AW$12*1000*1000/((AU$242+AV$242+AU$243+AV$243)*1000*  $K134 * Data!$B$6)),  (AW$12*1000*1000/(((AU$242+AV$242+AU$243+AV$243)/Denscalc($K134))*1000*  $K134 * Data!$B$6)) ), 0   )","v":0},111,null,null,{"$f":"IF(AND(BA$11>0,$A134<>\"\",(AY134+AZ134)>0), BA$11, IF(AND($A134<>\"\",(AY134+AZ134)>0),\nIF(AZ$13=\"Nm3\",(BA$6*1000*1000/((AY$242+AZ$242+AY$243+AZ$243)*1000*$K134*Data!$B$6))+((BA$12-BA$6)*1000*1000/((AY$242+AZ$242+AY$243+AZ$243-AY$241-AZ$241)*1000*$K134*Data!$B$6)),\n(BA$6*1000*1000/(((AY$242+AZ$242+AY$243+AZ$243)/Denscalc($K134))*1000*$K134*Data!$B$6))+((BA$12-BA$6)*1000*1000/(((AY$242+AZ$242+AY$243+AZ$243-AY$241-AZ$241)/Denscalc($K134))*1000*$K134*Data!$B$6))),0))","v":0},111,null,null,{"$f":"IF(AND(BE$11>0,$A134<>\"\",(BC134+BD134)>0), BE$11, IF(AND($A134<>\"\",(BC134+BD134)>0),\n (BE$6*1000*1000/((BC$244+BD$244)*1000* Data!$B$7))+ ((BE$12-BE$6)*1000*1000/((BC$244+BD$244-BC$241-BD$241)*1000* Data!$B$7)),0))","v":0},111,{"$f":"IF(A134<>\"\", (Data!$B$127*1000*Data!$B$3)/Data!$B$7,  \"\")","v":""},"","",{"$f":"IF(A134<>\"\",  ROUND( (Data!$B$8-BI134)/Data!$B$8,3),   \"\")","v":""},"","","","",{"$f":"IF(A134<>\"\",  IF(TYPE(BN134)=1, ROUND( (Data!$B$8-BN134)/Data!$B$8,3),   \"\"),\"\")","v":""},"",111,"","","",null,""]
[null,112,null,null,"",null,null,null,null,null,null,null,null,null,null,null,{"$f":"IF(AND($A135<>\"\",(O135+P135)>0),    IF(P$13=\"Nm3\",(Q$12*1000*1000/((O$242+P$242+O$243+P$243)*1000*  $K135 * Data!$B$6)),  (Q$12*1000*1000/(((O$242+P$242+O$243+P$243)/Denscalc($K135))*1000*  $K135 * Data!$B$6)) ), 0    )","v":0},112,null,null,{"$f":"IF(AND($A135<>\"\",(S135+T135)>0),    IF(T$13=\"Nm3\",(U$12*1000*1000/((S$242+T$242+S$243+T$243)*1000*  $K135 * Data!$B$6)),  (U$12*1000*1000/(((S$242+T$242+S$243+T$243)/Denscalc($K135))*1000*  $K135 * Data!$B$6)) ), 0     )","v":0},112,null,null,{"$f":"IF(AND($A135<>\"\",(W135+X135)>0),     IF(X$13=\"Nm3\",(Y$12*1000*1000/((W$242+X$242+W$243+X$243)*1000*  $K135 * Data!$B$6)),  (Y$12*1000*1000/(((W$242+X$242+W$243+X$243)/Denscalc($K135))*1000*  $K135 * Data!$B$6)) ), 0   )","v":0},112,null,null,{"$f":"IF(AND($A135<>\"\",(AA135+AB135)>0),     IF(AB$13=\"Nm3\",(AC$12*1000*1000/((AA$242+AB$242+AA$243+AB$243)*1000*  $K135 * Data!$B$6)),  (AC$12*1000*1000/(((AA$242+AB$242+AA$243+AB$243)/Denscalc($K135))*1000*  $K135 * Data!$B$6)) ), 0     )","v":0},112,null,null,{"$f":"IF(AND($A135<>\"\",(AE135+AF135)>0),     IF(AF$13=\"Nm3\",(AG$12*1000*1000/((AE$242+AF$242+AE$243+AF$243)*1000*  $K135 * Data!$B$6)),  (AG$12*1000*1000/(((AE$242+AF$242+AE$243+AF$243)/Denscalc($K135))*1000*  $K135 * Data!$B$6)) ), 0    )","v":0},112,null,null,{"$f":"IF(AND($A135<>\"\",(AI135+AJ135)>0),    IF(AJ$13=\"Nm3\",(AK$12*1000*1000/((AI$242+AJ$242+AI$243+AJ$243)*1000*  $K135 * Data!$B$6)),  (AK$12*1000*1000/(((AI$242+AJ$242+AI$243+AJ$243)/Denscalc($K135))*1000*  $K135 * Data!$B$6)) ), 0    )","v":0},112,null,null,{"$f":"IF(AND($A135<>\"\",(AM135+AN135)>0),     IF(AN$13=\"Nm3\",(AO$12*1000*1000/((AM$242+AN$242+AM$243+AN$243)*1000*  $K135 * Data!$B$6)),  (AO$12*1000*1000/(((AM$242+AN$242+AM$243+AN$243)/Denscalc($K135))*1000*  $K135 * Data!$B$6)) ), 0    )","v":0},112,null,null,{"$f":"IF(AND($A135<>\"\",(AQ135+AR135)>0),     IF(AR$13=\"Nm3\",(AS$12*1000*1000/((AQ$242+AR$242+AQ$243+AR$243)*1000*  $K135 * Data!$B$6)),  (AS$12*1000*1000/(((AQ$242+AR$242+AQ$243+AR$243)/Denscalc($K135))*1000*  $K135 * Data!$B$6)) ), 0     )","v":0},112,null,null,{"$f":"IF(AND($A135<>\"\",(AU135+AV135)>0),     IF(AV$13=\"Nm3\",(AW$12*1000*1000/((AU$242+AV$242+AU$243+AV$243)*1000*  $K135 * Data!$B$6)),  (AW$12*1000*1000/(((AU$242+AV$242+AU$243+AV$243)/Denscalc($K135))*1000*  $K135 * Data!$B$6)) ), 0   )","v":0},112,null,null,{"$f":"IF(AND(BA$11>0,$A135<>\"\",(AY135+AZ135)>0), BA$11, IF(AND($A135<>\"\",(AY135+AZ135)>0),\nIF(AZ$13=\"Nm3\",(BA$6*1000*1000/((AY$242+AZ$242+AY$243+AZ$243)*1000*$K135*Data!$B$6))+((BA$12-BA$6)*1000*1000/((AY$242+AZ$242+AY$243+AZ$243-AY$241-AZ$241)*1000*$K135*Data!$B$6)),\n(BA$6*1000*1000/(((AY$242+AZ$242+AY$243+AZ$243)/Denscalc($K135))*1000*$K135*Data!$B$6))+((BA$12-BA$6)*1000*1000/(((AY$242+AZ$242+AY$243+AZ$243-AY$241-AZ$241)/Denscalc($K135))*1000*$K135*Data!$B$6))),0))","v":0},112,null,null,{"$f":"IF(AND(BE$11>0,$A135<>\"\",(BC135+BD135)>0), BE$11, IF(AND($A135<>\"\",(BC135+BD135)>0),\n (BE$6*1000*1000/((BC$244+BD$244)*1000* Data!$B$7))+ ((BE$12-BE$6)*1000*1000/((BC$244+BD$244-BC$241-BD$241)*1000* Data!$B$7)),0))","v":0},112,{"$f":"IF(A135<>\"\", (Data!$B$127*1000*Data!$B$3)/Data!$B$7,  \"\")","v":""},"","",{"$f":"IF(A135<>\"\",  ROUND( (Data!$B$8-BI135)/Data!$B$8,3),   \"\")","v":""},"","","","",{"$f":"IF(A135<>\"\",  IF(TYPE(BN135)=1, ROUND( (Data!$B$8-BN135)/Data!$B$8,3),   \"\"),\"\")","v":""},"",112,"","","",null,""]
[null,113,null,null,"",null,null,null,null,null,null,null,null,null,null,null,{"$f":"IF(AND($A136<>\"\",(O136+P136)>0),    IF(P$13=\"Nm3\",(Q$12*1000*1000/((O$242+P$242+O$243+P$243)*1000*  $K136 * Data!$B$6)),  (Q$12*1000*1000/(((O$242+P$242+O$243+P$243)/Denscalc($K136))*1000*  $K136 * Data!$B$6)) ), 0    )","v":0},113,null,null,{"$f":"IF(AND($A136<>\"\",(S136+T136)>0),    IF(T$13=\"Nm3\",(U$12*1000*1000/((S$242+T$242+S$243+T$243)*1000*  $K136 * Data!$B$6)),  (U$12*1000*1000/(((S$242+T$242+S$243+T$243)/Denscalc($K136))*1000*  $K136 * Data!$B$6)) ), 0     )","v":0},113,null,null,{"$f":"IF(AND($A136<>\"\",(W136+X136)>0),     IF(X$13=\"Nm3\",(Y$12*1000*1000/((W$242+X$242+W$243+X$243)*1000*  $K136 * Data!$B$6)),  (Y$12*1000*1000/(((W$242+X$242+W$243+X$243)/Denscalc($K136))*1000*  $K136 * Data!$B$6)) ), 0   )","v":0},113,null,null,{"$f":"IF(AND($A136<>\"\",(AA136+AB136)>0),     IF(AB$13=\"Nm3\",(AC$12*1000*1000/((AA$242+AB$242+AA$243+AB$243)*1000*  $K136 * Data!$B$6)),  (AC$12*1000*1000/(((AA$242+AB$242+AA$243+AB$243)/Denscalc($K136))*1000*  $K136 * Data!$B$6)) ), 0     )","v":0},113,null,null,{"$f":"IF(AND($A136<>\"\",(AE136+AF136)>0),     IF(AF$13=\"Nm3\",(AG$12*1000*1000/((AE$242+AF$242+AE$243+AF$243)*1000*  $K136 * Data!$B$6)),  (AG$12*1000*1000/(((AE$242+AF$242+AE$243+AF$243)/Denscalc($K136))*1000*  $K136 * Data!$B$6)) ), 0    )","v":0},113,null,null,{"$f":"IF(AND($A136<>\"\",(AI136+AJ136)>0),    IF(AJ$13=\"Nm3\",(AK$12*1000*1000/((AI$242+AJ$242+AI$243+AJ$243)*1000*  $K136 * Data!$B$6)),  (AK$12*1000*1000/(((AI$242+AJ$242+AI$243+AJ$243)/Denscalc($K136))*1000*  $K136 * Data!$B$6)) ), 0    )","v":0},113,null,null,{"$f":"IF(AND($A136<>\"\",(AM136+AN136)>0),     IF(AN$13=\"Nm3\",(AO$12*1000*1000/((AM$242+AN$242+AM$243+AN$243)*1000*  $K136 * Data!$B$6)),  (AO$12*1000*1000/(((AM$242+AN$242+AM$243+AN$243)/Denscalc($K136))*1000*  $K136 * Data!$B$6)) ), 0    )","v":0},113,null,null,{"$f":"IF(AND($A136<>\"\",(AQ136+AR136)>0),     IF(AR$13=\"Nm3\",(AS$12*1000*1000/((AQ$242+AR$242+AQ$243+AR$243)*1000*  $K136 * Data!$B$6)),  (AS$12*1000*1000/(((AQ$242+AR$242+AQ$243+AR$243)/Denscalc($K136))*1000*  $K136 * Data!$B$6)) ), 0     )","v":0},113,null,null,{"$f":"IF(AND($A136<>\"\",(AU136+AV136)>0),     IF(AV$13=\"Nm3\",(AW$12*1000*1000/((AU$242+AV$242+AU$243+AV$243)*1000*  $K136 * Data!$B$6)),  (AW$12*1000*1000/(((AU$242+AV$242+AU$243+AV$243)/Denscalc($K136))*1000*  $K136 * Data!$B$6)) ), 0   )","v":0},113,null,null,{"$f":"IF(AND(BA$11>0,$A136<>\"\",(AY136+AZ136)>0), BA$11, IF(AND($A136<>\"\",(AY136+AZ136)>0),\nIF(AZ$13=\"Nm3\",(BA$6*1000*1000/((AY$242+AZ$242+AY$243+AZ$243)*1000*$K136*Data!$B$6))+((BA$12-BA$6)*1000*1000/((AY$242+AZ$242+AY$243+AZ$243-AY$241-AZ$241)*1000*$K136*Data!$B$6)),\n(BA$6*1000*1000/(((AY$242+AZ$242+AY$243+AZ$243)/Denscalc($K136))*1000*$K136*Data!$B$6))+((BA$12-BA$6)*1000*1000/(((AY$242+AZ$242+AY$243+AZ$243-AY$241-AZ$241)/Denscalc($K136))*1000*$K136*Data!$B$6))),0))","v":0},113,null,null,{"$f":"IF(AND(BE$11>0,$A136<>\"\",(BC136+BD136)>0), BE$11, IF(AND($A136<>\"\",(BC136+BD136)>0),\n (BE$6*1000*1000/((BC$244+BD$244)*1000* Data!$B$7))+ ((BE$12-BE$6)*1000*1000/((BC$244+BD$244-BC$241-BD$241)*1000* Data!$B$7)),0))","v":0},113,{"$f":"IF(A136<>\"\", (Data!$B$127*1000*Data!$B$3)/Data!$B$7,  \"\")","v":""},"","",{"$f":"IF(A136<>\"\",  ROUND( (Data!$B$8-BI136)/Data!$B$8,3),   \"\")","v":""},"","","","",{"$f":"IF(A136<>\"\",  IF(TYPE(BN136)=1, ROUND( (Data!$B$8-BN136)/Data!$B$8,3),   \"\"),\"\")","v":""},"",113,"","","",null,""]
[null,114,null,null,"",null,null,null,null,null,null,null,null,null,null,null,{"$f":"IF(AND($A137<>\"\",(O137+P137)>0),    IF(P$13=\"Nm3\",(Q$12*1000*1000/((O$242+P$242+O$243+P$243)*1000*  $K137 * Data!$B$6)),  (Q$12*1000*1000/(((O$242+P$242+O$243+P$243)/Denscalc($K137))*1000*  $K137 * Data!$B$6)) ), 0    )","v":0},114,null,null,{"$f":"IF(AND($A137<>\"\",(S137+T137)>0),    IF(T$13=\"Nm3\",(U$12*1000*1000/((S$242+T$242+S$243+T$243)*1000*  $K137 * Data!$B$6)),  (U$12*1000*1000/(((S$242+T$242+S$243+T$243)/Denscalc($K137))*1000*  $K137 * Data!$B$6)) ), 0     )","v":0},114,null,null,{"$f":"IF(AND($A137<>\"\",(W137+X137)>0),     IF(X$13=\"Nm3\",(Y$12*1000*1000/((W$242+X$242+W$243+X$243)*1000*  $K137 * Data!$B$6)),  (Y$12*1000*1000/(((W$242+X$242+W$243+X$243)/Denscalc($K137))*1000*  $K137 * Data!$B$6)) ), 0   )","v":0},114,null,null,{"$f":"IF(AND($A137<>\"\",(AA137+AB137)>0),     IF(AB$13=\"Nm3\",(AC$12*1000*1000/((AA$242+AB$242+AA$243+AB$243)*1000*  $K137 * Data!$B$6)),  (AC$12*1000*1000/(((AA$242+AB$242+AA$243+AB$243)/Denscalc($K137))*1000*  $K137 * Data!$B$6)) ), 0     )","v":0},114,null,null,{"$f":"IF(AND($A137<>\"\",(AE137+AF137)>0),     IF(AF$13=\"Nm3\",(AG$12*1000*1000/((AE$242+AF$242+AE$243+AF$243)*1000*  $K137 * Data!$B$6)),  (AG$12*1000*1000/(((AE$242+AF$242+AE$243+AF$243)/Denscalc($K137))*1000*  $K137 * Data!$B$6)) ), 0    )","v":0},114,null,null,{"$f":"IF(AND($A137<>\"\",(AI137+AJ137)>0),    IF(AJ$13=\"Nm3\",(AK$12*1000*1000/((AI$242+AJ$242+AI$243+AJ$243)*1000*  $K137 * Data!$B$6)),  (AK$12*1000*1000/(((AI$242+AJ$242+AI$243+AJ$243)/Denscalc($K137))*1000*  $K137 * Data!$B$6)) ), 0    )","v":0},114,null,null,{"$f":"IF(AND($A137<>\"\",(AM137+AN137)>0),     IF(AN$13=\"Nm3\",(AO$12*1000*1000/((AM$242+AN$242+AM$243+AN$243)*1000*  $K137 * Data!$B$6)),  (AO$12*1000*1000/(((AM$242+AN$242+AM$243+AN$243)/Denscalc($K137))*1000*  $K137 * Data!$B$6)) ), 0    )","v":0},114,null,null,{"$f":"IF(AND($A137<>\"\",(AQ137+AR137)>0),     IF(AR$13=\"Nm3\",(AS$12*1000*1000/((AQ$242+AR$242+AQ$243+AR$243)*1000*  $K137 * Data!$B$6)),  (AS$12*1000*1000/(((AQ$242+AR$242+AQ$243+AR$243)/Denscalc($K137))*1000*  $K137 * Data!$B$6)) ), 0     )","v":0},114,null,null,{"$f":"IF(AND($A137<>\"\",(AU137+AV137)>0),     IF(AV$13=\"Nm3\",(AW$12*1000*1000/((AU$242+AV$242+AU$243+AV$243)*1000*  $K137 * Data!$B$6)),  (AW$12*1000*1000/(((AU$242+AV$242+AU$243+AV$243)/Denscalc($K137))*1000*  $K137 * Data!$B$6)) ), 0   )","v":0},114,null,null,{"$f":"IF(AND(BA$11>0,$A137<>\"\",(AY137+AZ137)>0), BA$11, IF(AND($A137<>\"\",(AY137+AZ137)>0),\nIF(AZ$13=\"Nm3\",(BA$6*1000*1000/((AY$242+AZ$242+AY$243+AZ$243)*1000*$K137*Data!$B$6))+((BA$12-BA$6)*1000*1000/((AY$242+AZ$242+AY$243+AZ$243-AY$241-AZ$241)*1000*$K137*Data!$B$6)),\n(BA$6*1000*1000/(((AY$242+AZ$242+AY$243+AZ$243)/Denscalc($K137))*1000*$K137*Data!$B$6))+((BA$12-BA$6)*1000*1000/(((AY$242+AZ$242+AY$243+AZ$243-AY$241-AZ$241)/Denscalc($K137))*1000*$K137*Data!$B$6))),0))","v":0},114,null,null,{"$f":"IF(AND(BE$11>0,$A137<>\"\",(BC137+BD137)>0), BE$11, IF(AND($A137<>\"\",(BC137+BD137)>0),\n (BE$6*1000*1000/((BC$244+BD$244)*1000* Data!$B$7))+ ((BE$12-BE$6)*1000*1000/((BC$244+BD$244-BC$241-BD$241)*1000* Data!$B$7)),0))","v":0},114,{"$f":"IF(A137<>\"\", (Data!$B$127*1000*Data!$B$3)/Data!$B$7,  \"\")","v":""},"","",{"$f":"IF(A137<>\"\",  ROUND( (Data!$B$8-BI137)/Data!$B$8,3),   \"\")","v":""},"","","","",{"$f":"IF(A137<>\"\",  IF(TYPE(BN137)=1, ROUND( (Data!$B$8-BN137)/Data!$B$8,3),   \"\"),\"\")","v":""},"",114,"","","",null,""]
[null,115,null,null,"",null,null,null,null,null,null,null,null,null,null,null,{"$f":"IF(AND($A138<>\"\",(O138+P138)>0),    IF(P$13=\"Nm3\",(Q$12*1000*1000/((O$242+P$242+O$243+P$243)*1000*  $K138 * Data!$B$6)),  (Q$12*1000*1000/(((O$242+P$242+O$243+P$243)/Denscalc($K138))*1000*  $K138 * Data!$B$6)) ), 0    )","v":0},115,null,null,{"$f":"IF(AND($A138<>\"\",(S138+T138)>0),    IF(T$13=\"Nm3\",(U$12*1000*1000/((S$242+T$242+S$243+T$243)*1000*  $K138 * Data!$B$6)),  (U$12*1000*1000/(((S$242+T$242+S$243+T$243)/Denscalc($K138))*1000*  $K138 * Data!$B$6)) ), 0     )","v":0},115,null,null,{"$f":"IF(AND($A138<>\"\",(W138+X138)>0),     IF(X$13=\"Nm3\",(Y$12*1000*1000/((W$242+X$242+W$243+X$243)*1000*  $K138 * Data!$B$6)),  (Y$12*1000*1000/(((W$242+X$242+W$243+X$243)/Denscalc($K138))*1000*  $K138 * Data!$B$6)) ), 0   )","v":0},115,null,null,{"$f":"IF(AND($A138<>\"\",(AA138+AB138)>0),     IF(AB$13=\"Nm3\",(AC$12*1000*1000/((AA$242+AB$242+AA$243+AB$243)*1000*  $K138 * Data!$B$6)),  (AC$12*1000*1000/(((AA$242+AB$242+AA$243+AB$243)/Denscalc($K138))*1000*  $K138 * Data!$B$6)) ), 0     )","v":0},115,null,null,{"$f":"IF(AND($A138<>\"\",(AE138+AF138)>0),     IF(AF$13=\"Nm3\",(AG$12*1000*1000/((AE$242+AF$242+AE$243+AF$243)*1000*  $K138 * Data!$B$6)),  (AG$12*1000*1000/(((AE$242+AF$242+AE$243+AF$243)/Denscalc($K138))*1000*  $K138 * Data!$B$6)) ), 0    )","v":0},115,null,null,{"$f":"IF(AND($A138<>\"\",(AI138+AJ138)>0),    IF(AJ$13=\"Nm3\",(AK$12*1000*1000/((AI$242+AJ$242+AI$243+AJ$243)*1000*  $K138 * Data!$B$6)),  (AK$12*1000*1000/(((AI$242+AJ$242+AI$243+AJ$243)/Denscalc($K138))*1000*  $K138 * Data!$B$6)) ), 0    )","v":0},115,null,null,{"$f":"IF(AND($A138<>\"\",(AM138+AN138)>0),     IF(AN$13=\"Nm3\",(AO$12*1000*1000/((AM$242+AN$242+AM$243+AN$243)*1000*  $K138 * Data!$B$6)),  (AO$12*1000*1000/(((AM$242+AN$242+AM$243+AN$243)/Denscalc($K138))*1000*  $K138 * Data!$B$6)) ), 0    )","v":0},115,null,null,{"$f":"IF(AND($A138<>\"\",(AQ138+AR138)>0),     IF(AR$13=\"Nm3\",(AS$12*1000*1000/((AQ$242+AR$242+AQ$243+AR$243)*1000*  $K138 * Data!$B$6)),  (AS$12*1000*1000/(((AQ$242+AR$242+AQ$243+AR$243)/Denscalc($K138))*1000*  $K138 * Data!$B$6)) ), 0     )","v":0},115,null,null,{"$f":"IF(AND($A138<>\"\",(AU138+AV138)>0),     IF(AV$13=\"Nm3\",(AW$12*1000*1000/((AU$242+AV$242+AU$243+AV$243)*1000*  $K138 * Data!$B$6)),  (AW$12*1000*1000/(((AU$242+AV$242+AU$243+AV$243)/Denscalc($K138))*1000*  $K138 * Data!$B$6)) ), 0   )","v":0},115,null,null,{"$f":"IF(AND(BA$11>0,$A138<>\"\",(AY138+AZ138)>0), BA$11, IF(AND($A138<>\"\",(AY138+AZ138)>0),\nIF(AZ$13=\"Nm3\",(BA$6*1000*1000/((AY$242+AZ$242+AY$243+AZ$243)*1000*$K138*Data!$B$6))+((BA$12-BA$6)*1000*1000/((AY$242+AZ$242+AY$243+AZ$243-AY$241-AZ$241)*1000*$K138*Data!$B$6)),\n(BA$6*1000*1000/(((AY$242+AZ$242+AY$243+AZ$243)/Denscalc($K138))*1000*$K138*Data!$B$6))+((BA$12-BA$6)*1000*1000/(((AY$242+AZ$242+AY$243+AZ$243-AY$241-AZ$241)/Denscalc($K138))*1000*$K138*Data!$B$6))),0))","v":0},115,null,null,{"$f":"IF(AND(BE$11>0,$A138<>\"\",(BC138+BD138)>0), BE$11, IF(AND($A138<>\"\",(BC138+BD138)>0),\n (BE$6*1000*1000/((BC$244+BD$244)*1000* Data!$B$7))+ ((BE$12-BE$6)*1000*1000/((BC$244+BD$244-BC$241-BD$241)*1000* Data!$B$7)),0))","v":0},115,{"$f":"IF(A138<>\"\", (Data!$B$127*1000*Data!$B$3)/Data!$B$7,  \"\")","v":""},"","",{"$f":"IF(A138<>\"\",  ROUND( (Data!$B$8-BI138)/Data!$B$8,3),   \"\")","v":""},"","","","",{"$f":"IF(A138<>\"\",  IF(TYPE(BN138)=1, ROUND( (Data!$B$8-BN138)/Data!$B$8,3),   \"\"),\"\")","v":""},"",115,"","","",null,""]
[null,116,null,null,"",null,null,null,null,null,null,null,null,null,null,null,{"$f":"IF(AND($A139<>\"\",(O139+P139)>0),    IF(P$13=\"Nm3\",(Q$12*1000*1000/((O$242+P$242+O$243+P$243)*1000*  $K139 * Data!$B$6)),  (Q$12*1000*1000/(((O$242+P$242+O$243+P$243)/Denscalc($K139))*1000*  $K139 * Data!$B$6)) ), 0    )","v":0},116,null,null,{"$f":"IF(AND($A139<>\"\",(S139+T139)>0),    IF(T$13=\"Nm3\",(U$12*1000*1000/((S$242+T$242+S$243+T$243)*1000*  $K139 * Data!$B$6)),  (U$12*1000*1000/(((S$242+T$242+S$243+T$243)/Denscalc($K139))*1000*  $K139 * Data!$B$6)) ), 0     )","v":0},116,null,null,{"$f":"IF(AND($A139<>\"\",(W139+X139)>0),     IF(X$13=\"Nm3\",(Y$12*1000*1000/((W$242+X$242+W$243+X$243)*1000*  $K139 * Data!$B$6)),  (Y$12*1000*1000/(((W$242+X$242+W$243+X$243)/Denscalc($K139))*1000*  $K139 * Data!$B$6)) ), 0   )","v":0},116,null,null,{"$f":"IF(AND($A139<>\"\",(AA139+AB139)>0),     IF(AB$13=\"Nm3\",(AC$12*1000*1000/((AA$242+AB$242+AA$243+AB$243)*1000*  $K139 * Data!$B$6)),  (AC$12*1000*1000/(((AA$242+AB$242+AA$243+AB$243)/Denscalc($K139))*1000*  $K139 * Data!$B$6)) ), 0     )","v":0},116,null,null,{"$f":"IF(AND($A139<>\"\",(AE139+AF139)>0),     IF(AF$13=\"Nm3\",(AG$12*1000*1000/((AE$242+AF$242+AE$243+AF$243)*1000*  $K139 * Data!$B$6)),  (AG$12*1000*1000/(((AE$242+AF$242+AE$243+AF$243)/Denscalc($K139))*1000*  $K139 * Data!$B$6)) ), 0    )","v":0},116,null,null,{"$f":"IF(AND($A139<>\"\",(AI139+AJ139)>0),    IF(AJ$13=\"Nm3\",(AK$12*1000*1000/((AI$242+AJ$242+AI$243+AJ$243)*1000*  $K139 * Data!$B$6)),  (AK$12*1000*1000/(((AI$242+AJ$242+AI$243+AJ$243)/Denscalc($K139))*1000*  $K139 * Data!$B$6)) ), 0    )","v":0},116,null,null,{"$f":"IF(AND($A139<>\"\",(AM139+AN139)>0),     IF(AN$13=\"Nm3\",(AO$12*1000*1000/((AM$242+AN$242+AM$243+AN$243)*1000*  $K139 * Data!$B$6)),  (AO$12*1000*1000/(((AM$242+AN$242+AM$243+AN$243)/Denscalc($K139))*1000*  $K139 * Data!$B$6)) ), 0    )","v":0},116,null,null,{"$f":"IF(AND($A139<>\"\",(AQ139+AR139)>0),     IF(AR$13=\"Nm3\",(AS$12*1000*1000/((AQ$242+AR$242+AQ$243+AR$243)*1000*  $K139 * Data!$B$6)),  (AS$12*1000*1000/(((AQ$242+AR$242+AQ$243+AR$243)/Denscalc($K139))*1000*  $K139 * Data!$B$6)) ), 0     )","v":0},116,null,null,{"$f":"IF(AND($A139<>\"\",(AU139+AV139)>0),     IF(AV$13=\"Nm3\",(AW$12*1000*1000/((AU$242+AV$242+AU$243+AV$243)*1000*  $K139 * Data!$B$6)),  (AW$12*1000*1000/(((AU$242+AV$242+AU$243+AV$243)/Denscalc($K139))*1000*  $K139 * Data!$B$6)) ), 0   )","v":0},116,null,null,{"$f":"IF(AND(BA$11>0,$A139<>\"\",(AY139+AZ139)>0), BA$11, IF(AND($A139<>\"\",(AY139+AZ139)>0),\nIF(AZ$13=\"Nm3\",(BA$6*1000*1000/((AY$242+AZ$242+AY$243+AZ$243)*1000*$K139*Data!$B$6))+((BA$12-BA$6)*1000*1000/((AY$242+AZ$242+AY$243+AZ$243-AY$241-AZ$241)*1000*$K139*Data!$B$6)),\n(BA$6*1000*1000/(((AY$242+AZ$242+AY$243+AZ$243)/Denscalc($K139))*1000*$K139*Data!$B$6))+((BA$12-BA$6)*1000*1000/(((AY$242+AZ$242+AY$243+AZ$243-AY$241-AZ$241)/Denscalc($K139))*1000*$K139*Data!$B$6))),0))","v":0},116,null,null,{"$f":"IF(AND(BE$11>0,$A139<>\"\",(BC139+BD139)>0), BE$11, IF(AND($A139<>\"\",(BC139+BD139)>0),\n (BE$6*1000*1000/((BC$244+BD$244)*1000* Data!$B$7))+ ((BE$12-BE$6)*1000*1000/((BC$244+BD$244-BC$241-BD$241)*1000* Data!$B$7)),0))","v":0},116,{"$f":"IF(A139<>\"\", (Data!$B$127*1000*Data!$B$3)/Data!$B$7,  \"\")","v":""},"","",{"$f":"IF(A139<>\"\",  ROUND( (Data!$B$8-BI139)/Data!$B$8,3),   \"\")","v":""},"","","","",{"$f":"IF(A139<>\"\",  IF(TYPE(BN139)=1, ROUND( (Data!$B$8-BN139)/Data!$B$8,3),   \"\"),\"\")","v":""},"",116,"","","",null,""]
[null,117,null,null,"",null,null,null,null,null,null,null,null,null,null,null,{"$f":"IF(AND($A140<>\"\",(O140+P140)>0),    IF(P$13=\"Nm3\",(Q$12*1000*1000/((O$242+P$242+O$243+P$243)*1000*  $K140 * Data!$B$6)),  (Q$12*1000*1000/(((O$242+P$242+O$243+P$243)/Denscalc($K140))*1000*  $K140 * Data!$B$6)) ), 0    )","v":0},117,null,null,{"$f":"IF(AND($A140<>\"\",(S140+T140)>0),    IF(T$13=\"Nm3\",(U$12*1000*1000/((S$242+T$242+S$243+T$243)*1000*  $K140 * Data!$B$6)),  (U$12*1000*1000/(((S$242+T$242+S$243+T$243)/Denscalc($K140))*1000*  $K140 * Data!$B$6)) ), 0     )","v":0},117,null,null,{"$f":"IF(AND($A140<>\"\",(W140+X140)>0),     IF(X$13=\"Nm3\",(Y$12*1000*1000/((W$242+X$242+W$243+X$243)*1000*  $K140 * Data!$B$6)),  (Y$12*1000*1000/(((W$242+X$242+W$243+X$243)/Denscalc($K140))*1000*  $K140 * Data!$B$6)) ), 0   )","v":0},117,null,null,{"$f":"IF(AND($A140<>\"\",(AA140+AB140)>0),     IF(AB$13=\"Nm3\",(AC$12*1000*1000/((AA$242+AB$242+AA$243+AB$243)*1000*  $K140 * Data!$B$6)),  (AC$12*1000*1000/(((AA$242+AB$242+AA$243+AB$243)/Denscalc($K140))*1000*  $K140 * Data!$B$6)) ), 0     )","v":0},117,null,null,{"$f":"IF(AND($A140<>\"\",(AE140+AF140)>0),     IF(AF$13=\"Nm3\",(AG$12*1000*1000/((AE$242+AF$242+AE$243+AF$243)*1000*  $K140 * Data!$B$6)),  (AG$12*1000*1000/(((AE$242+AF$242+AE$243+AF$243)/Denscalc($K140))*1000*  $K140 * Data!$B$6)) ), 0    )","v":0},117,null,null,{"$f":"IF(AND($A140<>\"\",(AI140+AJ140)>0),    IF(AJ$13=\"Nm3\",(AK$12*1000*1000/((AI$242+AJ$242+AI$243+AJ$243)*1000*  $K140 * Data!$B$6)),  (AK$12*1000*1000/(((AI$242+AJ$242+AI$243+AJ$243)/Denscalc($K140))*1000*  $K140 * Data!$B$6)) ), 0    )","v":0},117,null,null,{"$f":"IF(AND($A140<>\"\",(AM140+AN140)>0),     IF(AN$13=\"Nm3\",(AO$12*1000*1000/((AM$242+AN$242+AM$243+AN$243)*1000*  $K140 * Data!$B$6)),  (AO$12*1000*1000/(((AM$242+AN$242+AM$243+AN$243)/Denscalc($K140))*1000*  $K140 * Data!$B$6)) ), 0    )","v":0},117,null,null,{"$f":"IF(AND($A140<>\"\",(AQ140+AR140)>0),     IF(AR$13=\"Nm3\",(AS$12*1000*1000/((AQ$242+AR$242+AQ$243+AR$243)*1000*  $K140 * Data!$B$6)),  (AS$12*1000*1000/(((AQ$242+AR$242+AQ$243+AR$243)/Denscalc($K140))*1000*  $K140 * Data!$B$6)) ), 0     )","v":0},117,null,null,{"$f":"IF(AND($A140<>\"\",(AU140+AV140)>0),     IF(AV$13=\"Nm3\",(AW$12*1000*1000/((AU$242+AV$242+AU$243+AV$243)*1000*  $K140 * Data!$B$6)),  (AW$12*1000*1000/(((AU$242+AV$242+AU$243+AV$243)/Denscalc($K140))*1000*  $K140 * Data!$B$6)) ), 0   )","v":0},117,null,null,{"$f":"IF(AND(BA$11>0,$A140<>\"\",(AY140+AZ140)>0), BA$11, IF(AND($A140<>\"\",(AY140+AZ140)>0),\nIF(AZ$13=\"Nm3\",(BA$6*1000*1000/((AY$242+AZ$242+AY$243+AZ$243)*1000*$K140*Data!$B$6))+((BA$12-BA$6)*1000*1000/((AY$242+AZ$242+AY$243+AZ$243-AY$241-AZ$241)*1000*$K140*Data!$B$6)),\n(BA$6*1000*1000/(((AY$242+AZ$242+AY$243+AZ$243)/Denscalc($K140))*1000*$K140*Data!$B$6))+((BA$12-BA$6)*1000*1000/(((AY$242+AZ$242+AY$243+AZ$243-AY$241-AZ$241)/Denscalc($K140))*1000*$K140*Data!$B$6))),0))","v":0},117,null,null,{"$f":"IF(AND(BE$11>0,$A140<>\"\",(BC140+BD140)>0), BE$11, IF(AND($A140<>\"\",(BC140+BD140)>0),\n (BE$6*1000*1000/((BC$244+BD$244)*1000* Data!$B$7))+ ((BE$12-BE$6)*1000*1000/((BC$244+BD$244-BC$241-BD$241)*1000* Data!$B$7)),0))","v":0},117,{"$f":"IF(A140<>\"\", (Data!$B$127*1000*Data!$B$3)/Data!$B$7,  \"\")","v":""},"","",{"$f":"IF(A140<>\"\",  ROUND( (Data!$B$8-BI140)/Data!$B$8,3),   \"\")","v":""},"","","","",{"$f":"IF(A140<>\"\",  IF(TYPE(BN140)=1, ROUND( (Data!$B$8-BN140)/Data!$B$8,3),   \"\"),\"\")","v":""},"",117,"","","",null,""]
[null,118,null,null,"",null,null,null,null,null,null,null,null,null,null,null,{"$f":"IF(AND($A141<>\"\",(O141+P141)>0),    IF(P$13=\"Nm3\",(Q$12*1000*1000/((O$242+P$242+O$243+P$243)*1000*  $K141 * Data!$B$6)),  (Q$12*1000*1000/(((O$242+P$242+O$243+P$243)/Denscalc($K141))*1000*  $K141 * Data!$B$6)) ), 0    )","v":0},118,null,null,{"$f":"IF(AND($A141<>\"\",(S141+T141)>0),    IF(T$13=\"Nm3\",(U$12*1000*1000/((S$242+T$242+S$243+T$243)*1000*  $K141 * Data!$B$6)),  (U$12*1000*1000/(((S$242+T$242+S$243+T$243)/Denscalc($K141))*1000*  $K141 * Data!$B$6)) ), 0     )","v":0},118,null,null,{"$f":"IF(AND($A141<>\"\",(W141+X141)>0),     IF(X$13=\"Nm3\",(Y$12*1000*1000/((W$242+X$242+W$243+X$243)*1000*  $K141 * Data!$B$6)),  (Y$12*1000*1000/(((W$242+X$242+W$243+X$243)/Denscalc($K141))*1000*  $K141 * Data!$B$6)) ), 0   )","v":0},118,null,null,{"$f":"IF(AND($A141<>\"\",(AA141+AB141)>0),     IF(AB$13=\"Nm3\",(AC$12*1000*1000/((AA$242+AB$242+AA$243+AB$243)*1000*  $K141 * Data!$B$6)),  (AC$12*1000*1000/(((AA$242+AB$242+AA$243+AB$243)/Denscalc($K141))*1000*  $K141 * Data!$B$6)) ), 0     )","v":0},118,null,null,{"$f":"IF(AND($A141<>\"\",(AE141+AF141)>0),     IF(AF$13=\"Nm3\",(AG$12*1000*1000/((AE$242+AF$242+AE$243+AF$243)*1000*  $K141 * Data!$B$6)),  (AG$12*1000*1000/(((AE$242+AF$242+AE$243+AF$243)/Denscalc($K141))*1000*  $K141 * Data!$B$6)) ), 0    )","v":0},118,null,null,{"$f":"IF(AND($A141<>\"\",(AI141+AJ141)>0),    IF(AJ$13=\"Nm3\",(AK$12*1000*1000/((AI$242+AJ$242+AI$243+AJ$243)*1000*  $K141 * Data!$B$6)),  (AK$12*1000*1000/(((AI$242+AJ$242+AI$243+AJ$243)/Denscalc($K141))*1000*  $K141 * Data!$B$6)) ), 0    )","v":0},118,null,null,{"$f":"IF(AND($A141<>\"\",(AM141+AN141)>0),     IF(AN$13=\"Nm3\",(AO$12*1000*1000/((AM$242+AN$242+AM$243+AN$243)*1000*  $K141 * Data!$B$6)),  (AO$12*1000*1000/(((AM$242+AN$242+AM$243+AN$243)/Denscalc($K141))*1000*  $K141 * Data!$B$6)) ), 0    )","v":0},118,null,null,{"$f":"IF(AND($A141<>\"\",(AQ141+AR141)>0),     IF(AR$13=\"Nm3\",(AS$12*1000*1000/((AQ$242+AR$242+AQ$243+AR$243)*1000*  $K141 * Data!$B$6)),  (AS$12*1000*1000/(((AQ$242+AR$242+AQ$243+AR$243)/Denscalc($K141))*1000*  $K141 * Data!$B$6)) ), 0     )","v":0},118,null,null,{"$f":"IF(AND($A141<>\"\",(AU141+AV141)>0),     IF(AV$13=\"Nm3\",(AW$12*1000*1000/((AU$242+AV$242+AU$243+AV$243)*1000*  $K141 * Data!$B$6)),  (AW$12*1000*1000/(((AU$242+AV$242+AU$243+AV$243)/Denscalc($K141))*1000*  $K141 * Data!$B$6)) ), 0   )","v":0},118,null,null,{"$f":"IF(AND(BA$11>0,$A141<>\"\",(AY141+AZ141)>0), BA$11, IF(AND($A141<>\"\",(AY141+AZ141)>0),\nIF(AZ$13=\"Nm3\",(BA$6*1000*1000/((AY$242+AZ$242+AY$243+AZ$243)*1000*$K141*Data!$B$6))+((BA$12-BA$6)*1000*1000/((AY$242+AZ$242+AY$243+AZ$243-AY$241-AZ$241)*1000*$K141*Data!$B$6)),\n(BA$6*1000*1000/(((AY$242+AZ$242+AY$243+AZ$243)/Denscalc($K141))*1000*$K141*Data!$B$6))+((BA$12-BA$6)*1000*1000/(((AY$242+AZ$242+AY$243+AZ$243-AY$241-AZ$241)/Denscalc($K141))*1000*$K141*Data!$B$6))),0))","v":0},118,null,null,{"$f":"IF(AND(BE$11>0,$A141<>\"\",(BC141+BD141)>0), BE$11, IF(AND($A141<>\"\",(BC141+BD141)>0),\n (BE$6*1000*1000/((BC$244+BD$244)*1000* Data!$B$7))+ ((BE$12-BE$6)*1000*1000/((BC$244+BD$244-BC$241-BD$241)*1000* Data!$B$7)),0))","v":0},118,{"$f":"IF(A141<>\"\", (Data!$B$127*1000*Data!$B$3)/Data!$B$7,  \"\")","v":""},"","",{"$f":"IF(A141<>\"\",  ROUND( (Data!$B$8-BI141)/Data!$B$8,3),   \"\")","v":""},"","","","",{"$f":"IF(A141<>\"\",  IF(TYPE(BN141)=1, ROUND( (Data!$B$8-BN141)/Data!$B$8,3),   \"\"),\"\")","v":""},"",118,"","","",null,""]
[null,119,null,null,"",null,null,null,null,null,null,null,null,null,null,null,{"$f":"IF(AND($A142<>\"\",(O142+P142)>0),    IF(P$13=\"Nm3\",(Q$12*1000*1000/((O$242+P$242+O$243+P$243)*1000*  $K142 * Data!$B$6)),  (Q$12*1000*1000/(((O$242+P$242+O$243+P$243)/Denscalc($K142))*1000*  $K142 * Data!$B$6)) ), 0    )","v":0},119,null,null,{"$f":"IF(AND($A142<>\"\",(S142+T142)>0),    IF(T$13=\"Nm3\",(U$12*1000*1000/((S$242+T$242+S$243+T$243)*1000*  $K142 * Data!$B$6)),  (U$12*1000*1000/(((S$242+T$242+S$243+T$243)/Denscalc($K142))*1000*  $K142 * Data!$B$6)) ), 0     )","v":0},119,null,null,{"$f":"IF(AND($A142<>\"\",(W142+X142)>0),     IF(X$13=\"Nm3\",(Y$12*1000*1000/((W$242+X$242+W$243+X$243)*1000*  $K142 * Data!$B$6)),  (Y$12*1000*1000/(((W$242+X$242+W$243+X$243)/Denscalc($K142))*1000*  $K142 * Data!$B$6)) ), 0   )","v":0},119,null,null,{"$f":"IF(AND($A142<>\"\",(AA142+AB142)>0),     IF(AB$13=\"Nm3\",(AC$12*1000*1000/((AA$242+AB$242+AA$243+AB$243)*1000*  $K142 * Data!$B$6)),  (AC$12*1000*1000/(((AA$242+AB$242+AA$243+AB$243)/Denscalc($K142))*1000*  $K142 * Data!$B$6)) ), 0     )","v":0},119,null,null,{"$f":"IF(AND($A142<>\"\",(AE142+AF142)>0),     IF(AF$13=\"Nm3\",(AG$12*1000*1000/((AE$242+AF$242+AE$243+AF$243)*1000*  $K142 * Data!$B$6)),  (AG$12*1000*1000/(((AE$242+AF$242+AE$243+AF$243)/Denscalc($K142))*1000*  $K142 * Data!$B$6)) ), 0    )","v":0},119,null,null,{"$f":"IF(AND($A142<>\"\",(AI142+AJ142)>0),    IF(AJ$13=\"Nm3\",(AK$12*1000*1000/((AI$242+AJ$242+AI$243+AJ$243)*1000*  $K142 * Data!$B$6)),  (AK$12*1000*1000/(((AI$242+AJ$242+AI$243+AJ$243)/Denscalc($K142))*1000*  $K142 * Data!$B$6)) ), 0    )","v":0},119,null,null,{"$f":"IF(AND($A142<>\"\",(AM142+AN142)>0),     IF(AN$13=\"Nm3\",(AO$12*1000*1000/((AM$242+AN$242+AM$243+AN$243)*1000*  $K142 * Data!$B$6)),  (AO$12*1000*1000/(((AM$242+AN$242+AM$243+AN$243)/Denscalc($K142))*1000*  $K142 * Data!$B$6)) ), 0    )","v":0},119,null,null,{"$f":"IF(AND($A142<>\"\",(AQ142+AR142)>0),     IF(AR$13=\"Nm3\",(AS$12*1000*1000/((AQ$242+AR$242+AQ$243+AR$243)*1000*  $K142 * Data!$B$6)),  (AS$12*1000*1000/(((AQ$242+AR$242+AQ$243+AR$243)/Denscalc($K142))*1000*  $K142 * Data!$B$6)) ), 0     )","v":0},119,null,null,{"$f":"IF(AND($A142<>\"\",(AU142+AV142)>0),     IF(AV$13=\"Nm3\",(AW$12*1000*1000/((AU$242+AV$242+AU$243+AV$243)*1000*  $K142 * Data!$B$6)),  (AW$12*1000*1000/(((AU$242+AV$242+AU$243+AV$243)/Denscalc($K142))*1000*  $K142 * Data!$B$6)) ), 0   )","v":0},119,null,null,{"$f":"IF(AND(BA$11>0,$A142<>\"\",(AY142+AZ142)>0), BA$11, IF(AND($A142<>\"\",(AY142+AZ142)>0),\nIF(AZ$13=\"Nm3\",(BA$6*1000*1000/((AY$242+AZ$242+AY$243+AZ$243)*1000*$K142*Data!$B$6))+((BA$12-BA$6)*1000*1000/((AY$242+AZ$242+AY$243+AZ$243-AY$241-AZ$241)*1000*$K142*Data!$B$6)),\n(BA$6*1000*1000/(((AY$242+AZ$242+AY$243+AZ$243)/Denscalc($K142))*1000*$K142*Data!$B$6))+((BA$12-BA$6)*1000*1000/(((AY$242+AZ$242+AY$243+AZ$243-AY$241-AZ$241)/Denscalc($K142))*1000*$K142*Data!$B$6))),0))","v":0},119,null,null,{"$f":"IF(AND(BE$11>0,$A142<>\"\",(BC142+BD142)>0), BE$11, IF(AND($A142<>\"\",(BC142+BD142)>0),\n (BE$6*1000*1000/((BC$244+BD$244)*1000* Data!$B$7))+ ((BE$12-BE$6)*1000*1000/((BC$244+BD$244-BC$241-BD$241)*1000* Data!$B$7)),0))","v":0},119,{"$f":"IF(A142<>\"\", (Data!$B$127*1000*Data!$B$3)/Data!$B$7,  \"\")","v":""},"","",{"$f":"IF(A142<>\"\",  ROUND( (Data!$B$8-BI142)/Data!$B$8,3),   \"\")","v":""},"","","","",{"$f":"IF(A142<>\"\",  IF(TYPE(BN142)=1, ROUND( (Data!$B$8-BN142)/Data!$B$8,3),   \"\"),\"\")","v":""},"",119,"","","",null,""]
[null,120,null,null,"",null,null,null,null,null,null,null,null,null,null,null,{"$f":"IF(AND($A143<>\"\",(O143+P143)>0),    IF(P$13=\"Nm3\",(Q$12*1000*1000/((O$242+P$242+O$243+P$243)*1000*  $K143 * Data!$B$6)),  (Q$12*1000*1000/(((O$242+P$242+O$243+P$243)/Denscalc($K143))*1000*  $K143 * Data!$B$6)) ), 0    )","v":0},120,null,null,{"$f":"IF(AND($A143<>\"\",(S143+T143)>0),    IF(T$13=\"Nm3\",(U$12*1000*1000/((S$242+T$242+S$243+T$243)*1000*  $K143 * Data!$B$6)),  (U$12*1000*1000/(((S$242+T$242+S$243+T$243)/Denscalc($K143))*1000*  $K143 * Data!$B$6)) ), 0     )","v":0},120,null,null,{"$f":"IF(AND($A143<>\"\",(W143+X143)>0),     IF(X$13=\"Nm3\",(Y$12*1000*1000/((W$242+X$242+W$243+X$243)*1000*  $K143 * Data!$B$6)),  (Y$12*1000*1000/(((W$242+X$242+W$243+X$243)/Denscalc($K143))*1000*  $K143 * Data!$B$6)) ), 0   )","v":0},120,null,null,{"$f":"IF(AND($A143<>\"\",(AA143+AB143)>0),     IF(AB$13=\"Nm3\",(AC$12*1000*1000/((AA$242+AB$242+AA$243+AB$243)*1000*  $K143 * Data!$B$6)),  (AC$12*1000*1000/(((AA$242+AB$242+AA$243+AB$243)/Denscalc($K143))*1000*  $K143 * Data!$B$6)) ), 0     )","v":0},120,null,null,{"$f":"IF(AND($A143<>\"\",(AE143+AF143)>0),     IF(AF$13=\"Nm3\",(AG$12*1000*1000/((AE$242+AF$242+AE$243+AF$243)*1000*  $K143 * Data!$B$6)),  (AG$12*1000*1000/(((AE$242+AF$242+AE$243+AF$243)/Denscalc($K143))*1000*  $K143 * Data!$B$6)) ), 0    )","v":0},120,null,null,{"$f":"IF(AND($A143<>\"\",(AI143+AJ143)>0),    IF(AJ$13=\"Nm3\",(AK$12*1000*1000/((AI$242+AJ$242+AI$243+AJ$243)*1000*  $K143 * Data!$B$6)),  (AK$12*1000*1000/(((AI$242+AJ$242+AI$243+AJ$243)/Denscalc($K143))*1000*  $K143 * Data!$B$6)) ), 0    )","v":0},120,null,null,{"$f":"IF(AND($A143<>\"\",(AM143+AN143)>0),     IF(AN$13=\"Nm3\",(AO$12*1000*1000/((AM$242+AN$242+AM$243+AN$243)*1000*  $K143 * Data!$B$6)),  (AO$12*1000*1000/(((AM$242+AN$242+AM$243+AN$243)/Denscalc($K143))*1000*  $K143 * Data!$B$6)) ), 0    )","v":0},120,null,null,{"$f":"IF(AND($A143<>\"\",(AQ143+AR143)>0),     IF(AR$13=\"Nm3\",(AS$12*1000*1000/((AQ$242+AR$242+AQ$243+AR$243)*1000*  $K143 * Data!$B$6)),  (AS$12*1000*1000/(((AQ$242+AR$242+AQ$243+AR$243)/Denscalc($K143))*1000*  $K143 * Data!$B$6)) ), 0     )","v":0},120,null,null,{"$f":"IF(AND($A143<>\"\",(AU143+AV143)>0),     IF(AV$13=\"Nm3\",(AW$12*1000*1000/((AU$242+AV$242+AU$243+AV$243)*1000*  $K143 * Data!$B$6)),  (AW$12*1000*1000/(((AU$242+AV$242+AU$243+AV$243)/Denscalc($K143))*1000*  $K143 * Data!$B$6)) ), 0   )","v":0},120,null,null,{"$f":"IF(AND(BA$11>0,$A143<>\"\",(AY143+AZ143)>0), BA$11, IF(AND($A143<>\"\",(AY143+AZ143)>0),\nIF(AZ$13=\"Nm3\",(BA$6*1000*1000/((AY$242+AZ$242+AY$243+AZ$243)*1000*$K143*Data!$B$6))+((BA$12-BA$6)*1000*1000/((AY$242+AZ$242+AY$243+AZ$243-AY$241-AZ$241)*1000*$K143*Data!$B$6)),\n(BA$6*1000*1000/(((AY$242+AZ$242+AY$243+AZ$243)/Denscalc($K143))*1000*$K143*Data!$B$6))+((BA$12-BA$6)*1000*1000/(((AY$242+AZ$242+AY$243+AZ$243-AY$241-AZ$241)/Denscalc($K143))*1000*$K143*Data!$B$6))),0))","v":0},120,null,null,{"$f":"IF(AND(BE$11>0,$A143<>\"\",(BC143+BD143)>0), BE$11, IF(AND($A143<>\"\",(BC143+BD143)>0),\n (BE$6*1000*1000/((BC$244+BD$244)*1000* Data!$B$7))+ ((BE$12-BE$6)*1000*1000/((BC$244+BD$244-BC$241-BD$241)*1000* Data!$B$7)),0))","v":0},120,{"$f":"IF(A143<>\"\", (Data!$B$127*1000*Data!$B$3)/Data!$B$7,  \"\")","v":""},"","",{"$f":"IF(A143<>\"\",  ROUND( (Data!$B$8-BI143)/Data!$B$8,3),   \"\")","v":""},"","","","",{"$f":"IF(A143<>\"\",  IF(TYPE(BN143)=1, ROUND( (Data!$B$8-BN143)/Data!$B$8,3),   \"\"),\"\")","v":""},"",120,"","","",null,""]
[null,121,null,null,"",null,null,null,null,null,null,null,null,null,null,null,{"$f":"IF(AND($A144<>\"\",(O144+P144)>0),    IF(P$13=\"Nm3\",(Q$12*1000*1000/((O$242+P$242+O$243+P$243)*1000*  $K144 * Data!$B$6)),  (Q$12*1000*1000/(((O$242+P$242+O$243+P$243)/Denscalc($K144))*1000*  $K144 * Data!$B$6)) ), 0    )","v":0},121,null,null,{"$f":"IF(AND($A144<>\"\",(S144+T144)>0),    IF(T$13=\"Nm3\",(U$12*1000*1000/((S$242+T$242+S$243+T$243)*1000*  $K144 * Data!$B$6)),  (U$12*1000*1000/(((S$242+T$242+S$243+T$243)/Denscalc($K144))*1000*  $K144 * Data!$B$6)) ), 0     )","v":0},121,null,null,{"$f":"IF(AND($A144<>\"\",(W144+X144)>0),     IF(X$13=\"Nm3\",(Y$12*1000*1000/((W$242+X$242+W$243+X$243)*1000*  $K144 * Data!$B$6)),  (Y$12*1000*1000/(((W$242+X$242+W$243+X$243)/Denscalc($K144))*1000*  $K144 * Data!$B$6)) ), 0   )","v":0},121,null,null,{"$f":"IF(AND($A144<>\"\",(AA144+AB144)>0),     IF(AB$13=\"Nm3\",(AC$12*1000*1000/((AA$242+AB$242+AA$243+AB$243)*1000*  $K144 * Data!$B$6)),  (AC$12*1000*1000/(((AA$242+AB$242+AA$243+AB$243)/Denscalc($K144))*1000*  $K144 * Data!$B$6)) ), 0     )","v":0},121,null,null,{"$f":"IF(AND($A144<>\"\",(AE144+AF144)>0),     IF(AF$13=\"Nm3\",(AG$12*1000*1000/((AE$242+AF$242+AE$243+AF$243)*1000*  $K144 * Data!$B$6)),  (AG$12*1000*1000/(((AE$242+AF$242+AE$243+AF$243)/Denscalc($K144))*1000*  $K144 * Data!$B$6)) ), 0    )","v":0},121,null,null,{"$f":"IF(AND($A144<>\"\",(AI144+AJ144)>0),    IF(AJ$13=\"Nm3\",(AK$12*1000*1000/((AI$242+AJ$242+AI$243+AJ$243)*1000*  $K144 * Data!$B$6)),  (AK$12*1000*1000/(((AI$242+AJ$242+AI$243+AJ$243)/Denscalc($K144))*1000*  $K144 * Data!$B$6)) ), 0    )","v":0},121,null,null,{"$f":"IF(AND($A144<>\"\",(AM144+AN144)>0),     IF(AN$13=\"Nm3\",(AO$12*1000*1000/((AM$242+AN$242+AM$243+AN$243)*1000*  $K144 * Data!$B$6)),  (AO$12*1000*1000/(((AM$242+AN$242+AM$243+AN$243)/Denscalc($K144))*1000*  $K144 * Data!$B$6)) ), 0    )","v":0},121,null,null,{"$f":"IF(AND($A144<>\"\",(AQ144+AR144)>0),     IF(AR$13=\"Nm3\",(AS$12*1000*1000/((AQ$242+AR$242+AQ$243+AR$243)*1000*  $K144 * Data!$B$6)),  (AS$12*1000*1000/(((AQ$242+AR$242+AQ$243+AR$243)/Denscalc($K144))*1000*  $K144 * Data!$B$6)) ), 0     )","v":0},121,null,null,{"$f":"IF(AND($A144<>\"\",(AU144+AV144)>0),     IF(AV$13=\"Nm3\",(AW$12*1000*1000/((AU$242+AV$242+AU$243+AV$243)*1000*  $K144 * Data!$B$6)),  (AW$12*1000*1000/(((AU$242+AV$242+AU$243+AV$243)/Denscalc($K144))*1000*  $K144 * Data!$B$6)) ), 0   )","v":0},121,null,null,{"$f":"IF(AND(BA$11>0,$A144<>\"\",(AY144+AZ144)>0), BA$11, IF(AND($A144<>\"\",(AY144+AZ144)>0),\nIF(AZ$13=\"Nm3\",(BA$6*1000*1000/((AY$242+AZ$242+AY$243+AZ$243)*1000*$K144*Data!$B$6))+((BA$12-BA$6)*1000*1000/((AY$242+AZ$242+AY$243+AZ$243-AY$241-AZ$241)*1000*$K144*Data!$B$6)),\n(BA$6*1000*1000/(((AY$242+AZ$242+AY$243+AZ$243)/Denscalc($K144))*1000*$K144*Data!$B$6))+((BA$12-BA$6)*1000*1000/(((AY$242+AZ$242+AY$243+AZ$243-AY$241-AZ$241)/Denscalc($K144))*1000*$K144*Data!$B$6))),0))","v":0},121,null,null,{"$f":"IF(AND(BE$11>0,$A144<>\"\",(BC144+BD144)>0), BE$11, IF(AND($A144<>\"\",(BC144+BD144)>0),\n (BE$6*1000*1000/((BC$244+BD$244)*1000* Data!$B$7))+ ((BE$12-BE$6)*1000*1000/((BC$244+BD$244-BC$241-BD$241)*1000* Data!$B$7)),0))","v":0},121,{"$f":"IF(A144<>\"\", (Data!$B$127*1000*Data!$B$3)/Data!$B$7,  \"\")","v":""},"","",{"$f":"IF(A144<>\"\",  ROUND( (Data!$B$8-BI144)/Data!$B$8,3),   \"\")","v":""},"","","","",{"$f":"IF(A144<>\"\",  IF(TYPE(BN144)=1, ROUND( (Data!$B$8-BN144)/Data!$B$8,3),   \"\"),\"\")","v":""},"",121,"","","",null,""]
[null,122,null,null,"",null,null,null,null,null,null,null,null,null,null,null,{"$f":"IF(AND($A145<>\"\",(O145+P145)>0),    IF(P$13=\"Nm3\",(Q$12*1000*1000/((O$242+P$242+O$243+P$243)*1000*  $K145 * Data!$B$6)),  (Q$12*1000*1000/(((O$242+P$242+O$243+P$243)/Denscalc($K145))*1000*  $K145 * Data!$B$6)) ), 0    )","v":0},122,null,null,{"$f":"IF(AND($A145<>\"\",(S145+T145)>0),    IF(T$13=\"Nm3\",(U$12*1000*1000/((S$242+T$242+S$243+T$243)*1000*  $K145 * Data!$B$6)),  (U$12*1000*1000/(((S$242+T$242+S$243+T$243)/Denscalc($K145))*1000*  $K145 * Data!$B$6)) ), 0     )","v":0},122,null,null,{"$f":"IF(AND($A145<>\"\",(W145+X145)>0),     IF(X$13=\"Nm3\",(Y$12*1000*1000/((W$242+X$242+W$243+X$243)*1000*  $K145 * Data!$B$6)),  (Y$12*1000*1000/(((W$242+X$242+W$243+X$243)/Denscalc($K145))*1000*  $K145 * Data!$B$6)) ), 0   )","v":0},122,null,null,{"$f":"IF(AND($A145<>\"\",(AA145+AB145)>0),     IF(AB$13=\"Nm3\",(AC$12*1000*1000/((AA$242+AB$242+AA$243+AB$243)*1000*  $K145 * Data!$B$6)),  (AC$12*1000*1000/(((AA$242+AB$242+AA$243+AB$243)/Denscalc($K145))*1000*  $K145 * Data!$B$6)) ), 0     )","v":0},122,null,null,{"$f":"IF(AND($A145<>\"\",(AE145+AF145)>0),     IF(AF$13=\"Nm3\",(AG$12*1000*1000/((AE$242+AF$242+AE$243+AF$243)*1000*  $K145 * Data!$B$6)),  (AG$12*1000*1000/(((AE$242+AF$242+AE$243+AF$243)/Denscalc($K145))*1000*  $K145 * Data!$B$6)) ), 0    )","v":0},122,null,null,{"$f":"IF(AND($A145<>\"\",(AI145+AJ145)>0),    IF(AJ$13=\"Nm3\",(AK$12*1000*1000/((AI$242+AJ$242+AI$243+AJ$243)*1000*  $K145 * Data!$B$6)),  (AK$12*1000*1000/(((AI$242+AJ$242+AI$243+AJ$243)/Denscalc($K145))*1000*  $K145 * Data!$B$6)) ), 0    )","v":0},122,null,null,{"$f":"IF(AND($A145<>\"\",(AM145+AN145)>0),     IF(AN$13=\"Nm3\",(AO$12*1000*1000/((AM$242+AN$242+AM$243+AN$243)*1000*  $K145 * Data!$B$6)),  (AO$12*1000*1000/(((AM$242+AN$242+AM$243+AN$243)/Denscalc($K145))*1000*  $K145 * Data!$B$6)) ), 0    )","v":0},122,null,null,{"$f":"IF(AND($A145<>\"\",(AQ145+AR145)>0),     IF(AR$13=\"Nm3\",(AS$12*1000*1000/((AQ$242+AR$242+AQ$243+AR$243)*1000*  $K145 * Data!$B$6)),  (AS$12*1000*1000/(((AQ$242+AR$242+AQ$243+AR$243)/Denscalc($K145))*1000*  $K145 * Data!$B$6)) ), 0     )","v":0},122,null,null,{"$f":"IF(AND($A145<>\"\",(AU145+AV145)>0),     IF(AV$13=\"Nm3\",(AW$12*1000*1000/((AU$242+AV$242+AU$243+AV$243)*1000*  $K145 * Data!$B$6)),  (AW$12*1000*1000/(((AU$242+AV$242+AU$243+AV$243)/Denscalc($K145))*1000*  $K145 * Data!$B$6)) ), 0   )","v":0},122,null,null,{"$f":"IF(AND(BA$11>0,$A145<>\"\",(AY145+AZ145)>0), BA$11, IF(AND($A145<>\"\",(AY145+AZ145)>0),\nIF(AZ$13=\"Nm3\",(BA$6*1000*1000/((AY$242+AZ$242+AY$243+AZ$243)*1000*$K145*Data!$B$6))+((BA$12-BA$6)*1000*1000/((AY$242+AZ$242+AY$243+AZ$243-AY$241-AZ$241)*1000*$K145*Data!$B$6)),\n(BA$6*1000*1000/(((AY$242+AZ$242+AY$243+AZ$243)/Denscalc($K145))*1000*$K145*Data!$B$6))+((BA$12-BA$6)*1000*1000/(((AY$242+AZ$242+AY$243+AZ$243-AY$241-AZ$241)/Denscalc($K145))*1000*$K145*Data!$B$6))),0))","v":0},122,null,null,{"$f":"IF(AND(BE$11>0,$A145<>\"\",(BC145+BD145)>0), BE$11, IF(AND($A145<>\"\",(BC145+BD145)>0),\n (BE$6*1000*1000/((BC$244+BD$244)*1000* Data!$B$7))+ ((BE$12-BE$6)*1000*1000/((BC$244+BD$244-BC$241-BD$241)*1000* Data!$B$7)),0))","v":0},122,{"$f":"IF(A145<>\"\", (Data!$B$127*1000*Data!$B$3)/Data!$B$7,  \"\")","v":""},"","",{"$f":"IF(A145<>\"\",  ROUND( (Data!$B$8-BI145)/Data!$B$8,3),   \"\")","v":""},"","","","",{"$f":"IF(A145<>\"\",  IF(TYPE(BN145)=1, ROUND( (Data!$B$8-BN145)/Data!$B$8,3),   \"\"),\"\")","v":""},"",122,"","","",null,""]
[null,123,null,null,"",null,null,null,null,null,null,null,null,null,null,null,{"$f":"IF(AND($A146<>\"\",(O146+P146)>0),    IF(P$13=\"Nm3\",(Q$12*1000*1000/((O$242+P$242+O$243+P$243)*1000*  $K146 * Data!$B$6)),  (Q$12*1000*1000/(((O$242+P$242+O$243+P$243)/Denscalc($K146))*1000*  $K146 * Data!$B$6)) ), 0    )","v":0},123,null,null,{"$f":"IF(AND($A146<>\"\",(S146+T146)>0),    IF(T$13=\"Nm3\",(U$12*1000*1000/((S$242+T$242+S$243+T$243)*1000*  $K146 * Data!$B$6)),  (U$12*1000*1000/(((S$242+T$242+S$243+T$243)/Denscalc($K146))*1000*  $K146 * Data!$B$6)) ), 0     )","v":0},123,null,null,{"$f":"IF(AND($A146<>\"\",(W146+X146)>0),     IF(X$13=\"Nm3\",(Y$12*1000*1000/((W$242+X$242+W$243+X$243)*1000*  $K146 * Data!$B$6)),  (Y$12*1000*1000/(((W$242+X$242+W$243+X$243)/Denscalc($K146))*1000*  $K146 * Data!$B$6)) ), 0   )","v":0},123,null,null,{"$f":"IF(AND($A146<>\"\",(AA146+AB146)>0),     IF(AB$13=\"Nm3\",(AC$12*1000*1000/((AA$242+AB$242+AA$243+AB$243)*1000*  $K146 * Data!$B$6)),  (AC$12*1000*1000/(((AA$242+AB$242+AA$243+AB$243)/Denscalc($K146))*1000*  $K146 * Data!$B$6)) ), 0     )","v":0},123,null,null,{"$f":"IF(AND($A146<>\"\",(AE146+AF146)>0),     IF(AF$13=\"Nm3\",(AG$12*1000*1000/((AE$242+AF$242+AE$243+AF$243)*1000*  $K146 * Data!$B$6)),  (AG$12*1000*1000/(((AE$242+AF$242+AE$243+AF$243)/Denscalc($K146))*1000*  $K146 * Data!$B$6)) ), 0    )","v":0},123,null,null,{"$f":"IF(AND($A146<>\"\",(AI146+AJ146)>0),    IF(AJ$13=\"Nm3\",(AK$12*1000*1000/((AI$242+AJ$242+AI$243+AJ$243)*1000*  $K146 * Data!$B$6)),  (AK$12*1000*1000/(((AI$242+AJ$242+AI$243+AJ$243)/Denscalc($K146))*1000*  $K146 * Data!$B$6)) ), 0    )","v":0},123,null,null,{"$f":"IF(AND($A146<>\"\",(AM146+AN146)>0),     IF(AN$13=\"Nm3\",(AO$12*1000*1000/((AM$242+AN$242+AM$243+AN$243)*1000*  $K146 * Data!$B$6)),  (AO$12*1000*1000/(((AM$242+AN$242+AM$243+AN$243)/Denscalc($K146))*1000*  $K146 * Data!$B$6)) ), 0    )","v":0},123,null,null,{"$f":"IF(AND($A146<>\"\",(AQ146+AR146)>0),     IF(AR$13=\"Nm3\",(AS$12*1000*1000/((AQ$242+AR$242+AQ$243+AR$243)*1000*  $K146 * Data!$B$6)),  (AS$12*1000*1000/(((AQ$242+AR$242+AQ$243+AR$243)/Denscalc($K146))*1000*  $K146 * Data!$B$6)) ), 0     )","v":0},123,null,null,{"$f":"IF(AND($A146<>\"\",(AU146+AV146)>0),     IF(AV$13=\"Nm3\",(AW$12*1000*1000/((AU$242+AV$242+AU$243+AV$243)*1000*  $K146 * Data!$B$6)),  (AW$12*1000*1000/(((AU$242+AV$242+AU$243+AV$243)/Denscalc($K146))*1000*  $K146 * Data!$B$6)) ), 0   )","v":0},123,null,null,{"$f":"IF(AND(BA$11>0,$A146<>\"\",(AY146+AZ146)>0), BA$11, IF(AND($A146<>\"\",(AY146+AZ146)>0),\nIF(AZ$13=\"Nm3\",(BA$6*1000*1000/((AY$242+AZ$242+AY$243+AZ$243)*1000*$K146*Data!$B$6))+((BA$12-BA$6)*1000*1000/((AY$242+AZ$242+AY$243+AZ$243-AY$241-AZ$241)*1000*$K146*Data!$B$6)),\n(BA$6*1000*1000/(((AY$242+AZ$242+AY$243+AZ$243)/Denscalc($K146))*1000*$K146*Data!$B$6))+((BA$12-BA$6)*1000*1000/(((AY$242+AZ$242+AY$243+AZ$243-AY$241-AZ$241)/Denscalc($K146))*1000*$K146*Data!$B$6))),0))","v":0},123,null,null,{"$f":"IF(AND(BE$11>0,$A146<>\"\",(BC146+BD146)>0), BE$11, IF(AND($A146<>\"\",(BC146+BD146)>0),\n (BE$6*1000*1000/((BC$244+BD$244)*1000* Data!$B$7))+ ((BE$12-BE$6)*1000*1000/((BC$244+BD$244-BC$241-BD$241)*1000* Data!$B$7)),0))","v":0},123,{"$f":"IF(A146<>\"\", (Data!$B$127*1000*Data!$B$3)/Data!$B$7,  \"\")","v":""},"","",{"$f":"IF(A146<>\"\",  ROUND( (Data!$B$8-BI146)/Data!$B$8,3),   \"\")","v":""},"","","","",{"$f":"IF(A146<>\"\",  IF(TYPE(BN146)=1, ROUND( (Data!$B$8-BN146)/Data!$B$8,3),   \"\"),\"\")","v":""},"",123,"","","",null,""]
[null,124,null,null,"",null,null,null,null,null,null,null,null,null,null,null,{"$f":"IF(AND($A147<>\"\",(O147+P147)>0),    IF(P$13=\"Nm3\",(Q$12*1000*1000/((O$242+P$242+O$243+P$243)*1000*  $K147 * Data!$B$6)),  (Q$12*1000*1000/(((O$242+P$242+O$243+P$243)/Denscalc($K147))*1000*  $K147 * Data!$B$6)) ), 0    )","v":0},124,null,null,{"$f":"IF(AND($A147<>\"\",(S147+T147)>0),    IF(T$13=\"Nm3\",(U$12*1000*1000/((S$242+T$242+S$243+T$243)*1000*  $K147 * Data!$B$6)),  (U$12*1000*1000/(((S$242+T$242+S$243+T$243)/Denscalc($K147))*1000*  $K147 * Data!$B$6)) ), 0     )","v":0},124,null,null,{"$f":"IF(AND($A147<>\"\",(W147+X147)>0),     IF(X$13=\"Nm3\",(Y$12*1000*1000/((W$242+X$242+W$243+X$243)*1000*  $K147 * Data!$B$6)),  (Y$12*1000*1000/(((W$242+X$242+W$243+X$243)/Denscalc($K147))*1000*  $K147 * Data!$B$6)) ), 0   )","v":0},124,null,null,{"$f":"IF(AND($A147<>\"\",(AA147+AB147)>0),     IF(AB$13=\"Nm3\",(AC$12*1000*1000/((AA$242+AB$242+AA$243+AB$243)*1000*  $K147 * Data!$B$6)),  (AC$12*1000*1000/(((AA$242+AB$242+AA$243+AB$243)/Denscalc($K147))*1000*  $K147 * Data!$B$6)) ), 0     )","v":0},124,null,null,{"$f":"IF(AND($A147<>\"\",(AE147+AF147)>0),     IF(AF$13=\"Nm3\",(AG$12*1000*1000/((AE$242+AF$242+AE$243+AF$243)*1000*  $K147 * Data!$B$6)),  (AG$12*1000*1000/(((AE$242+AF$242+AE$243+AF$243)/Denscalc($K147))*1000*  $K147 * Data!$B$6)) ), 0    )","v":0},124,null,null,{"$f":"IF(AND($A147<>\"\",(AI147+AJ147)>0),    IF(AJ$13=\"Nm3\",(AK$12*1000*1000/((AI$242+AJ$242+AI$243+AJ$243)*1000*  $K147 * Data!$B$6)),  (AK$12*1000*1000/(((AI$242+AJ$242+AI$243+AJ$243)/Denscalc($K147))*1000*  $K147 * Data!$B$6)) ), 0    )","v":0},124,null,null,{"$f":"IF(AND($A147<>\"\",(AM147+AN147)>0),     IF(AN$13=\"Nm3\",(AO$12*1000*1000/((AM$242+AN$242+AM$243+AN$243)*1000*  $K147 * Data!$B$6)),  (AO$12*1000*1000/(((AM$242+AN$242+AM$243+AN$243)/Denscalc($K147))*1000*  $K147 * Data!$B$6)) ), 0    )","v":0},124,null,null,{"$f":"IF(AND($A147<>\"\",(AQ147+AR147)>0),     IF(AR$13=\"Nm3\",(AS$12*1000*1000/((AQ$242+AR$242+AQ$243+AR$243)*1000*  $K147 * Data!$B$6)),  (AS$12*1000*1000/(((AQ$242+AR$242+AQ$243+AR$243)/Denscalc($K147))*1000*  $K147 * Data!$B$6)) ), 0     )","v":0},124,null,null,{"$f":"IF(AND($A147<>\"\",(AU147+AV147)>0),     IF(AV$13=\"Nm3\",(AW$12*1000*1000/((AU$242+AV$242+AU$243+AV$243)*1000*  $K147 * Data!$B$6)),  (AW$12*1000*1000/(((AU$242+AV$242+AU$243+AV$243)/Denscalc($K147))*1000*  $K147 * Data!$B$6)) ), 0   )","v":0},124,null,null,{"$f":"IF(AND(BA$11>0,$A147<>\"\",(AY147+AZ147)>0), BA$11, IF(AND($A147<>\"\",(AY147+AZ147)>0),\nIF(AZ$13=\"Nm3\",(BA$6*1000*1000/((AY$242+AZ$242+AY$243+AZ$243)*1000*$K147*Data!$B$6))+((BA$12-BA$6)*1000*1000/((AY$242+AZ$242+AY$243+AZ$243-AY$241-AZ$241)*1000*$K147*Data!$B$6)),\n(BA$6*1000*1000/(((AY$242+AZ$242+AY$243+AZ$243)/Denscalc($K147))*1000*$K147*Data!$B$6))+((BA$12-BA$6)*1000*1000/(((AY$242+AZ$242+AY$243+AZ$243-AY$241-AZ$241)/Denscalc($K147))*1000*$K147*Data!$B$6))),0))","v":0},124,null,null,{"$f":"IF(AND(BE$11>0,$A147<>\"\",(BC147+BD147)>0), BE$11, IF(AND($A147<>\"\",(BC147+BD147)>0),\n (BE$6*1000*1000/((BC$244+BD$244)*1000* Data!$B$7))+ ((BE$12-BE$6)*1000*1000/((BC$244+BD$244-BC$241-BD$241)*1000* Data!$B$7)),0))","v":0},124,{"$f":"IF(A147<>\"\", (Data!$B$127*1000*Data!$B$3)/Data!$B$7,  \"\")","v":""},"","",{"$f":"IF(A147<>\"\",  ROUND( (Data!$B$8-BI147)/Data!$B$8,3),   \"\")","v":""},"","","","",{"$f":"IF(A147<>\"\",  IF(TYPE(BN147)=1, ROUND( (Data!$B$8-BN147)/Data!$B$8,3),   \"\"),\"\")","v":""},"",124,"","","",null,""]
[null,125,null,null,"",null,null,null,null,null,null,null,null,null,null,null,{"$f":"IF(AND($A148<>\"\",(O148+P148)>0),    IF(P$13=\"Nm3\",(Q$12*1000*1000/((O$242+P$242+O$243+P$243)*1000*  $K148 * Data!$B$6)),  (Q$12*1000*1000/(((O$242+P$242+O$243+P$243)/Denscalc($K148))*1000*  $K148 * Data!$B$6)) ), 0    )","v":0},125,null,null,{"$f":"IF(AND($A148<>\"\",(S148+T148)>0),    IF(T$13=\"Nm3\",(U$12*1000*1000/((S$242+T$242+S$243+T$243)*1000*  $K148 * Data!$B$6)),  (U$12*1000*1000/(((S$242+T$242+S$243+T$243)/Denscalc($K148))*1000*  $K148 * Data!$B$6)) ), 0     )","v":0},125,null,null,{"$f":"IF(AND($A148<>\"\",(W148+X148)>0),     IF(X$13=\"Nm3\",(Y$12*1000*1000/((W$242+X$242+W$243+X$243)*1000*  $K148 * Data!$B$6)),  (Y$12*1000*1000/(((W$242+X$242+W$243+X$243)/Denscalc($K148))*1000*  $K148 * Data!$B$6)) ), 0   )","v":0},125,null,null,{"$f":"IF(AND($A148<>\"\",(AA148+AB148)>0),     IF(AB$13=\"Nm3\",(AC$12*1000*1000/((AA$242+AB$242+AA$243+AB$243)*1000*  $K148 * Data!$B$6)),  (AC$12*1000*1000/(((AA$242+AB$242+AA$243+AB$243)/Denscalc($K148))*1000*  $K148 * Data!$B$6)) ), 0     )","v":0},125,null,null,{"$f":"IF(AND($A148<>\"\",(AE148+AF148)>0),     IF(AF$13=\"Nm3\",(AG$12*1000*1000/((AE$242+AF$242+AE$243+AF$243)*1000*  $K148 * Data!$B$6)),  (AG$12*1000*1000/(((AE$242+AF$242+AE$243+AF$243)/Denscalc($K148))*1000*  $K148 * Data!$B$6)) ), 0    )","v":0},125,null,null,{"$f":"IF(AND($A148<>\"\",(AI148+AJ148)>0),    IF(AJ$13=\"Nm3\",(AK$12*1000*1000/((AI$242+AJ$242+AI$243+AJ$243)*1000*  $K148 * Data!$B$6)),  (AK$12*1000*1000/(((AI$242+AJ$242+AI$243+AJ$243)/Denscalc($K148))*1000*  $K148 * Data!$B$6)) ), 0    )","v":0},125,null,null,{"$f":"IF(AND($A148<>\"\",(AM148+AN148)>0),     IF(AN$13=\"Nm3\",(AO$12*1000*1000/((AM$242+AN$242+AM$243+AN$243)*1000*  $K148 * Data!$B$6)),  (AO$12*1000*1000/(((AM$242+AN$242+AM$243+AN$243)/Denscalc($K148))*1000*  $K148 * Data!$B$6)) ), 0    )","v":0},125,null,null,{"$f":"IF(AND($A148<>\"\",(AQ148+AR148)>0),     IF(AR$13=\"Nm3\",(AS$12*1000*1000/((AQ$242+AR$242+AQ$243+AR$243)*1000*  $K148 * Data!$B$6)),  (AS$12*1000*1000/(((AQ$242+AR$242+AQ$243+AR$243)/Denscalc($K148))*1000*  $K148 * Data!$B$6)) ), 0     )","v":0},125,null,null,{"$f":"IF(AND($A148<>\"\",(AU148+AV148)>0),     IF(AV$13=\"Nm3\",(AW$12*1000*1000/((AU$242+AV$242+AU$243+AV$243)*1000*  $K148 * Data!$B$6)),  (AW$12*1000*1000/(((AU$242+AV$242+AU$243+AV$243)/Denscalc($K148))*1000*  $K148 * Data!$B$6)) ), 0   )","v":0},125,null,null,{"$f":"IF(AND(BA$11>0,$A148<>\"\",(AY148+AZ148)>0), BA$11, IF(AND($A148<>\"\",(AY148+AZ148)>0),\nIF(AZ$13=\"Nm3\",(BA$6*1000*1000/((AY$242+AZ$242+AY$243+AZ$243)*1000*$K148*Data!$B$6))+((BA$12-BA$6)*1000*1000/((AY$242+AZ$242+AY$243+AZ$243-AY$241-AZ$241)*1000*$K148*Data!$B$6)),\n(BA$6*1000*1000/(((AY$242+AZ$242+AY$243+AZ$243)/Denscalc($K148))*1000*$K148*Data!$B$6))+((BA$12-BA$6)*1000*1000/(((AY$242+AZ$242+AY$243+AZ$243-AY$241-AZ$241)/Denscalc($K148))*1000*$K148*Data!$B$6))),0))","v":0},125,null,null,{"$f":"IF(AND(BE$11>0,$A148<>\"\",(BC148+BD148)>0), BE$11, IF(AND($A148<>\"\",(BC148+BD148)>0),\n (BE$6*1000*1000/((BC$244+BD$244)*1000* Data!$B$7))+ ((BE$12-BE$6)*1000*1000/((BC$244+BD$244-BC$241-BD$241)*1000* Data!$B$7)),0))","v":0},125,{"$f":"IF(A148<>\"\", (Data!$B$127*1000*Data!$B$3)/Data!$B$7,  \"\")","v":""},{"$f":"IF(A148<>\"\",   IF(I148=\"Gas\",\nIF((BK148+BL148)=0, Q148+BG148, ( (( U148*(S148+T148) + Y148*(W148+X148) + AC148*(AA148+AB148) + AG148*(AE148+AF148) + AK148*(AI148+AJ148) + AO148*(AM148+AN148) + AS148*(AQ148+AR148) + AW148*(AU148+AV148)  )) /\n( S148+T148+W148+X148+AA148+AB148+AE148+AF148+AI148+AJ148+AM148+AN148+AQ148+AR148+AU148+AV148)+Q148+BG148)),\nBA148+BG148 ),  \"\")","v":""},{"$f":"IF(A148<>\"\",   (L148+BH148), \"\")","v":""},{"$f":"IF(A148<>\"\",  ROUND( (Data!$B$8-BI148)/Data!$B$8,3),   \"\")","v":""},{"$f":"IF(A148<>\"\", SUM( IF(T$13=\"Nm3\",S148,0),  IF(X$13=\"Nm3\",W148,0),  IF(AB$13=\"Nm3\",AA148,0),  IF(AF$13=\"Nm3\",AE148,0), IF(AJ$13=\"Nm3\",AI148,0),  IF(AN$13=\"Nm3\",AM148,0),  IF(AR$13=\"Nm3\",AQ148,0),  IF(AV$13=\"Nm3\",AU148,0), IF(AZ$13=\"Nm3\",AY148,0),  ),\"\")","v":""},{"$f":"IF(A148<>\"\", SUM(  IF(T$13=\"kg\",S148,0),  IF(X$13=\"kg\",W148,0),  IF(AB$13=\"kg\",AA148,0),  IF(AF$13=\"kg\",AE148,0), IF(AJ$13=\"kg\",AI148,0),  IF(AN$13=\"kg\",AM148,0),  IF(AR$13=\"kg\",AQ148,0),  IF(AV$13=\"kg\",AU148,0), IF(AZ$13=\"kg\",AY148,0),  ),\"\")","v":""},{"$f":"IF(A148<>\"\",   IF(I148=\"Flytande\", BE148+BG148, \"\"    ), \"\")","v":""},{"$f":"IF(A148<>\"\", IF(I148=\"Flytande\",    (L148+BM148), \"\"), \"\")","v":""},{"$f":"IF(A148<>\"\",  IF(TYPE(BN148)=1, ROUND( (Data!$B$8-BN148)/Data!$B$8,3),   \"\"),\"\")","v":""},{"$f":"IF(A148<>\"\",BC148,\"\")","v":""},125,{"$f":"IF(A148<>\"\", SUM(IF(P$13=\"Nm3\",P148,0),  IF(T$13=\"Nm3\",T148,0),  IF(X$13=\"Nm3\",X148,0),  IF(AB$13=\"Nm3\",AB148,0),  IF(AF$13=\"Nm3\",AF148,0), IF(AJ$13=\"Nm3\",AJ148,0),  IF(AN$13=\"Nm3\",AN148,0),  IF(AR$13=\"Nm3\",AR148,0),  IF(AV$13=\"Nm3\",AV148,0), IF(AZ$13=\"Nm3\",AZ148,0),  ),\"\")","v":""},{"$f":"IF(A148<>\"\", SUM(IF(P$13=\"kg\",P148,0),  IF(T$13=\"kg\",T148,0),  IF(X$13=\"kg\",X148,0),  IF(AB$13=\"kg\",AB148,0),  IF(AF$13=\"kg\",AF148,0), IF(AJ$13=\"kg\",AJ148,0),  IF(AN$13=\"kg\",AN148,0),  IF(AR$13=\"kg\",AR148,0),  IF(AV$13=\"kg\",AV148,0), IF(AZ$13=\"kg\",AZ148,0),  ),\"\")","v":""},{"$f":"IF(A148<>\"\",BD148,\"\")","v":""},null,{"$f":"IF(A148<>\"\",    IF(I148=\"Gas\", IF(J148=\"kg\", ((BK148*Denscalc(K148) +BL148+BR148*Denscalc(K148)+BS148)-H148), ( (BK148+BL148/Denscalc(K148) + BR148+BS148/Denscalc(K148))-H148)), ( (   BK148*Denscalc(K148)+BL148+BP148+BR148*Denscalc(K148)+BS148+BT148)-H148)  ), \"\")","v":""}]
[null,126,null,null,"",null,null,null,null,null,null,null,null,null,null,null,{"$f":"IF(AND($A149<>\"\",(O149+P149)>0),    IF(P$13=\"Nm3\",(Q$12*1000*1000/((O$242+P$242+O$243+P$243)*1000*  $K149 * Data!$B$6)),  (Q$12*1000*1000/(((O$242+P$242+O$243+P$243)/Denscalc($K149))*1000*  $K149 * Data!$B$6)) ), 0    )","v":0},126,null,null,{"$f":"IF(AND($A149<>\"\",(S149+T149)>0),    IF(T$13=\"Nm3\",(U$12*1000*1000/((S$242+T$242+S$243+T$243)*1000*  $K149 * Data!$B$6)),  (U$12*1000*1000/(((S$242+T$242+S$243+T$243)/Denscalc($K149))*1000*  $K149 * Data!$B$6)) ), 0     )","v":0},126,null,null,{"$f":"IF(AND($A149<>\"\",(W149+X149)>0),     IF(X$13=\"Nm3\",(Y$12*1000*1000/((W$242+X$242+W$243+X$243)*1000*  $K149 * Data!$B$6)),  (Y$12*1000*1000/(((W$242+X$242+W$243+X$243)/Denscalc($K149))*1000*  $K149 * Data!$B$6)) ), 0   )","v":0},126,null,null,{"$f":"IF(AND($A149<>\"\",(AA149+AB149)>0),     IF(AB$13=\"Nm3\",(AC$12*1000*1000/((AA$242+AB$242+AA$243+AB$243)*1000*  $K149 * Data!$B$6)),  (AC$12*1000*1000/(((AA$242+AB$242+AA$243+AB$243)/Denscalc($K149))*1000*  $K149 * Data!$B$6)) ), 0     )","v":0},126,null,null,{"$f":"IF(AND($A149<>\"\",(AE149+AF149)>0),     IF(AF$13=\"Nm3\",(AG$12*1000*1000/((AE$242+AF$242+AE$243+AF$243)*1000*  $K149 * Data!$B$6)),  (AG$12*1000*1000/(((AE$242+AF$242+AE$243+AF$243)/Denscalc($K149))*1000*  $K149 * Data!$B$6)) ), 0    )","v":0},126,null,null,{"$f":"IF(AND($A149<>\"\",(AI149+AJ149)>0),    IF(AJ$13=\"Nm3\",(AK$12*1000*1000/((AI$242+AJ$242+AI$243+AJ$243)*1000*  $K149 * Data!$B$6)),  (AK$12*1000*1000/(((AI$242+AJ$242+AI$243+AJ$243)/Denscalc($K149))*1000*  $K149 * Data!$B$6)) ), 0    )","v":0},126,null,null,{"$f":"IF(AND($A149<>\"\",(AM149+AN149)>0),     IF(AN$13=\"Nm3\",(AO$12*1000*1000/((AM$242+AN$242+AM$243+AN$243)*1000*  $K149 * Data!$B$6)),  (AO$12*1000*1000/(((AM$242+AN$242+AM$243+AN$243)/Denscalc($K149))*1000*  $K149 * Data!$B$6)) ), 0    )","v":0},126,null,null,{"$f":"IF(AND($A149<>\"\",(AQ149+AR149)>0),     IF(AR$13=\"Nm3\",(AS$12*1000*1000/((AQ$242+AR$242+AQ$243+AR$243)*1000*  $K149 * Data!$B$6)),  (AS$12*1000*1000/(((AQ$242+AR$242+AQ$243+AR$243)/Denscalc($K149))*1000*  $K149 * Data!$B$6)) ), 0     )","v":0},126,null,null,{"$f":"IF(AND($A149<>\"\",(AU149+AV149)>0),     IF(AV$13=\"Nm3\",(AW$12*1000*1000/((AU$242+AV$242+AU$243+AV$243)*1000*  $K149 * Data!$B$6)),  (AW$12*1000*1000/(((AU$242+AV$242+AU$243+AV$243)/Denscalc($K149))*1000*  $K149 * Data!$B$6)) ), 0   )","v":0},126,null,null,{"$f":"IF(AND(BA$11>0,$A149<>\"\",(AY149+AZ149)>0), BA$11, IF(AND($A149<>\"\",(AY149+AZ149)>0),\nIF(AZ$13=\"Nm3\",(BA$6*1000*1000/((AY$242+AZ$242+AY$243+AZ$243)*1000*$K149*Data!$B$6))+((BA$12-BA$6)*1000*1000/((AY$242+AZ$242+AY$243+AZ$243-AY$241-AZ$241)*1000*$K149*Data!$B$6)),\n(BA$6*1000*1000/(((AY$242+AZ$242+AY$243+AZ$243)/Denscalc($K149))*1000*$K149*Data!$B$6))+((BA$12-BA$6)*1000*1000/(((AY$242+AZ$242+AY$243+AZ$243-AY$241-AZ$241)/Denscalc($K149))*1000*$K149*Data!$B$6))),0))","v":0},126,null,null,{"$f":"IF(AND(BE$11>0,$A149<>\"\",(BC149+BD149)>0), BE$11, IF(AND($A149<>\"\",(BC149+BD149)>0),\n (BE$6*1000*1000/((BC$244+BD$244)*1000* Data!$B$7))+ ((BE$12-BE$6)*1000*1000/((BC$244+BD$244-BC$241-BD$241)*1000* Data!$B$7)),0))","v":0},126,{"$f":"IF(A149<>\"\", (Data!$B$127*1000*Data!$B$3)/Data!$B$7,  \"\")","v":""},"","",{"$f":"IF(A149<>\"\",  ROUND( (Data!$B$8-BI149)/Data!$B$8,3),   \"\")","v":""},"","","","",{"$f":"IF(A149<>\"\",  IF(TYPE(BN149)=1, ROUND( (Data!$B$8-BN149)/Data!$B$8,3),   \"\"),\"\")","v":""},"",126,"","","",null,""]
[null,127,null,null,"",null,null,null,null,null,null,null,null,null,null,null,{"$f":"IF(AND($A150<>\"\",(O150+P150)>0),    IF(P$13=\"Nm3\",(Q$12*1000*1000/((O$242+P$242+O$243+P$243)*1000*  $K150 * Data!$B$6)),  (Q$12*1000*1000/(((O$242+P$242+O$243+P$243)/Denscalc($K150))*1000*  $K150 * Data!$B$6)) ), 0    )","v":0},127,null,null,{"$f":"IF(AND($A150<>\"\",(S150+T150)>0),    IF(T$13=\"Nm3\",(U$12*1000*1000/((S$242+T$242+S$243+T$243)*1000*  $K150 * Data!$B$6)),  (U$12*1000*1000/(((S$242+T$242+S$243+T$243)/Denscalc($K150))*1000*  $K150 * Data!$B$6)) ), 0     )","v":0},127,null,null,{"$f":"IF(AND($A150<>\"\",(W150+X150)>0),     IF(X$13=\"Nm3\",(Y$12*1000*1000/((W$242+X$242+W$243+X$243)*1000*  $K150 * Data!$B$6)),  (Y$12*1000*1000/(((W$242+X$242+W$243+X$243)/Denscalc($K150))*1000*  $K150 * Data!$B$6)) ), 0   )","v":0},127,null,null,{"$f":"IF(AND($A150<>\"\",(AA150+AB150)>0),     IF(AB$13=\"Nm3\",(AC$12*1000*1000/((AA$242+AB$242+AA$243+AB$243)*1000*  $K150 * Data!$B$6)),  (AC$12*1000*1000/(((AA$242+AB$242+AA$243+AB$243)/Denscalc($K150))*1000*  $K150 * Data!$B$6)) ), 0     )","v":0},127,null,null,{"$f":"IF(AND($A150<>\"\",(AE150+AF150)>0),     IF(AF$13=\"Nm3\",(AG$12*1000*1000/((AE$242+AF$242+AE$243+AF$243)*1000*  $K150 * Data!$B$6)),  (AG$12*1000*1000/(((AE$242+AF$242+AE$243+AF$243)/Denscalc($K150))*1000*  $K150 * Data!$B$6)) ), 0    )","v":0},127,null,null,{"$f":"IF(AND($A150<>\"\",(AI150+AJ150)>0),    IF(AJ$13=\"Nm3\",(AK$12*1000*1000/((AI$242+AJ$242+AI$243+AJ$243)*1000*  $K150 * Data!$B$6)),  (AK$12*1000*1000/(((AI$242+AJ$242+AI$243+AJ$243)/Denscalc($K150))*1000*  $K150 * Data!$B$6)) ), 0    )","v":0},127,null,null,{"$f":"IF(AND($A150<>\"\",(AM150+AN150)>0),     IF(AN$13=\"Nm3\",(AO$12*1000*1000/((AM$242+AN$242+AM$243+AN$243)*1000*  $K150 * Data!$B$6)),  (AO$12*1000*1000/(((AM$242+AN$242+AM$243+AN$243)/Denscalc($K150))*1000*  $K150 * Data!$B$6)) ), 0    )","v":0},127,null,null,{"$f":"IF(AND($A150<>\"\",(AQ150+AR150)>0),     IF(AR$13=\"Nm3\",(AS$12*1000*1000/((AQ$242+AR$242+AQ$243+AR$243)*1000*  $K150 * Data!$B$6)),  (AS$12*1000*1000/(((AQ$242+AR$242+AQ$243+AR$243)/Denscalc($K150))*1000*  $K150 * Data!$B$6)) ), 0     )","v":0},127,null,null,{"$f":"IF(AND($A150<>\"\",(AU150+AV150)>0),     IF(AV$13=\"Nm3\",(AW$12*1000*1000/((AU$242+AV$242+AU$243+AV$243)*1000*  $K150 * Data!$B$6)),  (AW$12*1000*1000/(((AU$242+AV$242+AU$243+AV$243)/Denscalc($K150))*1000*  $K150 * Data!$B$6)) ), 0   )","v":0},127,null,null,{"$f":"IF(AND(BA$11>0,$A150<>\"\",(AY150+AZ150)>0), BA$11, IF(AND($A150<>\"\",(AY150+AZ150)>0),\nIF(AZ$13=\"Nm3\",(BA$6*1000*1000/((AY$242+AZ$242+AY$243+AZ$243)*1000*$K150*Data!$B$6))+((BA$12-BA$6)*1000*1000/((AY$242+AZ$242+AY$243+AZ$243-AY$241-AZ$241)*1000*$K150*Data!$B$6)),\n(BA$6*1000*1000/(((AY$242+AZ$242+AY$243+AZ$243)/Denscalc($K150))*1000*$K150*Data!$B$6))+((BA$12-BA$6)*1000*1000/(((AY$242+AZ$242+AY$243+AZ$243-AY$241-AZ$241)/Denscalc($K150))*1000*$K150*Data!$B$6))),0))","v":0},127,null,null,{"$f":"IF(AND(BE$11>0,$A150<>\"\",(BC150+BD150)>0), BE$11, IF(AND($A150<>\"\",(BC150+BD150)>0),\n (BE$6*1000*1000/((BC$244+BD$244)*1000* Data!$B$7))+ ((BE$12-BE$6)*1000*1000/((BC$244+BD$244-BC$241-BD$241)*1000* Data!$B$7)),0))","v":0},127,{"$f":"IF(A150<>\"\", (Data!$B$127*1000*Data!$B$3)/Data!$B$7,  \"\")","v":""},"","",{"$f":"IF(A150<>\"\",  ROUND( (Data!$B$8-BI150)/Data!$B$8,3),   \"\")","v":""},"","","","",{"$f":"IF(A150<>\"\",  IF(TYPE(BN150)=1, ROUND( (Data!$B$8-BN150)/Data!$B$8,3),   \"\"),\"\")","v":""},"",127,"","","",null,""]
[null,128,null,null,"",null,null,null,null,null,null,null,null,null,null,null,{"$f":"IF(AND($A151<>\"\",(O151+P151)>0),    IF(P$13=\"Nm3\",(Q$12*1000*1000/((O$242+P$242+O$243+P$243)*1000*  $K151 * Data!$B$6)),  (Q$12*1000*1000/(((O$242+P$242+O$243+P$243)/Denscalc($K151))*1000*  $K151 * Data!$B$6)) ), 0    )","v":0},128,null,null,{"$f":"IF(AND($A151<>\"\",(S151+T151)>0),    IF(T$13=\"Nm3\",(U$12*1000*1000/((S$242+T$242+S$243+T$243)*1000*  $K151 * Data!$B$6)),  (U$12*1000*1000/(((S$242+T$242+S$243+T$243)/Denscalc($K151))*1000*  $K151 * Data!$B$6)) ), 0     )","v":0},128,null,null,{"$f":"IF(AND($A151<>\"\",(W151+X151)>0),     IF(X$13=\"Nm3\",(Y$12*1000*1000/((W$242+X$242+W$243+X$243)*1000*  $K151 * Data!$B$6)),  (Y$12*1000*1000/(((W$242+X$242+W$243+X$243)/Denscalc($K151))*1000*  $K151 * Data!$B$6)) ), 0   )","v":0},128,null,null,{"$f":"IF(AND($A151<>\"\",(AA151+AB151)>0),     IF(AB$13=\"Nm3\",(AC$12*1000*1000/((AA$242+AB$242+AA$243+AB$243)*1000*  $K151 * Data!$B$6)),  (AC$12*1000*1000/(((AA$242+AB$242+AA$243+AB$243)/Denscalc($K151))*1000*  $K151 * Data!$B$6)) ), 0     )","v":0},128,null,null,{"$f":"IF(AND($A151<>\"\",(AE151+AF151)>0),     IF(AF$13=\"Nm3\",(AG$12*1000*1000/((AE$242+AF$242+AE$243+AF$243)*1000*  $K151 * Data!$B$6)),  (AG$12*1000*1000/(((AE$242+AF$242+AE$243+AF$243)/Denscalc($K151))*1000*  $K151 * Data!$B$6)) ), 0    )","v":0},128,null,null,{"$f":"IF(AND($A151<>\"\",(AI151+AJ151)>0),    IF(AJ$13=\"Nm3\",(AK$12*1000*1000/((AI$242+AJ$242+AI$243+AJ$243)*1000*  $K151 * Data!$B$6)),  (AK$12*1000*1000/(((AI$242+AJ$242+AI$243+AJ$243)/Denscalc($K151))*1000*  $K151 * Data!$B$6)) ), 0    )","v":0},128,null,null,{"$f":"IF(AND($A151<>\"\",(AM151+AN151)>0),     IF(AN$13=\"Nm3\",(AO$12*1000*1000/((AM$242+AN$242+AM$243+AN$243)*1000*  $K151 * Data!$B$6)),  (AO$12*1000*1000/(((AM$242+AN$242+AM$243+AN$243)/Denscalc($K151))*1000*  $K151 * Data!$B$6)) ), 0    )","v":0},128,null,null,{"$f":"IF(AND($A151<>\"\",(AQ151+AR151)>0),     IF(AR$13=\"Nm3\",(AS$12*1000*1000/((AQ$242+AR$242+AQ$243+AR$243)*1000*  $K151 * Data!$B$6)),  (AS$12*1000*1000/(((AQ$242+AR$242+AQ$243+AR$243)/Denscalc($K151))*1000*  $K151 * Data!$B$6)) ), 0     )","v":0},128,null,null,{"$f":"IF(AND($A151<>\"\",(AU151+AV151)>0),     IF(AV$13=\"Nm3\",(AW$12*1000*1000/((AU$242+AV$242+AU$243+AV$243)*1000*  $K151 * Data!$B$6)),  (AW$12*1000*1000/(((AU$242+AV$242+AU$243+AV$243)/Denscalc($K151))*1000*  $K151 * Data!$B$6)) ), 0   )","v":0},128,null,null,{"$f":"IF(AND(BA$11>0,$A151<>\"\",(AY151+AZ151)>0), BA$11, IF(AND($A151<>\"\",(AY151+AZ151)>0),\nIF(AZ$13=\"Nm3\",(BA$6*1000*1000/((AY$242+AZ$242+AY$243+AZ$243)*1000*$K151*Data!$B$6))+((BA$12-BA$6)*1000*1000/((AY$242+AZ$242+AY$243+AZ$243-AY$241-AZ$241)*1000*$K151*Data!$B$6)),\n(BA$6*1000*1000/(((AY$242+AZ$242+AY$243+AZ$243)/Denscalc($K151))*1000*$K151*Data!$B$6))+((BA$12-BA$6)*1000*1000/(((AY$242+AZ$242+AY$243+AZ$243-AY$241-AZ$241)/Denscalc($K151))*1000*$K151*Data!$B$6))),0))","v":0},128,null,null,{"$f":"IF(AND(BE$11>0,$A151<>\"\",(BC151+BD151)>0), BE$11, IF(AND($A151<>\"\",(BC151+BD151)>0),\n (BE$6*1000*1000/((BC$244+BD$244)*1000* Data!$B$7))+ ((BE$12-BE$6)*1000*1000/((BC$244+BD$244-BC$241-BD$241)*1000* Data!$B$7)),0))","v":0},128,{"$f":"IF(A151<>\"\", (Data!$B$127*1000*Data!$B$3)/Data!$B$7,  \"\")","v":""},"","",{"$f":"IF(A151<>\"\",  ROUND( (Data!$B$8-BI151)/Data!$B$8,3),   \"\")","v":""},"","","","",{"$f":"IF(A151<>\"\",  IF(TYPE(BN151)=1, ROUND( (Data!$B$8-BN151)/Data!$B$8,3),   \"\"),\"\")","v":""},"",128,"","","",null,""]
[null,129,null,null,"",null,null,null,null,null,null,null,null,null,null,null,{"$f":"IF(AND($A152<>\"\",(O152+P152)>0),    IF(P$13=\"Nm3\",(Q$12*1000*1000/((O$242+P$242+O$243+P$243)*1000*  $K152 * Data!$B$6)),  (Q$12*1000*1000/(((O$242+P$242+O$243+P$243)/Denscalc($K152))*1000*  $K152 * Data!$B$6)) ), 0    )","v":0},129,null,null,{"$f":"IF(AND($A152<>\"\",(S152+T152)>0),    IF(T$13=\"Nm3\",(U$12*1000*1000/((S$242+T$242+S$243+T$243)*1000*  $K152 * Data!$B$6)),  (U$12*1000*1000/(((S$242+T$242+S$243+T$243)/Denscalc($K152))*1000*  $K152 * Data!$B$6)) ), 0     )","v":0},129,null,null,{"$f":"IF(AND($A152<>\"\",(W152+X152)>0),     IF(X$13=\"Nm3\",(Y$12*1000*1000/((W$242+X$242+W$243+X$243)*1000*  $K152 * Data!$B$6)),  (Y$12*1000*1000/(((W$242+X$242+W$243+X$243)/Denscalc($K152))*1000*  $K152 * Data!$B$6)) ), 0   )","v":0},129,null,null,{"$f":"IF(AND($A152<>\"\",(AA152+AB152)>0),     IF(AB$13=\"Nm3\",(AC$12*1000*1000/((AA$242+AB$242+AA$243+AB$243)*1000*  $K152 * Data!$B$6)),  (AC$12*1000*1000/(((AA$242+AB$242+AA$243+AB$243)/Denscalc($K152))*1000*  $K152 * Data!$B$6)) ), 0     )","v":0},129,null,null,{"$f":"IF(AND($A152<>\"\",(AE152+AF152)>0),     IF(AF$13=\"Nm3\",(AG$12*1000*1000/((AE$242+AF$242+AE$243+AF$243)*1000*  $K152 * Data!$B$6)),  (AG$12*1000*1000/(((AE$242+AF$242+AE$243+AF$243)/Denscalc($K152))*1000*  $K152 * Data!$B$6)) ), 0    )","v":0},129,null,null,{"$f":"IF(AND($A152<>\"\",(AI152+AJ152)>0),    IF(AJ$13=\"Nm3\",(AK$12*1000*1000/((AI$242+AJ$242+AI$243+AJ$243)*1000*  $K152 * Data!$B$6)),  (AK$12*1000*1000/(((AI$242+AJ$242+AI$243+AJ$243)/Denscalc($K152))*1000*  $K152 * Data!$B$6)) ), 0    )","v":0},129,null,null,{"$f":"IF(AND($A152<>\"\",(AM152+AN152)>0),     IF(AN$13=\"Nm3\",(AO$12*1000*1000/((AM$242+AN$242+AM$243+AN$243)*1000*  $K152 * Data!$B$6)),  (AO$12*1000*1000/(((AM$242+AN$242+AM$243+AN$243)/Denscalc($K152))*1000*  $K152 * Data!$B$6)) ), 0    )","v":0},129,null,null,{"$f":"IF(AND($A152<>\"\",(AQ152+AR152)>0),     IF(AR$13=\"Nm3\",(AS$12*1000*1000/((AQ$242+AR$242+AQ$243+AR$243)*1000*  $K152 * Data!$B$6)),  (AS$12*1000*1000/(((AQ$242+AR$242+AQ$243+AR$243)/Denscalc($K152))*1000*  $K152 * Data!$B$6)) ), 0     )","v":0},129,null,null,{"$f":"IF(AND($A152<>\"\",(AU152+AV152)>0),     IF(AV$13=\"Nm3\",(AW$12*1000*1000/((AU$242+AV$242+AU$243+AV$243)*1000*  $K152 * Data!$B$6)),  (AW$12*1000*1000/(((AU$242+AV$242+AU$243+AV$243)/Denscalc($K152))*1000*  $K152 * Data!$B$6)) ), 0   )","v":0},129,null,null,{"$f":"IF(AND(BA$11>0,$A152<>\"\",(AY152+AZ152)>0), BA$11, IF(AND($A152<>\"\",(AY152+AZ152)>0),\nIF(AZ$13=\"Nm3\",(BA$6*1000*1000/((AY$242+AZ$242+AY$243+AZ$243)*1000*$K152*Data!$B$6))+((BA$12-BA$6)*1000*1000/((AY$242+AZ$242+AY$243+AZ$243-AY$241-AZ$241)*1000*$K152*Data!$B$6)),\n(BA$6*1000*1000/(((AY$242+AZ$242+AY$243+AZ$243)/Denscalc($K152))*1000*$K152*Data!$B$6))+((BA$12-BA$6)*1000*1000/(((AY$242+AZ$242+AY$243+AZ$243-AY$241-AZ$241)/Denscalc($K152))*1000*$K152*Data!$B$6))),0))","v":0},129,null,null,{"$f":"IF(AND(BE$11>0,$A152<>\"\",(BC152+BD152)>0), BE$11, IF(AND($A152<>\"\",(BC152+BD152)>0),\n (BE$6*1000*1000/((BC$244+BD$244)*1000* Data!$B$7))+ ((BE$12-BE$6)*1000*1000/((BC$244+BD$244-BC$241-BD$241)*1000* Data!$B$7)),0))","v":0},129,{"$f":"IF(A152<>\"\", (Data!$B$127*1000*Data!$B$3)/Data!$B$7,  \"\")","v":""},"","",{"$f":"IF(A152<>\"\",  ROUND( (Data!$B$8-BI152)/Data!$B$8,3),   \"\")","v":""},"","","","",{"$f":"IF(A152<>\"\",  IF(TYPE(BN152)=1, ROUND( (Data!$B$8-BN152)/Data!$B$8,3),   \"\"),\"\")","v":""},"",129,"","","",null,""]
[null,130,null,null,"",null,null,null,null,null,null,null,null,null,null,null,{"$f":"IF(AND($A153<>\"\",(O153+P153)>0),    IF(P$13=\"Nm3\",(Q$12*1000*1000/((O$242+P$242+O$243+P$243)*1000*  $K153 * Data!$B$6)),  (Q$12*1000*1000/(((O$242+P$242+O$243+P$243)/Denscalc($K153))*1000*  $K153 * Data!$B$6)) ), 0    )","v":0},130,null,null,{"$f":"IF(AND($A153<>\"\",(S153+T153)>0),    IF(T$13=\"Nm3\",(U$12*1000*1000/((S$242+T$242+S$243+T$243)*1000*  $K153 * Data!$B$6)),  (U$12*1000*1000/(((S$242+T$242+S$243+T$243)/Denscalc($K153))*1000*  $K153 * Data!$B$6)) ), 0     )","v":0},130,null,null,{"$f":"IF(AND($A153<>\"\",(W153+X153)>0),     IF(X$13=\"Nm3\",(Y$12*1000*1000/((W$242+X$242+W$243+X$243)*1000*  $K153 * Data!$B$6)),  (Y$12*1000*1000/(((W$242+X$242+W$243+X$243)/Denscalc($K153))*1000*  $K153 * Data!$B$6)) ), 0   )","v":0},130,null,null,{"$f":"IF(AND($A153<>\"\",(AA153+AB153)>0),     IF(AB$13=\"Nm3\",(AC$12*1000*1000/((AA$242+AB$242+AA$243+AB$243)*1000*  $K153 * Data!$B$6)),  (AC$12*1000*1000/(((AA$242+AB$242+AA$243+AB$243)/Denscalc($K153))*1000*  $K153 * Data!$B$6)) ), 0     )","v":0},130,null,null,{"$f":"IF(AND($A153<>\"\",(AE153+AF153)>0),     IF(AF$13=\"Nm3\",(AG$12*1000*1000/((AE$242+AF$242+AE$243+AF$243)*1000*  $K153 * Data!$B$6)),  (AG$12*1000*1000/(((AE$242+AF$242+AE$243+AF$243)/Denscalc($K153))*1000*  $K153 * Data!$B$6)) ), 0    )","v":0},130,null,null,{"$f":"IF(AND($A153<>\"\",(AI153+AJ153)>0),    IF(AJ$13=\"Nm3\",(AK$12*1000*1000/((AI$242+AJ$242+AI$243+AJ$243)*1000*  $K153 * Data!$B$6)),  (AK$12*1000*1000/(((AI$242+AJ$242+AI$243+AJ$243)/Denscalc($K153))*1000*  $K153 * Data!$B$6)) ), 0    )","v":0},130,null,null,{"$f":"IF(AND($A153<>\"\",(AM153+AN153)>0),     IF(AN$13=\"Nm3\",(AO$12*1000*1000/((AM$242+AN$242+AM$243+AN$243)*1000*  $K153 * Data!$B$6)),  (AO$12*1000*1000/(((AM$242+AN$242+AM$243+AN$243)/Denscalc($K153))*1000*  $K153 * Data!$B$6)) ), 0    )","v":0},130,null,null,{"$f":"IF(AND($A153<>\"\",(AQ153+AR153)>0),     IF(AR$13=\"Nm3\",(AS$12*1000*1000/((AQ$242+AR$242+AQ$243+AR$243)*1000*  $K153 * Data!$B$6)),  (AS$12*1000*1000/(((AQ$242+AR$242+AQ$243+AR$243)/Denscalc($K153))*1000*  $K153 * Data!$B$6)) ), 0     )","v":0},130,null,null,{"$f":"IF(AND($A153<>\"\",(AU153+AV153)>0),     IF(AV$13=\"Nm3\",(AW$12*1000*1000/((AU$242+AV$242+AU$243+AV$243)*1000*  $K153 * Data!$B$6)),  (AW$12*1000*1000/(((AU$242+AV$242+AU$243+AV$243)/Denscalc($K153))*1000*  $K153 * Data!$B$6)) ), 0   )","v":0},130,null,null,{"$f":"IF(AND(BA$11>0,$A153<>\"\",(AY153+AZ153)>0), BA$11, IF(AND($A153<>\"\",(AY153+AZ153)>0),\nIF(AZ$13=\"Nm3\",(BA$6*1000*1000/((AY$242+AZ$242+AY$243+AZ$243)*1000*$K153*Data!$B$6))+((BA$12-BA$6)*1000*1000/((AY$242+AZ$242+AY$243+AZ$243-AY$241-AZ$241)*1000*$K153*Data!$B$6)),\n(BA$6*1000*1000/(((AY$242+AZ$242+AY$243+AZ$243)/Denscalc($K153))*1000*$K153*Data!$B$6))+((BA$12-BA$6)*1000*1000/(((AY$242+AZ$242+AY$243+AZ$243-AY$241-AZ$241)/Denscalc($K153))*1000*$K153*Data!$B$6))),0))","v":0},130,null,null,{"$f":"IF(AND(BE$11>0,$A153<>\"\",(BC153+BD153)>0), BE$11, IF(AND($A153<>\"\",(BC153+BD153)>0),\n (BE$6*1000*1000/((BC$244+BD$244)*1000* Data!$B$7))+ ((BE$12-BE$6)*1000*1000/((BC$244+BD$244-BC$241-BD$241)*1000* Data!$B$7)),0))","v":0},130,{"$f":"IF(A153<>\"\", (Data!$B$127*1000*Data!$B$3)/Data!$B$7,  \"\")","v":""},"","",{"$f":"IF(A153<>\"\",  ROUND( (Data!$B$8-BI153)/Data!$B$8,3),   \"\")","v":""},"","","","",{"$f":"IF(A153<>\"\",  IF(TYPE(BN153)=1, ROUND( (Data!$B$8-BN153)/Data!$B$8,3),   \"\"),\"\")","v":""},"",130,"","","",null,""]
[null,131,null,null,"",null,null,null,null,null,null,null,null,null,null,null,{"$f":"IF(AND($A154<>\"\",(O154+P154)>0),    IF(P$13=\"Nm3\",(Q$12*1000*1000/((O$242+P$242+O$243+P$243)*1000*  $K154 * Data!$B$6)),  (Q$12*1000*1000/(((O$242+P$242+O$243+P$243)/Denscalc($K154))*1000*  $K154 * Data!$B$6)) ), 0    )","v":0},131,null,null,{"$f":"IF(AND($A154<>\"\",(S154+T154)>0),    IF(T$13=\"Nm3\",(U$12*1000*1000/((S$242+T$242+S$243+T$243)*1000*  $K154 * Data!$B$6)),  (U$12*1000*1000/(((S$242+T$242+S$243+T$243)/Denscalc($K154))*1000*  $K154 * Data!$B$6)) ), 0     )","v":0},131,null,null,{"$f":"IF(AND($A154<>\"\",(W154+X154)>0),     IF(X$13=\"Nm3\",(Y$12*1000*1000/((W$242+X$242+W$243+X$243)*1000*  $K154 * Data!$B$6)),  (Y$12*1000*1000/(((W$242+X$242+W$243+X$243)/Denscalc($K154))*1000*  $K154 * Data!$B$6)) ), 0   )","v":0},131,null,null,{"$f":"IF(AND($A154<>\"\",(AA154+AB154)>0),     IF(AB$13=\"Nm3\",(AC$12*1000*1000/((AA$242+AB$242+AA$243+AB$243)*1000*  $K154 * Data!$B$6)),  (AC$12*1000*1000/(((AA$242+AB$242+AA$243+AB$243)/Denscalc($K154))*1000*  $K154 * Data!$B$6)) ), 0     )","v":0},131,null,null,{"$f":"IF(AND($A154<>\"\",(AE154+AF154)>0),     IF(AF$13=\"Nm3\",(AG$12*1000*1000/((AE$242+AF$242+AE$243+AF$243)*1000*  $K154 * Data!$B$6)),  (AG$12*1000*1000/(((AE$242+AF$242+AE$243+AF$243)/Denscalc($K154))*1000*  $K154 * Data!$B$6)) ), 0    )","v":0},131,null,null,{"$f":"IF(AND($A154<>\"\",(AI154+AJ154)>0),    IF(AJ$13=\"Nm3\",(AK$12*1000*1000/((AI$242+AJ$242+AI$243+AJ$243)*1000*  $K154 * Data!$B$6)),  (AK$12*1000*1000/(((AI$242+AJ$242+AI$243+AJ$243)/Denscalc($K154))*1000*  $K154 * Data!$B$6)) ), 0    )","v":0},131,null,null,{"$f":"IF(AND($A154<>\"\",(AM154+AN154)>0),     IF(AN$13=\"Nm3\",(AO$12*1000*1000/((AM$242+AN$242+AM$243+AN$243)*1000*  $K154 * Data!$B$6)),  (AO$12*1000*1000/(((AM$242+AN$242+AM$243+AN$243)/Denscalc($K154))*1000*  $K154 * Data!$B$6)) ), 0    )","v":0},131,null,null,{"$f":"IF(AND($A154<>\"\",(AQ154+AR154)>0),     IF(AR$13=\"Nm3\",(AS$12*1000*1000/((AQ$242+AR$242+AQ$243+AR$243)*1000*  $K154 * Data!$B$6)),  (AS$12*1000*1000/(((AQ$242+AR$242+AQ$243+AR$243)/Denscalc($K154))*1000*  $K154 * Data!$B$6)) ), 0     )","v":0},131,null,null,{"$f":"IF(AND($A154<>\"\",(AU154+AV154)>0),     IF(AV$13=\"Nm3\",(AW$12*1000*1000/((AU$242+AV$242+AU$243+AV$243)*1000*  $K154 * Data!$B$6)),  (AW$12*1000*1000/(((AU$242+AV$242+AU$243+AV$243)/Denscalc($K154))*1000*  $K154 * Data!$B$6)) ), 0   )","v":0},131,null,null,{"$f":"IF(AND(BA$11>0,$A154<>\"\",(AY154+AZ154)>0), BA$11, IF(AND($A154<>\"\",(AY154+AZ154)>0),\nIF(AZ$13=\"Nm3\",(BA$6*1000*1000/((AY$242+AZ$242+AY$243+AZ$243)*1000*$K154*Data!$B$6))+((BA$12-BA$6)*1000*1000/((AY$242+AZ$242+AY$243+AZ$243-AY$241-AZ$241)*1000*$K154*Data!$B$6)),\n(BA$6*1000*1000/(((AY$242+AZ$242+AY$243+AZ$243)/Denscalc($K154))*1000*$K154*Data!$B$6))+((BA$12-BA$6)*1000*1000/(((AY$242+AZ$242+AY$243+AZ$243-AY$241-AZ$241)/Denscalc($K154))*1000*$K154*Data!$B$6))),0))","v":0},131,null,null,{"$f":"IF(AND(BE$11>0,$A154<>\"\",(BC154+BD154)>0), BE$11, IF(AND($A154<>\"\",(BC154+BD154)>0),\n (BE$6*1000*1000/((BC$244+BD$244)*1000* Data!$B$7))+ ((BE$12-BE$6)*1000*1000/((BC$244+BD$244-BC$241-BD$241)*1000* Data!$B$7)),0))","v":0},131,{"$f":"IF(A154<>\"\", (Data!$B$127*1000*Data!$B$3)/Data!$B$7,  \"\")","v":""},"","",{"$f":"IF(A154<>\"\",  ROUND( (Data!$B$8-BI154)/Data!$B$8,3),   \"\")","v":""},"","","","",{"$f":"IF(A154<>\"\",  IF(TYPE(BN154)=1, ROUND( (Data!$B$8-BN154)/Data!$B$8,3),   \"\"),\"\")","v":""},"",131,"","","",null,""]
[null,132,null,null,"",null,null,null,null,null,null,null,null,null,null,null,{"$f":"IF(AND($A155<>\"\",(O155+P155)>0),    IF(P$13=\"Nm3\",(Q$12*1000*1000/((O$242+P$242+O$243+P$243)*1000*  $K155 * Data!$B$6)),  (Q$12*1000*1000/(((O$242+P$242+O$243+P$243)/Denscalc($K155))*1000*  $K155 * Data!$B$6)) ), 0    )","v":0},132,null,null,{"$f":"IF(AND($A155<>\"\",(S155+T155)>0),    IF(T$13=\"Nm3\",(U$12*1000*1000/((S$242+T$242+S$243+T$243)*1000*  $K155 * Data!$B$6)),  (U$12*1000*1000/(((S$242+T$242+S$243+T$243)/Denscalc($K155))*1000*  $K155 * Data!$B$6)) ), 0     )","v":0},132,null,null,{"$f":"IF(AND($A155<>\"\",(W155+X155)>0),     IF(X$13=\"Nm3\",(Y$12*1000*1000/((W$242+X$242+W$243+X$243)*1000*  $K155 * Data!$B$6)),  (Y$12*1000*1000/(((W$242+X$242+W$243+X$243)/Denscalc($K155))*1000*  $K155 * Data!$B$6)) ), 0   )","v":0},132,null,null,{"$f":"IF(AND($A155<>\"\",(AA155+AB155)>0),     IF(AB$13=\"Nm3\",(AC$12*1000*1000/((AA$242+AB$242+AA$243+AB$243)*1000*  $K155 * Data!$B$6)),  (AC$12*1000*1000/(((AA$242+AB$242+AA$243+AB$243)/Denscalc($K155))*1000*  $K155 * Data!$B$6)) ), 0     )","v":0},132,null,null,{"$f":"IF(AND($A155<>\"\",(AE155+AF155)>0),     IF(AF$13=\"Nm3\",(AG$12*1000*1000/((AE$242+AF$242+AE$243+AF$243)*1000*  $K155 * Data!$B$6)),  (AG$12*1000*1000/(((AE$242+AF$242+AE$243+AF$243)/Denscalc($K155))*1000*  $K155 * Data!$B$6)) ), 0    )","v":0},132,null,null,{"$f":"IF(AND($A155<>\"\",(AI155+AJ155)>0),    IF(AJ$13=\"Nm3\",(AK$12*1000*1000/((AI$242+AJ$242+AI$243+AJ$243)*1000*  $K155 * Data!$B$6)),  (AK$12*1000*1000/(((AI$242+AJ$242+AI$243+AJ$243)/Denscalc($K155))*1000*  $K155 * Data!$B$6)) ), 0    )","v":0},132,null,null,{"$f":"IF(AND($A155<>\"\",(AM155+AN155)>0),     IF(AN$13=\"Nm3\",(AO$12*1000*1000/((AM$242+AN$242+AM$243+AN$243)*1000*  $K155 * Data!$B$6)),  (AO$12*1000*1000/(((AM$242+AN$242+AM$243+AN$243)/Denscalc($K155))*1000*  $K155 * Data!$B$6)) ), 0    )","v":0},132,null,null,{"$f":"IF(AND($A155<>\"\",(AQ155+AR155)>0),     IF(AR$13=\"Nm3\",(AS$12*1000*1000/((AQ$242+AR$242+AQ$243+AR$243)*1000*  $K155 * Data!$B$6)),  (AS$12*1000*1000/(((AQ$242+AR$242+AQ$243+AR$243)/Denscalc($K155))*1000*  $K155 * Data!$B$6)) ), 0     )","v":0},132,null,null,{"$f":"IF(AND($A155<>\"\",(AU155+AV155)>0),     IF(AV$13=\"Nm3\",(AW$12*1000*1000/((AU$242+AV$242+AU$243+AV$243)*1000*  $K155 * Data!$B$6)),  (AW$12*1000*1000/(((AU$242+AV$242+AU$243+AV$243)/Denscalc($K155))*1000*  $K155 * Data!$B$6)) ), 0   )","v":0},132,null,null,{"$f":"IF(AND(BA$11>0,$A155<>\"\",(AY155+AZ155)>0), BA$11, IF(AND($A155<>\"\",(AY155+AZ155)>0),\nIF(AZ$13=\"Nm3\",(BA$6*1000*1000/((AY$242+AZ$242+AY$243+AZ$243)*1000*$K155*Data!$B$6))+((BA$12-BA$6)*1000*1000/((AY$242+AZ$242+AY$243+AZ$243-AY$241-AZ$241)*1000*$K155*Data!$B$6)),\n(BA$6*1000*1000/(((AY$242+AZ$242+AY$243+AZ$243)/Denscalc($K155))*1000*$K155*Data!$B$6))+((BA$12-BA$6)*1000*1000/(((AY$242+AZ$242+AY$243+AZ$243-AY$241-AZ$241)/Denscalc($K155))*1000*$K155*Data!$B$6))),0))","v":0},132,null,null,{"$f":"IF(AND(BE$11>0,$A155<>\"\",(BC155+BD155)>0), BE$11, IF(AND($A155<>\"\",(BC155+BD155)>0),\n (BE$6*1000*1000/((BC$244+BD$244)*1000* Data!$B$7))+ ((BE$12-BE$6)*1000*1000/((BC$244+BD$244-BC$241-BD$241)*1000* Data!$B$7)),0))","v":0},132,{"$f":"IF(A155<>\"\", (Data!$B$127*1000*Data!$B$3)/Data!$B$7,  \"\")","v":""},"","",{"$f":"IF(A155<>\"\",  ROUND( (Data!$B$8-BI155)/Data!$B$8,3),   \"\")","v":""},"","","","",{"$f":"IF(A155<>\"\",  IF(TYPE(BN155)=1, ROUND( (Data!$B$8-BN155)/Data!$B$8,3),   \"\"),\"\")","v":""},"",132,"","","",null,""]
[null,133,null,null,"",null,null,null,null,null,null,null,null,null,null,null,{"$f":"IF(AND($A156<>\"\",(O156+P156)>0),    IF(P$13=\"Nm3\",(Q$12*1000*1000/((O$242+P$242+O$243+P$243)*1000*  $K156 * Data!$B$6)),  (Q$12*1000*1000/(((O$242+P$242+O$243+P$243)/Denscalc($K156))*1000*  $K156 * Data!$B$6)) ), 0    )","v":0},133,null,null,{"$f":"IF(AND($A156<>\"\",(S156+T156)>0),    IF(T$13=\"Nm3\",(U$12*1000*1000/((S$242+T$242+S$243+T$243)*1000*  $K156 * Data!$B$6)),  (U$12*1000*1000/(((S$242+T$242+S$243+T$243)/Denscalc($K156))*1000*  $K156 * Data!$B$6)) ), 0     )","v":0},133,null,null,{"$f":"IF(AND($A156<>\"\",(W156+X156)>0),     IF(X$13=\"Nm3\",(Y$12*1000*1000/((W$242+X$242+W$243+X$243)*1000*  $K156 * Data!$B$6)),  (Y$12*1000*1000/(((W$242+X$242+W$243+X$243)/Denscalc($K156))*1000*  $K156 * Data!$B$6)) ), 0   )","v":0},133,null,null,{"$f":"IF(AND($A156<>\"\",(AA156+AB156)>0),     IF(AB$13=\"Nm3\",(AC$12*1000*1000/((AA$242+AB$242+AA$243+AB$243)*1000*  $K156 * Data!$B$6)),  (AC$12*1000*1000/(((AA$242+AB$242+AA$243+AB$243)/Denscalc($K156))*1000*  $K156 * Data!$B$6)) ), 0     )","v":0},133,null,null,{"$f":"IF(AND($A156<>\"\",(AE156+AF156)>0),     IF(AF$13=\"Nm3\",(AG$12*1000*1000/((AE$242+AF$242+AE$243+AF$243)*1000*  $K156 * Data!$B$6)),  (AG$12*1000*1000/(((AE$242+AF$242+AE$243+AF$243)/Denscalc($K156))*1000*  $K156 * Data!$B$6)) ), 0    )","v":0},133,null,null,{"$f":"IF(AND($A156<>\"\",(AI156+AJ156)>0),    IF(AJ$13=\"Nm3\",(AK$12*1000*1000/((AI$242+AJ$242+AI$243+AJ$243)*1000*  $K156 * Data!$B$6)),  (AK$12*1000*1000/(((AI$242+AJ$242+AI$243+AJ$243)/Denscalc($K156))*1000*  $K156 * Data!$B$6)) ), 0    )","v":0},133,null,null,{"$f":"IF(AND($A156<>\"\",(AM156+AN156)>0),     IF(AN$13=\"Nm3\",(AO$12*1000*1000/((AM$242+AN$242+AM$243+AN$243)*1000*  $K156 * Data!$B$6)),  (AO$12*1000*1000/(((AM$242+AN$242+AM$243+AN$243)/Denscalc($K156))*1000*  $K156 * Data!$B$6)) ), 0    )","v":0},133,null,null,{"$f":"IF(AND($A156<>\"\",(AQ156+AR156)>0),     IF(AR$13=\"Nm3\",(AS$12*1000*1000/((AQ$242+AR$242+AQ$243+AR$243)*1000*  $K156 * Data!$B$6)),  (AS$12*1000*1000/(((AQ$242+AR$242+AQ$243+AR$243)/Denscalc($K156))*1000*  $K156 * Data!$B$6)) ), 0     )","v":0},133,null,null,{"$f":"IF(AND($A156<>\"\",(AU156+AV156)>0),     IF(AV$13=\"Nm3\",(AW$12*1000*1000/((AU$242+AV$242+AU$243+AV$243)*1000*  $K156 * Data!$B$6)),  (AW$12*1000*1000/(((AU$242+AV$242+AU$243+AV$243)/Denscalc($K156))*1000*  $K156 * Data!$B$6)) ), 0   )","v":0},133,null,null,{"$f":"IF(AND(BA$11>0,$A156<>\"\",(AY156+AZ156)>0), BA$11, IF(AND($A156<>\"\",(AY156+AZ156)>0),\nIF(AZ$13=\"Nm3\",(BA$6*1000*1000/((AY$242+AZ$242+AY$243+AZ$243)*1000*$K156*Data!$B$6))+((BA$12-BA$6)*1000*1000/((AY$242+AZ$242+AY$243+AZ$243-AY$241-AZ$241)*1000*$K156*Data!$B$6)),\n(BA$6*1000*1000/(((AY$242+AZ$242+AY$243+AZ$243)/Denscalc($K156))*1000*$K156*Data!$B$6))+((BA$12-BA$6)*1000*1000/(((AY$242+AZ$242+AY$243+AZ$243-AY$241-AZ$241)/Denscalc($K156))*1000*$K156*Data!$B$6))),0))","v":0},133,null,null,{"$f":"IF(AND(BE$11>0,$A156<>\"\",(BC156+BD156)>0), BE$11, IF(AND($A156<>\"\",(BC156+BD156)>0),\n (BE$6*1000*1000/((BC$244+BD$244)*1000* Data!$B$7))+ ((BE$12-BE$6)*1000*1000/((BC$244+BD$244-BC$241-BD$241)*1000* Data!$B$7)),0))","v":0},133,{"$f":"IF(A156<>\"\", (Data!$B$127*1000*Data!$B$3)/Data!$B$7,  \"\")","v":""},"","",{"$f":"IF(A156<>\"\",  ROUND( (Data!$B$8-BI156)/Data!$B$8,3),   \"\")","v":""},"","","","",{"$f":"IF(A156<>\"\",  IF(TYPE(BN156)=1, ROUND( (Data!$B$8-BN156)/Data!$B$8,3),   \"\"),\"\")","v":""},"",133,"","","",null,""]
[null,134,null,null,"",null,null,null,null,null,null,null,null,null,null,null,{"$f":"IF(AND($A157<>\"\",(O157+P157)>0),    IF(P$13=\"Nm3\",(Q$12*1000*1000/((O$242+P$242+O$243+P$243)*1000*  $K157 * Data!$B$6)),  (Q$12*1000*1000/(((O$242+P$242+O$243+P$243)/Denscalc($K157))*1000*  $K157 * Data!$B$6)) ), 0    )","v":0},134,null,null,{"$f":"IF(AND($A157<>\"\",(S157+T157)>0),    IF(T$13=\"Nm3\",(U$12*1000*1000/((S$242+T$242+S$243+T$243)*1000*  $K157 * Data!$B$6)),  (U$12*1000*1000/(((S$242+T$242+S$243+T$243)/Denscalc($K157))*1000*  $K157 * Data!$B$6)) ), 0     )","v":0},134,null,null,{"$f":"IF(AND($A157<>\"\",(W157+X157)>0),     IF(X$13=\"Nm3\",(Y$12*1000*1000/((W$242+X$242+W$243+X$243)*1000*  $K157 * Data!$B$6)),  (Y$12*1000*1000/(((W$242+X$242+W$243+X$243)/Denscalc($K157))*1000*  $K157 * Data!$B$6)) ), 0   )","v":0},134,null,null,{"$f":"IF(AND($A157<>\"\",(AA157+AB157)>0),     IF(AB$13=\"Nm3\",(AC$12*1000*1000/((AA$242+AB$242+AA$243+AB$243)*1000*  $K157 * Data!$B$6)),  (AC$12*1000*1000/(((AA$242+AB$242+AA$243+AB$243)/Denscalc($K157))*1000*  $K157 * Data!$B$6)) ), 0     )","v":0},134,null,null,{"$f":"IF(AND($A157<>\"\",(AE157+AF157)>0),     IF(AF$13=\"Nm3\",(AG$12*1000*1000/((AE$242+AF$242+AE$243+AF$243)*1000*  $K157 * Data!$B$6)),  (AG$12*1000*1000/(((AE$242+AF$242+AE$243+AF$243)/Denscalc($K157))*1000*  $K157 * Data!$B$6)) ), 0    )","v":0},134,null,null,{"$f":"IF(AND($A157<>\"\",(AI157+AJ157)>0),    IF(AJ$13=\"Nm3\",(AK$12*1000*1000/((AI$242+AJ$242+AI$243+AJ$243)*1000*  $K157 * Data!$B$6)),  (AK$12*1000*1000/(((AI$242+AJ$242+AI$243+AJ$243)/Denscalc($K157))*1000*  $K157 * Data!$B$6)) ), 0    )","v":0},134,null,null,{"$f":"IF(AND($A157<>\"\",(AM157+AN157)>0),     IF(AN$13=\"Nm3\",(AO$12*1000*1000/((AM$242+AN$242+AM$243+AN$243)*1000*  $K157 * Data!$B$6)),  (AO$12*1000*1000/(((AM$242+AN$242+AM$243+AN$243)/Denscalc($K157))*1000*  $K157 * Data!$B$6)) ), 0    )","v":0},134,null,null,{"$f":"IF(AND($A157<>\"\",(AQ157+AR157)>0),     IF(AR$13=\"Nm3\",(AS$12*1000*1000/((AQ$242+AR$242+AQ$243+AR$243)*1000*  $K157 * Data!$B$6)),  (AS$12*1000*1000/(((AQ$242+AR$242+AQ$243+AR$243)/Denscalc($K157))*1000*  $K157 * Data!$B$6)) ), 0     )","v":0},134,null,null,{"$f":"IF(AND($A157<>\"\",(AU157+AV157)>0),     IF(AV$13=\"Nm3\",(AW$12*1000*1000/((AU$242+AV$242+AU$243+AV$243)*1000*  $K157 * Data!$B$6)),  (AW$12*1000*1000/(((AU$242+AV$242+AU$243+AV$243)/Denscalc($K157))*1000*  $K157 * Data!$B$6)) ), 0   )","v":0},134,null,null,{"$f":"IF(AND(BA$11>0,$A157<>\"\",(AY157+AZ157)>0), BA$11, IF(AND($A157<>\"\",(AY157+AZ157)>0),\nIF(AZ$13=\"Nm3\",(BA$6*1000*1000/((AY$242+AZ$242+AY$243+AZ$243)*1000*$K157*Data!$B$6))+((BA$12-BA$6)*1000*1000/((AY$242+AZ$242+AY$243+AZ$243-AY$241-AZ$241)*1000*$K157*Data!$B$6)),\n(BA$6*1000*1000/(((AY$242+AZ$242+AY$243+AZ$243)/Denscalc($K157))*1000*$K157*Data!$B$6))+((BA$12-BA$6)*1000*1000/(((AY$242+AZ$242+AY$243+AZ$243-AY$241-AZ$241)/Denscalc($K157))*1000*$K157*Data!$B$6))),0))","v":0},134,null,null,{"$f":"IF(AND(BE$11>0,$A157<>\"\",(BC157+BD157)>0), BE$11, IF(AND($A157<>\"\",(BC157+BD157)>0),\n (BE$6*1000*1000/((BC$244+BD$244)*1000* Data!$B$7))+ ((BE$12-BE$6)*1000*1000/((BC$244+BD$244-BC$241-BD$241)*1000* Data!$B$7)),0))","v":0},134,{"$f":"IF(A157<>\"\", (Data!$B$127*1000*Data!$B$3)/Data!$B$7,  \"\")","v":""},"","",{"$f":"IF(A157<>\"\",  ROUND( (Data!$B$8-BI157)/Data!$B$8,3),   \"\")","v":""},"","","","",{"$f":"IF(A157<>\"\",  IF(TYPE(BN157)=1, ROUND( (Data!$B$8-BN157)/Data!$B$8,3),   \"\"),\"\")","v":""},"",134,"","","",null,""]
[null,135,null,null,"",null,null,null,null,null,null,null,null,null,null,null,{"$f":"IF(AND($A158<>\"\",(O158+P158)>0),    IF(P$13=\"Nm3\",(Q$12*1000*1000/((O$242+P$242+O$243+P$243)*1000*  $K158 * Data!$B$6)),  (Q$12*1000*1000/(((O$242+P$242+O$243+P$243)/Denscalc($K158))*1000*  $K158 * Data!$B$6)) ), 0    )","v":0},135,null,null,{"$f":"IF(AND($A158<>\"\",(S158+T158)>0),    IF(T$13=\"Nm3\",(U$12*1000*1000/((S$242+T$242+S$243+T$243)*1000*  $K158 * Data!$B$6)),  (U$12*1000*1000/(((S$242+T$242+S$243+T$243)/Denscalc($K158))*1000*  $K158 * Data!$B$6)) ), 0     )","v":0},135,null,null,{"$f":"IF(AND($A158<>\"\",(W158+X158)>0),     IF(X$13=\"Nm3\",(Y$12*1000*1000/((W$242+X$242+W$243+X$243)*1000*  $K158 * Data!$B$6)),  (Y$12*1000*1000/(((W$242+X$242+W$243+X$243)/Denscalc($K158))*1000*  $K158 * Data!$B$6)) ), 0   )","v":0},135,null,null,{"$f":"IF(AND($A158<>\"\",(AA158+AB158)>0),     IF(AB$13=\"Nm3\",(AC$12*1000*1000/((AA$242+AB$242+AA$243+AB$243)*1000*  $K158 * Data!$B$6)),  (AC$12*1000*1000/(((AA$242+AB$242+AA$243+AB$243)/Denscalc($K158))*1000*  $K158 * Data!$B$6)) ), 0     )","v":0},135,null,null,{"$f":"IF(AND($A158<>\"\",(AE158+AF158)>0),     IF(AF$13=\"Nm3\",(AG$12*1000*1000/((AE$242+AF$242+AE$243+AF$243)*1000*  $K158 * Data!$B$6)),  (AG$12*1000*1000/(((AE$242+AF$242+AE$243+AF$243)/Denscalc($K158))*1000*  $K158 * Data!$B$6)) ), 0    )","v":0},135,null,null,{"$f":"IF(AND($A158<>\"\",(AI158+AJ158)>0),    IF(AJ$13=\"Nm3\",(AK$12*1000*1000/((AI$242+AJ$242+AI$243+AJ$243)*1000*  $K158 * Data!$B$6)),  (AK$12*1000*1000/(((AI$242+AJ$242+AI$243+AJ$243)/Denscalc($K158))*1000*  $K158 * Data!$B$6)) ), 0    )","v":0},135,null,null,{"$f":"IF(AND($A158<>\"\",(AM158+AN158)>0),     IF(AN$13=\"Nm3\",(AO$12*1000*1000/((AM$242+AN$242+AM$243+AN$243)*1000*  $K158 * Data!$B$6)),  (AO$12*1000*1000/(((AM$242+AN$242+AM$243+AN$243)/Denscalc($K158))*1000*  $K158 * Data!$B$6)) ), 0    )","v":0},135,null,null,{"$f":"IF(AND($A158<>\"\",(AQ158+AR158)>0),     IF(AR$13=\"Nm3\",(AS$12*1000*1000/((AQ$242+AR$242+AQ$243+AR$243)*1000*  $K158 * Data!$B$6)),  (AS$12*1000*1000/(((AQ$242+AR$242+AQ$243+AR$243)/Denscalc($K158))*1000*  $K158 * Data!$B$6)) ), 0     )","v":0},135,null,null,{"$f":"IF(AND($A158<>\"\",(AU158+AV158)>0),     IF(AV$13=\"Nm3\",(AW$12*1000*1000/((AU$242+AV$242+AU$243+AV$243)*1000*  $K158 * Data!$B$6)),  (AW$12*1000*1000/(((AU$242+AV$242+AU$243+AV$243)/Denscalc($K158))*1000*  $K158 * Data!$B$6)) ), 0   )","v":0},135,null,null,{"$f":"IF(AND(BA$11>0,$A158<>\"\",(AY158+AZ158)>0), BA$11, IF(AND($A158<>\"\",(AY158+AZ158)>0),\nIF(AZ$13=\"Nm3\",(BA$6*1000*1000/((AY$242+AZ$242+AY$243+AZ$243)*1000*$K158*Data!$B$6))+((BA$12-BA$6)*1000*1000/((AY$242+AZ$242+AY$243+AZ$243-AY$241-AZ$241)*1000*$K158*Data!$B$6)),\n(BA$6*1000*1000/(((AY$242+AZ$242+AY$243+AZ$243)/Denscalc($K158))*1000*$K158*Data!$B$6))+((BA$12-BA$6)*1000*1000/(((AY$242+AZ$242+AY$243+AZ$243-AY$241-AZ$241)/Denscalc($K158))*1000*$K158*Data!$B$6))),0))","v":0},135,null,null,{"$f":"IF(AND(BE$11>0,$A158<>\"\",(BC158+BD158)>0), BE$11, IF(AND($A158<>\"\",(BC158+BD158)>0),\n (BE$6*1000*1000/((BC$244+BD$244)*1000* Data!$B$7))+ ((BE$12-BE$6)*1000*1000/((BC$244+BD$244-BC$241-BD$241)*1000* Data!$B$7)),0))","v":0},135,{"$f":"IF(A158<>\"\", (Data!$B$127*1000*Data!$B$3)/Data!$B$7,  \"\")","v":""},"","",{"$f":"IF(A158<>\"\",  ROUND( (Data!$B$8-BI158)/Data!$B$8,3),   \"\")","v":""},"","","","",{"$f":"IF(A158<>\"\",  IF(TYPE(BN158)=1, ROUND( (Data!$B$8-BN158)/Data!$B$8,3),   \"\"),\"\")","v":""},"",135,"","","",null,""]
[null,136,null,null,"",null,null,null,null,null,null,null,null,null,null,null,{"$f":"IF(AND($A159<>\"\",(O159+P159)>0),    IF(P$13=\"Nm3\",(Q$12*1000*1000/((O$242+P$242+O$243+P$243)*1000*  $K159 * Data!$B$6)),  (Q$12*1000*1000/(((O$242+P$242+O$243+P$243)/Denscalc($K159))*1000*  $K159 * Data!$B$6)) ), 0    )","v":0},136,null,null,{"$f":"IF(AND($A159<>\"\",(S159+T159)>0),    IF(T$13=\"Nm3\",(U$12*1000*1000/((S$242+T$242+S$243+T$243)*1000*  $K159 * Data!$B$6)),  (U$12*1000*1000/(((S$242+T$242+S$243+T$243)/Denscalc($K159))*1000*  $K159 * Data!$B$6)) ), 0     )","v":0},136,null,null,{"$f":"IF(AND($A159<>\"\",(W159+X159)>0),     IF(X$13=\"Nm3\",(Y$12*1000*1000/((W$242+X$242+W$243+X$243)*1000*  $K159 * Data!$B$6)),  (Y$12*1000*1000/(((W$242+X$242+W$243+X$243)/Denscalc($K159))*1000*  $K159 * Data!$B$6)) ), 0   )","v":0},136,null,null,{"$f":"IF(AND($A159<>\"\",(AA159+AB159)>0),     IF(AB$13=\"Nm3\",(AC$12*1000*1000/((AA$242+AB$242+AA$243+AB$243)*1000*  $K159 * Data!$B$6)),  (AC$12*1000*1000/(((AA$242+AB$242+AA$243+AB$243)/Denscalc($K159))*1000*  $K159 * Data!$B$6)) ), 0     )","v":0},136,null,null,{"$f":"IF(AND($A159<>\"\",(AE159+AF159)>0),     IF(AF$13=\"Nm3\",(AG$12*1000*1000/((AE$242+AF$242+AE$243+AF$243)*1000*  $K159 * Data!$B$6)),  (AG$12*1000*1000/(((AE$242+AF$242+AE$243+AF$243)/Denscalc($K159))*1000*  $K159 * Data!$B$6)) ), 0    )","v":0},136,null,null,{"$f":"IF(AND($A159<>\"\",(AI159+AJ159)>0),    IF(AJ$13=\"Nm3\",(AK$12*1000*1000/((AI$242+AJ$242+AI$243+AJ$243)*1000*  $K159 * Data!$B$6)),  (AK$12*1000*1000/(((AI$242+AJ$242+AI$243+AJ$243)/Denscalc($K159))*1000*  $K159 * Data!$B$6)) ), 0    )","v":0},136,null,null,{"$f":"IF(AND($A159<>\"\",(AM159+AN159)>0),     IF(AN$13=\"Nm3\",(AO$12*1000*1000/((AM$242+AN$242+AM$243+AN$243)*1000*  $K159 * Data!$B$6)),  (AO$12*1000*1000/(((AM$242+AN$242+AM$243+AN$243)/Denscalc($K159))*1000*  $K159 * Data!$B$6)) ), 0    )","v":0},136,null,null,{"$f":"IF(AND($A159<>\"\",(AQ159+AR159)>0),     IF(AR$13=\"Nm3\",(AS$12*1000*1000/((AQ$242+AR$242+AQ$243+AR$243)*1000*  $K159 * Data!$B$6)),  (AS$12*1000*1000/(((AQ$242+AR$242+AQ$243+AR$243)/Denscalc($K159))*1000*  $K159 * Data!$B$6)) ), 0     )","v":0},136,null,null,{"$f":"IF(AND($A159<>\"\",(AU159+AV159)>0),     IF(AV$13=\"Nm3\",(AW$12*1000*1000/((AU$242+AV$242+AU$243+AV$243)*1000*  $K159 * Data!$B$6)),  (AW$12*1000*1000/(((AU$242+AV$242+AU$243+AV$243)/Denscalc($K159))*1000*  $K159 * Data!$B$6)) ), 0   )","v":0},136,null,null,{"$f":"IF(AND(BA$11>0,$A159<>\"\",(AY159+AZ159)>0), BA$11, IF(AND($A159<>\"\",(AY159+AZ159)>0),\nIF(AZ$13=\"Nm3\",(BA$6*1000*1000/((AY$242+AZ$242+AY$243+AZ$243)*1000*$K159*Data!$B$6))+((BA$12-BA$6)*1000*1000/((AY$242+AZ$242+AY$243+AZ$243-AY$241-AZ$241)*1000*$K159*Data!$B$6)),\n(BA$6*1000*1000/(((AY$242+AZ$242+AY$243+AZ$243)/Denscalc($K159))*1000*$K159*Data!$B$6))+((BA$12-BA$6)*1000*1000/(((AY$242+AZ$242+AY$243+AZ$243-AY$241-AZ$241)/Denscalc($K159))*1000*$K159*Data!$B$6))),0))","v":0},136,null,null,{"$f":"IF(AND(BE$11>0,$A159<>\"\",(BC159+BD159)>0), BE$11, IF(AND($A159<>\"\",(BC159+BD159)>0),\n (BE$6*1000*1000/((BC$244+BD$244)*1000* Data!$B$7))+ ((BE$12-BE$6)*1000*1000/((BC$244+BD$244-BC$241-BD$241)*1000* Data!$B$7)),0))","v":0},136,{"$f":"IF(A159<>\"\", (Data!$B$127*1000*Data!$B$3)/Data!$B$7,  \"\")","v":""},"","",{"$f":"IF(A159<>\"\",  ROUND( (Data!$B$8-BI159)/Data!$B$8,3),   \"\")","v":""},"","","","",{"$f":"IF(A159<>\"\",  IF(TYPE(BN159)=1, ROUND( (Data!$B$8-BN159)/Data!$B$8,3),   \"\"),\"\")","v":""},"",136,"","","",null,""]
[null,137,null,null,"",null,null,null,null,null,null,null,null,null,null,null,{"$f":"IF(AND($A160<>\"\",(O160+P160)>0),    IF(P$13=\"Nm3\",(Q$12*1000*1000/((O$242+P$242+O$243+P$243)*1000*  $K160 * Data!$B$6)),  (Q$12*1000*1000/(((O$242+P$242+O$243+P$243)/Denscalc($K160))*1000*  $K160 * Data!$B$6)) ), 0    )","v":0},137,null,null,{"$f":"IF(AND($A160<>\"\",(S160+T160)>0),    IF(T$13=\"Nm3\",(U$12*1000*1000/((S$242+T$242+S$243+T$243)*1000*  $K160 * Data!$B$6)),  (U$12*1000*1000/(((S$242+T$242+S$243+T$243)/Denscalc($K160))*1000*  $K160 * Data!$B$6)) ), 0     )","v":0},137,null,null,{"$f":"IF(AND($A160<>\"\",(W160+X160)>0),     IF(X$13=\"Nm3\",(Y$12*1000*1000/((W$242+X$242+W$243+X$243)*1000*  $K160 * Data!$B$6)),  (Y$12*1000*1000/(((W$242+X$242+W$243+X$243)/Denscalc($K160))*1000*  $K160 * Data!$B$6)) ), 0   )","v":0},137,null,null,{"$f":"IF(AND($A160<>\"\",(AA160+AB160)>0),     IF(AB$13=\"Nm3\",(AC$12*1000*1000/((AA$242+AB$242+AA$243+AB$243)*1000*  $K160 * Data!$B$6)),  (AC$12*1000*1000/(((AA$242+AB$242+AA$243+AB$243)/Denscalc($K160))*1000*  $K160 * Data!$B$6)) ), 0     )","v":0},137,null,null,{"$f":"IF(AND($A160<>\"\",(AE160+AF160)>0),     IF(AF$13=\"Nm3\",(AG$12*1000*1000/((AE$242+AF$242+AE$243+AF$243)*1000*  $K160 * Data!$B$6)),  (AG$12*1000*1000/(((AE$242+AF$242+AE$243+AF$243)/Denscalc($K160))*1000*  $K160 * Data!$B$6)) ), 0    )","v":0},137,null,null,{"$f":"IF(AND($A160<>\"\",(AI160+AJ160)>0),    IF(AJ$13=\"Nm3\",(AK$12*1000*1000/((AI$242+AJ$242+AI$243+AJ$243)*1000*  $K160 * Data!$B$6)),  (AK$12*1000*1000/(((AI$242+AJ$242+AI$243+AJ$243)/Denscalc($K160))*1000*  $K160 * Data!$B$6)) ), 0    )","v":0},137,null,null,{"$f":"IF(AND($A160<>\"\",(AM160+AN160)>0),     IF(AN$13=\"Nm3\",(AO$12*1000*1000/((AM$242+AN$242+AM$243+AN$243)*1000*  $K160 * Data!$B$6)),  (AO$12*1000*1000/(((AM$242+AN$242+AM$243+AN$243)/Denscalc($K160))*1000*  $K160 * Data!$B$6)) ), 0    )","v":0},137,null,null,{"$f":"IF(AND($A160<>\"\",(AQ160+AR160)>0),     IF(AR$13=\"Nm3\",(AS$12*1000*1000/((AQ$242+AR$242+AQ$243+AR$243)*1000*  $K160 * Data!$B$6)),  (AS$12*1000*1000/(((AQ$242+AR$242+AQ$243+AR$243)/Denscalc($K160))*1000*  $K160 * Data!$B$6)) ), 0     )","v":0},137,null,null,{"$f":"IF(AND($A160<>\"\",(AU160+AV160)>0),     IF(AV$13=\"Nm3\",(AW$12*1000*1000/((AU$242+AV$242+AU$243+AV$243)*1000*  $K160 * Data!$B$6)),  (AW$12*1000*1000/(((AU$242+AV$242+AU$243+AV$243)/Denscalc($K160))*1000*  $K160 * Data!$B$6)) ), 0   )","v":0},137,null,null,{"$f":"IF(AND(BA$11>0,$A160<>\"\",(AY160+AZ160)>0), BA$11, IF(AND($A160<>\"\",(AY160+AZ160)>0),\nIF(AZ$13=\"Nm3\",(BA$6*1000*1000/((AY$242+AZ$242+AY$243+AZ$243)*1000*$K160*Data!$B$6))+((BA$12-BA$6)*1000*1000/((AY$242+AZ$242+AY$243+AZ$243-AY$241-AZ$241)*1000*$K160*Data!$B$6)),\n(BA$6*1000*1000/(((AY$242+AZ$242+AY$243+AZ$243)/Denscalc($K160))*1000*$K160*Data!$B$6))+((BA$12-BA$6)*1000*1000/(((AY$242+AZ$242+AY$243+AZ$243-AY$241-AZ$241)/Denscalc($K160))*1000*$K160*Data!$B$6))),0))","v":0},137,null,null,{"$f":"IF(AND(BE$11>0,$A160<>\"\",(BC160+BD160)>0), BE$11, IF(AND($A160<>\"\",(BC160+BD160)>0),\n (BE$6*1000*1000/((BC$244+BD$244)*1000* Data!$B$7))+ ((BE$12-BE$6)*1000*1000/((BC$244+BD$244-BC$241-BD$241)*1000* Data!$B$7)),0))","v":0},137,{"$f":"IF(A160<>\"\", (Data!$B$127*1000*Data!$B$3)/Data!$B$7,  \"\")","v":""},"","",{"$f":"IF(A160<>\"\",  ROUND( (Data!$B$8-BI160)/Data!$B$8,3),   \"\")","v":""},"","","","",{"$f":"IF(A160<>\"\",  IF(TYPE(BN160)=1, ROUND( (Data!$B$8-BN160)/Data!$B$8,3),   \"\"),\"\")","v":""},"",137,"","","",null,""]
[null,138,null,null,"",null,null,null,null,null,null,null,null,null,null,null,{"$f":"IF(AND($A161<>\"\",(O161+P161)>0),    IF(P$13=\"Nm3\",(Q$12*1000*1000/((O$242+P$242+O$243+P$243)*1000*  $K161 * Data!$B$6)),  (Q$12*1000*1000/(((O$242+P$242+O$243+P$243)/Denscalc($K161))*1000*  $K161 * Data!$B$6)) ), 0    )","v":0},138,null,null,{"$f":"IF(AND($A161<>\"\",(S161+T161)>0),    IF(T$13=\"Nm3\",(U$12*1000*1000/((S$242+T$242+S$243+T$243)*1000*  $K161 * Data!$B$6)),  (U$12*1000*1000/(((S$242+T$242+S$243+T$243)/Denscalc($K161))*1000*  $K161 * Data!$B$6)) ), 0     )","v":0},138,null,null,{"$f":"IF(AND($A161<>\"\",(W161+X161)>0),     IF(X$13=\"Nm3\",(Y$12*1000*1000/((W$242+X$242+W$243+X$243)*1000*  $K161 * Data!$B$6)),  (Y$12*1000*1000/(((W$242+X$242+W$243+X$243)/Denscalc($K161))*1000*  $K161 * Data!$B$6)) ), 0   )","v":0},138,null,null,{"$f":"IF(AND($A161<>\"\",(AA161+AB161)>0),     IF(AB$13=\"Nm3\",(AC$12*1000*1000/((AA$242+AB$242+AA$243+AB$243)*1000*  $K161 * Data!$B$6)),  (AC$12*1000*1000/(((AA$242+AB$242+AA$243+AB$243)/Denscalc($K161))*1000*  $K161 * Data!$B$6)) ), 0     )","v":0},138,null,null,{"$f":"IF(AND($A161<>\"\",(AE161+AF161)>0),     IF(AF$13=\"Nm3\",(AG$12*1000*1000/((AE$242+AF$242+AE$243+AF$243)*1000*  $K161 * Data!$B$6)),  (AG$12*1000*1000/(((AE$242+AF$242+AE$243+AF$243)/Denscalc($K161))*1000*  $K161 * Data!$B$6)) ), 0    )","v":0},138,null,null,{"$f":"IF(AND($A161<>\"\",(AI161+AJ161)>0),    IF(AJ$13=\"Nm3\",(AK$12*1000*1000/((AI$242+AJ$242+AI$243+AJ$243)*1000*  $K161 * Data!$B$6)),  (AK$12*1000*1000/(((AI$242+AJ$242+AI$243+AJ$243)/Denscalc($K161))*1000*  $K161 * Data!$B$6)) ), 0    )","v":0},138,null,null,{"$f":"IF(AND($A161<>\"\",(AM161+AN161)>0),     IF(AN$13=\"Nm3\",(AO$12*1000*1000/((AM$242+AN$242+AM$243+AN$243)*1000*  $K161 * Data!$B$6)),  (AO$12*1000*1000/(((AM$242+AN$242+AM$243+AN$243)/Denscalc($K161))*1000*  $K161 * Data!$B$6)) ), 0    )","v":0},138,null,null,{"$f":"IF(AND($A161<>\"\",(AQ161+AR161)>0),     IF(AR$13=\"Nm3\",(AS$12*1000*1000/((AQ$242+AR$242+AQ$243+AR$243)*1000*  $K161 * Data!$B$6)),  (AS$12*1000*1000/(((AQ$242+AR$242+AQ$243+AR$243)/Denscalc($K161))*1000*  $K161 * Data!$B$6)) ), 0     )","v":0},138,null,null,{"$f":"IF(AND($A161<>\"\",(AU161+AV161)>0),     IF(AV$13=\"Nm3\",(AW$12*1000*1000/((AU$242+AV$242+AU$243+AV$243)*1000*  $K161 * Data!$B$6)),  (AW$12*1000*1000/(((AU$242+AV$242+AU$243+AV$243)/Denscalc($K161))*1000*  $K161 * Data!$B$6)) ), 0   )","v":0},138,null,null,{"$f":"IF(AND(BA$11>0,$A161<>\"\",(AY161+AZ161)>0), BA$11, IF(AND($A161<>\"\",(AY161+AZ161)>0),\nIF(AZ$13=\"Nm3\",(BA$6*1000*1000/((AY$242+AZ$242+AY$243+AZ$243)*1000*$K161*Data!$B$6))+((BA$12-BA$6)*1000*1000/((AY$242+AZ$242+AY$243+AZ$243-AY$241-AZ$241)*1000*$K161*Data!$B$6)),\n(BA$6*1000*1000/(((AY$242+AZ$242+AY$243+AZ$243)/Denscalc($K161))*1000*$K161*Data!$B$6))+((BA$12-BA$6)*1000*1000/(((AY$242+AZ$242+AY$243+AZ$243-AY$241-AZ$241)/Denscalc($K161))*1000*$K161*Data!$B$6))),0))","v":0},138,null,null,{"$f":"IF(AND(BE$11>0,$A161<>\"\",(BC161+BD161)>0), BE$11, IF(AND($A161<>\"\",(BC161+BD161)>0),\n (BE$6*1000*1000/((BC$244+BD$244)*1000* Data!$B$7))+ ((BE$12-BE$6)*1000*1000/((BC$244+BD$244-BC$241-BD$241)*1000* Data!$B$7)),0))","v":0},138,{"$f":"IF(A161<>\"\", (Data!$B$127*1000*Data!$B$3)/Data!$B$7,  \"\")","v":""},"","",{"$f":"IF(A161<>\"\",  ROUND( (Data!$B$8-BI161)/Data!$B$8,3),   \"\")","v":""},"","","","",{"$f":"IF(A161<>\"\",  IF(TYPE(BN161)=1, ROUND( (Data!$B$8-BN161)/Data!$B$8,3),   \"\"),\"\")","v":""},"",138,"","","",null,""]
[null,139,null,null,"",null,null,null,null,null,null,null,null,null,null,null,{"$f":"IF(AND($A162<>\"\",(O162+P162)>0),    IF(P$13=\"Nm3\",(Q$12*1000*1000/((O$242+P$242+O$243+P$243)*1000*  $K162 * Data!$B$6)),  (Q$12*1000*1000/(((O$242+P$242+O$243+P$243)/Denscalc($K162))*1000*  $K162 * Data!$B$6)) ), 0    )","v":0},139,null,null,{"$f":"IF(AND($A162<>\"\",(S162+T162)>0),    IF(T$13=\"Nm3\",(U$12*1000*1000/((S$242+T$242+S$243+T$243)*1000*  $K162 * Data!$B$6)),  (U$12*1000*1000/(((S$242+T$242+S$243+T$243)/Denscalc($K162))*1000*  $K162 * Data!$B$6)) ), 0     )","v":0},139,null,null,{"$f":"IF(AND($A162<>\"\",(W162+X162)>0),     IF(X$13=\"Nm3\",(Y$12*1000*1000/((W$242+X$242+W$243+X$243)*1000*  $K162 * Data!$B$6)),  (Y$12*1000*1000/(((W$242+X$242+W$243+X$243)/Denscalc($K162))*1000*  $K162 * Data!$B$6)) ), 0   )","v":0},139,null,null,{"$f":"IF(AND($A162<>\"\",(AA162+AB162)>0),     IF(AB$13=\"Nm3\",(AC$12*1000*1000/((AA$242+AB$242+AA$243+AB$243)*1000*  $K162 * Data!$B$6)),  (AC$12*1000*1000/(((AA$242+AB$242+AA$243+AB$243)/Denscalc($K162))*1000*  $K162 * Data!$B$6)) ), 0     )","v":0},139,null,null,{"$f":"IF(AND($A162<>\"\",(AE162+AF162)>0),     IF(AF$13=\"Nm3\",(AG$12*1000*1000/((AE$242+AF$242+AE$243+AF$243)*1000*  $K162 * Data!$B$6)),  (AG$12*1000*1000/(((AE$242+AF$242+AE$243+AF$243)/Denscalc($K162))*1000*  $K162 * Data!$B$6)) ), 0    )","v":0},139,null,null,{"$f":"IF(AND($A162<>\"\",(AI162+AJ162)>0),    IF(AJ$13=\"Nm3\",(AK$12*1000*1000/((AI$242+AJ$242+AI$243+AJ$243)*1000*  $K162 * Data!$B$6)),  (AK$12*1000*1000/(((AI$242+AJ$242+AI$243+AJ$243)/Denscalc($K162))*1000*  $K162 * Data!$B$6)) ), 0    )","v":0},139,null,null,{"$f":"IF(AND($A162<>\"\",(AM162+AN162)>0),     IF(AN$13=\"Nm3\",(AO$12*1000*1000/((AM$242+AN$242+AM$243+AN$243)*1000*  $K162 * Data!$B$6)),  (AO$12*1000*1000/(((AM$242+AN$242+AM$243+AN$243)/Denscalc($K162))*1000*  $K162 * Data!$B$6)) ), 0    )","v":0},139,null,null,{"$f":"IF(AND($A162<>\"\",(AQ162+AR162)>0),     IF(AR$13=\"Nm3\",(AS$12*1000*1000/((AQ$242+AR$242+AQ$243+AR$243)*1000*  $K162 * Data!$B$6)),  (AS$12*1000*1000/(((AQ$242+AR$242+AQ$243+AR$243)/Denscalc($K162))*1000*  $K162 * Data!$B$6)) ), 0     )","v":0},139,null,null,{"$f":"IF(AND($A162<>\"\",(AU162+AV162)>0),     IF(AV$13=\"Nm3\",(AW$12*1000*1000/((AU$242+AV$242+AU$243+AV$243)*1000*  $K162 * Data!$B$6)),  (AW$12*1000*1000/(((AU$242+AV$242+AU$243+AV$243)/Denscalc($K162))*1000*  $K162 * Data!$B$6)) ), 0   )","v":0},139,null,null,{"$f":"IF(AND(BA$11>0,$A162<>\"\",(AY162+AZ162)>0), BA$11, IF(AND($A162<>\"\",(AY162+AZ162)>0),\nIF(AZ$13=\"Nm3\",(BA$6*1000*1000/((AY$242+AZ$242+AY$243+AZ$243)*1000*$K162*Data!$B$6))+((BA$12-BA$6)*1000*1000/((AY$242+AZ$242+AY$243+AZ$243-AY$241-AZ$241)*1000*$K162*Data!$B$6)),\n(BA$6*1000*1000/(((AY$242+AZ$242+AY$243+AZ$243)/Denscalc($K162))*1000*$K162*Data!$B$6))+((BA$12-BA$6)*1000*1000/(((AY$242+AZ$242+AY$243+AZ$243-AY$241-AZ$241)/Denscalc($K162))*1000*$K162*Data!$B$6))),0))","v":0},139,null,null,{"$f":"IF(AND(BE$11>0,$A162<>\"\",(BC162+BD162)>0), BE$11, IF(AND($A162<>\"\",(BC162+BD162)>0),\n (BE$6*1000*1000/((BC$244+BD$244)*1000* Data!$B$7))+ ((BE$12-BE$6)*1000*1000/((BC$244+BD$244-BC$241-BD$241)*1000* Data!$B$7)),0))","v":0},139,{"$f":"IF(A162<>\"\", (Data!$B$127*1000*Data!$B$3)/Data!$B$7,  \"\")","v":""},"","",{"$f":"IF(A162<>\"\",  ROUND( (Data!$B$8-BI162)/Data!$B$8,3),   \"\")","v":""},"","","","",{"$f":"IF(A162<>\"\",  IF(TYPE(BN162)=1, ROUND( (Data!$B$8-BN162)/Data!$B$8,3),   \"\"),\"\")","v":""},"",139,"","","",null,""]
[null,140,null,null,"",null,null,null,null,null,null,null,null,null,null,null,{"$f":"IF(AND($A163<>\"\",(O163+P163)>0),    IF(P$13=\"Nm3\",(Q$12*1000*1000/((O$242+P$242+O$243+P$243)*1000*  $K163 * Data!$B$6)),  (Q$12*1000*1000/(((O$242+P$242+O$243+P$243)/Denscalc($K163))*1000*  $K163 * Data!$B$6)) ), 0    )","v":0},140,null,null,{"$f":"IF(AND($A163<>\"\",(S163+T163)>0),    IF(T$13=\"Nm3\",(U$12*1000*1000/((S$242+T$242+S$243+T$243)*1000*  $K163 * Data!$B$6)),  (U$12*1000*1000/(((S$242+T$242+S$243+T$243)/Denscalc($K163))*1000*  $K163 * Data!$B$6)) ), 0     )","v":0},140,null,null,{"$f":"IF(AND($A163<>\"\",(W163+X163)>0),     IF(X$13=\"Nm3\",(Y$12*1000*1000/((W$242+X$242+W$243+X$243)*1000*  $K163 * Data!$B$6)),  (Y$12*1000*1000/(((W$242+X$242+W$243+X$243)/Denscalc($K163))*1000*  $K163 * Data!$B$6)) ), 0   )","v":0},140,null,null,{"$f":"IF(AND($A163<>\"\",(AA163+AB163)>0),     IF(AB$13=\"Nm3\",(AC$12*1000*1000/((AA$242+AB$242+AA$243+AB$243)*1000*  $K163 * Data!$B$6)),  (AC$12*1000*1000/(((AA$242+AB$242+AA$243+AB$243)/Denscalc($K163))*1000*  $K163 * Data!$B$6)) ), 0     )","v":0},140,null,null,{"$f":"IF(AND($A163<>\"\",(AE163+AF163)>0),     IF(AF$13=\"Nm3\",(AG$12*1000*1000/((AE$242+AF$242+AE$243+AF$243)*1000*  $K163 * Data!$B$6)),  (AG$12*1000*1000/(((AE$242+AF$242+AE$243+AF$243)/Denscalc($K163))*1000*  $K163 * Data!$B$6)) ), 0    )","v":0},140,null,null,{"$f":"IF(AND($A163<>\"\",(AI163+AJ163)>0),    IF(AJ$13=\"Nm3\",(AK$12*1000*1000/((AI$242+AJ$242+AI$243+AJ$243)*1000*  $K163 * Data!$B$6)),  (AK$12*1000*1000/(((AI$242+AJ$242+AI$243+AJ$243)/Denscalc($K163))*1000*  $K163 * Data!$B$6)) ), 0    )","v":0},140,null,null,{"$f":"IF(AND($A163<>\"\",(AM163+AN163)>0),     IF(AN$13=\"Nm3\",(AO$12*1000*1000/((AM$242+AN$242+AM$243+AN$243)*1000*  $K163 * Data!$B$6)),  (AO$12*1000*1000/(((AM$242+AN$242+AM$243+AN$243)/Denscalc($K163))*1000*  $K163 * Data!$B$6)) ), 0    )","v":0},140,null,null,{"$f":"IF(AND($A163<>\"\",(AQ163+AR163)>0),     IF(AR$13=\"Nm3\",(AS$12*1000*1000/((AQ$242+AR$242+AQ$243+AR$243)*1000*  $K163 * Data!$B$6)),  (AS$12*1000*1000/(((AQ$242+AR$242+AQ$243+AR$243)/Denscalc($K163))*1000*  $K163 * Data!$B$6)) ), 0     )","v":0},140,null,null,{"$f":"IF(AND($A163<>\"\",(AU163+AV163)>0),     IF(AV$13=\"Nm3\",(AW$12*1000*1000/((AU$242+AV$242+AU$243+AV$243)*1000*  $K163 * Data!$B$6)),  (AW$12*1000*1000/(((AU$242+AV$242+AU$243+AV$243)/Denscalc($K163))*1000*  $K163 * Data!$B$6)) ), 0   )","v":0},140,null,null,{"$f":"IF(AND(BA$11>0,$A163<>\"\",(AY163+AZ163)>0), BA$11, IF(AND($A163<>\"\",(AY163+AZ163)>0),\nIF(AZ$13=\"Nm3\",(BA$6*1000*1000/((AY$242+AZ$242+AY$243+AZ$243)*1000*$K163*Data!$B$6))+((BA$12-BA$6)*1000*1000/((AY$242+AZ$242+AY$243+AZ$243-AY$241-AZ$241)*1000*$K163*Data!$B$6)),\n(BA$6*1000*1000/(((AY$242+AZ$242+AY$243+AZ$243)/Denscalc($K163))*1000*$K163*Data!$B$6))+((BA$12-BA$6)*1000*1000/(((AY$242+AZ$242+AY$243+AZ$243-AY$241-AZ$241)/Denscalc($K163))*1000*$K163*Data!$B$6))),0))","v":0},140,null,null,{"$f":"IF(AND(BE$11>0,$A163<>\"\",(BC163+BD163)>0), BE$11, IF(AND($A163<>\"\",(BC163+BD163)>0),\n (BE$6*1000*1000/((BC$244+BD$244)*1000* Data!$B$7))+ ((BE$12-BE$6)*1000*1000/((BC$244+BD$244-BC$241-BD$241)*1000* Data!$B$7)),0))","v":0},140,{"$f":"IF(A163<>\"\", (Data!$B$127*1000*Data!$B$3)/Data!$B$7,  \"\")","v":""},"","",{"$f":"IF(A163<>\"\",  ROUND( (Data!$B$8-BI163)/Data!$B$8,3),   \"\")","v":""},"","","","",{"$f":"IF(A163<>\"\",  IF(TYPE(BN163)=1, ROUND( (Data!$B$8-BN163)/Data!$B$8,3),   \"\"),\"\")","v":""},"",140,"","","",null,""]
[null,141,null,null,"",null,null,null,null,null,null,null,null,null,null,null,{"$f":"IF(AND($A164<>\"\",(O164+P164)>0),    IF(P$13=\"Nm3\",(Q$12*1000*1000/((O$242+P$242+O$243+P$243)*1000*  $K164 * Data!$B$6)),  (Q$12*1000*1000/(((O$242+P$242+O$243+P$243)/Denscalc($K164))*1000*  $K164 * Data!$B$6)) ), 0    )","v":0},141,null,null,{"$f":"IF(AND($A164<>\"\",(S164+T164)>0),    IF(T$13=\"Nm3\",(U$12*1000*1000/((S$242+T$242+S$243+T$243)*1000*  $K164 * Data!$B$6)),  (U$12*1000*1000/(((S$242+T$242+S$243+T$243)/Denscalc($K164))*1000*  $K164 * Data!$B$6)) ), 0     )","v":0},141,null,null,{"$f":"IF(AND($A164<>\"\",(W164+X164)>0),     IF(X$13=\"Nm3\",(Y$12*1000*1000/((W$242+X$242+W$243+X$243)*1000*  $K164 * Data!$B$6)),  (Y$12*1000*1000/(((W$242+X$242+W$243+X$243)/Denscalc($K164))*1000*  $K164 * Data!$B$6)) ), 0   )","v":0},141,null,null,{"$f":"IF(AND($A164<>\"\",(AA164+AB164)>0),     IF(AB$13=\"Nm3\",(AC$12*1000*1000/((AA$242+AB$242+AA$243+AB$243)*1000*  $K164 * Data!$B$6)),  (AC$12*1000*1000/(((AA$242+AB$242+AA$243+AB$243)/Denscalc($K164))*1000*  $K164 * Data!$B$6)) ), 0     )","v":0},141,null,null,{"$f":"IF(AND($A164<>\"\",(AE164+AF164)>0),     IF(AF$13=\"Nm3\",(AG$12*1000*1000/((AE$242+AF$242+AE$243+AF$243)*1000*  $K164 * Data!$B$6)),  (AG$12*1000*1000/(((AE$242+AF$242+AE$243+AF$243)/Denscalc($K164))*1000*  $K164 * Data!$B$6)) ), 0    )","v":0},141,null,null,{"$f":"IF(AND($A164<>\"\",(AI164+AJ164)>0),    IF(AJ$13=\"Nm3\",(AK$12*1000*1000/((AI$242+AJ$242+AI$243+AJ$243)*1000*  $K164 * Data!$B$6)),  (AK$12*1000*1000/(((AI$242+AJ$242+AI$243+AJ$243)/Denscalc($K164))*1000*  $K164 * Data!$B$6)) ), 0    )","v":0},141,null,null,{"$f":"IF(AND($A164<>\"\",(AM164+AN164)>0),     IF(AN$13=\"Nm3\",(AO$12*1000*1000/((AM$242+AN$242+AM$243+AN$243)*1000*  $K164 * Data!$B$6)),  (AO$12*1000*1000/(((AM$242+AN$242+AM$243+AN$243)/Denscalc($K164))*1000*  $K164 * Data!$B$6)) ), 0    )","v":0},141,null,null,{"$f":"IF(AND($A164<>\"\",(AQ164+AR164)>0),     IF(AR$13=\"Nm3\",(AS$12*1000*1000/((AQ$242+AR$242+AQ$243+AR$243)*1000*  $K164 * Data!$B$6)),  (AS$12*1000*1000/(((AQ$242+AR$242+AQ$243+AR$243)/Denscalc($K164))*1000*  $K164 * Data!$B$6)) ), 0     )","v":0},141,null,null,{"$f":"IF(AND($A164<>\"\",(AU164+AV164)>0),     IF(AV$13=\"Nm3\",(AW$12*1000*1000/((AU$242+AV$242+AU$243+AV$243)*1000*  $K164 * Data!$B$6)),  (AW$12*1000*1000/(((AU$242+AV$242+AU$243+AV$243)/Denscalc($K164))*1000*  $K164 * Data!$B$6)) ), 0   )","v":0},141,null,null,{"$f":"IF(AND(BA$11>0,$A164<>\"\",(AY164+AZ164)>0), BA$11, IF(AND($A164<>\"\",(AY164+AZ164)>0),\nIF(AZ$13=\"Nm3\",(BA$6*1000*1000/((AY$242+AZ$242+AY$243+AZ$243)*1000*$K164*Data!$B$6))+((BA$12-BA$6)*1000*1000/((AY$242+AZ$242+AY$243+AZ$243-AY$241-AZ$241)*1000*$K164*Data!$B$6)),\n(BA$6*1000*1000/(((AY$242+AZ$242+AY$243+AZ$243)/Denscalc($K164))*1000*$K164*Data!$B$6))+((BA$12-BA$6)*1000*1000/(((AY$242+AZ$242+AY$243+AZ$243-AY$241-AZ$241)/Denscalc($K164))*1000*$K164*Data!$B$6))),0))","v":0},141,null,null,{"$f":"IF(AND(BE$11>0,$A164<>\"\",(BC164+BD164)>0), BE$11, IF(AND($A164<>\"\",(BC164+BD164)>0),\n (BE$6*1000*1000/((BC$244+BD$244)*1000* Data!$B$7))+ ((BE$12-BE$6)*1000*1000/((BC$244+BD$244-BC$241-BD$241)*1000* Data!$B$7)),0))","v":0},141,{"$f":"IF(A164<>\"\", (Data!$B$127*1000*Data!$B$3)/Data!$B$7,  \"\")","v":""},"","",{"$f":"IF(A164<>\"\",  ROUND( (Data!$B$8-BI164)/Data!$B$8,3),   \"\")","v":""},"","","","",{"$f":"IF(A164<>\"\",  IF(TYPE(BN164)=1, ROUND( (Data!$B$8-BN164)/Data!$B$8,3),   \"\"),\"\")","v":""},"",141,"","","",null,""]
[null,142,null,null,"",null,null,null,null,null,null,null,null,null,null,null,{"$f":"IF(AND($A165<>\"\",(O165+P165)>0),    IF(P$13=\"Nm3\",(Q$12*1000*1000/((O$242+P$242+O$243+P$243)*1000*  $K165 * Data!$B$6)),  (Q$12*1000*1000/(((O$242+P$242+O$243+P$243)/Denscalc($K165))*1000*  $K165 * Data!$B$6)) ), 0    )","v":0},142,null,null,{"$f":"IF(AND($A165<>\"\",(S165+T165)>0),    IF(T$13=\"Nm3\",(U$12*1000*1000/((S$242+T$242+S$243+T$243)*1000*  $K165 * Data!$B$6)),  (U$12*1000*1000/(((S$242+T$242+S$243+T$243)/Denscalc($K165))*1000*  $K165 * Data!$B$6)) ), 0     )","v":0},142,null,null,{"$f":"IF(AND($A165<>\"\",(W165+X165)>0),     IF(X$13=\"Nm3\",(Y$12*1000*1000/((W$242+X$242+W$243+X$243)*1000*  $K165 * Data!$B$6)),  (Y$12*1000*1000/(((W$242+X$242+W$243+X$243)/Denscalc($K165))*1000*  $K165 * Data!$B$6)) ), 0   )","v":0},142,null,null,{"$f":"IF(AND($A165<>\"\",(AA165+AB165)>0),     IF(AB$13=\"Nm3\",(AC$12*1000*1000/((AA$242+AB$242+AA$243+AB$243)*1000*  $K165 * Data!$B$6)),  (AC$12*1000*1000/(((AA$242+AB$242+AA$243+AB$243)/Denscalc($K165))*1000*  $K165 * Data!$B$6)) ), 0     )","v":0},142,null,null,{"$f":"IF(AND($A165<>\"\",(AE165+AF165)>0),     IF(AF$13=\"Nm3\",(AG$12*1000*1000/((AE$242+AF$242+AE$243+AF$243)*1000*  $K165 * Data!$B$6)),  (AG$12*1000*1000/(((AE$242+AF$242+AE$243+AF$243)/Denscalc($K165))*1000*  $K165 * Data!$B$6)) ), 0    )","v":0},142,null,null,{"$f":"IF(AND($A165<>\"\",(AI165+AJ165)>0),    IF(AJ$13=\"Nm3\",(AK$12*1000*1000/((AI$242+AJ$242+AI$243+AJ$243)*1000*  $K165 * Data!$B$6)),  (AK$12*1000*1000/(((AI$242+AJ$242+AI$243+AJ$243)/Denscalc($K165))*1000*  $K165 * Data!$B$6)) ), 0    )","v":0},142,null,null,{"$f":"IF(AND($A165<>\"\",(AM165+AN165)>0),     IF(AN$13=\"Nm3\",(AO$12*1000*1000/((AM$242+AN$242+AM$243+AN$243)*1000*  $K165 * Data!$B$6)),  (AO$12*1000*1000/(((AM$242+AN$242+AM$243+AN$243)/Denscalc($K165))*1000*  $K165 * Data!$B$6)) ), 0    )","v":0},142,null,null,{"$f":"IF(AND($A165<>\"\",(AQ165+AR165)>0),     IF(AR$13=\"Nm3\",(AS$12*1000*1000/((AQ$242+AR$242+AQ$243+AR$243)*1000*  $K165 * Data!$B$6)),  (AS$12*1000*1000/(((AQ$242+AR$242+AQ$243+AR$243)/Denscalc($K165))*1000*  $K165 * Data!$B$6)) ), 0     )","v":0},142,null,null,{"$f":"IF(AND($A165<>\"\",(AU165+AV165)>0),     IF(AV$13=\"Nm3\",(AW$12*1000*1000/((AU$242+AV$242+AU$243+AV$243)*1000*  $K165 * Data!$B$6)),  (AW$12*1000*1000/(((AU$242+AV$242+AU$243+AV$243)/Denscalc($K165))*1000*  $K165 * Data!$B$6)) ), 0   )","v":0},142,null,null,{"$f":"IF(AND(BA$11>0,$A165<>\"\",(AY165+AZ165)>0), BA$11, IF(AND($A165<>\"\",(AY165+AZ165)>0),\nIF(AZ$13=\"Nm3\",(BA$6*1000*1000/((AY$242+AZ$242+AY$243+AZ$243)*1000*$K165*Data!$B$6))+((BA$12-BA$6)*1000*1000/((AY$242+AZ$242+AY$243+AZ$243-AY$241-AZ$241)*1000*$K165*Data!$B$6)),\n(BA$6*1000*1000/(((AY$242+AZ$242+AY$243+AZ$243)/Denscalc($K165))*1000*$K165*Data!$B$6))+((BA$12-BA$6)*1000*1000/(((AY$242+AZ$242+AY$243+AZ$243-AY$241-AZ$241)/Denscalc($K165))*1000*$K165*Data!$B$6))),0))","v":0},142,null,null,{"$f":"IF(AND(BE$11>0,$A165<>\"\",(BC165+BD165)>0), BE$11, IF(AND($A165<>\"\",(BC165+BD165)>0),\n (BE$6*1000*1000/((BC$244+BD$244)*1000* Data!$B$7))+ ((BE$12-BE$6)*1000*1000/((BC$244+BD$244-BC$241-BD$241)*1000* Data!$B$7)),0))","v":0},142,{"$f":"IF(A165<>\"\", (Data!$B$127*1000*Data!$B$3)/Data!$B$7,  \"\")","v":""},"","",{"$f":"IF(A165<>\"\",  ROUND( (Data!$B$8-BI165)/Data!$B$8,3),   \"\")","v":""},"","","","",{"$f":"IF(A165<>\"\",  IF(TYPE(BN165)=1, ROUND( (Data!$B$8-BN165)/Data!$B$8,3),   \"\"),\"\")","v":""},"",142,"","","",null,""]
[null,143,null,null,"",null,null,null,null,null,null,null,null,null,null,null,{"$f":"IF(AND($A166<>\"\",(O166+P166)>0),    IF(P$13=\"Nm3\",(Q$12*1000*1000/((O$242+P$242+O$243+P$243)*1000*  $K166 * Data!$B$6)),  (Q$12*1000*1000/(((O$242+P$242+O$243+P$243)/Denscalc($K166))*1000*  $K166 * Data!$B$6)) ), 0    )","v":0},143,null,null,{"$f":"IF(AND($A166<>\"\",(S166+T166)>0),    IF(T$13=\"Nm3\",(U$12*1000*1000/((S$242+T$242+S$243+T$243)*1000*  $K166 * Data!$B$6)),  (U$12*1000*1000/(((S$242+T$242+S$243+T$243)/Denscalc($K166))*1000*  $K166 * Data!$B$6)) ), 0     )","v":0},143,null,null,{"$f":"IF(AND($A166<>\"\",(W166+X166)>0),     IF(X$13=\"Nm3\",(Y$12*1000*1000/((W$242+X$242+W$243+X$243)*1000*  $K166 * Data!$B$6)),  (Y$12*1000*1000/(((W$242+X$242+W$243+X$243)/Denscalc($K166))*1000*  $K166 * Data!$B$6)) ), 0   )","v":0},143,null,null,{"$f":"IF(AND($A166<>\"\",(AA166+AB166)>0),     IF(AB$13=\"Nm3\",(AC$12*1000*1000/((AA$242+AB$242+AA$243+AB$243)*1000*  $K166 * Data!$B$6)),  (AC$12*1000*1000/(((AA$242+AB$242+AA$243+AB$243)/Denscalc($K166))*1000*  $K166 * Data!$B$6)) ), 0     )","v":0},143,null,null,{"$f":"IF(AND($A166<>\"\",(AE166+AF166)>0),     IF(AF$13=\"Nm3\",(AG$12*1000*1000/((AE$242+AF$242+AE$243+AF$243)*1000*  $K166 * Data!$B$6)),  (AG$12*1000*1000/(((AE$242+AF$242+AE$243+AF$243)/Denscalc($K166))*1000*  $K166 * Data!$B$6)) ), 0    )","v":0},143,null,null,{"$f":"IF(AND($A166<>\"\",(AI166+AJ166)>0),    IF(AJ$13=\"Nm3\",(AK$12*1000*1000/((AI$242+AJ$242+AI$243+AJ$243)*1000*  $K166 * Data!$B$6)),  (AK$12*1000*1000/(((AI$242+AJ$242+AI$243+AJ$243)/Denscalc($K166))*1000*  $K166 * Data!$B$6)) ), 0    )","v":0},143,null,null,{"$f":"IF(AND($A166<>\"\",(AM166+AN166)>0),     IF(AN$13=\"Nm3\",(AO$12*1000*1000/((AM$242+AN$242+AM$243+AN$243)*1000*  $K166 * Data!$B$6)),  (AO$12*1000*1000/(((AM$242+AN$242+AM$243+AN$243)/Denscalc($K166))*1000*  $K166 * Data!$B$6)) ), 0    )","v":0},143,null,null,{"$f":"IF(AND($A166<>\"\",(AQ166+AR166)>0),     IF(AR$13=\"Nm3\",(AS$12*1000*1000/((AQ$242+AR$242+AQ$243+AR$243)*1000*  $K166 * Data!$B$6)),  (AS$12*1000*1000/(((AQ$242+AR$242+AQ$243+AR$243)/Denscalc($K166))*1000*  $K166 * Data!$B$6)) ), 0     )","v":0},143,null,null,{"$f":"IF(AND($A166<>\"\",(AU166+AV166)>0),     IF(AV$13=\"Nm3\",(AW$12*1000*1000/((AU$242+AV$242+AU$243+AV$243)*1000*  $K166 * Data!$B$6)),  (AW$12*1000*1000/(((AU$242+AV$242+AU$243+AV$243)/Denscalc($K166))*1000*  $K166 * Data!$B$6)) ), 0   )","v":0},143,null,null,{"$f":"IF(AND(BA$11>0,$A166<>\"\",(AY166+AZ166)>0), BA$11, IF(AND($A166<>\"\",(AY166+AZ166)>0),\nIF(AZ$13=\"Nm3\",(BA$6*1000*1000/((AY$242+AZ$242+AY$243+AZ$243)*1000*$K166*Data!$B$6))+((BA$12-BA$6)*1000*1000/((AY$242+AZ$242+AY$243+AZ$243-AY$241-AZ$241)*1000*$K166*Data!$B$6)),\n(BA$6*1000*1000/(((AY$242+AZ$242+AY$243+AZ$243)/Denscalc($K166))*1000*$K166*Data!$B$6))+((BA$12-BA$6)*1000*1000/(((AY$242+AZ$242+AY$243+AZ$243-AY$241-AZ$241)/Denscalc($K166))*1000*$K166*Data!$B$6))),0))","v":0},143,null,null,{"$f":"IF(AND(BE$11>0,$A166<>\"\",(BC166+BD166)>0), BE$11, IF(AND($A166<>\"\",(BC166+BD166)>0),\n (BE$6*1000*1000/((BC$244+BD$244)*1000* Data!$B$7))+ ((BE$12-BE$6)*1000*1000/((BC$244+BD$244-BC$241-BD$241)*1000* Data!$B$7)),0))","v":0},143,{"$f":"IF(A166<>\"\", (Data!$B$127*1000*Data!$B$3)/Data!$B$7,  \"\")","v":""},"","",{"$f":"IF(A166<>\"\",  ROUND( (Data!$B$8-BI166)/Data!$B$8,3),   \"\")","v":""},"","","","",{"$f":"IF(A166<>\"\",  IF(TYPE(BN166)=1, ROUND( (Data!$B$8-BN166)/Data!$B$8,3),   \"\"),\"\")","v":""},"",143,"","","",null,""]
[null,144,null,null,"",null,null,null,null,null,null,null,null,null,null,null,{"$f":"IF(AND($A167<>\"\",(O167+P167)>0),    IF(P$13=\"Nm3\",(Q$12*1000*1000/((O$242+P$242+O$243+P$243)*1000*  $K167 * Data!$B$6)),  (Q$12*1000*1000/(((O$242+P$242+O$243+P$243)/Denscalc($K167))*1000*  $K167 * Data!$B$6)) ), 0    )","v":0},144,null,null,{"$f":"IF(AND($A167<>\"\",(S167+T167)>0),    IF(T$13=\"Nm3\",(U$12*1000*1000/((S$242+T$242+S$243+T$243)*1000*  $K167 * Data!$B$6)),  (U$12*1000*1000/(((S$242+T$242+S$243+T$243)/Denscalc($K167))*1000*  $K167 * Data!$B$6)) ), 0     )","v":0},144,null,null,{"$f":"IF(AND($A167<>\"\",(W167+X167)>0),     IF(X$13=\"Nm3\",(Y$12*1000*1000/((W$242+X$242+W$243+X$243)*1000*  $K167 * Data!$B$6)),  (Y$12*1000*1000/(((W$242+X$242+W$243+X$243)/Denscalc($K167))*1000*  $K167 * Data!$B$6)) ), 0   )","v":0},144,null,null,{"$f":"IF(AND($A167<>\"\",(AA167+AB167)>0),     IF(AB$13=\"Nm3\",(AC$12*1000*1000/((AA$242+AB$242+AA$243+AB$243)*1000*  $K167 * Data!$B$6)),  (AC$12*1000*1000/(((AA$242+AB$242+AA$243+AB$243)/Denscalc($K167))*1000*  $K167 * Data!$B$6)) ), 0     )","v":0},144,null,null,{"$f":"IF(AND($A167<>\"\",(AE167+AF167)>0),     IF(AF$13=\"Nm3\",(AG$12*1000*1000/((AE$242+AF$242+AE$243+AF$243)*1000*  $K167 * Data!$B$6)),  (AG$12*1000*1000/(((AE$242+AF$242+AE$243+AF$243)/Denscalc($K167))*1000*  $K167 * Data!$B$6)) ), 0    )","v":0},144,null,null,{"$f":"IF(AND($A167<>\"\",(AI167+AJ167)>0),    IF(AJ$13=\"Nm3\",(AK$12*1000*1000/((AI$242+AJ$242+AI$243+AJ$243)*1000*  $K167 * Data!$B$6)),  (AK$12*1000*1000/(((AI$242+AJ$242+AI$243+AJ$243)/Denscalc($K167))*1000*  $K167 * Data!$B$6)) ), 0    )","v":0},144,null,null,{"$f":"IF(AND($A167<>\"\",(AM167+AN167)>0),     IF(AN$13=\"Nm3\",(AO$12*1000*1000/((AM$242+AN$242+AM$243+AN$243)*1000*  $K167 * Data!$B$6)),  (AO$12*1000*1000/(((AM$242+AN$242+AM$243+AN$243)/Denscalc($K167))*1000*  $K167 * Data!$B$6)) ), 0    )","v":0},144,null,null,{"$f":"IF(AND($A167<>\"\",(AQ167+AR167)>0),     IF(AR$13=\"Nm3\",(AS$12*1000*1000/((AQ$242+AR$242+AQ$243+AR$243)*1000*  $K167 * Data!$B$6)),  (AS$12*1000*1000/(((AQ$242+AR$242+AQ$243+AR$243)/Denscalc($K167))*1000*  $K167 * Data!$B$6)) ), 0     )","v":0},144,null,null,{"$f":"IF(AND($A167<>\"\",(AU167+AV167)>0),     IF(AV$13=\"Nm3\",(AW$12*1000*1000/((AU$242+AV$242+AU$243+AV$243)*1000*  $K167 * Data!$B$6)),  (AW$12*1000*1000/(((AU$242+AV$242+AU$243+AV$243)/Denscalc($K167))*1000*  $K167 * Data!$B$6)) ), 0   )","v":0},144,null,null,{"$f":"IF(AND(BA$11>0,$A167<>\"\",(AY167+AZ167)>0), BA$11, IF(AND($A167<>\"\",(AY167+AZ167)>0),\nIF(AZ$13=\"Nm3\",(BA$6*1000*1000/((AY$242+AZ$242+AY$243+AZ$243)*1000*$K167*Data!$B$6))+((BA$12-BA$6)*1000*1000/((AY$242+AZ$242+AY$243+AZ$243-AY$241-AZ$241)*1000*$K167*Data!$B$6)),\n(BA$6*1000*1000/(((AY$242+AZ$242+AY$243+AZ$243)/Denscalc($K167))*1000*$K167*Data!$B$6))+((BA$12-BA$6)*1000*1000/(((AY$242+AZ$242+AY$243+AZ$243-AY$241-AZ$241)/Denscalc($K167))*1000*$K167*Data!$B$6))),0))","v":0},144,null,null,{"$f":"IF(AND(BE$11>0,$A167<>\"\",(BC167+BD167)>0), BE$11, IF(AND($A167<>\"\",(BC167+BD167)>0),\n (BE$6*1000*1000/((BC$244+BD$244)*1000* Data!$B$7))+ ((BE$12-BE$6)*1000*1000/((BC$244+BD$244-BC$241-BD$241)*1000* Data!$B$7)),0))","v":0},144,{"$f":"IF(A167<>\"\", (Data!$B$127*1000*Data!$B$3)/Data!$B$7,  \"\")","v":""},"","",{"$f":"IF(A167<>\"\",  ROUND( (Data!$B$8-BI167)/Data!$B$8,3),   \"\")","v":""},"","","","",{"$f":"IF(A167<>\"\",  IF(TYPE(BN167)=1, ROUND( (Data!$B$8-BN167)/Data!$B$8,3),   \"\"),\"\")","v":""},"",144,"","","",null,""]
[null,145,null,null,"",null,null,null,null,null,null,null,null,null,null,null,{"$f":"IF(AND($A168<>\"\",(O168+P168)>0),    IF(P$13=\"Nm3\",(Q$12*1000*1000/((O$242+P$242+O$243+P$243)*1000*  $K168 * Data!$B$6)),  (Q$12*1000*1000/(((O$242+P$242+O$243+P$243)/Denscalc($K168))*1000*  $K168 * Data!$B$6)) ), 0    )","v":0},145,null,null,{"$f":"IF(AND($A168<>\"\",(S168+T168)>0),    IF(T$13=\"Nm3\",(U$12*1000*1000/((S$242+T$242+S$243+T$243)*1000*  $K168 * Data!$B$6)),  (U$12*1000*1000/(((S$242+T$242+S$243+T$243)/Denscalc($K168))*1000*  $K168 * Data!$B$6)) ), 0     )","v":0},145,null,null,{"$f":"IF(AND($A168<>\"\",(W168+X168)>0),     IF(X$13=\"Nm3\",(Y$12*1000*1000/((W$242+X$242+W$243+X$243)*1000*  $K168 * Data!$B$6)),  (Y$12*1000*1000/(((W$242+X$242+W$243+X$243)/Denscalc($K168))*1000*  $K168 * Data!$B$6)) ), 0   )","v":0},145,null,null,{"$f":"IF(AND($A168<>\"\",(AA168+AB168)>0),     IF(AB$13=\"Nm3\",(AC$12*1000*1000/((AA$242+AB$242+AA$243+AB$243)*1000*  $K168 * Data!$B$6)),  (AC$12*1000*1000/(((AA$242+AB$242+AA$243+AB$243)/Denscalc($K168))*1000*  $K168 * Data!$B$6)) ), 0     )","v":0},145,null,null,{"$f":"IF(AND($A168<>\"\",(AE168+AF168)>0),     IF(AF$13=\"Nm3\",(AG$12*1000*1000/((AE$242+AF$242+AE$243+AF$243)*1000*  $K168 * Data!$B$6)),  (AG$12*1000*1000/(((AE$242+AF$242+AE$243+AF$243)/Denscalc($K168))*1000*  $K168 * Data!$B$6)) ), 0    )","v":0},145,null,null,{"$f":"IF(AND($A168<>\"\",(AI168+AJ168)>0),    IF(AJ$13=\"Nm3\",(AK$12*1000*1000/((AI$242+AJ$242+AI$243+AJ$243)*1000*  $K168 * Data!$B$6)),  (AK$12*1000*1000/(((AI$242+AJ$242+AI$243+AJ$243)/Denscalc($K168))*1000*  $K168 * Data!$B$6)) ), 0    )","v":0},145,null,null,{"$f":"IF(AND($A168<>\"\",(AM168+AN168)>0),     IF(AN$13=\"Nm3\",(AO$12*1000*1000/((AM$242+AN$242+AM$243+AN$243)*1000*  $K168 * Data!$B$6)),  (AO$12*1000*1000/(((AM$242+AN$242+AM$243+AN$243)/Denscalc($K168))*1000*  $K168 * Data!$B$6)) ), 0    )","v":0},145,null,null,{"$f":"IF(AND($A168<>\"\",(AQ168+AR168)>0),     IF(AR$13=\"Nm3\",(AS$12*1000*1000/((AQ$242+AR$242+AQ$243+AR$243)*1000*  $K168 * Data!$B$6)),  (AS$12*1000*1000/(((AQ$242+AR$242+AQ$243+AR$243)/Denscalc($K168))*1000*  $K168 * Data!$B$6)) ), 0     )","v":0},145,null,null,{"$f":"IF(AND($A168<>\"\",(AU168+AV168)>0),     IF(AV$13=\"Nm3\",(AW$12*1000*1000/((AU$242+AV$242+AU$243+AV$243)*1000*  $K168 * Data!$B$6)),  (AW$12*1000*1000/(((AU$242+AV$242+AU$243+AV$243)/Denscalc($K168))*1000*  $K168 * Data!$B$6)) ), 0   )","v":0},145,null,null,{"$f":"IF(AND(BA$11>0,$A168<>\"\",(AY168+AZ168)>0), BA$11, IF(AND($A168<>\"\",(AY168+AZ168)>0),\nIF(AZ$13=\"Nm3\",(BA$6*1000*1000/((AY$242+AZ$242+AY$243+AZ$243)*1000*$K168*Data!$B$6))+((BA$12-BA$6)*1000*1000/((AY$242+AZ$242+AY$243+AZ$243-AY$241-AZ$241)*1000*$K168*Data!$B$6)),\n(BA$6*1000*1000/(((AY$242+AZ$242+AY$243+AZ$243)/Denscalc($K168))*1000*$K168*Data!$B$6))+((BA$12-BA$6)*1000*1000/(((AY$242+AZ$242+AY$243+AZ$243-AY$241-AZ$241)/Denscalc($K168))*1000*$K168*Data!$B$6))),0))","v":0},145,null,null,{"$f":"IF(AND(BE$11>0,$A168<>\"\",(BC168+BD168)>0), BE$11, IF(AND($A168<>\"\",(BC168+BD168)>0),\n (BE$6*1000*1000/((BC$244+BD$244)*1000* Data!$B$7))+ ((BE$12-BE$6)*1000*1000/((BC$244+BD$244-BC$241-BD$241)*1000* Data!$B$7)),0))","v":0},145,{"$f":"IF(A168<>\"\", (Data!$B$127*1000*Data!$B$3)/Data!$B$7,  \"\")","v":""},"","",{"$f":"IF(A168<>\"\",  ROUND( (Data!$B$8-BI168)/Data!$B$8,3),   \"\")","v":""},"","","","",{"$f":"IF(A168<>\"\",  IF(TYPE(BN168)=1, ROUND( (Data!$B$8-BN168)/Data!$B$8,3),   \"\"),\"\")","v":""},"",145,"","","",null,""]
[null,146,null,null,"",null,null,null,null,null,null,null,null,null,null,null,{"$f":"IF(AND($A169<>\"\",(O169+P169)>0),    IF(P$13=\"Nm3\",(Q$12*1000*1000/((O$242+P$242+O$243+P$243)*1000*  $K169 * Data!$B$6)),  (Q$12*1000*1000/(((O$242+P$242+O$243+P$243)/Denscalc($K169))*1000*  $K169 * Data!$B$6)) ), 0    )","v":0},146,null,null,{"$f":"IF(AND($A169<>\"\",(S169+T169)>0),    IF(T$13=\"Nm3\",(U$12*1000*1000/((S$242+T$242+S$243+T$243)*1000*  $K169 * Data!$B$6)),  (U$12*1000*1000/(((S$242+T$242+S$243+T$243)/Denscalc($K169))*1000*  $K169 * Data!$B$6)) ), 0     )","v":0},146,null,null,{"$f":"IF(AND($A169<>\"\",(W169+X169)>0),     IF(X$13=\"Nm3\",(Y$12*1000*1000/((W$242+X$242+W$243+X$243)*1000*  $K169 * Data!$B$6)),  (Y$12*1000*1000/(((W$242+X$242+W$243+X$243)/Denscalc($K169))*1000*  $K169 * Data!$B$6)) ), 0   )","v":0},146,null,null,{"$f":"IF(AND($A169<>\"\",(AA169+AB169)>0),     IF(AB$13=\"Nm3\",(AC$12*1000*1000/((AA$242+AB$242+AA$243+AB$243)*1000*  $K169 * Data!$B$6)),  (AC$12*1000*1000/(((AA$242+AB$242+AA$243+AB$243)/Denscalc($K169))*1000*  $K169 * Data!$B$6)) ), 0     )","v":0},146,null,null,{"$f":"IF(AND($A169<>\"\",(AE169+AF169)>0),     IF(AF$13=\"Nm3\",(AG$12*1000*1000/((AE$242+AF$242+AE$243+AF$243)*1000*  $K169 * Data!$B$6)),  (AG$12*1000*1000/(((AE$242+AF$242+AE$243+AF$243)/Denscalc($K169))*1000*  $K169 * Data!$B$6)) ), 0    )","v":0},146,null,null,{"$f":"IF(AND($A169<>\"\",(AI169+AJ169)>0),    IF(AJ$13=\"Nm3\",(AK$12*1000*1000/((AI$242+AJ$242+AI$243+AJ$243)*1000*  $K169 * Data!$B$6)),  (AK$12*1000*1000/(((AI$242+AJ$242+AI$243+AJ$243)/Denscalc($K169))*1000*  $K169 * Data!$B$6)) ), 0    )","v":0},146,null,null,{"$f":"IF(AND($A169<>\"\",(AM169+AN169)>0),     IF(AN$13=\"Nm3\",(AO$12*1000*1000/((AM$242+AN$242+AM$243+AN$243)*1000*  $K169 * Data!$B$6)),  (AO$12*1000*1000/(((AM$242+AN$242+AM$243+AN$243)/Denscalc($K169))*1000*  $K169 * Data!$B$6)) ), 0    )","v":0},146,null,null,{"$f":"IF(AND($A169<>\"\",(AQ169+AR169)>0),     IF(AR$13=\"Nm3\",(AS$12*1000*1000/((AQ$242+AR$242+AQ$243+AR$243)*1000*  $K169 * Data!$B$6)),  (AS$12*1000*1000/(((AQ$242+AR$242+AQ$243+AR$243)/Denscalc($K169))*1000*  $K169 * Data!$B$6)) ), 0     )","v":0},146,null,null,{"$f":"IF(AND($A169<>\"\",(AU169+AV169)>0),     IF(AV$13=\"Nm3\",(AW$12*1000*1000/((AU$242+AV$242+AU$243+AV$243)*1000*  $K169 * Data!$B$6)),  (AW$12*1000*1000/(((AU$242+AV$242+AU$243+AV$243)/Denscalc($K169))*1000*  $K169 * Data!$B$6)) ), 0   )","v":0},146,null,null,{"$f":"IF(AND(BA$11>0,$A169<>\"\",(AY169+AZ169)>0), BA$11, IF(AND($A169<>\"\",(AY169+AZ169)>0),\nIF(AZ$13=\"Nm3\",(BA$6*1000*1000/((AY$242+AZ$242+AY$243+AZ$243)*1000*$K169*Data!$B$6))+((BA$12-BA$6)*1000*1000/((AY$242+AZ$242+AY$243+AZ$243-AY$241-AZ$241)*1000*$K169*Data!$B$6)),\n(BA$6*1000*1000/(((AY$242+AZ$242+AY$243+AZ$243)/Denscalc($K169))*1000*$K169*Data!$B$6))+((BA$12-BA$6)*1000*1000/(((AY$242+AZ$242+AY$243+AZ$243-AY$241-AZ$241)/Denscalc($K169))*1000*$K169*Data!$B$6))),0))","v":0},146,null,null,{"$f":"IF(AND(BE$11>0,$A169<>\"\",(BC169+BD169)>0), BE$11, IF(AND($A169<>\"\",(BC169+BD169)>0),\n (BE$6*1000*1000/((BC$244+BD$244)*1000* Data!$B$7))+ ((BE$12-BE$6)*1000*1000/((BC$244+BD$244-BC$241-BD$241)*1000* Data!$B$7)),0))","v":0},146,{"$f":"IF(A169<>\"\", (Data!$B$127*1000*Data!$B$3)/Data!$B$7,  \"\")","v":""},"","",{"$f":"IF(A169<>\"\",  ROUND( (Data!$B$8-BI169)/Data!$B$8,3),   \"\")","v":""},"","","","",{"$f":"IF(A169<>\"\",  IF(TYPE(BN169)=1, ROUND( (Data!$B$8-BN169)/Data!$B$8,3),   \"\"),\"\")","v":""},"",146,"","","",null,""]
[null,147,null,null,"",null,null,null,null,null,null,null,null,null,null,null,{"$f":"IF(AND($A170<>\"\",(O170+P170)>0),    IF(P$13=\"Nm3\",(Q$12*1000*1000/((O$242+P$242+O$243+P$243)*1000*  $K170 * Data!$B$6)),  (Q$12*1000*1000/(((O$242+P$242+O$243+P$243)/Denscalc($K170))*1000*  $K170 * Data!$B$6)) ), 0    )","v":0},147,null,null,{"$f":"IF(AND($A170<>\"\",(S170+T170)>0),    IF(T$13=\"Nm3\",(U$12*1000*1000/((S$242+T$242+S$243+T$243)*1000*  $K170 * Data!$B$6)),  (U$12*1000*1000/(((S$242+T$242+S$243+T$243)/Denscalc($K170))*1000*  $K170 * Data!$B$6)) ), 0     )","v":0},147,null,null,{"$f":"IF(AND($A170<>\"\",(W170+X170)>0),     IF(X$13=\"Nm3\",(Y$12*1000*1000/((W$242+X$242+W$243+X$243)*1000*  $K170 * Data!$B$6)),  (Y$12*1000*1000/(((W$242+X$242+W$243+X$243)/Denscalc($K170))*1000*  $K170 * Data!$B$6)) ), 0   )","v":0},147,null,null,{"$f":"IF(AND($A170<>\"\",(AA170+AB170)>0),     IF(AB$13=\"Nm3\",(AC$12*1000*1000/((AA$242+AB$242+AA$243+AB$243)*1000*  $K170 * Data!$B$6)),  (AC$12*1000*1000/(((AA$242+AB$242+AA$243+AB$243)/Denscalc($K170))*1000*  $K170 * Data!$B$6)) ), 0     )","v":0},147,null,null,{"$f":"IF(AND($A170<>\"\",(AE170+AF170)>0),     IF(AF$13=\"Nm3\",(AG$12*1000*1000/((AE$242+AF$242+AE$243+AF$243)*1000*  $K170 * Data!$B$6)),  (AG$12*1000*1000/(((AE$242+AF$242+AE$243+AF$243)/Denscalc($K170))*1000*  $K170 * Data!$B$6)) ), 0    )","v":0},147,null,null,{"$f":"IF(AND($A170<>\"\",(AI170+AJ170)>0),    IF(AJ$13=\"Nm3\",(AK$12*1000*1000/((AI$242+AJ$242+AI$243+AJ$243)*1000*  $K170 * Data!$B$6)),  (AK$12*1000*1000/(((AI$242+AJ$242+AI$243+AJ$243)/Denscalc($K170))*1000*  $K170 * Data!$B$6)) ), 0    )","v":0},147,null,null,{"$f":"IF(AND($A170<>\"\",(AM170+AN170)>0),     IF(AN$13=\"Nm3\",(AO$12*1000*1000/((AM$242+AN$242+AM$243+AN$243)*1000*  $K170 * Data!$B$6)),  (AO$12*1000*1000/(((AM$242+AN$242+AM$243+AN$243)/Denscalc($K170))*1000*  $K170 * Data!$B$6)) ), 0    )","v":0},147,null,null,{"$f":"IF(AND($A170<>\"\",(AQ170+AR170)>0),     IF(AR$13=\"Nm3\",(AS$12*1000*1000/((AQ$242+AR$242+AQ$243+AR$243)*1000*  $K170 * Data!$B$6)),  (AS$12*1000*1000/(((AQ$242+AR$242+AQ$243+AR$243)/Denscalc($K170))*1000*  $K170 * Data!$B$6)) ), 0     )","v":0},147,null,null,{"$f":"IF(AND($A170<>\"\",(AU170+AV170)>0),     IF(AV$13=\"Nm3\",(AW$12*1000*1000/((AU$242+AV$242+AU$243+AV$243)*1000*  $K170 * Data!$B$6)),  (AW$12*1000*1000/(((AU$242+AV$242+AU$243+AV$243)/Denscalc($K170))*1000*  $K170 * Data!$B$6)) ), 0   )","v":0},147,null,null,{"$f":"IF(AND(BA$11>0,$A170<>\"\",(AY170+AZ170)>0), BA$11, IF(AND($A170<>\"\",(AY170+AZ170)>0),\nIF(AZ$13=\"Nm3\",(BA$6*1000*1000/((AY$242+AZ$242+AY$243+AZ$243)*1000*$K170*Data!$B$6))+((BA$12-BA$6)*1000*1000/((AY$242+AZ$242+AY$243+AZ$243-AY$241-AZ$241)*1000*$K170*Data!$B$6)),\n(BA$6*1000*1000/(((AY$242+AZ$242+AY$243+AZ$243)/Denscalc($K170))*1000*$K170*Data!$B$6))+((BA$12-BA$6)*1000*1000/(((AY$242+AZ$242+AY$243+AZ$243-AY$241-AZ$241)/Denscalc($K170))*1000*$K170*Data!$B$6))),0))","v":0},147,null,null,{"$f":"IF(AND(BE$11>0,$A170<>\"\",(BC170+BD170)>0), BE$11, IF(AND($A170<>\"\",(BC170+BD170)>0),\n (BE$6*1000*1000/((BC$244+BD$244)*1000* Data!$B$7))+ ((BE$12-BE$6)*1000*1000/((BC$244+BD$244-BC$241-BD$241)*1000* Data!$B$7)),0))","v":0},147,{"$f":"IF(A170<>\"\", (Data!$B$127*1000*Data!$B$3)/Data!$B$7,  \"\")","v":""},"","",{"$f":"IF(A170<>\"\",  ROUND( (Data!$B$8-BI170)/Data!$B$8,3),   \"\")","v":""},"","","","",{"$f":"IF(A170<>\"\",  IF(TYPE(BN170)=1, ROUND( (Data!$B$8-BN170)/Data!$B$8,3),   \"\"),\"\")","v":""},"",147,"","","",null,""]
[null,148,null,null,"",null,null,null,null,null,null,null,null,null,null,null,{"$f":"IF(AND($A171<>\"\",(O171+P171)>0),    IF(P$13=\"Nm3\",(Q$12*1000*1000/((O$242+P$242+O$243+P$243)*1000*  $K171 * Data!$B$6)),  (Q$12*1000*1000/(((O$242+P$242+O$243+P$243)/Denscalc($K171))*1000*  $K171 * Data!$B$6)) ), 0    )","v":0},148,null,null,{"$f":"IF(AND($A171<>\"\",(S171+T171)>0),    IF(T$13=\"Nm3\",(U$12*1000*1000/((S$242+T$242+S$243+T$243)*1000*  $K171 * Data!$B$6)),  (U$12*1000*1000/(((S$242+T$242+S$243+T$243)/Denscalc($K171))*1000*  $K171 * Data!$B$6)) ), 0     )","v":0},148,null,null,{"$f":"IF(AND($A171<>\"\",(W171+X171)>0),     IF(X$13=\"Nm3\",(Y$12*1000*1000/((W$242+X$242+W$243+X$243)*1000*  $K171 * Data!$B$6)),  (Y$12*1000*1000/(((W$242+X$242+W$243+X$243)/Denscalc($K171))*1000*  $K171 * Data!$B$6)) ), 0   )","v":0},148,null,null,{"$f":"IF(AND($A171<>\"\",(AA171+AB171)>0),     IF(AB$13=\"Nm3\",(AC$12*1000*1000/((AA$242+AB$242+AA$243+AB$243)*1000*  $K171 * Data!$B$6)),  (AC$12*1000*1000/(((AA$242+AB$242+AA$243+AB$243)/Denscalc($K171))*1000*  $K171 * Data!$B$6)) ), 0     )","v":0},148,null,null,{"$f":"IF(AND($A171<>\"\",(AE171+AF171)>0),     IF(AF$13=\"Nm3\",(AG$12*1000*1000/((AE$242+AF$242+AE$243+AF$243)*1000*  $K171 * Data!$B$6)),  (AG$12*1000*1000/(((AE$242+AF$242+AE$243+AF$243)/Denscalc($K171))*1000*  $K171 * Data!$B$6)) ), 0    )","v":0},148,null,null,{"$f":"IF(AND($A171<>\"\",(AI171+AJ171)>0),    IF(AJ$13=\"Nm3\",(AK$12*1000*1000/((AI$242+AJ$242+AI$243+AJ$243)*1000*  $K171 * Data!$B$6)),  (AK$12*1000*1000/(((AI$242+AJ$242+AI$243+AJ$243)/Denscalc($K171))*1000*  $K171 * Data!$B$6)) ), 0    )","v":0},148,null,null,{"$f":"IF(AND($A171<>\"\",(AM171+AN171)>0),     IF(AN$13=\"Nm3\",(AO$12*1000*1000/((AM$242+AN$242+AM$243+AN$243)*1000*  $K171 * Data!$B$6)),  (AO$12*1000*1000/(((AM$242+AN$242+AM$243+AN$243)/Denscalc($K171))*1000*  $K171 * Data!$B$6)) ), 0    )","v":0},148,null,null,{"$f":"IF(AND($A171<>\"\",(AQ171+AR171)>0),     IF(AR$13=\"Nm3\",(AS$12*1000*1000/((AQ$242+AR$242+AQ$243+AR$243)*1000*  $K171 * Data!$B$6)),  (AS$12*1000*1000/(((AQ$242+AR$242+AQ$243+AR$243)/Denscalc($K171))*1000*  $K171 * Data!$B$6)) ), 0     )","v":0},148,null,null,{"$f":"IF(AND($A171<>\"\",(AU171+AV171)>0),     IF(AV$13=\"Nm3\",(AW$12*1000*1000/((AU$242+AV$242+AU$243+AV$243)*1000*  $K171 * Data!$B$6)),  (AW$12*1000*1000/(((AU$242+AV$242+AU$243+AV$243)/Denscalc($K171))*1000*  $K171 * Data!$B$6)) ), 0   )","v":0},148,null,null,{"$f":"IF(AND(BA$11>0,$A171<>\"\",(AY171+AZ171)>0), BA$11, IF(AND($A171<>\"\",(AY171+AZ171)>0),\nIF(AZ$13=\"Nm3\",(BA$6*1000*1000/((AY$242+AZ$242+AY$243+AZ$243)*1000*$K171*Data!$B$6))+((BA$12-BA$6)*1000*1000/((AY$242+AZ$242+AY$243+AZ$243-AY$241-AZ$241)*1000*$K171*Data!$B$6)),\n(BA$6*1000*1000/(((AY$242+AZ$242+AY$243+AZ$243)/Denscalc($K171))*1000*$K171*Data!$B$6))+((BA$12-BA$6)*1000*1000/(((AY$242+AZ$242+AY$243+AZ$243-AY$241-AZ$241)/Denscalc($K171))*1000*$K171*Data!$B$6))),0))","v":0},148,null,null,{"$f":"IF(AND(BE$11>0,$A171<>\"\",(BC171+BD171)>0), BE$11, IF(AND($A171<>\"\",(BC171+BD171)>0),\n (BE$6*1000*1000/((BC$244+BD$244)*1000* Data!$B$7))+ ((BE$12-BE$6)*1000*1000/((BC$244+BD$244-BC$241-BD$241)*1000* Data!$B$7)),0))","v":0},148,{"$f":"IF(A171<>\"\", (Data!$B$127*1000*Data!$B$3)/Data!$B$7,  \"\")","v":""},"","",{"$f":"IF(A171<>\"\",  ROUND( (Data!$B$8-BI171)/Data!$B$8,3),   \"\")","v":""},"","","","",{"$f":"IF(A171<>\"\",  IF(TYPE(BN171)=1, ROUND( (Data!$B$8-BN171)/Data!$B$8,3),   \"\"),\"\")","v":""},"",148,"","","",null,""]
[null,149,null,null,"",null,null,null,null,null,null,null,null,null,null,null,{"$f":"IF(AND($A172<>\"\",(O172+P172)>0),    IF(P$13=\"Nm3\",(Q$12*1000*1000/((O$242+P$242+O$243+P$243)*1000*  $K172 * Data!$B$6)),  (Q$12*1000*1000/(((O$242+P$242+O$243+P$243)/Denscalc($K172))*1000*  $K172 * Data!$B$6)) ), 0    )","v":0},149,null,null,{"$f":"IF(AND($A172<>\"\",(S172+T172)>0),    IF(T$13=\"Nm3\",(U$12*1000*1000/((S$242+T$242+S$243+T$243)*1000*  $K172 * Data!$B$6)),  (U$12*1000*1000/(((S$242+T$242+S$243+T$243)/Denscalc($K172))*1000*  $K172 * Data!$B$6)) ), 0     )","v":0},149,null,null,{"$f":"IF(AND($A172<>\"\",(W172+X172)>0),     IF(X$13=\"Nm3\",(Y$12*1000*1000/((W$242+X$242+W$243+X$243)*1000*  $K172 * Data!$B$6)),  (Y$12*1000*1000/(((W$242+X$242+W$243+X$243)/Denscalc($K172))*1000*  $K172 * Data!$B$6)) ), 0   )","v":0},149,null,null,{"$f":"IF(AND($A172<>\"\",(AA172+AB172)>0),     IF(AB$13=\"Nm3\",(AC$12*1000*1000/((AA$242+AB$242+AA$243+AB$243)*1000*  $K172 * Data!$B$6)),  (AC$12*1000*1000/(((AA$242+AB$242+AA$243+AB$243)/Denscalc($K172))*1000*  $K172 * Data!$B$6)) ), 0     )","v":0},149,null,null,{"$f":"IF(AND($A172<>\"\",(AE172+AF172)>0),     IF(AF$13=\"Nm3\",(AG$12*1000*1000/((AE$242+AF$242+AE$243+AF$243)*1000*  $K172 * Data!$B$6)),  (AG$12*1000*1000/(((AE$242+AF$242+AE$243+AF$243)/Denscalc($K172))*1000*  $K172 * Data!$B$6)) ), 0    )","v":0},149,null,null,{"$f":"IF(AND($A172<>\"\",(AI172+AJ172)>0),    IF(AJ$13=\"Nm3\",(AK$12*1000*1000/((AI$242+AJ$242+AI$243+AJ$243)*1000*  $K172 * Data!$B$6)),  (AK$12*1000*1000/(((AI$242+AJ$242+AI$243+AJ$243)/Denscalc($K172))*1000*  $K172 * Data!$B$6)) ), 0    )","v":0},149,null,null,{"$f":"IF(AND($A172<>\"\",(AM172+AN172)>0),     IF(AN$13=\"Nm3\",(AO$12*1000*1000/((AM$242+AN$242+AM$243+AN$243)*1000*  $K172 * Data!$B$6)),  (AO$12*1000*1000/(((AM$242+AN$242+AM$243+AN$243)/Denscalc($K172))*1000*  $K172 * Data!$B$6)) ), 0    )","v":0},149,null,null,{"$f":"IF(AND($A172<>\"\",(AQ172+AR172)>0),     IF(AR$13=\"Nm3\",(AS$12*1000*1000/((AQ$242+AR$242+AQ$243+AR$243)*1000*  $K172 * Data!$B$6)),  (AS$12*1000*1000/(((AQ$242+AR$242+AQ$243+AR$243)/Denscalc($K172))*1000*  $K172 * Data!$B$6)) ), 0     )","v":0},149,null,null,{"$f":"IF(AND($A172<>\"\",(AU172+AV172)>0),     IF(AV$13=\"Nm3\",(AW$12*1000*1000/((AU$242+AV$242+AU$243+AV$243)*1000*  $K172 * Data!$B$6)),  (AW$12*1000*1000/(((AU$242+AV$242+AU$243+AV$243)/Denscalc($K172))*1000*  $K172 * Data!$B$6)) ), 0   )","v":0},149,null,null,{"$f":"IF(AND(BA$11>0,$A172<>\"\",(AY172+AZ172)>0), BA$11, IF(AND($A172<>\"\",(AY172+AZ172)>0),\nIF(AZ$13=\"Nm3\",(BA$6*1000*1000/((AY$242+AZ$242+AY$243+AZ$243)*1000*$K172*Data!$B$6))+((BA$12-BA$6)*1000*1000/((AY$242+AZ$242+AY$243+AZ$243-AY$241-AZ$241)*1000*$K172*Data!$B$6)),\n(BA$6*1000*1000/(((AY$242+AZ$242+AY$243+AZ$243)/Denscalc($K172))*1000*$K172*Data!$B$6))+((BA$12-BA$6)*1000*1000/(((AY$242+AZ$242+AY$243+AZ$243-AY$241-AZ$241)/Denscalc($K172))*1000*$K172*Data!$B$6))),0))","v":0},149,null,null,{"$f":"IF(AND(BE$11>0,$A172<>\"\",(BC172+BD172)>0), BE$11, IF(AND($A172<>\"\",(BC172+BD172)>0),\n (BE$6*1000*1000/((BC$244+BD$244)*1000* Data!$B$7))+ ((BE$12-BE$6)*1000*1000/((BC$244+BD$244-BC$241-BD$241)*1000* Data!$B$7)),0))","v":0},149,{"$f":"IF(A172<>\"\", (Data!$B$127*1000*Data!$B$3)/Data!$B$7,  \"\")","v":""},"","",{"$f":"IF(A172<>\"\",  ROUND( (Data!$B$8-BI172)/Data!$B$8,3),   \"\")","v":""},"","","","",{"$f":"IF(A172<>\"\",  IF(TYPE(BN172)=1, ROUND( (Data!$B$8-BN172)/Data!$B$8,3),   \"\"),\"\")","v":""},"",149,"","","",null,""]
[null,150,null,null,"",null,null,null,null,null,null,null,null,null,null,null,{"$f":"IF(AND($A173<>\"\",(O173+P173)>0),    IF(P$13=\"Nm3\",(Q$12*1000*1000/((O$242+P$242+O$243+P$243)*1000*  $K173 * Data!$B$6)),  (Q$12*1000*1000/(((O$242+P$242+O$243+P$243)/Denscalc($K173))*1000*  $K173 * Data!$B$6)) ), 0    )","v":0},150,null,null,{"$f":"IF(AND($A173<>\"\",(S173+T173)>0),    IF(T$13=\"Nm3\",(U$12*1000*1000/((S$242+T$242+S$243+T$243)*1000*  $K173 * Data!$B$6)),  (U$12*1000*1000/(((S$242+T$242+S$243+T$243)/Denscalc($K173))*1000*  $K173 * Data!$B$6)) ), 0     )","v":0},150,null,null,{"$f":"IF(AND($A173<>\"\",(W173+X173)>0),     IF(X$13=\"Nm3\",(Y$12*1000*1000/((W$242+X$242+W$243+X$243)*1000*  $K173 * Data!$B$6)),  (Y$12*1000*1000/(((W$242+X$242+W$243+X$243)/Denscalc($K173))*1000*  $K173 * Data!$B$6)) ), 0   )","v":0},150,null,null,{"$f":"IF(AND($A173<>\"\",(AA173+AB173)>0),     IF(AB$13=\"Nm3\",(AC$12*1000*1000/((AA$242+AB$242+AA$243+AB$243)*1000*  $K173 * Data!$B$6)),  (AC$12*1000*1000/(((AA$242+AB$242+AA$243+AB$243)/Denscalc($K173))*1000*  $K173 * Data!$B$6)) ), 0     )","v":0},150,null,null,{"$f":"IF(AND($A173<>\"\",(AE173+AF173)>0),     IF(AF$13=\"Nm3\",(AG$12*1000*1000/((AE$242+AF$242+AE$243+AF$243)*1000*  $K173 * Data!$B$6)),  (AG$12*1000*1000/(((AE$242+AF$242+AE$243+AF$243)/Denscalc($K173))*1000*  $K173 * Data!$B$6)) ), 0    )","v":0},150,null,null,{"$f":"IF(AND($A173<>\"\",(AI173+AJ173)>0),    IF(AJ$13=\"Nm3\",(AK$12*1000*1000/((AI$242+AJ$242+AI$243+AJ$243)*1000*  $K173 * Data!$B$6)),  (AK$12*1000*1000/(((AI$242+AJ$242+AI$243+AJ$243)/Denscalc($K173))*1000*  $K173 * Data!$B$6)) ), 0    )","v":0},150,null,null,{"$f":"IF(AND($A173<>\"\",(AM173+AN173)>0),     IF(AN$13=\"Nm3\",(AO$12*1000*1000/((AM$242+AN$242+AM$243+AN$243)*1000*  $K173 * Data!$B$6)),  (AO$12*1000*1000/(((AM$242+AN$242+AM$243+AN$243)/Denscalc($K173))*1000*  $K173 * Data!$B$6)) ), 0    )","v":0},150,null,null,{"$f":"IF(AND($A173<>\"\",(AQ173+AR173)>0),     IF(AR$13=\"Nm3\",(AS$12*1000*1000/((AQ$242+AR$242+AQ$243+AR$243)*1000*  $K173 * Data!$B$6)),  (AS$12*1000*1000/(((AQ$242+AR$242+AQ$243+AR$243)/Denscalc($K173))*1000*  $K173 * Data!$B$6)) ), 0     )","v":0},150,null,null,{"$f":"IF(AND($A173<>\"\",(AU173+AV173)>0),     IF(AV$13=\"Nm3\",(AW$12*1000*1000/((AU$242+AV$242+AU$243+AV$243)*1000*  $K173 * Data!$B$6)),  (AW$12*1000*1000/(((AU$242+AV$242+AU$243+AV$243)/Denscalc($K173))*1000*  $K173 * Data!$B$6)) ), 0   )","v":0},150,null,null,{"$f":"IF(AND(BA$11>0,$A173<>\"\",(AY173+AZ173)>0), BA$11, IF(AND($A173<>\"\",(AY173+AZ173)>0),\nIF(AZ$13=\"Nm3\",(BA$6*1000*1000/((AY$242+AZ$242+AY$243+AZ$243)*1000*$K173*Data!$B$6))+((BA$12-BA$6)*1000*1000/((AY$242+AZ$242+AY$243+AZ$243-AY$241-AZ$241)*1000*$K173*Data!$B$6)),\n(BA$6*1000*1000/(((AY$242+AZ$242+AY$243+AZ$243)/Denscalc($K173))*1000*$K173*Data!$B$6))+((BA$12-BA$6)*1000*1000/(((AY$242+AZ$242+AY$243+AZ$243-AY$241-AZ$241)/Denscalc($K173))*1000*$K173*Data!$B$6))),0))","v":0},150,null,null,{"$f":"IF(AND(BE$11>0,$A173<>\"\",(BC173+BD173)>0), BE$11, IF(AND($A173<>\"\",(BC173+BD173)>0),\n (BE$6*1000*1000/((BC$244+BD$244)*1000* Data!$B$7))+ ((BE$12-BE$6)*1000*1000/((BC$244+BD$244-BC$241-BD$241)*1000* Data!$B$7)),0))","v":0},150,{"$f":"IF(A173<>\"\", (Data!$B$127*1000*Data!$B$3)/Data!$B$7,  \"\")","v":""},"","",{"$f":"IF(A173<>\"\",  ROUND( (Data!$B$8-BI173)/Data!$B$8,3),   \"\")","v":""},"","","","",{"$f":"IF(A173<>\"\",  IF(TYPE(BN173)=1, ROUND( (Data!$B$8-BN173)/Data!$B$8,3),   \"\"),\"\")","v":""},"",150,"","","",null,""]
[null,151,null,null,null,null,null,null,null,null,null,null,null,null,null,null,{"$f":"IF(AND($A174<>\"\",(O174+P174)>0),    IF(P$13=\"Nm3\",(Q$12*1000*1000/((O$242+P$242+O$243+P$243)*1000*  $K174 * Data!$B$6)),  (Q$12*1000*1000/(((O$242+P$242+O$243+P$243)/Denscalc($K174))*1000*  $K174 * Data!$B$6)) ), 0    )","v":0},151,null,null,{"$f":"IF(AND($A174<>\"\",(S174+T174)>0),    IF(T$13=\"Nm3\",(U$12*1000*1000/((S$242+T$242+S$243+T$243)*1000*  $K174 * Data!$B$6)),  (U$12*1000*1000/(((S$242+T$242+S$243+T$243)/Denscalc($K174))*1000*  $K174 * Data!$B$6)) ), 0     )","v":0},151,null,null,{"$f":"IF(AND($A174<>\"\",(W174+X174)>0),     IF(X$13=\"Nm3\",(Y$12*1000*1000/((W$242+X$242+W$243+X$243)*1000*  $K174 * Data!$B$6)),  (Y$12*1000*1000/(((W$242+X$242+W$243+X$243)/Denscalc($K174))*1000*  $K174 * Data!$B$6)) ), 0   )","v":0},151,null,null,{"$f":"IF(AND($A174<>\"\",(AA174+AB174)>0),     IF(AB$13=\"Nm3\",(AC$12*1000*1000/((AA$242+AB$242+AA$243+AB$243)*1000*  $K174 * Data!$B$6)),  (AC$12*1000*1000/(((AA$242+AB$242+AA$243+AB$243)/Denscalc($K174))*1000*  $K174 * Data!$B$6)) ), 0     )","v":0},151,null,null,{"$f":"IF(AND($A174<>\"\",(AE174+AF174)>0),     IF(AF$13=\"Nm3\",(AG$12*1000*1000/((AE$242+AF$242+AE$243+AF$243)*1000*  $K174 * Data!$B$6)),  (AG$12*1000*1000/(((AE$242+AF$242+AE$243+AF$243)/Denscalc($K174))*1000*  $K174 * Data!$B$6)) ), 0    )","v":0},151,null,null,{"$f":"IF(AND($A174<>\"\",(AI174+AJ174)>0),    IF(AJ$13=\"Nm3\",(AK$12*1000*1000/((AI$242+AJ$242+AI$243+AJ$243)*1000*  $K174 * Data!$B$6)),  (AK$12*1000*1000/(((AI$242+AJ$242+AI$243+AJ$243)/Denscalc($K174))*1000*  $K174 * Data!$B$6)) ), 0    )","v":0},151,null,null,{"$f":"IF(AND($A174<>\"\",(AM174+AN174)>0),     IF(AN$13=\"Nm3\",(AO$12*1000*1000/((AM$242+AN$242+AM$243+AN$243)*1000*  $K174 * Data!$B$6)),  (AO$12*1000*1000/(((AM$242+AN$242+AM$243+AN$243)/Denscalc($K174))*1000*  $K174 * Data!$B$6)) ), 0    )","v":0},151,null,null,{"$f":"IF(AND($A174<>\"\",(AQ174+AR174)>0),     IF(AR$13=\"Nm3\",(AS$12*1000*1000/((AQ$242+AR$242+AQ$243+AR$243)*1000*  $K174 * Data!$B$6)),  (AS$12*1000*1000/(((AQ$242+AR$242+AQ$243+AR$243)/Denscalc($K174))*1000*  $K174 * Data!$B$6)) ), 0     )","v":0},151,null,null,{"$f":"IF(AND($A174<>\"\",(AU174+AV174)>0),     IF(AV$13=\"Nm3\",(AW$12*1000*1000/((AU$242+AV$242+AU$243+AV$243)*1000*  $K174 * Data!$B$6)),  (AW$12*1000*1000/(((AU$242+AV$242+AU$243+AV$243)/Denscalc($K174))*1000*  $K174 * Data!$B$6)) ), 0   )","v":0},151,null,null,{"$f":"IF(AND(BA$11>0,$A174<>\"\",(AY174+AZ174)>0), BA$11, IF(AND($A174<>\"\",(AY174+AZ174)>0),\nIF(AZ$13=\"Nm3\",(BA$6*1000*1000/((AY$242+AZ$242+AY$243+AZ$243)*1000*$K174*Data!$B$6))+((BA$12-BA$6)*1000*1000/((AY$242+AZ$242+AY$243+AZ$243-AY$241-AZ$241)*1000*$K174*Data!$B$6)),\n(BA$6*1000*1000/(((AY$242+AZ$242+AY$243+AZ$243)/Denscalc($K174))*1000*$K174*Data!$B$6))+((BA$12-BA$6)*1000*1000/(((AY$242+AZ$242+AY$243+AZ$243-AY$241-AZ$241)/Denscalc($K174))*1000*$K174*Data!$B$6))),0))","v":0},151,null,null,{"$f":"IF(AND(BE$11>0,$A174<>\"\",(BC174+BD174)>0), BE$11, IF(AND($A174<>\"\",(BC174+BD174)>0),\n (BE$6*1000*1000/((BC$244+BD$244)*1000* Data!$B$7))+ ((BE$12-BE$6)*1000*1000/((BC$244+BD$244-BC$241-BD$241)*1000* Data!$B$7)),0))","v":0},151,{"$f":"IF(A174<>\"\", (Data!$B$127*1000*Data!$B$3)/Data!$B$7,  \"\")","v":""},"","",{"$f":"IF(A174<>\"\",  ROUND( (Data!$B$8-BI174)/Data!$B$8,3),   \"\")","v":""},"","","","",{"$f":"IF(A174<>\"\",  IF(TYPE(BN174)=1, ROUND( (Data!$B$8-BN174)/Data!$B$8,3),   \"\"),\"\")","v":""},"",151,"","","",null,""]
[null,152,null,null,null,null,null,null,null,null,null,null,null,null,null,null,{"$f":"IF(AND($A175<>\"\",(O175+P175)>0),    IF(P$13=\"Nm3\",(Q$12*1000*1000/((O$242+P$242+O$243+P$243)*1000*  $K175 * Data!$B$6)),  (Q$12*1000*1000/(((O$242+P$242+O$243+P$243)/Denscalc($K175))*1000*  $K175 * Data!$B$6)) ), 0    )","v":0},152,null,null,{"$f":"IF(AND($A175<>\"\",(S175+T175)>0),    IF(T$13=\"Nm3\",(U$12*1000*1000/((S$242+T$242+S$243+T$243)*1000*  $K175 * Data!$B$6)),  (U$12*1000*1000/(((S$242+T$242+S$243+T$243)/Denscalc($K175))*1000*  $K175 * Data!$B$6)) ), 0     )","v":0},152,null,null,{"$f":"IF(AND($A175<>\"\",(W175+X175)>0),     IF(X$13=\"Nm3\",(Y$12*1000*1000/((W$242+X$242+W$243+X$243)*1000*  $K175 * Data!$B$6)),  (Y$12*1000*1000/(((W$242+X$242+W$243+X$243)/Denscalc($K175))*1000*  $K175 * Data!$B$6)) ), 0   )","v":0},152,null,null,{"$f":"IF(AND($A175<>\"\",(AA175+AB175)>0),     IF(AB$13=\"Nm3\",(AC$12*1000*1000/((AA$242+AB$242+AA$243+AB$243)*1000*  $K175 * Data!$B$6)),  (AC$12*1000*1000/(((AA$242+AB$242+AA$243+AB$243)/Denscalc($K175))*1000*  $K175 * Data!$B$6)) ), 0     )","v":0},152,null,null,{"$f":"IF(AND($A175<>\"\",(AE175+AF175)>0),     IF(AF$13=\"Nm3\",(AG$12*1000*1000/((AE$242+AF$242+AE$243+AF$243)*1000*  $K175 * Data!$B$6)),  (AG$12*1000*1000/(((AE$242+AF$242+AE$243+AF$243)/Denscalc($K175))*1000*  $K175 * Data!$B$6)) ), 0    )","v":0},152,null,null,{"$f":"IF(AND($A175<>\"\",(AI175+AJ175)>0),    IF(AJ$13=\"Nm3\",(AK$12*1000*1000/((AI$242+AJ$242+AI$243+AJ$243)*1000*  $K175 * Data!$B$6)),  (AK$12*1000*1000/(((AI$242+AJ$242+AI$243+AJ$243)/Denscalc($K175))*1000*  $K175 * Data!$B$6)) ), 0    )","v":0},152,null,null,{"$f":"IF(AND($A175<>\"\",(AM175+AN175)>0),     IF(AN$13=\"Nm3\",(AO$12*1000*1000/((AM$242+AN$242+AM$243+AN$243)*1000*  $K175 * Data!$B$6)),  (AO$12*1000*1000/(((AM$242+AN$242+AM$243+AN$243)/Denscalc($K175))*1000*  $K175 * Data!$B$6)) ), 0    )","v":0},152,null,null,{"$f":"IF(AND($A175<>\"\",(AQ175+AR175)>0),     IF(AR$13=\"Nm3\",(AS$12*1000*1000/((AQ$242+AR$242+AQ$243+AR$243)*1000*  $K175 * Data!$B$6)),  (AS$12*1000*1000/(((AQ$242+AR$242+AQ$243+AR$243)/Denscalc($K175))*1000*  $K175 * Data!$B$6)) ), 0     )","v":0},152,null,null,{"$f":"IF(AND($A175<>\"\",(AU175+AV175)>0),     IF(AV$13=\"Nm3\",(AW$12*1000*1000/((AU$242+AV$242+AU$243+AV$243)*1000*  $K175 * Data!$B$6)),  (AW$12*1000*1000/(((AU$242+AV$242+AU$243+AV$243)/Denscalc($K175))*1000*  $K175 * Data!$B$6)) ), 0   )","v":0},152,null,null,{"$f":"IF(AND(BA$11>0,$A175<>\"\",(AY175+AZ175)>0), BA$11, IF(AND($A175<>\"\",(AY175+AZ175)>0),\nIF(AZ$13=\"Nm3\",(BA$6*1000*1000/((AY$242+AZ$242+AY$243+AZ$243)*1000*$K175*Data!$B$6))+((BA$12-BA$6)*1000*1000/((AY$242+AZ$242+AY$243+AZ$243-AY$241-AZ$241)*1000*$K175*Data!$B$6)),\n(BA$6*1000*1000/(((AY$242+AZ$242+AY$243+AZ$243)/Denscalc($K175))*1000*$K175*Data!$B$6))+((BA$12-BA$6)*1000*1000/(((AY$242+AZ$242+AY$243+AZ$243-AY$241-AZ$241)/Denscalc($K175))*1000*$K175*Data!$B$6))),0))","v":0},152,null,null,{"$f":"IF(AND(BE$11>0,$A175<>\"\",(BC175+BD175)>0), BE$11, IF(AND($A175<>\"\",(BC175+BD175)>0),\n (BE$6*1000*1000/((BC$244+BD$244)*1000* Data!$B$7))+ ((BE$12-BE$6)*1000*1000/((BC$244+BD$244-BC$241-BD$241)*1000* Data!$B$7)),0))","v":0},152,{"$f":"IF(A175<>\"\", (Data!$B$127*1000*Data!$B$3)/Data!$B$7,  \"\")","v":""},"","",{"$f":"IF(A175<>\"\",  ROUND( (Data!$B$8-BI175)/Data!$B$8,3),   \"\")","v":""},"","","","",{"$f":"IF(A175<>\"\",  IF(TYPE(BN175)=1, ROUND( (Data!$B$8-BN175)/Data!$B$8,3),   \"\"),\"\")","v":""},"",152,"","","",null,""]
[null,153,null,null,null,null,null,null,null,null,null,null,null,null,null,null,{"$f":"IF(AND($A176<>\"\",(O176+P176)>0),    IF(P$13=\"Nm3\",(Q$12*1000*1000/((O$242+P$242+O$243+P$243)*1000*  $K176 * Data!$B$6)),  (Q$12*1000*1000/(((O$242+P$242+O$243+P$243)/Denscalc($K176))*1000*  $K176 * Data!$B$6)) ), 0    )","v":0},153,null,null,{"$f":"IF(AND($A176<>\"\",(S176+T176)>0),    IF(T$13=\"Nm3\",(U$12*1000*1000/((S$242+T$242+S$243+T$243)*1000*  $K176 * Data!$B$6)),  (U$12*1000*1000/(((S$242+T$242+S$243+T$243)/Denscalc($K176))*1000*  $K176 * Data!$B$6)) ), 0     )","v":0},153,null,null,{"$f":"IF(AND($A176<>\"\",(W176+X176)>0),     IF(X$13=\"Nm3\",(Y$12*1000*1000/((W$242+X$242+W$243+X$243)*1000*  $K176 * Data!$B$6)),  (Y$12*1000*1000/(((W$242+X$242+W$243+X$243)/Denscalc($K176))*1000*  $K176 * Data!$B$6)) ), 0   )","v":0},153,null,null,{"$f":"IF(AND($A176<>\"\",(AA176+AB176)>0),     IF(AB$13=\"Nm3\",(AC$12*1000*1000/((AA$242+AB$242+AA$243+AB$243)*1000*  $K176 * Data!$B$6)),  (AC$12*1000*1000/(((AA$242+AB$242+AA$243+AB$243)/Denscalc($K176))*1000*  $K176 * Data!$B$6)) ), 0     )","v":0},153,null,null,{"$f":"IF(AND($A176<>\"\",(AE176+AF176)>0),     IF(AF$13=\"Nm3\",(AG$12*1000*1000/((AE$242+AF$242+AE$243+AF$243)*1000*  $K176 * Data!$B$6)),  (AG$12*1000*1000/(((AE$242+AF$242+AE$243+AF$243)/Denscalc($K176))*1000*  $K176 * Data!$B$6)) ), 0    )","v":0},153,null,null,{"$f":"IF(AND($A176<>\"\",(AI176+AJ176)>0),    IF(AJ$13=\"Nm3\",(AK$12*1000*1000/((AI$242+AJ$242+AI$243+AJ$243)*1000*  $K176 * Data!$B$6)),  (AK$12*1000*1000/(((AI$242+AJ$242+AI$243+AJ$243)/Denscalc($K176))*1000*  $K176 * Data!$B$6)) ), 0    )","v":0},153,null,null,{"$f":"IF(AND($A176<>\"\",(AM176+AN176)>0),     IF(AN$13=\"Nm3\",(AO$12*1000*1000/((AM$242+AN$242+AM$243+AN$243)*1000*  $K176 * Data!$B$6)),  (AO$12*1000*1000/(((AM$242+AN$242+AM$243+AN$243)/Denscalc($K176))*1000*  $K176 * Data!$B$6)) ), 0    )","v":0},153,null,null,{"$f":"IF(AND($A176<>\"\",(AQ176+AR176)>0),     IF(AR$13=\"Nm3\",(AS$12*1000*1000/((AQ$242+AR$242+AQ$243+AR$243)*1000*  $K176 * Data!$B$6)),  (AS$12*1000*1000/(((AQ$242+AR$242+AQ$243+AR$243)/Denscalc($K176))*1000*  $K176 * Data!$B$6)) ), 0     )","v":0},153,null,null,{"$f":"IF(AND($A176<>\"\",(AU176+AV176)>0),     IF(AV$13=\"Nm3\",(AW$12*1000*1000/((AU$242+AV$242+AU$243+AV$243)*1000*  $K176 * Data!$B$6)),  (AW$12*1000*1000/(((AU$242+AV$242+AU$243+AV$243)/Denscalc($K176))*1000*  $K176 * Data!$B$6)) ), 0   )","v":0},153,null,null,{"$f":"IF(AND(BA$11>0,$A176<>\"\",(AY176+AZ176)>0), BA$11, IF(AND($A176<>\"\",(AY176+AZ176)>0),\nIF(AZ$13=\"Nm3\",(BA$6*1000*1000/((AY$242+AZ$242+AY$243+AZ$243)*1000*$K176*Data!$B$6))+((BA$12-BA$6)*1000*1000/((AY$242+AZ$242+AY$243+AZ$243-AY$241-AZ$241)*1000*$K176*Data!$B$6)),\n(BA$6*1000*1000/(((AY$242+AZ$242+AY$243+AZ$243)/Denscalc($K176))*1000*$K176*Data!$B$6))+((BA$12-BA$6)*1000*1000/(((AY$242+AZ$242+AY$243+AZ$243-AY$241-AZ$241)/Denscalc($K176))*1000*$K176*Data!$B$6))),0))","v":0},153,null,null,{"$f":"IF(AND(BE$11>0,$A176<>\"\",(BC176+BD176)>0), BE$11, IF(AND($A176<>\"\",(BC176+BD176)>0),\n (BE$6*1000*1000/((BC$244+BD$244)*1000* Data!$B$7))+ ((BE$12-BE$6)*1000*1000/((BC$244+BD$244-BC$241-BD$241)*1000* Data!$B$7)),0))","v":0},153,{"$f":"IF(A176<>\"\", (Data!$B$127*1000*Data!$B$3)/Data!$B$7,  \"\")","v":""},"","",{"$f":"IF(A176<>\"\",  ROUND( (Data!$B$8-BI176)/Data!$B$8,3),   \"\")","v":""},"","","","",{"$f":"IF(A176<>\"\",  IF(TYPE(BN176)=1, ROUND( (Data!$B$8-BN176)/Data!$B$8,3),   \"\"),\"\")","v":""},"",153,"","","",null,""]
[null,154,null,null,null,null,null,null,null,null,null,null,null,null,null,null,{"$f":"IF(AND($A177<>\"\",(O177+P177)>0),    IF(P$13=\"Nm3\",(Q$12*1000*1000/((O$242+P$242+O$243+P$243)*1000*  $K177 * Data!$B$6)),  (Q$12*1000*1000/(((O$242+P$242+O$243+P$243)/Denscalc($K177))*1000*  $K177 * Data!$B$6)) ), 0    )","v":0},154,null,null,{"$f":"IF(AND($A177<>\"\",(S177+T177)>0),    IF(T$13=\"Nm3\",(U$12*1000*1000/((S$242+T$242+S$243+T$243)*1000*  $K177 * Data!$B$6)),  (U$12*1000*1000/(((S$242+T$242+S$243+T$243)/Denscalc($K177))*1000*  $K177 * Data!$B$6)) ), 0     )","v":0},154,null,null,{"$f":"IF(AND($A177<>\"\",(W177+X177)>0),     IF(X$13=\"Nm3\",(Y$12*1000*1000/((W$242+X$242+W$243+X$243)*1000*  $K177 * Data!$B$6)),  (Y$12*1000*1000/(((W$242+X$242+W$243+X$243)/Denscalc($K177))*1000*  $K177 * Data!$B$6)) ), 0   )","v":0},154,null,null,{"$f":"IF(AND($A177<>\"\",(AA177+AB177)>0),     IF(AB$13=\"Nm3\",(AC$12*1000*1000/((AA$242+AB$242+AA$243+AB$243)*1000*  $K177 * Data!$B$6)),  (AC$12*1000*1000/(((AA$242+AB$242+AA$243+AB$243)/Denscalc($K177))*1000*  $K177 * Data!$B$6)) ), 0     )","v":0},154,null,null,{"$f":"IF(AND($A177<>\"\",(AE177+AF177)>0),     IF(AF$13=\"Nm3\",(AG$12*1000*1000/((AE$242+AF$242+AE$243+AF$243)*1000*  $K177 * Data!$B$6)),  (AG$12*1000*1000/(((AE$242+AF$242+AE$243+AF$243)/Denscalc($K177))*1000*  $K177 * Data!$B$6)) ), 0    )","v":0},154,null,null,{"$f":"IF(AND($A177<>\"\",(AI177+AJ177)>0),    IF(AJ$13=\"Nm3\",(AK$12*1000*1000/((AI$242+AJ$242+AI$243+AJ$243)*1000*  $K177 * Data!$B$6)),  (AK$12*1000*1000/(((AI$242+AJ$242+AI$243+AJ$243)/Denscalc($K177))*1000*  $K177 * Data!$B$6)) ), 0    )","v":0},154,null,null,{"$f":"IF(AND($A177<>\"\",(AM177+AN177)>0),     IF(AN$13=\"Nm3\",(AO$12*1000*1000/((AM$242+AN$242+AM$243+AN$243)*1000*  $K177 * Data!$B$6)),  (AO$12*1000*1000/(((AM$242+AN$242+AM$243+AN$243)/Denscalc($K177))*1000*  $K177 * Data!$B$6)) ), 0    )","v":0},154,null,null,{"$f":"IF(AND($A177<>\"\",(AQ177+AR177)>0),     IF(AR$13=\"Nm3\",(AS$12*1000*1000/((AQ$242+AR$242+AQ$243+AR$243)*1000*  $K177 * Data!$B$6)),  (AS$12*1000*1000/(((AQ$242+AR$242+AQ$243+AR$243)/Denscalc($K177))*1000*  $K177 * Data!$B$6)) ), 0     )","v":0},154,null,null,{"$f":"IF(AND($A177<>\"\",(AU177+AV177)>0),     IF(AV$13=\"Nm3\",(AW$12*1000*1000/((AU$242+AV$242+AU$243+AV$243)*1000*  $K177 * Data!$B$6)),  (AW$12*1000*1000/(((AU$242+AV$242+AU$243+AV$243)/Denscalc($K177))*1000*  $K177 * Data!$B$6)) ), 0   )","v":0},154,null,null,{"$f":"IF(AND(BA$11>0,$A177<>\"\",(AY177+AZ177)>0), BA$11, IF(AND($A177<>\"\",(AY177+AZ177)>0),\nIF(AZ$13=\"Nm3\",(BA$6*1000*1000/((AY$242+AZ$242+AY$243+AZ$243)*1000*$K177*Data!$B$6))+((BA$12-BA$6)*1000*1000/((AY$242+AZ$242+AY$243+AZ$243-AY$241-AZ$241)*1000*$K177*Data!$B$6)),\n(BA$6*1000*1000/(((AY$242+AZ$242+AY$243+AZ$243)/Denscalc($K177))*1000*$K177*Data!$B$6))+((BA$12-BA$6)*1000*1000/(((AY$242+AZ$242+AY$243+AZ$243-AY$241-AZ$241)/Denscalc($K177))*1000*$K177*Data!$B$6))),0))","v":0},154,null,null,{"$f":"IF(AND(BE$11>0,$A177<>\"\",(BC177+BD177)>0), BE$11, IF(AND($A177<>\"\",(BC177+BD177)>0),\n (BE$6*1000*1000/((BC$244+BD$244)*1000* Data!$B$7))+ ((BE$12-BE$6)*1000*1000/((BC$244+BD$244-BC$241-BD$241)*1000* Data!$B$7)),0))","v":0},154,{"$f":"IF(A177<>\"\", (Data!$B$127*1000*Data!$B$3)/Data!$B$7,  \"\")","v":""},"","",{"$f":"IF(A177<>\"\",  ROUND( (Data!$B$8-BI177)/Data!$B$8,3),   \"\")","v":""},"","","","",{"$f":"IF(A177<>\"\",  IF(TYPE(BN177)=1, ROUND( (Data!$B$8-BN177)/Data!$B$8,3),   \"\"),\"\")","v":""},"",154,"","","",null,""]
[null,155,null,null,null,null,null,null,null,null,null,null,null,null,null,null,{"$f":"IF(AND($A178<>\"\",(O178+P178)>0),    IF(P$13=\"Nm3\",(Q$12*1000*1000/((O$242+P$242+O$243+P$243)*1000*  $K178 * Data!$B$6)),  (Q$12*1000*1000/(((O$242+P$242+O$243+P$243)/Denscalc($K178))*1000*  $K178 * Data!$B$6)) ), 0    )","v":0},155,null,null,{"$f":"IF(AND($A178<>\"\",(S178+T178)>0),    IF(T$13=\"Nm3\",(U$12*1000*1000/((S$242+T$242+S$243+T$243)*1000*  $K178 * Data!$B$6)),  (U$12*1000*1000/(((S$242+T$242+S$243+T$243)/Denscalc($K178))*1000*  $K178 * Data!$B$6)) ), 0     )","v":0},155,null,null,{"$f":"IF(AND($A178<>\"\",(W178+X178)>0),     IF(X$13=\"Nm3\",(Y$12*1000*1000/((W$242+X$242+W$243+X$243)*1000*  $K178 * Data!$B$6)),  (Y$12*1000*1000/(((W$242+X$242+W$243+X$243)/Denscalc($K178))*1000*  $K178 * Data!$B$6)) ), 0   )","v":0},155,null,null,{"$f":"IF(AND($A178<>\"\",(AA178+AB178)>0),     IF(AB$13=\"Nm3\",(AC$12*1000*1000/((AA$242+AB$242+AA$243+AB$243)*1000*  $K178 * Data!$B$6)),  (AC$12*1000*1000/(((AA$242+AB$242+AA$243+AB$243)/Denscalc($K178))*1000*  $K178 * Data!$B$6)) ), 0     )","v":0},155,null,null,{"$f":"IF(AND($A178<>\"\",(AE178+AF178)>0),     IF(AF$13=\"Nm3\",(AG$12*1000*1000/((AE$242+AF$242+AE$243+AF$243)*1000*  $K178 * Data!$B$6)),  (AG$12*1000*1000/(((AE$242+AF$242+AE$243+AF$243)/Denscalc($K178))*1000*  $K178 * Data!$B$6)) ), 0    )","v":0},155,null,null,{"$f":"IF(AND($A178<>\"\",(AI178+AJ178)>0),    IF(AJ$13=\"Nm3\",(AK$12*1000*1000/((AI$242+AJ$242+AI$243+AJ$243)*1000*  $K178 * Data!$B$6)),  (AK$12*1000*1000/(((AI$242+AJ$242+AI$243+AJ$243)/Denscalc($K178))*1000*  $K178 * Data!$B$6)) ), 0    )","v":0},155,null,null,{"$f":"IF(AND($A178<>\"\",(AM178+AN178)>0),     IF(AN$13=\"Nm3\",(AO$12*1000*1000/((AM$242+AN$242+AM$243+AN$243)*1000*  $K178 * Data!$B$6)),  (AO$12*1000*1000/(((AM$242+AN$242+AM$243+AN$243)/Denscalc($K178))*1000*  $K178 * Data!$B$6)) ), 0    )","v":0},155,null,null,{"$f":"IF(AND($A178<>\"\",(AQ178+AR178)>0),     IF(AR$13=\"Nm3\",(AS$12*1000*1000/((AQ$242+AR$242+AQ$243+AR$243)*1000*  $K178 * Data!$B$6)),  (AS$12*1000*1000/(((AQ$242+AR$242+AQ$243+AR$243)/Denscalc($K178))*1000*  $K178 * Data!$B$6)) ), 0     )","v":0},155,null,null,{"$f":"IF(AND($A178<>\"\",(AU178+AV178)>0),     IF(AV$13=\"Nm3\",(AW$12*1000*1000/((AU$242+AV$242+AU$243+AV$243)*1000*  $K178 * Data!$B$6)),  (AW$12*1000*1000/(((AU$242+AV$242+AU$243+AV$243)/Denscalc($K178))*1000*  $K178 * Data!$B$6)) ), 0   )","v":0},155,null,null,{"$f":"IF(AND(BA$11>0,$A178<>\"\",(AY178+AZ178)>0), BA$11, IF(AND($A178<>\"\",(AY178+AZ178)>0),\nIF(AZ$13=\"Nm3\",(BA$6*1000*1000/((AY$242+AZ$242+AY$243+AZ$243)*1000*$K178*Data!$B$6))+((BA$12-BA$6)*1000*1000/((AY$242+AZ$242+AY$243+AZ$243-AY$241-AZ$241)*1000*$K178*Data!$B$6)),\n(BA$6*1000*1000/(((AY$242+AZ$242+AY$243+AZ$243)/Denscalc($K178))*1000*$K178*Data!$B$6))+((BA$12-BA$6)*1000*1000/(((AY$242+AZ$242+AY$243+AZ$243-AY$241-AZ$241)/Denscalc($K178))*1000*$K178*Data!$B$6))),0))","v":0},155,null,null,{"$f":"IF(AND(BE$11>0,$A178<>\"\",(BC178+BD178)>0), BE$11, IF(AND($A178<>\"\",(BC178+BD178)>0),\n (BE$6*1000*1000/((BC$244+BD$244)*1000* Data!$B$7))+ ((BE$12-BE$6)*1000*1000/((BC$244+BD$244-BC$241-BD$241)*1000* Data!$B$7)),0))","v":0},155,{"$f":"IF(A178<>\"\", (Data!$B$127*1000*Data!$B$3)/Data!$B$7,  \"\")","v":""},"","",{"$f":"IF(A178<>\"\",  ROUND( (Data!$B$8-BI178)/Data!$B$8,3),   \"\")","v":""},"","","","",{"$f":"IF(A178<>\"\",  IF(TYPE(BN178)=1, ROUND( (Data!$B$8-BN178)/Data!$B$8,3),   \"\"),\"\")","v":""},"",155,"","","",null,""]
[null,156,null,null,null,null,null,null,null,null,null,null,null,null,null,null,{"$f":"IF(AND($A179<>\"\",(O179+P179)>0),    IF(P$13=\"Nm3\",(Q$12*1000*1000/((O$242+P$242+O$243+P$243)*1000*  $K179 * Data!$B$6)),  (Q$12*1000*1000/(((O$242+P$242+O$243+P$243)/Denscalc($K179))*1000*  $K179 * Data!$B$6)) ), 0    )","v":0},156,null,null,{"$f":"IF(AND($A179<>\"\",(S179+T179)>0),    IF(T$13=\"Nm3\",(U$12*1000*1000/((S$242+T$242+S$243+T$243)*1000*  $K179 * Data!$B$6)),  (U$12*1000*1000/(((S$242+T$242+S$243+T$243)/Denscalc($K179))*1000*  $K179 * Data!$B$6)) ), 0     )","v":0},156,null,null,{"$f":"IF(AND($A179<>\"\",(W179+X179)>0),     IF(X$13=\"Nm3\",(Y$12*1000*1000/((W$242+X$242+W$243+X$243)*1000*  $K179 * Data!$B$6)),  (Y$12*1000*1000/(((W$242+X$242+W$243+X$243)/Denscalc($K179))*1000*  $K179 * Data!$B$6)) ), 0   )","v":0},156,null,null,{"$f":"IF(AND($A179<>\"\",(AA179+AB179)>0),     IF(AB$13=\"Nm3\",(AC$12*1000*1000/((AA$242+AB$242+AA$243+AB$243)*1000*  $K179 * Data!$B$6)),  (AC$12*1000*1000/(((AA$242+AB$242+AA$243+AB$243)/Denscalc($K179))*1000*  $K179 * Data!$B$6)) ), 0     )","v":0},156,null,null,{"$f":"IF(AND($A179<>\"\",(AE179+AF179)>0),     IF(AF$13=\"Nm3\",(AG$12*1000*1000/((AE$242+AF$242+AE$243+AF$243)*1000*  $K179 * Data!$B$6)),  (AG$12*1000*1000/(((AE$242+AF$242+AE$243+AF$243)/Denscalc($K179))*1000*  $K179 * Data!$B$6)) ), 0    )","v":0},156,null,null,{"$f":"IF(AND($A179<>\"\",(AI179+AJ179)>0),    IF(AJ$13=\"Nm3\",(AK$12*1000*1000/((AI$242+AJ$242+AI$243+AJ$243)*1000*  $K179 * Data!$B$6)),  (AK$12*1000*1000/(((AI$242+AJ$242+AI$243+AJ$243)/Denscalc($K179))*1000*  $K179 * Data!$B$6)) ), 0    )","v":0},156,null,null,{"$f":"IF(AND($A179<>\"\",(AM179+AN179)>0),     IF(AN$13=\"Nm3\",(AO$12*1000*1000/((AM$242+AN$242+AM$243+AN$243)*1000*  $K179 * Data!$B$6)),  (AO$12*1000*1000/(((AM$242+AN$242+AM$243+AN$243)/Denscalc($K179))*1000*  $K179 * Data!$B$6)) ), 0    )","v":0},156,null,null,{"$f":"IF(AND($A179<>\"\",(AQ179+AR179)>0),     IF(AR$13=\"Nm3\",(AS$12*1000*1000/((AQ$242+AR$242+AQ$243+AR$243)*1000*  $K179 * Data!$B$6)),  (AS$12*1000*1000/(((AQ$242+AR$242+AQ$243+AR$243)/Denscalc($K179))*1000*  $K179 * Data!$B$6)) ), 0     )","v":0},156,null,null,{"$f":"IF(AND($A179<>\"\",(AU179+AV179)>0),     IF(AV$13=\"Nm3\",(AW$12*1000*1000/((AU$242+AV$242+AU$243+AV$243)*1000*  $K179 * Data!$B$6)),  (AW$12*1000*1000/(((AU$242+AV$242+AU$243+AV$243)/Denscalc($K179))*1000*  $K179 * Data!$B$6)) ), 0   )","v":0},156,null,null,{"$f":"IF(AND(BA$11>0,$A179<>\"\",(AY179+AZ179)>0), BA$11, IF(AND($A179<>\"\",(AY179+AZ179)>0),\nIF(AZ$13=\"Nm3\",(BA$6*1000*1000/((AY$242+AZ$242+AY$243+AZ$243)*1000*$K179*Data!$B$6))+((BA$12-BA$6)*1000*1000/((AY$242+AZ$242+AY$243+AZ$243-AY$241-AZ$241)*1000*$K179*Data!$B$6)),\n(BA$6*1000*1000/(((AY$242+AZ$242+AY$243+AZ$243)/Denscalc($K179))*1000*$K179*Data!$B$6))+((BA$12-BA$6)*1000*1000/(((AY$242+AZ$242+AY$243+AZ$243-AY$241-AZ$241)/Denscalc($K179))*1000*$K179*Data!$B$6))),0))","v":0},156,null,null,{"$f":"IF(AND(BE$11>0,$A179<>\"\",(BC179+BD179)>0), BE$11, IF(AND($A179<>\"\",(BC179+BD179)>0),\n (BE$6*1000*1000/((BC$244+BD$244)*1000* Data!$B$7))+ ((BE$12-BE$6)*1000*1000/((BC$244+BD$244-BC$241-BD$241)*1000* Data!$B$7)),0))","v":0},156,{"$f":"IF(A179<>\"\", (Data!$B$127*1000*Data!$B$3)/Data!$B$7,  \"\")","v":""},"","",{"$f":"IF(A179<>\"\",  ROUND( (Data!$B$8-BI179)/Data!$B$8,3),   \"\")","v":""},"","","","",{"$f":"IF(A179<>\"\",  IF(TYPE(BN179)=1, ROUND( (Data!$B$8-BN179)/Data!$B$8,3),   \"\"),\"\")","v":""},"",156,"","","",null,""]
[null,157,null,null,null,null,null,null,null,null,null,null,null,null,null,null,{"$f":"IF(AND($A180<>\"\",(O180+P180)>0),    IF(P$13=\"Nm3\",(Q$12*1000*1000/((O$242+P$242+O$243+P$243)*1000*  $K180 * Data!$B$6)),  (Q$12*1000*1000/(((O$242+P$242+O$243+P$243)/Denscalc($K180))*1000*  $K180 * Data!$B$6)) ), 0    )","v":0},157,null,null,{"$f":"IF(AND($A180<>\"\",(S180+T180)>0),    IF(T$13=\"Nm3\",(U$12*1000*1000/((S$242+T$242+S$243+T$243)*1000*  $K180 * Data!$B$6)),  (U$12*1000*1000/(((S$242+T$242+S$243+T$243)/Denscalc($K180))*1000*  $K180 * Data!$B$6)) ), 0     )","v":0},157,null,null,{"$f":"IF(AND($A180<>\"\",(W180+X180)>0),     IF(X$13=\"Nm3\",(Y$12*1000*1000/((W$242+X$242+W$243+X$243)*1000*  $K180 * Data!$B$6)),  (Y$12*1000*1000/(((W$242+X$242+W$243+X$243)/Denscalc($K180))*1000*  $K180 * Data!$B$6)) ), 0   )","v":0},157,null,null,{"$f":"IF(AND($A180<>\"\",(AA180+AB180)>0),     IF(AB$13=\"Nm3\",(AC$12*1000*1000/((AA$242+AB$242+AA$243+AB$243)*1000*  $K180 * Data!$B$6)),  (AC$12*1000*1000/(((AA$242+AB$242+AA$243+AB$243)/Denscalc($K180))*1000*  $K180 * Data!$B$6)) ), 0     )","v":0},157,null,null,{"$f":"IF(AND($A180<>\"\",(AE180+AF180)>0),     IF(AF$13=\"Nm3\",(AG$12*1000*1000/((AE$242+AF$242+AE$243+AF$243)*1000*  $K180 * Data!$B$6)),  (AG$12*1000*1000/(((AE$242+AF$242+AE$243+AF$243)/Denscalc($K180))*1000*  $K180 * Data!$B$6)) ), 0    )","v":0},157,null,null,{"$f":"IF(AND($A180<>\"\",(AI180+AJ180)>0),    IF(AJ$13=\"Nm3\",(AK$12*1000*1000/((AI$242+AJ$242+AI$243+AJ$243)*1000*  $K180 * Data!$B$6)),  (AK$12*1000*1000/(((AI$242+AJ$242+AI$243+AJ$243)/Denscalc($K180))*1000*  $K180 * Data!$B$6)) ), 0    )","v":0},157,null,null,{"$f":"IF(AND($A180<>\"\",(AM180+AN180)>0),     IF(AN$13=\"Nm3\",(AO$12*1000*1000/((AM$242+AN$242+AM$243+AN$243)*1000*  $K180 * Data!$B$6)),  (AO$12*1000*1000/(((AM$242+AN$242+AM$243+AN$243)/Denscalc($K180))*1000*  $K180 * Data!$B$6)) ), 0    )","v":0},157,null,null,{"$f":"IF(AND($A180<>\"\",(AQ180+AR180)>0),     IF(AR$13=\"Nm3\",(AS$12*1000*1000/((AQ$242+AR$242+AQ$243+AR$243)*1000*  $K180 * Data!$B$6)),  (AS$12*1000*1000/(((AQ$242+AR$242+AQ$243+AR$243)/Denscalc($K180))*1000*  $K180 * Data!$B$6)) ), 0     )","v":0},157,null,null,{"$f":"IF(AND($A180<>\"\",(AU180+AV180)>0),     IF(AV$13=\"Nm3\",(AW$12*1000*1000/((AU$242+AV$242+AU$243+AV$243)*1000*  $K180 * Data!$B$6)),  (AW$12*1000*1000/(((AU$242+AV$242+AU$243+AV$243)/Denscalc($K180))*1000*  $K180 * Data!$B$6)) ), 0   )","v":0},157,null,null,{"$f":"IF(AND(BA$11>0,$A180<>\"\",(AY180+AZ180)>0), BA$11, IF(AND($A180<>\"\",(AY180+AZ180)>0),\nIF(AZ$13=\"Nm3\",(BA$6*1000*1000/((AY$242+AZ$242+AY$243+AZ$243)*1000*$K180*Data!$B$6))+((BA$12-BA$6)*1000*1000/((AY$242+AZ$242+AY$243+AZ$243-AY$241-AZ$241)*1000*$K180*Data!$B$6)),\n(BA$6*1000*1000/(((AY$242+AZ$242+AY$243+AZ$243)/Denscalc($K180))*1000*$K180*Data!$B$6))+((BA$12-BA$6)*1000*1000/(((AY$242+AZ$242+AY$243+AZ$243-AY$241-AZ$241)/Denscalc($K180))*1000*$K180*Data!$B$6))),0))","v":0},157,null,null,{"$f":"IF(AND(BE$11>0,$A180<>\"\",(BC180+BD180)>0), BE$11, IF(AND($A180<>\"\",(BC180+BD180)>0),\n (BE$6*1000*1000/((BC$244+BD$244)*1000* Data!$B$7))+ ((BE$12-BE$6)*1000*1000/((BC$244+BD$244-BC$241-BD$241)*1000* Data!$B$7)),0))","v":0},157,{"$f":"IF(A180<>\"\", (Data!$B$127*1000*Data!$B$3)/Data!$B$7,  \"\")","v":""},"","",{"$f":"IF(A180<>\"\",  ROUND( (Data!$B$8-BI180)/Data!$B$8,3),   \"\")","v":""},"","","","",{"$f":"IF(A180<>\"\",  IF(TYPE(BN180)=1, ROUND( (Data!$B$8-BN180)/Data!$B$8,3),   \"\"),\"\")","v":""},"",157,{"$f":"IF(A180<>\"\", SUM(IF(P$13=\"Nm3\",P180,0),  IF(T$13=\"Nm3\",T180,0),  IF(X$13=\"Nm3\",X180,0),  IF(AB$13=\"Nm3\",AB180,0),  IF(AF$13=\"Nm3\",AF180,0), IF(AJ$13=\"Nm3\",AJ180,0),  IF(AN$13=\"Nm3\",AN180,0),  IF(AR$13=\"Nm3\",AR180,0),  IF(AV$13=\"Nm3\",AV180,0), IF(AZ$13=\"Nm3\",AZ180,0),  ),\"\")","v":""},{"$f":"IF(A180<>\"\", SUM(IF(P$13=\"kg\",P180,0),  IF(T$13=\"kg\",T180,0),  IF(X$13=\"kg\",X180,0),  IF(AB$13=\"kg\",AB180,0),  IF(AF$13=\"kg\",AF180,0), IF(AJ$13=\"kg\",AJ180,0),  IF(AN$13=\"kg\",AN180,0),  IF(AR$13=\"kg\",AR180,0),  IF(AV$13=\"kg\",AV180,0), IF(AZ$13=\"kg\",AZ180,0),  ),\"\")","v":""},{"$f":"IF(A180<>\"\",BD180,\"\")","v":""},null,{"$f":"IF(A180<>\"\",    IF(I180=\"Gas\", IF(J180=\"kg\", ((BK180*Denscalc(K180) +BL180+BR180*Denscalc(K180)+BS180)-H180), ( (BK180+BL180/Denscalc(K180) + BR180+BS180/Denscalc(K180))-H180)), ( (   BK180*Denscalc(K180)+BL180+BP180+BR180*Denscalc(K180)+BS180+BT180)-H180)  ), \"\")","v":""}]
[null,158,null,null,null,null,null,null,null,null,null,null,null,null,null,null,{"$f":"IF(AND($A181<>\"\",(O181+P181)>0),    IF(P$13=\"Nm3\",(Q$12*1000*1000/((O$242+P$242+O$243+P$243)*1000*  $K181 * Data!$B$6)),  (Q$12*1000*1000/(((O$242+P$242+O$243+P$243)/Denscalc($K181))*1000*  $K181 * Data!$B$6)) ), 0    )","v":0},158,null,null,{"$f":"IF(AND($A181<>\"\",(S181+T181)>0),    IF(T$13=\"Nm3\",(U$12*1000*1000/((S$242+T$242+S$243+T$243)*1000*  $K181 * Data!$B$6)),  (U$12*1000*1000/(((S$242+T$242+S$243+T$243)/Denscalc($K181))*1000*  $K181 * Data!$B$6)) ), 0     )","v":0},158,null,null,{"$f":"IF(AND($A181<>\"\",(W181+X181)>0),     IF(X$13=\"Nm3\",(Y$12*1000*1000/((W$242+X$242+W$243+X$243)*1000*  $K181 * Data!$B$6)),  (Y$12*1000*1000/(((W$242+X$242+W$243+X$243)/Denscalc($K181))*1000*  $K181 * Data!$B$6)) ), 0   )","v":0},158,null,null,{"$f":"IF(AND($A181<>\"\",(AA181+AB181)>0),     IF(AB$13=\"Nm3\",(AC$12*1000*1000/((AA$242+AB$242+AA$243+AB$243)*1000*  $K181 * Data!$B$6)),  (AC$12*1000*1000/(((AA$242+AB$242+AA$243+AB$243)/Denscalc($K181))*1000*  $K181 * Data!$B$6)) ), 0     )","v":0},158,null,null,{"$f":"IF(AND($A181<>\"\",(AE181+AF181)>0),     IF(AF$13=\"Nm3\",(AG$12*1000*1000/((AE$242+AF$242+AE$243+AF$243)*1000*  $K181 * Data!$B$6)),  (AG$12*1000*1000/(((AE$242+AF$242+AE$243+AF$243)/Denscalc($K181))*1000*  $K181 * Data!$B$6)) ), 0    )","v":0},158,null,null,{"$f":"IF(AND($A181<>\"\",(AI181+AJ181)>0),    IF(AJ$13=\"Nm3\",(AK$12*1000*1000/((AI$242+AJ$242+AI$243+AJ$243)*1000*  $K181 * Data!$B$6)),  (AK$12*1000*1000/(((AI$242+AJ$242+AI$243+AJ$243)/Denscalc($K181))*1000*  $K181 * Data!$B$6)) ), 0    )","v":0},158,null,null,{"$f":"IF(AND($A181<>\"\",(AM181+AN181)>0),     IF(AN$13=\"Nm3\",(AO$12*1000*1000/((AM$242+AN$242+AM$243+AN$243)*1000*  $K181 * Data!$B$6)),  (AO$12*1000*1000/(((AM$242+AN$242+AM$243+AN$243)/Denscalc($K181))*1000*  $K181 * Data!$B$6)) ), 0    )","v":0},158,null,null,{"$f":"IF(AND($A181<>\"\",(AQ181+AR181)>0),     IF(AR$13=\"Nm3\",(AS$12*1000*1000/((AQ$242+AR$242+AQ$243+AR$243)*1000*  $K181 * Data!$B$6)),  (AS$12*1000*1000/(((AQ$242+AR$242+AQ$243+AR$243)/Denscalc($K181))*1000*  $K181 * Data!$B$6)) ), 0     )","v":0},158,null,null,{"$f":"IF(AND($A181<>\"\",(AU181+AV181)>0),     IF(AV$13=\"Nm3\",(AW$12*1000*1000/((AU$242+AV$242+AU$243+AV$243)*1000*  $K181 * Data!$B$6)),  (AW$12*1000*1000/(((AU$242+AV$242+AU$243+AV$243)/Denscalc($K181))*1000*  $K181 * Data!$B$6)) ), 0   )","v":0},158,null,null,{"$f":"IF(AND(BA$11>0,$A181<>\"\",(AY181+AZ181)>0), BA$11, IF(AND($A181<>\"\",(AY181+AZ181)>0),\nIF(AZ$13=\"Nm3\",(BA$6*1000*1000/((AY$242+AZ$242+AY$243+AZ$243)*1000*$K181*Data!$B$6))+((BA$12-BA$6)*1000*1000/((AY$242+AZ$242+AY$243+AZ$243-AY$241-AZ$241)*1000*$K181*Data!$B$6)),\n(BA$6*1000*1000/(((AY$242+AZ$242+AY$243+AZ$243)/Denscalc($K181))*1000*$K181*Data!$B$6))+((BA$12-BA$6)*1000*1000/(((AY$242+AZ$242+AY$243+AZ$243-AY$241-AZ$241)/Denscalc($K181))*1000*$K181*Data!$B$6))),0))","v":0},158,null,null,{"$f":"IF(AND(BE$11>0,$A181<>\"\",(BC181+BD181)>0), BE$11, IF(AND($A181<>\"\",(BC181+BD181)>0),\n (BE$6*1000*1000/((BC$244+BD$244)*1000* Data!$B$7))+ ((BE$12-BE$6)*1000*1000/((BC$244+BD$244-BC$241-BD$241)*1000* Data!$B$7)),0))","v":0},158,{"$f":"IF(A181<>\"\", (Data!$B$127*1000*Data!$B$3)/Data!$B$7,  \"\")","v":""},"","",{"$f":"IF(A181<>\"\",  ROUND( (Data!$B$8-BI181)/Data!$B$8,3),   \"\")","v":""},"","","","",{"$f":"IF(A181<>\"\",  IF(TYPE(BN181)=1, ROUND( (Data!$B$8-BN181)/Data!$B$8,3),   \"\"),\"\")","v":""},"",158,"","","",null,""]
[null,159,null,null,null,null,null,null,null,null,null,null,null,null,null,null,{"$f":"IF(AND($A182<>\"\",(O182+P182)>0),    IF(P$13=\"Nm3\",(Q$12*1000*1000/((O$242+P$242+O$243+P$243)*1000*  $K182 * Data!$B$6)),  (Q$12*1000*1000/(((O$242+P$242+O$243+P$243)/Denscalc($K182))*1000*  $K182 * Data!$B$6)) ), 0    )","v":0},159,null,null,{"$f":"IF(AND($A182<>\"\",(S182+T182)>0),    IF(T$13=\"Nm3\",(U$12*1000*1000/((S$242+T$242+S$243+T$243)*1000*  $K182 * Data!$B$6)),  (U$12*1000*1000/(((S$242+T$242+S$243+T$243)/Denscalc($K182))*1000*  $K182 * Data!$B$6)) ), 0     )","v":0},159,null,null,{"$f":"IF(AND($A182<>\"\",(W182+X182)>0),     IF(X$13=\"Nm3\",(Y$12*1000*1000/((W$242+X$242+W$243+X$243)*1000*  $K182 * Data!$B$6)),  (Y$12*1000*1000/(((W$242+X$242+W$243+X$243)/Denscalc($K182))*1000*  $K182 * Data!$B$6)) ), 0   )","v":0},159,null,null,{"$f":"IF(AND($A182<>\"\",(AA182+AB182)>0),     IF(AB$13=\"Nm3\",(AC$12*1000*1000/((AA$242+AB$242+AA$243+AB$243)*1000*  $K182 * Data!$B$6)),  (AC$12*1000*1000/(((AA$242+AB$242+AA$243+AB$243)/Denscalc($K182))*1000*  $K182 * Data!$B$6)) ), 0     )","v":0},159,null,null,{"$f":"IF(AND($A182<>\"\",(AE182+AF182)>0),     IF(AF$13=\"Nm3\",(AG$12*1000*1000/((AE$242+AF$242+AE$243+AF$243)*1000*  $K182 * Data!$B$6)),  (AG$12*1000*1000/(((AE$242+AF$242+AE$243+AF$243)/Denscalc($K182))*1000*  $K182 * Data!$B$6)) ), 0    )","v":0},159,null,null,{"$f":"IF(AND($A182<>\"\",(AI182+AJ182)>0),    IF(AJ$13=\"Nm3\",(AK$12*1000*1000/((AI$242+AJ$242+AI$243+AJ$243)*1000*  $K182 * Data!$B$6)),  (AK$12*1000*1000/(((AI$242+AJ$242+AI$243+AJ$243)/Denscalc($K182))*1000*  $K182 * Data!$B$6)) ), 0    )","v":0},159,null,null,{"$f":"IF(AND($A182<>\"\",(AM182+AN182)>0),     IF(AN$13=\"Nm3\",(AO$12*1000*1000/((AM$242+AN$242+AM$243+AN$243)*1000*  $K182 * Data!$B$6)),  (AO$12*1000*1000/(((AM$242+AN$242+AM$243+AN$243)/Denscalc($K182))*1000*  $K182 * Data!$B$6)) ), 0    )","v":0},159,null,null,{"$f":"IF(AND($A182<>\"\",(AQ182+AR182)>0),     IF(AR$13=\"Nm3\",(AS$12*1000*1000/((AQ$242+AR$242+AQ$243+AR$243)*1000*  $K182 * Data!$B$6)),  (AS$12*1000*1000/(((AQ$242+AR$242+AQ$243+AR$243)/Denscalc($K182))*1000*  $K182 * Data!$B$6)) ), 0     )","v":0},159,null,null,{"$f":"IF(AND($A182<>\"\",(AU182+AV182)>0),     IF(AV$13=\"Nm3\",(AW$12*1000*1000/((AU$242+AV$242+AU$243+AV$243)*1000*  $K182 * Data!$B$6)),  (AW$12*1000*1000/(((AU$242+AV$242+AU$243+AV$243)/Denscalc($K182))*1000*  $K182 * Data!$B$6)) ), 0   )","v":0},159,null,null,{"$f":"IF(AND(BA$11>0,$A182<>\"\",(AY182+AZ182)>0), BA$11, IF(AND($A182<>\"\",(AY182+AZ182)>0),\nIF(AZ$13=\"Nm3\",(BA$6*1000*1000/((AY$242+AZ$242+AY$243+AZ$243)*1000*$K182*Data!$B$6))+((BA$12-BA$6)*1000*1000/((AY$242+AZ$242+AY$243+AZ$243-AY$241-AZ$241)*1000*$K182*Data!$B$6)),\n(BA$6*1000*1000/(((AY$242+AZ$242+AY$243+AZ$243)/Denscalc($K182))*1000*$K182*Data!$B$6))+((BA$12-BA$6)*1000*1000/(((AY$242+AZ$242+AY$243+AZ$243-AY$241-AZ$241)/Denscalc($K182))*1000*$K182*Data!$B$6))),0))","v":0},159,null,null,{"$f":"IF(AND(BE$11>0,$A182<>\"\",(BC182+BD182)>0), BE$11, IF(AND($A182<>\"\",(BC182+BD182)>0),\n (BE$6*1000*1000/((BC$244+BD$244)*1000* Data!$B$7))+ ((BE$12-BE$6)*1000*1000/((BC$244+BD$244-BC$241-BD$241)*1000* Data!$B$7)),0))","v":0},159,{"$f":"IF(A182<>\"\", (Data!$B$127*1000*Data!$B$3)/Data!$B$7,  \"\")","v":""},"","",{"$f":"IF(A182<>\"\",  ROUND( (Data!$B$8-BI182)/Data!$B$8,3),   \"\")","v":""},"","","","",{"$f":"IF(A182<>\"\",  IF(TYPE(BN182)=1, ROUND( (Data!$B$8-BN182)/Data!$B$8,3),   \"\"),\"\")","v":""},"",159,"","","",null,""]
[null,160,null,null,null,null,null,null,null,null,null,null,null,null,null,null,{"$f":"IF(AND($A183<>\"\",(O183+P183)>0),    IF(P$13=\"Nm3\",(Q$12*1000*1000/((O$242+P$242+O$243+P$243)*1000*  $K183 * Data!$B$6)),  (Q$12*1000*1000/(((O$242+P$242+O$243+P$243)/Denscalc($K183))*1000*  $K183 * Data!$B$6)) ), 0    )","v":0},160,null,null,{"$f":"IF(AND($A183<>\"\",(S183+T183)>0),    IF(T$13=\"Nm3\",(U$12*1000*1000/((S$242+T$242+S$243+T$243)*1000*  $K183 * Data!$B$6)),  (U$12*1000*1000/(((S$242+T$242+S$243+T$243)/Denscalc($K183))*1000*  $K183 * Data!$B$6)) ), 0     )","v":0},160,null,null,{"$f":"IF(AND($A183<>\"\",(W183+X183)>0),     IF(X$13=\"Nm3\",(Y$12*1000*1000/((W$242+X$242+W$243+X$243)*1000*  $K183 * Data!$B$6)),  (Y$12*1000*1000/(((W$242+X$242+W$243+X$243)/Denscalc($K183))*1000*  $K183 * Data!$B$6)) ), 0   )","v":0},160,null,null,{"$f":"IF(AND($A183<>\"\",(AA183+AB183)>0),     IF(AB$13=\"Nm3\",(AC$12*1000*1000/((AA$242+AB$242+AA$243+AB$243)*1000*  $K183 * Data!$B$6)),  (AC$12*1000*1000/(((AA$242+AB$242+AA$243+AB$243)/Denscalc($K183))*1000*  $K183 * Data!$B$6)) ), 0     )","v":0},160,null,null,{"$f":"IF(AND($A183<>\"\",(AE183+AF183)>0),     IF(AF$13=\"Nm3\",(AG$12*1000*1000/((AE$242+AF$242+AE$243+AF$243)*1000*  $K183 * Data!$B$6)),  (AG$12*1000*1000/(((AE$242+AF$242+AE$243+AF$243)/Denscalc($K183))*1000*  $K183 * Data!$B$6)) ), 0    )","v":0},160,null,null,{"$f":"IF(AND($A183<>\"\",(AI183+AJ183)>0),    IF(AJ$13=\"Nm3\",(AK$12*1000*1000/((AI$242+AJ$242+AI$243+AJ$243)*1000*  $K183 * Data!$B$6)),  (AK$12*1000*1000/(((AI$242+AJ$242+AI$243+AJ$243)/Denscalc($K183))*1000*  $K183 * Data!$B$6)) ), 0    )","v":0},160,null,null,{"$f":"IF(AND($A183<>\"\",(AM183+AN183)>0),     IF(AN$13=\"Nm3\",(AO$12*1000*1000/((AM$242+AN$242+AM$243+AN$243)*1000*  $K183 * Data!$B$6)),  (AO$12*1000*1000/(((AM$242+AN$242+AM$243+AN$243)/Denscalc($K183))*1000*  $K183 * Data!$B$6)) ), 0    )","v":0},160,null,null,{"$f":"IF(AND($A183<>\"\",(AQ183+AR183)>0),     IF(AR$13=\"Nm3\",(AS$12*1000*1000/((AQ$242+AR$242+AQ$243+AR$243)*1000*  $K183 * Data!$B$6)),  (AS$12*1000*1000/(((AQ$242+AR$242+AQ$243+AR$243)/Denscalc($K183))*1000*  $K183 * Data!$B$6)) ), 0     )","v":0},160,null,null,{"$f":"IF(AND($A183<>\"\",(AU183+AV183)>0),     IF(AV$13=\"Nm3\",(AW$12*1000*1000/((AU$242+AV$242+AU$243+AV$243)*1000*  $K183 * Data!$B$6)),  (AW$12*1000*1000/(((AU$242+AV$242+AU$243+AV$243)/Denscalc($K183))*1000*  $K183 * Data!$B$6)) ), 0   )","v":0},160,null,null,{"$f":"IF(AND(BA$11>0,$A183<>\"\",(AY183+AZ183)>0), BA$11, IF(AND($A183<>\"\",(AY183+AZ183)>0),\nIF(AZ$13=\"Nm3\",(BA$6*1000*1000/((AY$242+AZ$242+AY$243+AZ$243)*1000*$K183*Data!$B$6))+((BA$12-BA$6)*1000*1000/((AY$242+AZ$242+AY$243+AZ$243-AY$241-AZ$241)*1000*$K183*Data!$B$6)),\n(BA$6*1000*1000/(((AY$242+AZ$242+AY$243+AZ$243)/Denscalc($K183))*1000*$K183*Data!$B$6))+((BA$12-BA$6)*1000*1000/(((AY$242+AZ$242+AY$243+AZ$243-AY$241-AZ$241)/Denscalc($K183))*1000*$K183*Data!$B$6))),0))","v":0},160,null,null,{"$f":"IF(AND(BE$11>0,$A183<>\"\",(BC183+BD183)>0), BE$11, IF(AND($A183<>\"\",(BC183+BD183)>0),\n (BE$6*1000*1000/((BC$244+BD$244)*1000* Data!$B$7))+ ((BE$12-BE$6)*1000*1000/((BC$244+BD$244-BC$241-BD$241)*1000* Data!$B$7)),0))","v":0},160,{"$f":"IF(A183<>\"\", (Data!$B$127*1000*Data!$B$3)/Data!$B$7,  \"\")","v":""},"","",{"$f":"IF(A183<>\"\",  ROUND( (Data!$B$8-BI183)/Data!$B$8,3),   \"\")","v":""},"","","","",{"$f":"IF(A183<>\"\",  IF(TYPE(BN183)=1, ROUND( (Data!$B$8-BN183)/Data!$B$8,3),   \"\"),\"\")","v":""},"",160,"","","",null,""]
[null,161,null,null,null,null,null,null,null,null,null,null,null,null,null,null,{"$f":"IF(AND($A184<>\"\",(O184+P184)>0),    IF(P$13=\"Nm3\",(Q$12*1000*1000/((O$242+P$242+O$243+P$243)*1000*  $K184 * Data!$B$6)),  (Q$12*1000*1000/(((O$242+P$242+O$243+P$243)/Denscalc($K184))*1000*  $K184 * Data!$B$6)) ), 0    )","v":0},161,null,null,{"$f":"IF(AND($A184<>\"\",(S184+T184)>0),    IF(T$13=\"Nm3\",(U$12*1000*1000/((S$242+T$242+S$243+T$243)*1000*  $K184 * Data!$B$6)),  (U$12*1000*1000/(((S$242+T$242+S$243+T$243)/Denscalc($K184))*1000*  $K184 * Data!$B$6)) ), 0     )","v":0},161,null,null,{"$f":"IF(AND($A184<>\"\",(W184+X184)>0),     IF(X$13=\"Nm3\",(Y$12*1000*1000/((W$242+X$242+W$243+X$243)*1000*  $K184 * Data!$B$6)),  (Y$12*1000*1000/(((W$242+X$242+W$243+X$243)/Denscalc($K184))*1000*  $K184 * Data!$B$6)) ), 0   )","v":0},161,null,null,{"$f":"IF(AND($A184<>\"\",(AA184+AB184)>0),     IF(AB$13=\"Nm3\",(AC$12*1000*1000/((AA$242+AB$242+AA$243+AB$243)*1000*  $K184 * Data!$B$6)),  (AC$12*1000*1000/(((AA$242+AB$242+AA$243+AB$243)/Denscalc($K184))*1000*  $K184 * Data!$B$6)) ), 0     )","v":0},161,null,null,{"$f":"IF(AND($A184<>\"\",(AE184+AF184)>0),     IF(AF$13=\"Nm3\",(AG$12*1000*1000/((AE$242+AF$242+AE$243+AF$243)*1000*  $K184 * Data!$B$6)),  (AG$12*1000*1000/(((AE$242+AF$242+AE$243+AF$243)/Denscalc($K184))*1000*  $K184 * Data!$B$6)) ), 0    )","v":0},161,null,null,{"$f":"IF(AND($A184<>\"\",(AI184+AJ184)>0),    IF(AJ$13=\"Nm3\",(AK$12*1000*1000/((AI$242+AJ$242+AI$243+AJ$243)*1000*  $K184 * Data!$B$6)),  (AK$12*1000*1000/(((AI$242+AJ$242+AI$243+AJ$243)/Denscalc($K184))*1000*  $K184 * Data!$B$6)) ), 0    )","v":0},161,null,null,{"$f":"IF(AND($A184<>\"\",(AM184+AN184)>0),     IF(AN$13=\"Nm3\",(AO$12*1000*1000/((AM$242+AN$242+AM$243+AN$243)*1000*  $K184 * Data!$B$6)),  (AO$12*1000*1000/(((AM$242+AN$242+AM$243+AN$243)/Denscalc($K184))*1000*  $K184 * Data!$B$6)) ), 0    )","v":0},161,null,null,{"$f":"IF(AND($A184<>\"\",(AQ184+AR184)>0),     IF(AR$13=\"Nm3\",(AS$12*1000*1000/((AQ$242+AR$242+AQ$243+AR$243)*1000*  $K184 * Data!$B$6)),  (AS$12*1000*1000/(((AQ$242+AR$242+AQ$243+AR$243)/Denscalc($K184))*1000*  $K184 * Data!$B$6)) ), 0     )","v":0},161,null,null,{"$f":"IF(AND($A184<>\"\",(AU184+AV184)>0),     IF(AV$13=\"Nm3\",(AW$12*1000*1000/((AU$242+AV$242+AU$243+AV$243)*1000*  $K184 * Data!$B$6)),  (AW$12*1000*1000/(((AU$242+AV$242+AU$243+AV$243)/Denscalc($K184))*1000*  $K184 * Data!$B$6)) ), 0   )","v":0},161,null,null,{"$f":"IF(AND(BA$11>0,$A184<>\"\",(AY184+AZ184)>0), BA$11, IF(AND($A184<>\"\",(AY184+AZ184)>0),\nIF(AZ$13=\"Nm3\",(BA$6*1000*1000/((AY$242+AZ$242+AY$243+AZ$243)*1000*$K184*Data!$B$6))+((BA$12-BA$6)*1000*1000/((AY$242+AZ$242+AY$243+AZ$243-AY$241-AZ$241)*1000*$K184*Data!$B$6)),\n(BA$6*1000*1000/(((AY$242+AZ$242+AY$243+AZ$243)/Denscalc($K184))*1000*$K184*Data!$B$6))+((BA$12-BA$6)*1000*1000/(((AY$242+AZ$242+AY$243+AZ$243-AY$241-AZ$241)/Denscalc($K184))*1000*$K184*Data!$B$6))),0))","v":0},161,null,null,{"$f":"IF(AND(BE$11>0,$A184<>\"\",(BC184+BD184)>0), BE$11, IF(AND($A184<>\"\",(BC184+BD184)>0),\n (BE$6*1000*1000/((BC$244+BD$244)*1000* Data!$B$7))+ ((BE$12-BE$6)*1000*1000/((BC$244+BD$244-BC$241-BD$241)*1000* Data!$B$7)),0))","v":0},161,{"$f":"IF(A184<>\"\", (Data!$B$127*1000*Data!$B$3)/Data!$B$7,  \"\")","v":""},"","",{"$f":"IF(A184<>\"\",  ROUND( (Data!$B$8-BI184)/Data!$B$8,3),   \"\")","v":""},"","","","",{"$f":"IF(A184<>\"\",  IF(TYPE(BN184)=1, ROUND( (Data!$B$8-BN184)/Data!$B$8,3),   \"\"),\"\")","v":""},"",161,"","","",null,""]
[null,162,null,null,null,null,null,null,null,null,null,null,null,null,null,null,{"$f":"IF(AND($A185<>\"\",(O185+P185)>0),    IF(P$13=\"Nm3\",(Q$12*1000*1000/((O$242+P$242+O$243+P$243)*1000*  $K185 * Data!$B$6)),  (Q$12*1000*1000/(((O$242+P$242+O$243+P$243)/Denscalc($K185))*1000*  $K185 * Data!$B$6)) ), 0    )","v":0},162,null,null,{"$f":"IF(AND($A185<>\"\",(S185+T185)>0),    IF(T$13=\"Nm3\",(U$12*1000*1000/((S$242+T$242+S$243+T$243)*1000*  $K185 * Data!$B$6)),  (U$12*1000*1000/(((S$242+T$242+S$243+T$243)/Denscalc($K185))*1000*  $K185 * Data!$B$6)) ), 0     )","v":0},162,null,null,{"$f":"IF(AND($A185<>\"\",(W185+X185)>0),     IF(X$13=\"Nm3\",(Y$12*1000*1000/((W$242+X$242+W$243+X$243)*1000*  $K185 * Data!$B$6)),  (Y$12*1000*1000/(((W$242+X$242+W$243+X$243)/Denscalc($K185))*1000*  $K185 * Data!$B$6)) ), 0   )","v":0},162,null,null,{"$f":"IF(AND($A185<>\"\",(AA185+AB185)>0),     IF(AB$13=\"Nm3\",(AC$12*1000*1000/((AA$242+AB$242+AA$243+AB$243)*1000*  $K185 * Data!$B$6)),  (AC$12*1000*1000/(((AA$242+AB$242+AA$243+AB$243)/Denscalc($K185))*1000*  $K185 * Data!$B$6)) ), 0     )","v":0},162,null,null,{"$f":"IF(AND($A185<>\"\",(AE185+AF185)>0),     IF(AF$13=\"Nm3\",(AG$12*1000*1000/((AE$242+AF$242+AE$243+AF$243)*1000*  $K185 * Data!$B$6)),  (AG$12*1000*1000/(((AE$242+AF$242+AE$243+AF$243)/Denscalc($K185))*1000*  $K185 * Data!$B$6)) ), 0    )","v":0},162,null,null,{"$f":"IF(AND($A185<>\"\",(AI185+AJ185)>0),    IF(AJ$13=\"Nm3\",(AK$12*1000*1000/((AI$242+AJ$242+AI$243+AJ$243)*1000*  $K185 * Data!$B$6)),  (AK$12*1000*1000/(((AI$242+AJ$242+AI$243+AJ$243)/Denscalc($K185))*1000*  $K185 * Data!$B$6)) ), 0    )","v":0},162,null,null,{"$f":"IF(AND($A185<>\"\",(AM185+AN185)>0),     IF(AN$13=\"Nm3\",(AO$12*1000*1000/((AM$242+AN$242+AM$243+AN$243)*1000*  $K185 * Data!$B$6)),  (AO$12*1000*1000/(((AM$242+AN$242+AM$243+AN$243)/Denscalc($K185))*1000*  $K185 * Data!$B$6)) ), 0    )","v":0},162,null,null,{"$f":"IF(AND($A185<>\"\",(AQ185+AR185)>0),     IF(AR$13=\"Nm3\",(AS$12*1000*1000/((AQ$242+AR$242+AQ$243+AR$243)*1000*  $K185 * Data!$B$6)),  (AS$12*1000*1000/(((AQ$242+AR$242+AQ$243+AR$243)/Denscalc($K185))*1000*  $K185 * Data!$B$6)) ), 0     )","v":0},162,null,null,{"$f":"IF(AND($A185<>\"\",(AU185+AV185)>0),     IF(AV$13=\"Nm3\",(AW$12*1000*1000/((AU$242+AV$242+AU$243+AV$243)*1000*  $K185 * Data!$B$6)),  (AW$12*1000*1000/(((AU$242+AV$242+AU$243+AV$243)/Denscalc($K185))*1000*  $K185 * Data!$B$6)) ), 0   )","v":0},162,null,null,{"$f":"IF(AND(BA$11>0,$A185<>\"\",(AY185+AZ185)>0), BA$11, IF(AND($A185<>\"\",(AY185+AZ185)>0),\nIF(AZ$13=\"Nm3\",(BA$6*1000*1000/((AY$242+AZ$242+AY$243+AZ$243)*1000*$K185*Data!$B$6))+((BA$12-BA$6)*1000*1000/((AY$242+AZ$242+AY$243+AZ$243-AY$241-AZ$241)*1000*$K185*Data!$B$6)),\n(BA$6*1000*1000/(((AY$242+AZ$242+AY$243+AZ$243)/Denscalc($K185))*1000*$K185*Data!$B$6))+((BA$12-BA$6)*1000*1000/(((AY$242+AZ$242+AY$243+AZ$243-AY$241-AZ$241)/Denscalc($K185))*1000*$K185*Data!$B$6))),0))","v":0},162,null,null,{"$f":"IF(AND(BE$11>0,$A185<>\"\",(BC185+BD185)>0), BE$11, IF(AND($A185<>\"\",(BC185+BD185)>0),\n (BE$6*1000*1000/((BC$244+BD$244)*1000* Data!$B$7))+ ((BE$12-BE$6)*1000*1000/((BC$244+BD$244-BC$241-BD$241)*1000* Data!$B$7)),0))","v":0},162,{"$f":"IF(A185<>\"\", (Data!$B$127*1000*Data!$B$3)/Data!$B$7,  \"\")","v":""},"","",{"$f":"IF(A185<>\"\",  ROUND( (Data!$B$8-BI185)/Data!$B$8,3),   \"\")","v":""},"","","","",{"$f":"IF(A185<>\"\",  IF(TYPE(BN185)=1, ROUND( (Data!$B$8-BN185)/Data!$B$8,3),   \"\"),\"\")","v":""},"",162,"","","",null,""]
[null,163,null,null,null,null,null,null,null,null,null,null,null,null,null,null,{"$f":"IF(AND($A186<>\"\",(O186+P186)>0),    IF(P$13=\"Nm3\",(Q$12*1000*1000/((O$242+P$242+O$243+P$243)*1000*  $K186 * Data!$B$6)),  (Q$12*1000*1000/(((O$242+P$242+O$243+P$243)/Denscalc($K186))*1000*  $K186 * Data!$B$6)) ), 0    )","v":0},163,null,null,{"$f":"IF(AND($A186<>\"\",(S186+T186)>0),    IF(T$13=\"Nm3\",(U$12*1000*1000/((S$242+T$242+S$243+T$243)*1000*  $K186 * Data!$B$6)),  (U$12*1000*1000/(((S$242+T$242+S$243+T$243)/Denscalc($K186))*1000*  $K186 * Data!$B$6)) ), 0     )","v":0},163,null,null,{"$f":"IF(AND($A186<>\"\",(W186+X186)>0),     IF(X$13=\"Nm3\",(Y$12*1000*1000/((W$242+X$242+W$243+X$243)*1000*  $K186 * Data!$B$6)),  (Y$12*1000*1000/(((W$242+X$242+W$243+X$243)/Denscalc($K186))*1000*  $K186 * Data!$B$6)) ), 0   )","v":0},163,null,null,{"$f":"IF(AND($A186<>\"\",(AA186+AB186)>0),     IF(AB$13=\"Nm3\",(AC$12*1000*1000/((AA$242+AB$242+AA$243+AB$243)*1000*  $K186 * Data!$B$6)),  (AC$12*1000*1000/(((AA$242+AB$242+AA$243+AB$243)/Denscalc($K186))*1000*  $K186 * Data!$B$6)) ), 0     )","v":0},163,null,null,{"$f":"IF(AND($A186<>\"\",(AE186+AF186)>0),     IF(AF$13=\"Nm3\",(AG$12*1000*1000/((AE$242+AF$242+AE$243+AF$243)*1000*  $K186 * Data!$B$6)),  (AG$12*1000*1000/(((AE$242+AF$242+AE$243+AF$243)/Denscalc($K186))*1000*  $K186 * Data!$B$6)) ), 0    )","v":0},163,null,null,{"$f":"IF(AND($A186<>\"\",(AI186+AJ186)>0),    IF(AJ$13=\"Nm3\",(AK$12*1000*1000/((AI$242+AJ$242+AI$243+AJ$243)*1000*  $K186 * Data!$B$6)),  (AK$12*1000*1000/(((AI$242+AJ$242+AI$243+AJ$243)/Denscalc($K186))*1000*  $K186 * Data!$B$6)) ), 0    )","v":0},163,null,null,{"$f":"IF(AND($A186<>\"\",(AM186+AN186)>0),     IF(AN$13=\"Nm3\",(AO$12*1000*1000/((AM$242+AN$242+AM$243+AN$243)*1000*  $K186 * Data!$B$6)),  (AO$12*1000*1000/(((AM$242+AN$242+AM$243+AN$243)/Denscalc($K186))*1000*  $K186 * Data!$B$6)) ), 0    )","v":0},163,null,null,{"$f":"IF(AND($A186<>\"\",(AQ186+AR186)>0),     IF(AR$13=\"Nm3\",(AS$12*1000*1000/((AQ$242+AR$242+AQ$243+AR$243)*1000*  $K186 * Data!$B$6)),  (AS$12*1000*1000/(((AQ$242+AR$242+AQ$243+AR$243)/Denscalc($K186))*1000*  $K186 * Data!$B$6)) ), 0     )","v":0},163,null,null,{"$f":"IF(AND($A186<>\"\",(AU186+AV186)>0),     IF(AV$13=\"Nm3\",(AW$12*1000*1000/((AU$242+AV$242+AU$243+AV$243)*1000*  $K186 * Data!$B$6)),  (AW$12*1000*1000/(((AU$242+AV$242+AU$243+AV$243)/Denscalc($K186))*1000*  $K186 * Data!$B$6)) ), 0   )","v":0},163,null,null,{"$f":"IF(AND(BA$11>0,$A186<>\"\",(AY186+AZ186)>0), BA$11, IF(AND($A186<>\"\",(AY186+AZ186)>0),\nIF(AZ$13=\"Nm3\",(BA$6*1000*1000/((AY$242+AZ$242+AY$243+AZ$243)*1000*$K186*Data!$B$6))+((BA$12-BA$6)*1000*1000/((AY$242+AZ$242+AY$243+AZ$243-AY$241-AZ$241)*1000*$K186*Data!$B$6)),\n(BA$6*1000*1000/(((AY$242+AZ$242+AY$243+AZ$243)/Denscalc($K186))*1000*$K186*Data!$B$6))+((BA$12-BA$6)*1000*1000/(((AY$242+AZ$242+AY$243+AZ$243-AY$241-AZ$241)/Denscalc($K186))*1000*$K186*Data!$B$6))),0))","v":0},163,null,null,{"$f":"IF(AND(BE$11>0,$A186<>\"\",(BC186+BD186)>0), BE$11, IF(AND($A186<>\"\",(BC186+BD186)>0),\n (BE$6*1000*1000/((BC$244+BD$244)*1000* Data!$B$7))+ ((BE$12-BE$6)*1000*1000/((BC$244+BD$244-BC$241-BD$241)*1000* Data!$B$7)),0))","v":0},163,{"$f":"IF(A186<>\"\", (Data!$B$127*1000*Data!$B$3)/Data!$B$7,  \"\")","v":""},"","",{"$f":"IF(A186<>\"\",  ROUND( (Data!$B$8-BI186)/Data!$B$8,3),   \"\")","v":""},"","","","",{"$f":"IF(A186<>\"\",  IF(TYPE(BN186)=1, ROUND( (Data!$B$8-BN186)/Data!$B$8,3),   \"\"),\"\")","v":""},"",163,"","","",null,""]
[null,164,null,null,null,null,null,null,null,null,null,null,null,null,null,null,{"$f":"IF(AND($A187<>\"\",(O187+P187)>0),    IF(P$13=\"Nm3\",(Q$12*1000*1000/((O$242+P$242+O$243+P$243)*1000*  $K187 * Data!$B$6)),  (Q$12*1000*1000/(((O$242+P$242+O$243+P$243)/Denscalc($K187))*1000*  $K187 * Data!$B$6)) ), 0    )","v":0},164,null,null,{"$f":"IF(AND($A187<>\"\",(S187+T187)>0),    IF(T$13=\"Nm3\",(U$12*1000*1000/((S$242+T$242+S$243+T$243)*1000*  $K187 * Data!$B$6)),  (U$12*1000*1000/(((S$242+T$242+S$243+T$243)/Denscalc($K187))*1000*  $K187 * Data!$B$6)) ), 0     )","v":0},164,null,null,{"$f":"IF(AND($A187<>\"\",(W187+X187)>0),     IF(X$13=\"Nm3\",(Y$12*1000*1000/((W$242+X$242+W$243+X$243)*1000*  $K187 * Data!$B$6)),  (Y$12*1000*1000/(((W$242+X$242+W$243+X$243)/Denscalc($K187))*1000*  $K187 * Data!$B$6)) ), 0   )","v":0},164,null,null,{"$f":"IF(AND($A187<>\"\",(AA187+AB187)>0),     IF(AB$13=\"Nm3\",(AC$12*1000*1000/((AA$242+AB$242+AA$243+AB$243)*1000*  $K187 * Data!$B$6)),  (AC$12*1000*1000/(((AA$242+AB$242+AA$243+AB$243)/Denscalc($K187))*1000*  $K187 * Data!$B$6)) ), 0     )","v":0},164,null,null,{"$f":"IF(AND($A187<>\"\",(AE187+AF187)>0),     IF(AF$13=\"Nm3\",(AG$12*1000*1000/((AE$242+AF$242+AE$243+AF$243)*1000*  $K187 * Data!$B$6)),  (AG$12*1000*1000/(((AE$242+AF$242+AE$243+AF$243)/Denscalc($K187))*1000*  $K187 * Data!$B$6)) ), 0    )","v":0},164,null,null,{"$f":"IF(AND($A187<>\"\",(AI187+AJ187)>0),    IF(AJ$13=\"Nm3\",(AK$12*1000*1000/((AI$242+AJ$242+AI$243+AJ$243)*1000*  $K187 * Data!$B$6)),  (AK$12*1000*1000/(((AI$242+AJ$242+AI$243+AJ$243)/Denscalc($K187))*1000*  $K187 * Data!$B$6)) ), 0    )","v":0},164,null,null,{"$f":"IF(AND($A187<>\"\",(AM187+AN187)>0),     IF(AN$13=\"Nm3\",(AO$12*1000*1000/((AM$242+AN$242+AM$243+AN$243)*1000*  $K187 * Data!$B$6)),  (AO$12*1000*1000/(((AM$242+AN$242+AM$243+AN$243)/Denscalc($K187))*1000*  $K187 * Data!$B$6)) ), 0    )","v":0},164,null,null,{"$f":"IF(AND($A187<>\"\",(AQ187+AR187)>0),     IF(AR$13=\"Nm3\",(AS$12*1000*1000/((AQ$242+AR$242+AQ$243+AR$243)*1000*  $K187 * Data!$B$6)),  (AS$12*1000*1000/(((AQ$242+AR$242+AQ$243+AR$243)/Denscalc($K187))*1000*  $K187 * Data!$B$6)) ), 0     )","v":0},164,null,null,{"$f":"IF(AND($A187<>\"\",(AU187+AV187)>0),     IF(AV$13=\"Nm3\",(AW$12*1000*1000/((AU$242+AV$242+AU$243+AV$243)*1000*  $K187 * Data!$B$6)),  (AW$12*1000*1000/(((AU$242+AV$242+AU$243+AV$243)/Denscalc($K187))*1000*  $K187 * Data!$B$6)) ), 0   )","v":0},164,null,null,{"$f":"IF(AND(BA$11>0,$A187<>\"\",(AY187+AZ187)>0), BA$11, IF(AND($A187<>\"\",(AY187+AZ187)>0),\nIF(AZ$13=\"Nm3\",(BA$6*1000*1000/((AY$242+AZ$242+AY$243+AZ$243)*1000*$K187*Data!$B$6))+((BA$12-BA$6)*1000*1000/((AY$242+AZ$242+AY$243+AZ$243-AY$241-AZ$241)*1000*$K187*Data!$B$6)),\n(BA$6*1000*1000/(((AY$242+AZ$242+AY$243+AZ$243)/Denscalc($K187))*1000*$K187*Data!$B$6))+((BA$12-BA$6)*1000*1000/(((AY$242+AZ$242+AY$243+AZ$243-AY$241-AZ$241)/Denscalc($K187))*1000*$K187*Data!$B$6))),0))","v":0},164,null,null,{"$f":"IF(AND(BE$11>0,$A187<>\"\",(BC187+BD187)>0), BE$11, IF(AND($A187<>\"\",(BC187+BD187)>0),\n (BE$6*1000*1000/((BC$244+BD$244)*1000* Data!$B$7))+ ((BE$12-BE$6)*1000*1000/((BC$244+BD$244-BC$241-BD$241)*1000* Data!$B$7)),0))","v":0},164,{"$f":"IF(A187<>\"\", (Data!$B$127*1000*Data!$B$3)/Data!$B$7,  \"\")","v":""},"","",{"$f":"IF(A187<>\"\",  ROUND( (Data!$B$8-BI187)/Data!$B$8,3),   \"\")","v":""},"","","","",{"$f":"IF(A187<>\"\",  IF(TYPE(BN187)=1, ROUND( (Data!$B$8-BN187)/Data!$B$8,3),   \"\"),\"\")","v":""},"",164,"","","",null,""]
[null,165,null,null,null,null,null,null,null,null,null,null,null,null,null,null,{"$f":"IF(AND($A188<>\"\",(O188+P188)>0),    IF(P$13=\"Nm3\",(Q$12*1000*1000/((O$242+P$242+O$243+P$243)*1000*  $K188 * Data!$B$6)),  (Q$12*1000*1000/(((O$242+P$242+O$243+P$243)/Denscalc($K188))*1000*  $K188 * Data!$B$6)) ), 0    )","v":0},165,null,null,{"$f":"IF(AND($A188<>\"\",(S188+T188)>0),    IF(T$13=\"Nm3\",(U$12*1000*1000/((S$242+T$242+S$243+T$243)*1000*  $K188 * Data!$B$6)),  (U$12*1000*1000/(((S$242+T$242+S$243+T$243)/Denscalc($K188))*1000*  $K188 * Data!$B$6)) ), 0     )","v":0},165,null,null,{"$f":"IF(AND($A188<>\"\",(W188+X188)>0),     IF(X$13=\"Nm3\",(Y$12*1000*1000/((W$242+X$242+W$243+X$243)*1000*  $K188 * Data!$B$6)),  (Y$12*1000*1000/(((W$242+X$242+W$243+X$243)/Denscalc($K188))*1000*  $K188 * Data!$B$6)) ), 0   )","v":0},165,null,null,{"$f":"IF(AND($A188<>\"\",(AA188+AB188)>0),     IF(AB$13=\"Nm3\",(AC$12*1000*1000/((AA$242+AB$242+AA$243+AB$243)*1000*  $K188 * Data!$B$6)),  (AC$12*1000*1000/(((AA$242+AB$242+AA$243+AB$243)/Denscalc($K188))*1000*  $K188 * Data!$B$6)) ), 0     )","v":0},165,null,null,{"$f":"IF(AND($A188<>\"\",(AE188+AF188)>0),     IF(AF$13=\"Nm3\",(AG$12*1000*1000/((AE$242+AF$242+AE$243+AF$243)*1000*  $K188 * Data!$B$6)),  (AG$12*1000*1000/(((AE$242+AF$242+AE$243+AF$243)/Denscalc($K188))*1000*  $K188 * Data!$B$6)) ), 0    )","v":0},165,null,null,{"$f":"IF(AND($A188<>\"\",(AI188+AJ188)>0),    IF(AJ$13=\"Nm3\",(AK$12*1000*1000/((AI$242+AJ$242+AI$243+AJ$243)*1000*  $K188 * Data!$B$6)),  (AK$12*1000*1000/(((AI$242+AJ$242+AI$243+AJ$243)/Denscalc($K188))*1000*  $K188 * Data!$B$6)) ), 0    )","v":0},165,null,null,{"$f":"IF(AND($A188<>\"\",(AM188+AN188)>0),     IF(AN$13=\"Nm3\",(AO$12*1000*1000/((AM$242+AN$242+AM$243+AN$243)*1000*  $K188 * Data!$B$6)),  (AO$12*1000*1000/(((AM$242+AN$242+AM$243+AN$243)/Denscalc($K188))*1000*  $K188 * Data!$B$6)) ), 0    )","v":0},165,null,null,{"$f":"IF(AND($A188<>\"\",(AQ188+AR188)>0),     IF(AR$13=\"Nm3\",(AS$12*1000*1000/((AQ$242+AR$242+AQ$243+AR$243)*1000*  $K188 * Data!$B$6)),  (AS$12*1000*1000/(((AQ$242+AR$242+AQ$243+AR$243)/Denscalc($K188))*1000*  $K188 * Data!$B$6)) ), 0     )","v":0},165,null,null,{"$f":"IF(AND($A188<>\"\",(AU188+AV188)>0),     IF(AV$13=\"Nm3\",(AW$12*1000*1000/((AU$242+AV$242+AU$243+AV$243)*1000*  $K188 * Data!$B$6)),  (AW$12*1000*1000/(((AU$242+AV$242+AU$243+AV$243)/Denscalc($K188))*1000*  $K188 * Data!$B$6)) ), 0   )","v":0},165,null,null,{"$f":"IF(AND(BA$11>0,$A188<>\"\",(AY188+AZ188)>0), BA$11, IF(AND($A188<>\"\",(AY188+AZ188)>0),\nIF(AZ$13=\"Nm3\",(BA$6*1000*1000/((AY$242+AZ$242+AY$243+AZ$243)*1000*$K188*Data!$B$6))+((BA$12-BA$6)*1000*1000/((AY$242+AZ$242+AY$243+AZ$243-AY$241-AZ$241)*1000*$K188*Data!$B$6)),\n(BA$6*1000*1000/(((AY$242+AZ$242+AY$243+AZ$243)/Denscalc($K188))*1000*$K188*Data!$B$6))+((BA$12-BA$6)*1000*1000/(((AY$242+AZ$242+AY$243+AZ$243-AY$241-AZ$241)/Denscalc($K188))*1000*$K188*Data!$B$6))),0))","v":0},165,null,null,{"$f":"IF(AND(BE$11>0,$A188<>\"\",(BC188+BD188)>0), BE$11, IF(AND($A188<>\"\",(BC188+BD188)>0),\n (BE$6*1000*1000/((BC$244+BD$244)*1000* Data!$B$7))+ ((BE$12-BE$6)*1000*1000/((BC$244+BD$244-BC$241-BD$241)*1000* Data!$B$7)),0))","v":0},165,{"$f":"IF(A188<>\"\", (Data!$B$127*1000*Data!$B$3)/Data!$B$7,  \"\")","v":""},"","",{"$f":"IF(A188<>\"\",  ROUND( (Data!$B$8-BI188)/Data!$B$8,3),   \"\")","v":""},"","","","",{"$f":"IF(A188<>\"\",  IF(TYPE(BN188)=1, ROUND( (Data!$B$8-BN188)/Data!$B$8,3),   \"\"),\"\")","v":""},"",165,"","","",null,""]
[null,166,null,null,null,null,null,null,null,null,null,null,null,null,null,null,{"$f":"IF(AND($A189<>\"\",(O189+P189)>0),    IF(P$13=\"Nm3\",(Q$12*1000*1000/((O$242+P$242+O$243+P$243)*1000*  $K189 * Data!$B$6)),  (Q$12*1000*1000/(((O$242+P$242+O$243+P$243)/Denscalc($K189))*1000*  $K189 * Data!$B$6)) ), 0    )","v":0},166,null,null,{"$f":"IF(AND($A189<>\"\",(S189+T189)>0),    IF(T$13=\"Nm3\",(U$12*1000*1000/((S$242+T$242+S$243+T$243)*1000*  $K189 * Data!$B$6)),  (U$12*1000*1000/(((S$242+T$242+S$243+T$243)/Denscalc($K189))*1000*  $K189 * Data!$B$6)) ), 0     )","v":0},166,null,null,{"$f":"IF(AND($A189<>\"\",(W189+X189)>0),     IF(X$13=\"Nm3\",(Y$12*1000*1000/((W$242+X$242+W$243+X$243)*1000*  $K189 * Data!$B$6)),  (Y$12*1000*1000/(((W$242+X$242+W$243+X$243)/Denscalc($K189))*1000*  $K189 * Data!$B$6)) ), 0   )","v":0},166,null,null,{"$f":"IF(AND($A189<>\"\",(AA189+AB189)>0),     IF(AB$13=\"Nm3\",(AC$12*1000*1000/((AA$242+AB$242+AA$243+AB$243)*1000*  $K189 * Data!$B$6)),  (AC$12*1000*1000/(((AA$242+AB$242+AA$243+AB$243)/Denscalc($K189))*1000*  $K189 * Data!$B$6)) ), 0     )","v":0},166,null,null,{"$f":"IF(AND($A189<>\"\",(AE189+AF189)>0),     IF(AF$13=\"Nm3\",(AG$12*1000*1000/((AE$242+AF$242+AE$243+AF$243)*1000*  $K189 * Data!$B$6)),  (AG$12*1000*1000/(((AE$242+AF$242+AE$243+AF$243)/Denscalc($K189))*1000*  $K189 * Data!$B$6)) ), 0    )","v":0},166,null,null,{"$f":"IF(AND($A189<>\"\",(AI189+AJ189)>0),    IF(AJ$13=\"Nm3\",(AK$12*1000*1000/((AI$242+AJ$242+AI$243+AJ$243)*1000*  $K189 * Data!$B$6)),  (AK$12*1000*1000/(((AI$242+AJ$242+AI$243+AJ$243)/Denscalc($K189))*1000*  $K189 * Data!$B$6)) ), 0    )","v":0},166,null,null,{"$f":"IF(AND($A189<>\"\",(AM189+AN189)>0),     IF(AN$13=\"Nm3\",(AO$12*1000*1000/((AM$242+AN$242+AM$243+AN$243)*1000*  $K189 * Data!$B$6)),  (AO$12*1000*1000/(((AM$242+AN$242+AM$243+AN$243)/Denscalc($K189))*1000*  $K189 * Data!$B$6)) ), 0    )","v":0},166,null,null,{"$f":"IF(AND($A189<>\"\",(AQ189+AR189)>0),     IF(AR$13=\"Nm3\",(AS$12*1000*1000/((AQ$242+AR$242+AQ$243+AR$243)*1000*  $K189 * Data!$B$6)),  (AS$12*1000*1000/(((AQ$242+AR$242+AQ$243+AR$243)/Denscalc($K189))*1000*  $K189 * Data!$B$6)) ), 0     )","v":0},166,null,null,{"$f":"IF(AND($A189<>\"\",(AU189+AV189)>0),     IF(AV$13=\"Nm3\",(AW$12*1000*1000/((AU$242+AV$242+AU$243+AV$243)*1000*  $K189 * Data!$B$6)),  (AW$12*1000*1000/(((AU$242+AV$242+AU$243+AV$243)/Denscalc($K189))*1000*  $K189 * Data!$B$6)) ), 0   )","v":0},166,null,null,{"$f":"IF(AND(BA$11>0,$A189<>\"\",(AY189+AZ189)>0), BA$11, IF(AND($A189<>\"\",(AY189+AZ189)>0),\nIF(AZ$13=\"Nm3\",(BA$6*1000*1000/((AY$242+AZ$242+AY$243+AZ$243)*1000*$K189*Data!$B$6))+((BA$12-BA$6)*1000*1000/((AY$242+AZ$242+AY$243+AZ$243-AY$241-AZ$241)*1000*$K189*Data!$B$6)),\n(BA$6*1000*1000/(((AY$242+AZ$242+AY$243+AZ$243)/Denscalc($K189))*1000*$K189*Data!$B$6))+((BA$12-BA$6)*1000*1000/(((AY$242+AZ$242+AY$243+AZ$243-AY$241-AZ$241)/Denscalc($K189))*1000*$K189*Data!$B$6))),0))","v":0},166,null,null,{"$f":"IF(AND(BE$11>0,$A189<>\"\",(BC189+BD189)>0), BE$11, IF(AND($A189<>\"\",(BC189+BD189)>0),\n (BE$6*1000*1000/((BC$244+BD$244)*1000* Data!$B$7))+ ((BE$12-BE$6)*1000*1000/((BC$244+BD$244-BC$241-BD$241)*1000* Data!$B$7)),0))","v":0},166,{"$f":"IF(A189<>\"\", (Data!$B$127*1000*Data!$B$3)/Data!$B$7,  \"\")","v":""},"","",{"$f":"IF(A189<>\"\",  ROUND( (Data!$B$8-BI189)/Data!$B$8,3),   \"\")","v":""},"","","","",{"$f":"IF(A189<>\"\",  IF(TYPE(BN189)=1, ROUND( (Data!$B$8-BN189)/Data!$B$8,3),   \"\"),\"\")","v":""},"",166,"","","",null,""]
[null,167,null,null,null,null,null,null,null,null,null,null,null,null,null,null,{"$f":"IF(AND($A190<>\"\",(O190+P190)>0),    IF(P$13=\"Nm3\",(Q$12*1000*1000/((O$242+P$242+O$243+P$243)*1000*  $K190 * Data!$B$6)),  (Q$12*1000*1000/(((O$242+P$242+O$243+P$243)/Denscalc($K190))*1000*  $K190 * Data!$B$6)) ), 0    )","v":0},167,null,null,{"$f":"IF(AND($A190<>\"\",(S190+T190)>0),    IF(T$13=\"Nm3\",(U$12*1000*1000/((S$242+T$242+S$243+T$243)*1000*  $K190 * Data!$B$6)),  (U$12*1000*1000/(((S$242+T$242+S$243+T$243)/Denscalc($K190))*1000*  $K190 * Data!$B$6)) ), 0     )","v":0},167,null,null,{"$f":"IF(AND($A190<>\"\",(W190+X190)>0),     IF(X$13=\"Nm3\",(Y$12*1000*1000/((W$242+X$242+W$243+X$243)*1000*  $K190 * Data!$B$6)),  (Y$12*1000*1000/(((W$242+X$242+W$243+X$243)/Denscalc($K190))*1000*  $K190 * Data!$B$6)) ), 0   )","v":0},167,null,null,{"$f":"IF(AND($A190<>\"\",(AA190+AB190)>0),     IF(AB$13=\"Nm3\",(AC$12*1000*1000/((AA$242+AB$242+AA$243+AB$243)*1000*  $K190 * Data!$B$6)),  (AC$12*1000*1000/(((AA$242+AB$242+AA$243+AB$243)/Denscalc($K190))*1000*  $K190 * Data!$B$6)) ), 0     )","v":0},167,null,null,{"$f":"IF(AND($A190<>\"\",(AE190+AF190)>0),     IF(AF$13=\"Nm3\",(AG$12*1000*1000/((AE$242+AF$242+AE$243+AF$243)*1000*  $K190 * Data!$B$6)),  (AG$12*1000*1000/(((AE$242+AF$242+AE$243+AF$243)/Denscalc($K190))*1000*  $K190 * Data!$B$6)) ), 0    )","v":0},167,null,null,{"$f":"IF(AND($A190<>\"\",(AI190+AJ190)>0),    IF(AJ$13=\"Nm3\",(AK$12*1000*1000/((AI$242+AJ$242+AI$243+AJ$243)*1000*  $K190 * Data!$B$6)),  (AK$12*1000*1000/(((AI$242+AJ$242+AI$243+AJ$243)/Denscalc($K190))*1000*  $K190 * Data!$B$6)) ), 0    )","v":0},167,null,null,{"$f":"IF(AND($A190<>\"\",(AM190+AN190)>0),     IF(AN$13=\"Nm3\",(AO$12*1000*1000/((AM$242+AN$242+AM$243+AN$243)*1000*  $K190 * Data!$B$6)),  (AO$12*1000*1000/(((AM$242+AN$242+AM$243+AN$243)/Denscalc($K190))*1000*  $K190 * Data!$B$6)) ), 0    )","v":0},167,null,null,{"$f":"IF(AND($A190<>\"\",(AQ190+AR190)>0),     IF(AR$13=\"Nm3\",(AS$12*1000*1000/((AQ$242+AR$242+AQ$243+AR$243)*1000*  $K190 * Data!$B$6)),  (AS$12*1000*1000/(((AQ$242+AR$242+AQ$243+AR$243)/Denscalc($K190))*1000*  $K190 * Data!$B$6)) ), 0     )","v":0},167,null,null,{"$f":"IF(AND($A190<>\"\",(AU190+AV190)>0),     IF(AV$13=\"Nm3\",(AW$12*1000*1000/((AU$242+AV$242+AU$243+AV$243)*1000*  $K190 * Data!$B$6)),  (AW$12*1000*1000/(((AU$242+AV$242+AU$243+AV$243)/Denscalc($K190))*1000*  $K190 * Data!$B$6)) ), 0   )","v":0},167,null,null,{"$f":"IF(AND(BA$11>0,$A190<>\"\",(AY190+AZ190)>0), BA$11, IF(AND($A190<>\"\",(AY190+AZ190)>0),\nIF(AZ$13=\"Nm3\",(BA$6*1000*1000/((AY$242+AZ$242+AY$243+AZ$243)*1000*$K190*Data!$B$6))+((BA$12-BA$6)*1000*1000/((AY$242+AZ$242+AY$243+AZ$243-AY$241-AZ$241)*1000*$K190*Data!$B$6)),\n(BA$6*1000*1000/(((AY$242+AZ$242+AY$243+AZ$243)/Denscalc($K190))*1000*$K190*Data!$B$6))+((BA$12-BA$6)*1000*1000/(((AY$242+AZ$242+AY$243+AZ$243-AY$241-AZ$241)/Denscalc($K190))*1000*$K190*Data!$B$6))),0))","v":0},167,null,null,{"$f":"IF(AND(BE$11>0,$A190<>\"\",(BC190+BD190)>0), BE$11, IF(AND($A190<>\"\",(BC190+BD190)>0),\n (BE$6*1000*1000/((BC$244+BD$244)*1000* Data!$B$7))+ ((BE$12-BE$6)*1000*1000/((BC$244+BD$244-BC$241-BD$241)*1000* Data!$B$7)),0))","v":0},167,{"$f":"IF(A190<>\"\", (Data!$B$127*1000*Data!$B$3)/Data!$B$7,  \"\")","v":""},"","",{"$f":"IF(A190<>\"\",  ROUND( (Data!$B$8-BI190)/Data!$B$8,3),   \"\")","v":""},"","","","",{"$f":"IF(A190<>\"\",  IF(TYPE(BN190)=1, ROUND( (Data!$B$8-BN190)/Data!$B$8,3),   \"\"),\"\")","v":""},"",167,"","","",null,""]
[null,168,null,null,null,null,null,null,null,null,null,null,null,null,null,null,{"$f":"IF(AND($A191<>\"\",(O191+P191)>0),    IF(P$13=\"Nm3\",(Q$12*1000*1000/((O$242+P$242+O$243+P$243)*1000*  $K191 * Data!$B$6)),  (Q$12*1000*1000/(((O$242+P$242+O$243+P$243)/Denscalc($K191))*1000*  $K191 * Data!$B$6)) ), 0    )","v":0},168,null,null,{"$f":"IF(AND($A191<>\"\",(S191+T191)>0),    IF(T$13=\"Nm3\",(U$12*1000*1000/((S$242+T$242+S$243+T$243)*1000*  $K191 * Data!$B$6)),  (U$12*1000*1000/(((S$242+T$242+S$243+T$243)/Denscalc($K191))*1000*  $K191 * Data!$B$6)) ), 0     )","v":0},168,null,null,{"$f":"IF(AND($A191<>\"\",(W191+X191)>0),     IF(X$13=\"Nm3\",(Y$12*1000*1000/((W$242+X$242+W$243+X$243)*1000*  $K191 * Data!$B$6)),  (Y$12*1000*1000/(((W$242+X$242+W$243+X$243)/Denscalc($K191))*1000*  $K191 * Data!$B$6)) ), 0   )","v":0},168,null,null,{"$f":"IF(AND($A191<>\"\",(AA191+AB191)>0),     IF(AB$13=\"Nm3\",(AC$12*1000*1000/((AA$242+AB$242+AA$243+AB$243)*1000*  $K191 * Data!$B$6)),  (AC$12*1000*1000/(((AA$242+AB$242+AA$243+AB$243)/Denscalc($K191))*1000*  $K191 * Data!$B$6)) ), 0     )","v":0},168,null,null,{"$f":"IF(AND($A191<>\"\",(AE191+AF191)>0),     IF(AF$13=\"Nm3\",(AG$12*1000*1000/((AE$242+AF$242+AE$243+AF$243)*1000*  $K191 * Data!$B$6)),  (AG$12*1000*1000/(((AE$242+AF$242+AE$243+AF$243)/Denscalc($K191))*1000*  $K191 * Data!$B$6)) ), 0    )","v":0},168,null,null,{"$f":"IF(AND($A191<>\"\",(AI191+AJ191)>0),    IF(AJ$13=\"Nm3\",(AK$12*1000*1000/((AI$242+AJ$242+AI$243+AJ$243)*1000*  $K191 * Data!$B$6)),  (AK$12*1000*1000/(((AI$242+AJ$242+AI$243+AJ$243)/Denscalc($K191))*1000*  $K191 * Data!$B$6)) ), 0    )","v":0},168,null,null,{"$f":"IF(AND($A191<>\"\",(AM191+AN191)>0),     IF(AN$13=\"Nm3\",(AO$12*1000*1000/((AM$242+AN$242+AM$243+AN$243)*1000*  $K191 * Data!$B$6)),  (AO$12*1000*1000/(((AM$242+AN$242+AM$243+AN$243)/Denscalc($K191))*1000*  $K191 * Data!$B$6)) ), 0    )","v":0},168,null,null,{"$f":"IF(AND($A191<>\"\",(AQ191+AR191)>0),     IF(AR$13=\"Nm3\",(AS$12*1000*1000/((AQ$242+AR$242+AQ$243+AR$243)*1000*  $K191 * Data!$B$6)),  (AS$12*1000*1000/(((AQ$242+AR$242+AQ$243+AR$243)/Denscalc($K191))*1000*  $K191 * Data!$B$6)) ), 0     )","v":0},168,null,null,{"$f":"IF(AND($A191<>\"\",(AU191+AV191)>0),     IF(AV$13=\"Nm3\",(AW$12*1000*1000/((AU$242+AV$242+AU$243+AV$243)*1000*  $K191 * Data!$B$6)),  (AW$12*1000*1000/(((AU$242+AV$242+AU$243+AV$243)/Denscalc($K191))*1000*  $K191 * Data!$B$6)) ), 0   )","v":0},168,null,null,{"$f":"IF(AND(BA$11>0,$A191<>\"\",(AY191+AZ191)>0), BA$11, IF(AND($A191<>\"\",(AY191+AZ191)>0),\nIF(AZ$13=\"Nm3\",(BA$6*1000*1000/((AY$242+AZ$242+AY$243+AZ$243)*1000*$K191*Data!$B$6))+((BA$12-BA$6)*1000*1000/((AY$242+AZ$242+AY$243+AZ$243-AY$241-AZ$241)*1000*$K191*Data!$B$6)),\n(BA$6*1000*1000/(((AY$242+AZ$242+AY$243+AZ$243)/Denscalc($K191))*1000*$K191*Data!$B$6))+((BA$12-BA$6)*1000*1000/(((AY$242+AZ$242+AY$243+AZ$243-AY$241-AZ$241)/Denscalc($K191))*1000*$K191*Data!$B$6))),0))","v":0},168,null,null,{"$f":"IF(AND(BE$11>0,$A191<>\"\",(BC191+BD191)>0), BE$11, IF(AND($A191<>\"\",(BC191+BD191)>0),\n (BE$6*1000*1000/((BC$244+BD$244)*1000* Data!$B$7))+ ((BE$12-BE$6)*1000*1000/((BC$244+BD$244-BC$241-BD$241)*1000* Data!$B$7)),0))","v":0},168,{"$f":"IF(A191<>\"\", (Data!$B$127*1000*Data!$B$3)/Data!$B$7,  \"\")","v":""},"","",{"$f":"IF(A191<>\"\",  ROUND( (Data!$B$8-BI191)/Data!$B$8,3),   \"\")","v":""},"","","","",{"$f":"IF(A191<>\"\",  IF(TYPE(BN191)=1, ROUND( (Data!$B$8-BN191)/Data!$B$8,3),   \"\"),\"\")","v":""},"",168,"","","",null,""]
[null,169,null,null,null,null,null,null,null,null,null,null,null,null,null,null,{"$f":"IF(AND($A192<>\"\",(O192+P192)>0),    IF(P$13=\"Nm3\",(Q$12*1000*1000/((O$242+P$242+O$243+P$243)*1000*  $K192 * Data!$B$6)),  (Q$12*1000*1000/(((O$242+P$242+O$243+P$243)/Denscalc($K192))*1000*  $K192 * Data!$B$6)) ), 0    )","v":0},169,null,null,{"$f":"IF(AND($A192<>\"\",(S192+T192)>0),    IF(T$13=\"Nm3\",(U$12*1000*1000/((S$242+T$242+S$243+T$243)*1000*  $K192 * Data!$B$6)),  (U$12*1000*1000/(((S$242+T$242+S$243+T$243)/Denscalc($K192))*1000*  $K192 * Data!$B$6)) ), 0     )","v":0},169,null,null,{"$f":"IF(AND($A192<>\"\",(W192+X192)>0),     IF(X$13=\"Nm3\",(Y$12*1000*1000/((W$242+X$242+W$243+X$243)*1000*  $K192 * Data!$B$6)),  (Y$12*1000*1000/(((W$242+X$242+W$243+X$243)/Denscalc($K192))*1000*  $K192 * Data!$B$6)) ), 0   )","v":0},169,null,null,{"$f":"IF(AND($A192<>\"\",(AA192+AB192)>0),     IF(AB$13=\"Nm3\",(AC$12*1000*1000/((AA$242+AB$242+AA$243+AB$243)*1000*  $K192 * Data!$B$6)),  (AC$12*1000*1000/(((AA$242+AB$242+AA$243+AB$243)/Denscalc($K192))*1000*  $K192 * Data!$B$6)) ), 0     )","v":0},169,null,null,{"$f":"IF(AND($A192<>\"\",(AE192+AF192)>0),     IF(AF$13=\"Nm3\",(AG$12*1000*1000/((AE$242+AF$242+AE$243+AF$243)*1000*  $K192 * Data!$B$6)),  (AG$12*1000*1000/(((AE$242+AF$242+AE$243+AF$243)/Denscalc($K192))*1000*  $K192 * Data!$B$6)) ), 0    )","v":0},169,null,null,{"$f":"IF(AND($A192<>\"\",(AI192+AJ192)>0),    IF(AJ$13=\"Nm3\",(AK$12*1000*1000/((AI$242+AJ$242+AI$243+AJ$243)*1000*  $K192 * Data!$B$6)),  (AK$12*1000*1000/(((AI$242+AJ$242+AI$243+AJ$243)/Denscalc($K192))*1000*  $K192 * Data!$B$6)) ), 0    )","v":0},169,null,null,{"$f":"IF(AND($A192<>\"\",(AM192+AN192)>0),     IF(AN$13=\"Nm3\",(AO$12*1000*1000/((AM$242+AN$242+AM$243+AN$243)*1000*  $K192 * Data!$B$6)),  (AO$12*1000*1000/(((AM$242+AN$242+AM$243+AN$243)/Denscalc($K192))*1000*  $K192 * Data!$B$6)) ), 0    )","v":0},169,null,null,{"$f":"IF(AND($A192<>\"\",(AQ192+AR192)>0),     IF(AR$13=\"Nm3\",(AS$12*1000*1000/((AQ$242+AR$242+AQ$243+AR$243)*1000*  $K192 * Data!$B$6)),  (AS$12*1000*1000/(((AQ$242+AR$242+AQ$243+AR$243)/Denscalc($K192))*1000*  $K192 * Data!$B$6)) ), 0     )","v":0},169,null,null,{"$f":"IF(AND($A192<>\"\",(AU192+AV192)>0),     IF(AV$13=\"Nm3\",(AW$12*1000*1000/((AU$242+AV$242+AU$243+AV$243)*1000*  $K192 * Data!$B$6)),  (AW$12*1000*1000/(((AU$242+AV$242+AU$243+AV$243)/Denscalc($K192))*1000*  $K192 * Data!$B$6)) ), 0   )","v":0},169,null,null,{"$f":"IF(AND(BA$11>0,$A192<>\"\",(AY192+AZ192)>0), BA$11, IF(AND($A192<>\"\",(AY192+AZ192)>0),\nIF(AZ$13=\"Nm3\",(BA$6*1000*1000/((AY$242+AZ$242+AY$243+AZ$243)*1000*$K192*Data!$B$6))+((BA$12-BA$6)*1000*1000/((AY$242+AZ$242+AY$243+AZ$243-AY$241-AZ$241)*1000*$K192*Data!$B$6)),\n(BA$6*1000*1000/(((AY$242+AZ$242+AY$243+AZ$243)/Denscalc($K192))*1000*$K192*Data!$B$6))+((BA$12-BA$6)*1000*1000/(((AY$242+AZ$242+AY$243+AZ$243-AY$241-AZ$241)/Denscalc($K192))*1000*$K192*Data!$B$6))),0))","v":0},169,null,null,{"$f":"IF(AND(BE$11>0,$A192<>\"\",(BC192+BD192)>0), BE$11, IF(AND($A192<>\"\",(BC192+BD192)>0),\n (BE$6*1000*1000/((BC$244+BD$244)*1000* Data!$B$7))+ ((BE$12-BE$6)*1000*1000/((BC$244+BD$244-BC$241-BD$241)*1000* Data!$B$7)),0))","v":0},169,{"$f":"IF(A192<>\"\", (Data!$B$127*1000*Data!$B$3)/Data!$B$7,  \"\")","v":""},"","",{"$f":"IF(A192<>\"\",  ROUND( (Data!$B$8-BI192)/Data!$B$8,3),   \"\")","v":""},"","","","",{"$f":"IF(A192<>\"\",  IF(TYPE(BN192)=1, ROUND( (Data!$B$8-BN192)/Data!$B$8,3),   \"\"),\"\")","v":""},"",169,"","","",null,""]
[null,170,null,null,null,null,null,null,null,null,null,null,null,null,null,null,{"$f":"IF(AND($A193<>\"\",(O193+P193)>0),    IF(P$13=\"Nm3\",(Q$12*1000*1000/((O$242+P$242+O$243+P$243)*1000*  $K193 * Data!$B$6)),  (Q$12*1000*1000/(((O$242+P$242+O$243+P$243)/Denscalc($K193))*1000*  $K193 * Data!$B$6)) ), 0    )","v":0},170,null,null,{"$f":"IF(AND($A193<>\"\",(S193+T193)>0),    IF(T$13=\"Nm3\",(U$12*1000*1000/((S$242+T$242+S$243+T$243)*1000*  $K193 * Data!$B$6)),  (U$12*1000*1000/(((S$242+T$242+S$243+T$243)/Denscalc($K193))*1000*  $K193 * Data!$B$6)) ), 0     )","v":0},170,null,null,{"$f":"IF(AND($A193<>\"\",(W193+X193)>0),     IF(X$13=\"Nm3\",(Y$12*1000*1000/((W$242+X$242+W$243+X$243)*1000*  $K193 * Data!$B$6)),  (Y$12*1000*1000/(((W$242+X$242+W$243+X$243)/Denscalc($K193))*1000*  $K193 * Data!$B$6)) ), 0   )","v":0},170,null,null,{"$f":"IF(AND($A193<>\"\",(AA193+AB193)>0),     IF(AB$13=\"Nm3\",(AC$12*1000*1000/((AA$242+AB$242+AA$243+AB$243)*1000*  $K193 * Data!$B$6)),  (AC$12*1000*1000/(((AA$242+AB$242+AA$243+AB$243)/Denscalc($K193))*1000*  $K193 * Data!$B$6)) ), 0     )","v":0},170,null,null,{"$f":"IF(AND($A193<>\"\",(AE193+AF193)>0),     IF(AF$13=\"Nm3\",(AG$12*1000*1000/((AE$242+AF$242+AE$243+AF$243)*1000*  $K193 * Data!$B$6)),  (AG$12*1000*1000/(((AE$242+AF$242+AE$243+AF$243)/Denscalc($K193))*1000*  $K193 * Data!$B$6)) ), 0    )","v":0},170,null,null,{"$f":"IF(AND($A193<>\"\",(AI193+AJ193)>0),    IF(AJ$13=\"Nm3\",(AK$12*1000*1000/((AI$242+AJ$242+AI$243+AJ$243)*1000*  $K193 * Data!$B$6)),  (AK$12*1000*1000/(((AI$242+AJ$242+AI$243+AJ$243)/Denscalc($K193))*1000*  $K193 * Data!$B$6)) ), 0    )","v":0},170,null,null,{"$f":"IF(AND($A193<>\"\",(AM193+AN193)>0),     IF(AN$13=\"Nm3\",(AO$12*1000*1000/((AM$242+AN$242+AM$243+AN$243)*1000*  $K193 * Data!$B$6)),  (AO$12*1000*1000/(((AM$242+AN$242+AM$243+AN$243)/Denscalc($K193))*1000*  $K193 * Data!$B$6)) ), 0    )","v":0},170,null,null,{"$f":"IF(AND($A193<>\"\",(AQ193+AR193)>0),     IF(AR$13=\"Nm3\",(AS$12*1000*1000/((AQ$242+AR$242+AQ$243+AR$243)*1000*  $K193 * Data!$B$6)),  (AS$12*1000*1000/(((AQ$242+AR$242+AQ$243+AR$243)/Denscalc($K193))*1000*  $K193 * Data!$B$6)) ), 0     )","v":0},170,null,null,{"$f":"IF(AND($A193<>\"\",(AU193+AV193)>0),     IF(AV$13=\"Nm3\",(AW$12*1000*1000/((AU$242+AV$242+AU$243+AV$243)*1000*  $K193 * Data!$B$6)),  (AW$12*1000*1000/(((AU$242+AV$242+AU$243+AV$243)/Denscalc($K193))*1000*  $K193 * Data!$B$6)) ), 0   )","v":0},170,null,null,{"$f":"IF(AND(BA$11>0,$A193<>\"\",(AY193+AZ193)>0), BA$11, IF(AND($A193<>\"\",(AY193+AZ193)>0),\nIF(AZ$13=\"Nm3\",(BA$6*1000*1000/((AY$242+AZ$242+AY$243+AZ$243)*1000*$K193*Data!$B$6))+((BA$12-BA$6)*1000*1000/((AY$242+AZ$242+AY$243+AZ$243-AY$241-AZ$241)*1000*$K193*Data!$B$6)),\n(BA$6*1000*1000/(((AY$242+AZ$242+AY$243+AZ$243)/Denscalc($K193))*1000*$K193*Data!$B$6))+((BA$12-BA$6)*1000*1000/(((AY$242+AZ$242+AY$243+AZ$243-AY$241-AZ$241)/Denscalc($K193))*1000*$K193*Data!$B$6))),0))","v":0},170,null,null,{"$f":"IF(AND(BE$11>0,$A193<>\"\",(BC193+BD193)>0), BE$11, IF(AND($A193<>\"\",(BC193+BD193)>0),\n (BE$6*1000*1000/((BC$244+BD$244)*1000* Data!$B$7))+ ((BE$12-BE$6)*1000*1000/((BC$244+BD$244-BC$241-BD$241)*1000* Data!$B$7)),0))","v":0},170,{"$f":"IF(A193<>\"\", (Data!$B$127*1000*Data!$B$3)/Data!$B$7,  \"\")","v":""},"","",{"$f":"IF(A193<>\"\",  ROUND( (Data!$B$8-BI193)/Data!$B$8,3),   \"\")","v":""},"","","","",{"$f":"IF(A193<>\"\",  IF(TYPE(BN193)=1, ROUND( (Data!$B$8-BN193)/Data!$B$8,3),   \"\"),\"\")","v":""},"",170,"","","",null,""]
[null,171,null,null,null,null,null,null,null,null,null,null,null,null,null,null,{"$f":"IF(AND($A194<>\"\",(O194+P194)>0),    IF(P$13=\"Nm3\",(Q$12*1000*1000/((O$242+P$242+O$243+P$243)*1000*  $K194 * Data!$B$6)),  (Q$12*1000*1000/(((O$242+P$242+O$243+P$243)/Denscalc($K194))*1000*  $K194 * Data!$B$6)) ), 0    )","v":0},171,null,null,{"$f":"IF(AND($A194<>\"\",(S194+T194)>0),    IF(T$13=\"Nm3\",(U$12*1000*1000/((S$242+T$242+S$243+T$243)*1000*  $K194 * Data!$B$6)),  (U$12*1000*1000/(((S$242+T$242+S$243+T$243)/Denscalc($K194))*1000*  $K194 * Data!$B$6)) ), 0     )","v":0},171,null,null,{"$f":"IF(AND($A194<>\"\",(W194+X194)>0),     IF(X$13=\"Nm3\",(Y$12*1000*1000/((W$242+X$242+W$243+X$243)*1000*  $K194 * Data!$B$6)),  (Y$12*1000*1000/(((W$242+X$242+W$243+X$243)/Denscalc($K194))*1000*  $K194 * Data!$B$6)) ), 0   )","v":0},171,null,null,{"$f":"IF(AND($A194<>\"\",(AA194+AB194)>0),     IF(AB$13=\"Nm3\",(AC$12*1000*1000/((AA$242+AB$242+AA$243+AB$243)*1000*  $K194 * Data!$B$6)),  (AC$12*1000*1000/(((AA$242+AB$242+AA$243+AB$243)/Denscalc($K194))*1000*  $K194 * Data!$B$6)) ), 0     )","v":0},171,null,null,{"$f":"IF(AND($A194<>\"\",(AE194+AF194)>0),     IF(AF$13=\"Nm3\",(AG$12*1000*1000/((AE$242+AF$242+AE$243+AF$243)*1000*  $K194 * Data!$B$6)),  (AG$12*1000*1000/(((AE$242+AF$242+AE$243+AF$243)/Denscalc($K194))*1000*  $K194 * Data!$B$6)) ), 0    )","v":0},171,null,null,{"$f":"IF(AND($A194<>\"\",(AI194+AJ194)>0),    IF(AJ$13=\"Nm3\",(AK$12*1000*1000/((AI$242+AJ$242+AI$243+AJ$243)*1000*  $K194 * Data!$B$6)),  (AK$12*1000*1000/(((AI$242+AJ$242+AI$243+AJ$243)/Denscalc($K194))*1000*  $K194 * Data!$B$6)) ), 0    )","v":0},171,null,null,{"$f":"IF(AND($A194<>\"\",(AM194+AN194)>0),     IF(AN$13=\"Nm3\",(AO$12*1000*1000/((AM$242+AN$242+AM$243+AN$243)*1000*  $K194 * Data!$B$6)),  (AO$12*1000*1000/(((AM$242+AN$242+AM$243+AN$243)/Denscalc($K194))*1000*  $K194 * Data!$B$6)) ), 0    )","v":0},171,null,null,{"$f":"IF(AND($A194<>\"\",(AQ194+AR194)>0),     IF(AR$13=\"Nm3\",(AS$12*1000*1000/((AQ$242+AR$242+AQ$243+AR$243)*1000*  $K194 * Data!$B$6)),  (AS$12*1000*1000/(((AQ$242+AR$242+AQ$243+AR$243)/Denscalc($K194))*1000*  $K194 * Data!$B$6)) ), 0     )","v":0},171,null,null,{"$f":"IF(AND($A194<>\"\",(AU194+AV194)>0),     IF(AV$13=\"Nm3\",(AW$12*1000*1000/((AU$242+AV$242+AU$243+AV$243)*1000*  $K194 * Data!$B$6)),  (AW$12*1000*1000/(((AU$242+AV$242+AU$243+AV$243)/Denscalc($K194))*1000*  $K194 * Data!$B$6)) ), 0   )","v":0},171,null,null,{"$f":"IF(AND(BA$11>0,$A194<>\"\",(AY194+AZ194)>0), BA$11, IF(AND($A194<>\"\",(AY194+AZ194)>0),\nIF(AZ$13=\"Nm3\",(BA$6*1000*1000/((AY$242+AZ$242+AY$243+AZ$243)*1000*$K194*Data!$B$6))+((BA$12-BA$6)*1000*1000/((AY$242+AZ$242+AY$243+AZ$243-AY$241-AZ$241)*1000*$K194*Data!$B$6)),\n(BA$6*1000*1000/(((AY$242+AZ$242+AY$243+AZ$243)/Denscalc($K194))*1000*$K194*Data!$B$6))+((BA$12-BA$6)*1000*1000/(((AY$242+AZ$242+AY$243+AZ$243-AY$241-AZ$241)/Denscalc($K194))*1000*$K194*Data!$B$6))),0))","v":0},171,null,null,{"$f":"IF(AND(BE$11>0,$A194<>\"\",(BC194+BD194)>0), BE$11, IF(AND($A194<>\"\",(BC194+BD194)>0),\n (BE$6*1000*1000/((BC$244+BD$244)*1000* Data!$B$7))+ ((BE$12-BE$6)*1000*1000/((BC$244+BD$244-BC$241-BD$241)*1000* Data!$B$7)),0))","v":0},171,{"$f":"IF(A194<>\"\", (Data!$B$127*1000*Data!$B$3)/Data!$B$7,  \"\")","v":""},"","",{"$f":"IF(A194<>\"\",  ROUND( (Data!$B$8-BI194)/Data!$B$8,3),   \"\")","v":""},"","","","",{"$f":"IF(A194<>\"\",  IF(TYPE(BN194)=1, ROUND( (Data!$B$8-BN194)/Data!$B$8,3),   \"\"),\"\")","v":""},"",171,"","","",null,""]
[null,172,null,null,null,null,null,null,null,null,null,null,null,null,null,null,{"$f":"IF(AND($A195<>\"\",(O195+P195)>0),    IF(P$13=\"Nm3\",(Q$12*1000*1000/((O$242+P$242+O$243+P$243)*1000*  $K195 * Data!$B$6)),  (Q$12*1000*1000/(((O$242+P$242+O$243+P$243)/Denscalc($K195))*1000*  $K195 * Data!$B$6)) ), 0    )","v":0},172,null,null,{"$f":"IF(AND($A195<>\"\",(S195+T195)>0),    IF(T$13=\"Nm3\",(U$12*1000*1000/((S$242+T$242+S$243+T$243)*1000*  $K195 * Data!$B$6)),  (U$12*1000*1000/(((S$242+T$242+S$243+T$243)/Denscalc($K195))*1000*  $K195 * Data!$B$6)) ), 0     )","v":0},172,null,null,{"$f":"IF(AND($A195<>\"\",(W195+X195)>0),     IF(X$13=\"Nm3\",(Y$12*1000*1000/((W$242+X$242+W$243+X$243)*1000*  $K195 * Data!$B$6)),  (Y$12*1000*1000/(((W$242+X$242+W$243+X$243)/Denscalc($K195))*1000*  $K195 * Data!$B$6)) ), 0   )","v":0},172,null,null,{"$f":"IF(AND($A195<>\"\",(AA195+AB195)>0),     IF(AB$13=\"Nm3\",(AC$12*1000*1000/((AA$242+AB$242+AA$243+AB$243)*1000*  $K195 * Data!$B$6)),  (AC$12*1000*1000/(((AA$242+AB$242+AA$243+AB$243)/Denscalc($K195))*1000*  $K195 * Data!$B$6)) ), 0     )","v":0},172,null,null,{"$f":"IF(AND($A195<>\"\",(AE195+AF195)>0),     IF(AF$13=\"Nm3\",(AG$12*1000*1000/((AE$242+AF$242+AE$243+AF$243)*1000*  $K195 * Data!$B$6)),  (AG$12*1000*1000/(((AE$242+AF$242+AE$243+AF$243)/Denscalc($K195))*1000*  $K195 * Data!$B$6)) ), 0    )","v":0},172,null,null,{"$f":"IF(AND($A195<>\"\",(AI195+AJ195)>0),    IF(AJ$13=\"Nm3\",(AK$12*1000*1000/((AI$242+AJ$242+AI$243+AJ$243)*1000*  $K195 * Data!$B$6)),  (AK$12*1000*1000/(((AI$242+AJ$242+AI$243+AJ$243)/Denscalc($K195))*1000*  $K195 * Data!$B$6)) ), 0    )","v":0},172,null,null,{"$f":"IF(AND($A195<>\"\",(AM195+AN195)>0),     IF(AN$13=\"Nm3\",(AO$12*1000*1000/((AM$242+AN$242+AM$243+AN$243)*1000*  $K195 * Data!$B$6)),  (AO$12*1000*1000/(((AM$242+AN$242+AM$243+AN$243)/Denscalc($K195))*1000*  $K195 * Data!$B$6)) ), 0    )","v":0},172,null,null,{"$f":"IF(AND($A195<>\"\",(AQ195+AR195)>0),     IF(AR$13=\"Nm3\",(AS$12*1000*1000/((AQ$242+AR$242+AQ$243+AR$243)*1000*  $K195 * Data!$B$6)),  (AS$12*1000*1000/(((AQ$242+AR$242+AQ$243+AR$243)/Denscalc($K195))*1000*  $K195 * Data!$B$6)) ), 0     )","v":0},172,null,null,{"$f":"IF(AND($A195<>\"\",(AU195+AV195)>0),     IF(AV$13=\"Nm3\",(AW$12*1000*1000/((AU$242+AV$242+AU$243+AV$243)*1000*  $K195 * Data!$B$6)),  (AW$12*1000*1000/(((AU$242+AV$242+AU$243+AV$243)/Denscalc($K195))*1000*  $K195 * Data!$B$6)) ), 0   )","v":0},172,null,null,{"$f":"IF(AND(BA$11>0,$A195<>\"\",(AY195+AZ195)>0), BA$11, IF(AND($A195<>\"\",(AY195+AZ195)>0),\nIF(AZ$13=\"Nm3\",(BA$6*1000*1000/((AY$242+AZ$242+AY$243+AZ$243)*1000*$K195*Data!$B$6))+((BA$12-BA$6)*1000*1000/((AY$242+AZ$242+AY$243+AZ$243-AY$241-AZ$241)*1000*$K195*Data!$B$6)),\n(BA$6*1000*1000/(((AY$242+AZ$242+AY$243+AZ$243)/Denscalc($K195))*1000*$K195*Data!$B$6))+((BA$12-BA$6)*1000*1000/(((AY$242+AZ$242+AY$243+AZ$243-AY$241-AZ$241)/Denscalc($K195))*1000*$K195*Data!$B$6))),0))","v":0},172,null,null,{"$f":"IF(AND(BE$11>0,$A195<>\"\",(BC195+BD195)>0), BE$11, IF(AND($A195<>\"\",(BC195+BD195)>0),\n (BE$6*1000*1000/((BC$244+BD$244)*1000* Data!$B$7))+ ((BE$12-BE$6)*1000*1000/((BC$244+BD$244-BC$241-BD$241)*1000* Data!$B$7)),0))","v":0},172,{"$f":"IF(A195<>\"\", (Data!$B$127*1000*Data!$B$3)/Data!$B$7,  \"\")","v":""},"","",{"$f":"IF(A195<>\"\",  ROUND( (Data!$B$8-BI195)/Data!$B$8,3),   \"\")","v":""},"","","","",{"$f":"IF(A195<>\"\",  IF(TYPE(BN195)=1, ROUND( (Data!$B$8-BN195)/Data!$B$8,3),   \"\"),\"\")","v":""},"",172,"","","",null,""]
[null,173,null,null,null,null,null,null,null,null,null,null,null,null,null,null,{"$f":"IF(AND($A196<>\"\",(O196+P196)>0),    IF(P$13=\"Nm3\",(Q$12*1000*1000/((O$242+P$242+O$243+P$243)*1000*  $K196 * Data!$B$6)),  (Q$12*1000*1000/(((O$242+P$242+O$243+P$243)/Denscalc($K196))*1000*  $K196 * Data!$B$6)) ), 0    )","v":0},173,null,null,{"$f":"IF(AND($A196<>\"\",(S196+T196)>0),    IF(T$13=\"Nm3\",(U$12*1000*1000/((S$242+T$242+S$243+T$243)*1000*  $K196 * Data!$B$6)),  (U$12*1000*1000/(((S$242+T$242+S$243+T$243)/Denscalc($K196))*1000*  $K196 * Data!$B$6)) ), 0     )","v":0},173,null,null,{"$f":"IF(AND($A196<>\"\",(W196+X196)>0),     IF(X$13=\"Nm3\",(Y$12*1000*1000/((W$242+X$242+W$243+X$243)*1000*  $K196 * Data!$B$6)),  (Y$12*1000*1000/(((W$242+X$242+W$243+X$243)/Denscalc($K196))*1000*  $K196 * Data!$B$6)) ), 0   )","v":0},173,null,null,{"$f":"IF(AND($A196<>\"\",(AA196+AB196)>0),     IF(AB$13=\"Nm3\",(AC$12*1000*1000/((AA$242+AB$242+AA$243+AB$243)*1000*  $K196 * Data!$B$6)),  (AC$12*1000*1000/(((AA$242+AB$242+AA$243+AB$243)/Denscalc($K196))*1000*  $K196 * Data!$B$6)) ), 0     )","v":0},173,null,null,{"$f":"IF(AND($A196<>\"\",(AE196+AF196)>0),     IF(AF$13=\"Nm3\",(AG$12*1000*1000/((AE$242+AF$242+AE$243+AF$243)*1000*  $K196 * Data!$B$6)),  (AG$12*1000*1000/(((AE$242+AF$242+AE$243+AF$243)/Denscalc($K196))*1000*  $K196 * Data!$B$6)) ), 0    )","v":0},173,null,null,{"$f":"IF(AND($A196<>\"\",(AI196+AJ196)>0),    IF(AJ$13=\"Nm3\",(AK$12*1000*1000/((AI$242+AJ$242+AI$243+AJ$243)*1000*  $K196 * Data!$B$6)),  (AK$12*1000*1000/(((AI$242+AJ$242+AI$243+AJ$243)/Denscalc($K196))*1000*  $K196 * Data!$B$6)) ), 0    )","v":0},173,null,null,{"$f":"IF(AND($A196<>\"\",(AM196+AN196)>0),     IF(AN$13=\"Nm3\",(AO$12*1000*1000/((AM$242+AN$242+AM$243+AN$243)*1000*  $K196 * Data!$B$6)),  (AO$12*1000*1000/(((AM$242+AN$242+AM$243+AN$243)/Denscalc($K196))*1000*  $K196 * Data!$B$6)) ), 0    )","v":0},173,null,null,{"$f":"IF(AND($A196<>\"\",(AQ196+AR196)>0),     IF(AR$13=\"Nm3\",(AS$12*1000*1000/((AQ$242+AR$242+AQ$243+AR$243)*1000*  $K196 * Data!$B$6)),  (AS$12*1000*1000/(((AQ$242+AR$242+AQ$243+AR$243)/Denscalc($K196))*1000*  $K196 * Data!$B$6)) ), 0     )","v":0},173,null,null,{"$f":"IF(AND($A196<>\"\",(AU196+AV196)>0),     IF(AV$13=\"Nm3\",(AW$12*1000*1000/((AU$242+AV$242+AU$243+AV$243)*1000*  $K196 * Data!$B$6)),  (AW$12*1000*1000/(((AU$242+AV$242+AU$243+AV$243)/Denscalc($K196))*1000*  $K196 * Data!$B$6)) ), 0   )","v":0},173,null,null,{"$f":"IF(AND(BA$11>0,$A196<>\"\",(AY196+AZ196)>0), BA$11, IF(AND($A196<>\"\",(AY196+AZ196)>0),\nIF(AZ$13=\"Nm3\",(BA$6*1000*1000/((AY$242+AZ$242+AY$243+AZ$243)*1000*$K196*Data!$B$6))+((BA$12-BA$6)*1000*1000/((AY$242+AZ$242+AY$243+AZ$243-AY$241-AZ$241)*1000*$K196*Data!$B$6)),\n(BA$6*1000*1000/(((AY$242+AZ$242+AY$243+AZ$243)/Denscalc($K196))*1000*$K196*Data!$B$6))+((BA$12-BA$6)*1000*1000/(((AY$242+AZ$242+AY$243+AZ$243-AY$241-AZ$241)/Denscalc($K196))*1000*$K196*Data!$B$6))),0))","v":0},173,null,null,{"$f":"IF(AND(BE$11>0,$A196<>\"\",(BC196+BD196)>0), BE$11, IF(AND($A196<>\"\",(BC196+BD196)>0),\n (BE$6*1000*1000/((BC$244+BD$244)*1000* Data!$B$7))+ ((BE$12-BE$6)*1000*1000/((BC$244+BD$244-BC$241-BD$241)*1000* Data!$B$7)),0))","v":0},173,{"$f":"IF(A196<>\"\", (Data!$B$127*1000*Data!$B$3)/Data!$B$7,  \"\")","v":""},"","",{"$f":"IF(A196<>\"\",  ROUND( (Data!$B$8-BI196)/Data!$B$8,3),   \"\")","v":""},"","","","",{"$f":"IF(A196<>\"\",  IF(TYPE(BN196)=1, ROUND( (Data!$B$8-BN196)/Data!$B$8,3),   \"\"),\"\")","v":""},"",173,"","","",null,""]
[null,174,null,null,null,null,null,null,null,null,null,null,null,null,null,null,{"$f":"IF(AND($A197<>\"\",(O197+P197)>0),    IF(P$13=\"Nm3\",(Q$12*1000*1000/((O$242+P$242+O$243+P$243)*1000*  $K197 * Data!$B$6)),  (Q$12*1000*1000/(((O$242+P$242+O$243+P$243)/Denscalc($K197))*1000*  $K197 * Data!$B$6)) ), 0    )","v":0},174,null,null,{"$f":"IF(AND($A197<>\"\",(S197+T197)>0),    IF(T$13=\"Nm3\",(U$12*1000*1000/((S$242+T$242+S$243+T$243)*1000*  $K197 * Data!$B$6)),  (U$12*1000*1000/(((S$242+T$242+S$243+T$243)/Denscalc($K197))*1000*  $K197 * Data!$B$6)) ), 0     )","v":0},174,null,null,{"$f":"IF(AND($A197<>\"\",(W197+X197)>0),     IF(X$13=\"Nm3\",(Y$12*1000*1000/((W$242+X$242+W$243+X$243)*1000*  $K197 * Data!$B$6)),  (Y$12*1000*1000/(((W$242+X$242+W$243+X$243)/Denscalc($K197))*1000*  $K197 * Data!$B$6)) ), 0   )","v":0},174,null,null,{"$f":"IF(AND($A197<>\"\",(AA197+AB197)>0),     IF(AB$13=\"Nm3\",(AC$12*1000*1000/((AA$242+AB$242+AA$243+AB$243)*1000*  $K197 * Data!$B$6)),  (AC$12*1000*1000/(((AA$242+AB$242+AA$243+AB$243)/Denscalc($K197))*1000*  $K197 * Data!$B$6)) ), 0     )","v":0},174,null,null,{"$f":"IF(AND($A197<>\"\",(AE197+AF197)>0),     IF(AF$13=\"Nm3\",(AG$12*1000*1000/((AE$242+AF$242+AE$243+AF$243)*1000*  $K197 * Data!$B$6)),  (AG$12*1000*1000/(((AE$242+AF$242+AE$243+AF$243)/Denscalc($K197))*1000*  $K197 * Data!$B$6)) ), 0    )","v":0},174,null,null,{"$f":"IF(AND($A197<>\"\",(AI197+AJ197)>0),    IF(AJ$13=\"Nm3\",(AK$12*1000*1000/((AI$242+AJ$242+AI$243+AJ$243)*1000*  $K197 * Data!$B$6)),  (AK$12*1000*1000/(((AI$242+AJ$242+AI$243+AJ$243)/Denscalc($K197))*1000*  $K197 * Data!$B$6)) ), 0    )","v":0},174,null,null,{"$f":"IF(AND($A197<>\"\",(AM197+AN197)>0),     IF(AN$13=\"Nm3\",(AO$12*1000*1000/((AM$242+AN$242+AM$243+AN$243)*1000*  $K197 * Data!$B$6)),  (AO$12*1000*1000/(((AM$242+AN$242+AM$243+AN$243)/Denscalc($K197))*1000*  $K197 * Data!$B$6)) ), 0    )","v":0},174,null,null,{"$f":"IF(AND($A197<>\"\",(AQ197+AR197)>0),     IF(AR$13=\"Nm3\",(AS$12*1000*1000/((AQ$242+AR$242+AQ$243+AR$243)*1000*  $K197 * Data!$B$6)),  (AS$12*1000*1000/(((AQ$242+AR$242+AQ$243+AR$243)/Denscalc($K197))*1000*  $K197 * Data!$B$6)) ), 0     )","v":0},174,null,null,{"$f":"IF(AND($A197<>\"\",(AU197+AV197)>0),     IF(AV$13=\"Nm3\",(AW$12*1000*1000/((AU$242+AV$242+AU$243+AV$243)*1000*  $K197 * Data!$B$6)),  (AW$12*1000*1000/(((AU$242+AV$242+AU$243+AV$243)/Denscalc($K197))*1000*  $K197 * Data!$B$6)) ), 0   )","v":0},174,null,null,{"$f":"IF(AND(BA$11>0,$A197<>\"\",(AY197+AZ197)>0), BA$11, IF(AND($A197<>\"\",(AY197+AZ197)>0),\nIF(AZ$13=\"Nm3\",(BA$6*1000*1000/((AY$242+AZ$242+AY$243+AZ$243)*1000*$K197*Data!$B$6))+((BA$12-BA$6)*1000*1000/((AY$242+AZ$242+AY$243+AZ$243-AY$241-AZ$241)*1000*$K197*Data!$B$6)),\n(BA$6*1000*1000/(((AY$242+AZ$242+AY$243+AZ$243)/Denscalc($K197))*1000*$K197*Data!$B$6))+((BA$12-BA$6)*1000*1000/(((AY$242+AZ$242+AY$243+AZ$243-AY$241-AZ$241)/Denscalc($K197))*1000*$K197*Data!$B$6))),0))","v":0},174,null,null,{"$f":"IF(AND(BE$11>0,$A197<>\"\",(BC197+BD197)>0), BE$11, IF(AND($A197<>\"\",(BC197+BD197)>0),\n (BE$6*1000*1000/((BC$244+BD$244)*1000* Data!$B$7))+ ((BE$12-BE$6)*1000*1000/((BC$244+BD$244-BC$241-BD$241)*1000* Data!$B$7)),0))","v":0},174,{"$f":"IF(A197<>\"\", (Data!$B$127*1000*Data!$B$3)/Data!$B$7,  \"\")","v":""},"","",{"$f":"IF(A197<>\"\",  ROUND( (Data!$B$8-BI197)/Data!$B$8,3),   \"\")","v":""},"","","","",{"$f":"IF(A197<>\"\",  IF(TYPE(BN197)=1, ROUND( (Data!$B$8-BN197)/Data!$B$8,3),   \"\"),\"\")","v":""},"",174,"","","",null,""]
[null,175,null,null,null,null,null,null,null,null,null,null,null,null,null,null,{"$f":"IF(AND($A198<>\"\",(O198+P198)>0),    IF(P$13=\"Nm3\",(Q$12*1000*1000/((O$242+P$242+O$243+P$243)*1000*  $K198 * Data!$B$6)),  (Q$12*1000*1000/(((O$242+P$242+O$243+P$243)/Denscalc($K198))*1000*  $K198 * Data!$B$6)) ), 0    )","v":0},175,null,null,{"$f":"IF(AND($A198<>\"\",(S198+T198)>0),    IF(T$13=\"Nm3\",(U$12*1000*1000/((S$242+T$242+S$243+T$243)*1000*  $K198 * Data!$B$6)),  (U$12*1000*1000/(((S$242+T$242+S$243+T$243)/Denscalc($K198))*1000*  $K198 * Data!$B$6)) ), 0     )","v":0},175,null,null,{"$f":"IF(AND($A198<>\"\",(W198+X198)>0),     IF(X$13=\"Nm3\",(Y$12*1000*1000/((W$242+X$242+W$243+X$243)*1000*  $K198 * Data!$B$6)),  (Y$12*1000*1000/(((W$242+X$242+W$243+X$243)/Denscalc($K198))*1000*  $K198 * Data!$B$6)) ), 0   )","v":0},175,null,null,{"$f":"IF(AND($A198<>\"\",(AA198+AB198)>0),     IF(AB$13=\"Nm3\",(AC$12*1000*1000/((AA$242+AB$242+AA$243+AB$243)*1000*  $K198 * Data!$B$6)),  (AC$12*1000*1000/(((AA$242+AB$242+AA$243+AB$243)/Denscalc($K198))*1000*  $K198 * Data!$B$6)) ), 0     )","v":0},175,null,null,{"$f":"IF(AND($A198<>\"\",(AE198+AF198)>0),     IF(AF$13=\"Nm3\",(AG$12*1000*1000/((AE$242+AF$242+AE$243+AF$243)*1000*  $K198 * Data!$B$6)),  (AG$12*1000*1000/(((AE$242+AF$242+AE$243+AF$243)/Denscalc($K198))*1000*  $K198 * Data!$B$6)) ), 0    )","v":0},175,null,null,{"$f":"IF(AND($A198<>\"\",(AI198+AJ198)>0),    IF(AJ$13=\"Nm3\",(AK$12*1000*1000/((AI$242+AJ$242+AI$243+AJ$243)*1000*  $K198 * Data!$B$6)),  (AK$12*1000*1000/(((AI$242+AJ$242+AI$243+AJ$243)/Denscalc($K198))*1000*  $K198 * Data!$B$6)) ), 0    )","v":0},175,null,null,{"$f":"IF(AND($A198<>\"\",(AM198+AN198)>0),     IF(AN$13=\"Nm3\",(AO$12*1000*1000/((AM$242+AN$242+AM$243+AN$243)*1000*  $K198 * Data!$B$6)),  (AO$12*1000*1000/(((AM$242+AN$242+AM$243+AN$243)/Denscalc($K198))*1000*  $K198 * Data!$B$6)) ), 0    )","v":0},175,null,null,{"$f":"IF(AND($A198<>\"\",(AQ198+AR198)>0),     IF(AR$13=\"Nm3\",(AS$12*1000*1000/((AQ$242+AR$242+AQ$243+AR$243)*1000*  $K198 * Data!$B$6)),  (AS$12*1000*1000/(((AQ$242+AR$242+AQ$243+AR$243)/Denscalc($K198))*1000*  $K198 * Data!$B$6)) ), 0     )","v":0},175,null,null,{"$f":"IF(AND($A198<>\"\",(AU198+AV198)>0),     IF(AV$13=\"Nm3\",(AW$12*1000*1000/((AU$242+AV$242+AU$243+AV$243)*1000*  $K198 * Data!$B$6)),  (AW$12*1000*1000/(((AU$242+AV$242+AU$243+AV$243)/Denscalc($K198))*1000*  $K198 * Data!$B$6)) ), 0   )","v":0},175,null,null,{"$f":"IF(AND(BA$11>0,$A198<>\"\",(AY198+AZ198)>0), BA$11, IF(AND($A198<>\"\",(AY198+AZ198)>0),\nIF(AZ$13=\"Nm3\",(BA$6*1000*1000/((AY$242+AZ$242+AY$243+AZ$243)*1000*$K198*Data!$B$6))+((BA$12-BA$6)*1000*1000/((AY$242+AZ$242+AY$243+AZ$243-AY$241-AZ$241)*1000*$K198*Data!$B$6)),\n(BA$6*1000*1000/(((AY$242+AZ$242+AY$243+AZ$243)/Denscalc($K198))*1000*$K198*Data!$B$6))+((BA$12-BA$6)*1000*1000/(((AY$242+AZ$242+AY$243+AZ$243-AY$241-AZ$241)/Denscalc($K198))*1000*$K198*Data!$B$6))),0))","v":0},175,null,null,{"$f":"IF(AND(BE$11>0,$A198<>\"\",(BC198+BD198)>0), BE$11, IF(AND($A198<>\"\",(BC198+BD198)>0),\n (BE$6*1000*1000/((BC$244+BD$244)*1000* Data!$B$7))+ ((BE$12-BE$6)*1000*1000/((BC$244+BD$244-BC$241-BD$241)*1000* Data!$B$7)),0))","v":0},175,{"$f":"IF(A198<>\"\", (Data!$B$127*1000*Data!$B$3)/Data!$B$7,  \"\")","v":""},"","",{"$f":"IF(A198<>\"\",  ROUND( (Data!$B$8-BI198)/Data!$B$8,3),   \"\")","v":""},"","","","",{"$f":"IF(A198<>\"\",  IF(TYPE(BN198)=1, ROUND( (Data!$B$8-BN198)/Data!$B$8,3),   \"\"),\"\")","v":""},"",175,"","","",null,""]
[null,176,null,null,null,null,null,null,null,null,null,null,null,null,null,null,{"$f":"IF(AND($A199<>\"\",(O199+P199)>0),    IF(P$13=\"Nm3\",(Q$12*1000*1000/((O$242+P$242+O$243+P$243)*1000*  $K199 * Data!$B$6)),  (Q$12*1000*1000/(((O$242+P$242+O$243+P$243)/Denscalc($K199))*1000*  $K199 * Data!$B$6)) ), 0    )","v":0},176,null,null,{"$f":"IF(AND($A199<>\"\",(S199+T199)>0),    IF(T$13=\"Nm3\",(U$12*1000*1000/((S$242+T$242+S$243+T$243)*1000*  $K199 * Data!$B$6)),  (U$12*1000*1000/(((S$242+T$242+S$243+T$243)/Denscalc($K199))*1000*  $K199 * Data!$B$6)) ), 0     )","v":0},176,null,null,{"$f":"IF(AND($A199<>\"\",(W199+X199)>0),     IF(X$13=\"Nm3\",(Y$12*1000*1000/((W$242+X$242+W$243+X$243)*1000*  $K199 * Data!$B$6)),  (Y$12*1000*1000/(((W$242+X$242+W$243+X$243)/Denscalc($K199))*1000*  $K199 * Data!$B$6)) ), 0   )","v":0},176,null,null,{"$f":"IF(AND($A199<>\"\",(AA199+AB199)>0),     IF(AB$13=\"Nm3\",(AC$12*1000*1000/((AA$242+AB$242+AA$243+AB$243)*1000*  $K199 * Data!$B$6)),  (AC$12*1000*1000/(((AA$242+AB$242+AA$243+AB$243)/Denscalc($K199))*1000*  $K199 * Data!$B$6)) ), 0     )","v":0},176,null,null,{"$f":"IF(AND($A199<>\"\",(AE199+AF199)>0),     IF(AF$13=\"Nm3\",(AG$12*1000*1000/((AE$242+AF$242+AE$243+AF$243)*1000*  $K199 * Data!$B$6)),  (AG$12*1000*1000/(((AE$242+AF$242+AE$243+AF$243)/Denscalc($K199))*1000*  $K199 * Data!$B$6)) ), 0    )","v":0},176,null,null,{"$f":"IF(AND($A199<>\"\",(AI199+AJ199)>0),    IF(AJ$13=\"Nm3\",(AK$12*1000*1000/((AI$242+AJ$242+AI$243+AJ$243)*1000*  $K199 * Data!$B$6)),  (AK$12*1000*1000/(((AI$242+AJ$242+AI$243+AJ$243)/Denscalc($K199))*1000*  $K199 * Data!$B$6)) ), 0    )","v":0},176,null,null,{"$f":"IF(AND($A199<>\"\",(AM199+AN199)>0),     IF(AN$13=\"Nm3\",(AO$12*1000*1000/((AM$242+AN$242+AM$243+AN$243)*1000*  $K199 * Data!$B$6)),  (AO$12*1000*1000/(((AM$242+AN$242+AM$243+AN$243)/Denscalc($K199))*1000*  $K199 * Data!$B$6)) ), 0    )","v":0},176,null,null,{"$f":"IF(AND($A199<>\"\",(AQ199+AR199)>0),     IF(AR$13=\"Nm3\",(AS$12*1000*1000/((AQ$242+AR$242+AQ$243+AR$243)*1000*  $K199 * Data!$B$6)),  (AS$12*1000*1000/(((AQ$242+AR$242+AQ$243+AR$243)/Denscalc($K199))*1000*  $K199 * Data!$B$6)) ), 0     )","v":0},176,null,null,{"$f":"IF(AND($A199<>\"\",(AU199+AV199)>0),     IF(AV$13=\"Nm3\",(AW$12*1000*1000/((AU$242+AV$242+AU$243+AV$243)*1000*  $K199 * Data!$B$6)),  (AW$12*1000*1000/(((AU$242+AV$242+AU$243+AV$243)/Denscalc($K199))*1000*  $K199 * Data!$B$6)) ), 0   )","v":0},176,null,null,{"$f":"IF(AND(BA$11>0,$A199<>\"\",(AY199+AZ199)>0), BA$11, IF(AND($A199<>\"\",(AY199+AZ199)>0),\nIF(AZ$13=\"Nm3\",(BA$6*1000*1000/((AY$242+AZ$242+AY$243+AZ$243)*1000*$K199*Data!$B$6))+((BA$12-BA$6)*1000*1000/((AY$242+AZ$242+AY$243+AZ$243-AY$241-AZ$241)*1000*$K199*Data!$B$6)),\n(BA$6*1000*1000/(((AY$242+AZ$242+AY$243+AZ$243)/Denscalc($K199))*1000*$K199*Data!$B$6))+((BA$12-BA$6)*1000*1000/(((AY$242+AZ$242+AY$243+AZ$243-AY$241-AZ$241)/Denscalc($K199))*1000*$K199*Data!$B$6))),0))","v":0},176,null,null,{"$f":"IF(AND(BE$11>0,$A199<>\"\",(BC199+BD199)>0), BE$11, IF(AND($A199<>\"\",(BC199+BD199)>0),\n (BE$6*1000*1000/((BC$244+BD$244)*1000* Data!$B$7))+ ((BE$12-BE$6)*1000*1000/((BC$244+BD$244-BC$241-BD$241)*1000* Data!$B$7)),0))","v":0},176,{"$f":"IF(A199<>\"\", (Data!$B$127*1000*Data!$B$3)/Data!$B$7,  \"\")","v":""},"","",{"$f":"IF(A199<>\"\",  ROUND( (Data!$B$8-BI199)/Data!$B$8,3),   \"\")","v":""},"","","","",{"$f":"IF(A199<>\"\",  IF(TYPE(BN199)=1, ROUND( (Data!$B$8-BN199)/Data!$B$8,3),   \"\"),\"\")","v":""},"",176,"","","",null,""]
[null,177,null,null,null,null,null,null,null,null,null,null,null,null,null,null,{"$f":"IF(AND($A200<>\"\",(O200+P200)>0),    IF(P$13=\"Nm3\",(Q$12*1000*1000/((O$242+P$242+O$243+P$243)*1000*  $K200 * Data!$B$6)),  (Q$12*1000*1000/(((O$242+P$242+O$243+P$243)/Denscalc($K200))*1000*  $K200 * Data!$B$6)) ), 0    )","v":0},177,null,null,{"$f":"IF(AND($A200<>\"\",(S200+T200)>0),    IF(T$13=\"Nm3\",(U$12*1000*1000/((S$242+T$242+S$243+T$243)*1000*  $K200 * Data!$B$6)),  (U$12*1000*1000/(((S$242+T$242+S$243+T$243)/Denscalc($K200))*1000*  $K200 * Data!$B$6)) ), 0     )","v":0},177,null,null,{"$f":"IF(AND($A200<>\"\",(W200+X200)>0),     IF(X$13=\"Nm3\",(Y$12*1000*1000/((W$242+X$242+W$243+X$243)*1000*  $K200 * Data!$B$6)),  (Y$12*1000*1000/(((W$242+X$242+W$243+X$243)/Denscalc($K200))*1000*  $K200 * Data!$B$6)) ), 0   )","v":0},177,null,null,{"$f":"IF(AND($A200<>\"\",(AA200+AB200)>0),     IF(AB$13=\"Nm3\",(AC$12*1000*1000/((AA$242+AB$242+AA$243+AB$243)*1000*  $K200 * Data!$B$6)),  (AC$12*1000*1000/(((AA$242+AB$242+AA$243+AB$243)/Denscalc($K200))*1000*  $K200 * Data!$B$6)) ), 0     )","v":0},177,null,null,{"$f":"IF(AND($A200<>\"\",(AE200+AF200)>0),     IF(AF$13=\"Nm3\",(AG$12*1000*1000/((AE$242+AF$242+AE$243+AF$243)*1000*  $K200 * Data!$B$6)),  (AG$12*1000*1000/(((AE$242+AF$242+AE$243+AF$243)/Denscalc($K200))*1000*  $K200 * Data!$B$6)) ), 0    )","v":0},177,null,null,{"$f":"IF(AND($A200<>\"\",(AI200+AJ200)>0),    IF(AJ$13=\"Nm3\",(AK$12*1000*1000/((AI$242+AJ$242+AI$243+AJ$243)*1000*  $K200 * Data!$B$6)),  (AK$12*1000*1000/(((AI$242+AJ$242+AI$243+AJ$243)/Denscalc($K200))*1000*  $K200 * Data!$B$6)) ), 0    )","v":0},177,null,null,{"$f":"IF(AND($A200<>\"\",(AM200+AN200)>0),     IF(AN$13=\"Nm3\",(AO$12*1000*1000/((AM$242+AN$242+AM$243+AN$243)*1000*  $K200 * Data!$B$6)),  (AO$12*1000*1000/(((AM$242+AN$242+AM$243+AN$243)/Denscalc($K200))*1000*  $K200 * Data!$B$6)) ), 0    )","v":0},177,null,null,{"$f":"IF(AND($A200<>\"\",(AQ200+AR200)>0),     IF(AR$13=\"Nm3\",(AS$12*1000*1000/((AQ$242+AR$242+AQ$243+AR$243)*1000*  $K200 * Data!$B$6)),  (AS$12*1000*1000/(((AQ$242+AR$242+AQ$243+AR$243)/Denscalc($K200))*1000*  $K200 * Data!$B$6)) ), 0     )","v":0},177,null,null,{"$f":"IF(AND($A200<>\"\",(AU200+AV200)>0),     IF(AV$13=\"Nm3\",(AW$12*1000*1000/((AU$242+AV$242+AU$243+AV$243)*1000*  $K200 * Data!$B$6)),  (AW$12*1000*1000/(((AU$242+AV$242+AU$243+AV$243)/Denscalc($K200))*1000*  $K200 * Data!$B$6)) ), 0   )","v":0},177,null,null,{"$f":"IF(AND(BA$11>0,$A200<>\"\",(AY200+AZ200)>0), BA$11, IF(AND($A200<>\"\",(AY200+AZ200)>0),\nIF(AZ$13=\"Nm3\",(BA$6*1000*1000/((AY$242+AZ$242+AY$243+AZ$243)*1000*$K200*Data!$B$6))+((BA$12-BA$6)*1000*1000/((AY$242+AZ$242+AY$243+AZ$243-AY$241-AZ$241)*1000*$K200*Data!$B$6)),\n(BA$6*1000*1000/(((AY$242+AZ$242+AY$243+AZ$243)/Denscalc($K200))*1000*$K200*Data!$B$6))+((BA$12-BA$6)*1000*1000/(((AY$242+AZ$242+AY$243+AZ$243-AY$241-AZ$241)/Denscalc($K200))*1000*$K200*Data!$B$6))),0))","v":0},177,null,null,{"$f":"IF(AND(BE$11>0,$A200<>\"\",(BC200+BD200)>0), BE$11, IF(AND($A200<>\"\",(BC200+BD200)>0),\n (BE$6*1000*1000/((BC$244+BD$244)*1000* Data!$B$7))+ ((BE$12-BE$6)*1000*1000/((BC$244+BD$244-BC$241-BD$241)*1000* Data!$B$7)),0))","v":0},177,{"$f":"IF(A200<>\"\", (Data!$B$127*1000*Data!$B$3)/Data!$B$7,  \"\")","v":""},"","",{"$f":"IF(A200<>\"\",  ROUND( (Data!$B$8-BI200)/Data!$B$8,3),   \"\")","v":""},"","","","",{"$f":"IF(A200<>\"\",  IF(TYPE(BN200)=1, ROUND( (Data!$B$8-BN200)/Data!$B$8,3),   \"\"),\"\")","v":""},"",177,"","","",null,""]
[null,178,null,null,null,null,null,null,null,null,null,null,null,null,null,null,{"$f":"IF(AND($A201<>\"\",(O201+P201)>0),    IF(P$13=\"Nm3\",(Q$12*1000*1000/((O$242+P$242+O$243+P$243)*1000*  $K201 * Data!$B$6)),  (Q$12*1000*1000/(((O$242+P$242+O$243+P$243)/Denscalc($K201))*1000*  $K201 * Data!$B$6)) ), 0    )","v":0},178,null,null,{"$f":"IF(AND($A201<>\"\",(S201+T201)>0),    IF(T$13=\"Nm3\",(U$12*1000*1000/((S$242+T$242+S$243+T$243)*1000*  $K201 * Data!$B$6)),  (U$12*1000*1000/(((S$242+T$242+S$243+T$243)/Denscalc($K201))*1000*  $K201 * Data!$B$6)) ), 0     )","v":0},178,null,null,{"$f":"IF(AND($A201<>\"\",(W201+X201)>0),     IF(X$13=\"Nm3\",(Y$12*1000*1000/((W$242+X$242+W$243+X$243)*1000*  $K201 * Data!$B$6)),  (Y$12*1000*1000/(((W$242+X$242+W$243+X$243)/Denscalc($K201))*1000*  $K201 * Data!$B$6)) ), 0   )","v":0},178,null,null,{"$f":"IF(AND($A201<>\"\",(AA201+AB201)>0),     IF(AB$13=\"Nm3\",(AC$12*1000*1000/((AA$242+AB$242+AA$243+AB$243)*1000*  $K201 * Data!$B$6)),  (AC$12*1000*1000/(((AA$242+AB$242+AA$243+AB$243)/Denscalc($K201))*1000*  $K201 * Data!$B$6)) ), 0     )","v":0},178,null,null,{"$f":"IF(AND($A201<>\"\",(AE201+AF201)>0),     IF(AF$13=\"Nm3\",(AG$12*1000*1000/((AE$242+AF$242+AE$243+AF$243)*1000*  $K201 * Data!$B$6)),  (AG$12*1000*1000/(((AE$242+AF$242+AE$243+AF$243)/Denscalc($K201))*1000*  $K201 * Data!$B$6)) ), 0    )","v":0},178,null,null,{"$f":"IF(AND($A201<>\"\",(AI201+AJ201)>0),    IF(AJ$13=\"Nm3\",(AK$12*1000*1000/((AI$242+AJ$242+AI$243+AJ$243)*1000*  $K201 * Data!$B$6)),  (AK$12*1000*1000/(((AI$242+AJ$242+AI$243+AJ$243)/Denscalc($K201))*1000*  $K201 * Data!$B$6)) ), 0    )","v":0},178,null,null,{"$f":"IF(AND($A201<>\"\",(AM201+AN201)>0),     IF(AN$13=\"Nm3\",(AO$12*1000*1000/((AM$242+AN$242+AM$243+AN$243)*1000*  $K201 * Data!$B$6)),  (AO$12*1000*1000/(((AM$242+AN$242+AM$243+AN$243)/Denscalc($K201))*1000*  $K201 * Data!$B$6)) ), 0    )","v":0},178,null,null,{"$f":"IF(AND($A201<>\"\",(AQ201+AR201)>0),     IF(AR$13=\"Nm3\",(AS$12*1000*1000/((AQ$242+AR$242+AQ$243+AR$243)*1000*  $K201 * Data!$B$6)),  (AS$12*1000*1000/(((AQ$242+AR$242+AQ$243+AR$243)/Denscalc($K201))*1000*  $K201 * Data!$B$6)) ), 0     )","v":0},178,null,null,{"$f":"IF(AND($A201<>\"\",(AU201+AV201)>0),     IF(AV$13=\"Nm3\",(AW$12*1000*1000/((AU$242+AV$242+AU$243+AV$243)*1000*  $K201 * Data!$B$6)),  (AW$12*1000*1000/(((AU$242+AV$242+AU$243+AV$243)/Denscalc($K201))*1000*  $K201 * Data!$B$6)) ), 0   )","v":0},178,null,null,{"$f":"IF(AND(BA$11>0,$A201<>\"\",(AY201+AZ201)>0), BA$11, IF(AND($A201<>\"\",(AY201+AZ201)>0),\nIF(AZ$13=\"Nm3\",(BA$6*1000*1000/((AY$242+AZ$242+AY$243+AZ$243)*1000*$K201*Data!$B$6))+((BA$12-BA$6)*1000*1000/((AY$242+AZ$242+AY$243+AZ$243-AY$241-AZ$241)*1000*$K201*Data!$B$6)),\n(BA$6*1000*1000/(((AY$242+AZ$242+AY$243+AZ$243)/Denscalc($K201))*1000*$K201*Data!$B$6))+((BA$12-BA$6)*1000*1000/(((AY$242+AZ$242+AY$243+AZ$243-AY$241-AZ$241)/Denscalc($K201))*1000*$K201*Data!$B$6))),0))","v":0},178,null,null,{"$f":"IF(AND(BE$11>0,$A201<>\"\",(BC201+BD201)>0), BE$11, IF(AND($A201<>\"\",(BC201+BD201)>0),\n (BE$6*1000*1000/((BC$244+BD$244)*1000* Data!$B$7))+ ((BE$12-BE$6)*1000*1000/((BC$244+BD$244-BC$241-BD$241)*1000* Data!$B$7)),0))","v":0},178,{"$f":"IF(A201<>\"\", (Data!$B$127*1000*Data!$B$3)/Data!$B$7,  \"\")","v":""},"","",{"$f":"IF(A201<>\"\",  ROUND( (Data!$B$8-BI201)/Data!$B$8,3),   \"\")","v":""},"","","","",{"$f":"IF(A201<>\"\",  IF(TYPE(BN201)=1, ROUND( (Data!$B$8-BN201)/Data!$B$8,3),   \"\"),\"\")","v":""},"",178,"","","",null,""]
[null,179,null,null,null,null,null,null,null,null,null,null,null,null,null,null,{"$f":"IF(AND($A202<>\"\",(O202+P202)>0),    IF(P$13=\"Nm3\",(Q$12*1000*1000/((O$242+P$242+O$243+P$243)*1000*  $K202 * Data!$B$6)),  (Q$12*1000*1000/(((O$242+P$242+O$243+P$243)/Denscalc($K202))*1000*  $K202 * Data!$B$6)) ), 0    )","v":0},179,null,null,{"$f":"IF(AND($A202<>\"\",(S202+T202)>0),    IF(T$13=\"Nm3\",(U$12*1000*1000/((S$242+T$242+S$243+T$243)*1000*  $K202 * Data!$B$6)),  (U$12*1000*1000/(((S$242+T$242+S$243+T$243)/Denscalc($K202))*1000*  $K202 * Data!$B$6)) ), 0     )","v":0},179,null,null,{"$f":"IF(AND($A202<>\"\",(W202+X202)>0),     IF(X$13=\"Nm3\",(Y$12*1000*1000/((W$242+X$242+W$243+X$243)*1000*  $K202 * Data!$B$6)),  (Y$12*1000*1000/(((W$242+X$242+W$243+X$243)/Denscalc($K202))*1000*  $K202 * Data!$B$6)) ), 0   )","v":0},179,null,null,{"$f":"IF(AND($A202<>\"\",(AA202+AB202)>0),     IF(AB$13=\"Nm3\",(AC$12*1000*1000/((AA$242+AB$242+AA$243+AB$243)*1000*  $K202 * Data!$B$6)),  (AC$12*1000*1000/(((AA$242+AB$242+AA$243+AB$243)/Denscalc($K202))*1000*  $K202 * Data!$B$6)) ), 0     )","v":0},179,null,null,{"$f":"IF(AND($A202<>\"\",(AE202+AF202)>0),     IF(AF$13=\"Nm3\",(AG$12*1000*1000/((AE$242+AF$242+AE$243+AF$243)*1000*  $K202 * Data!$B$6)),  (AG$12*1000*1000/(((AE$242+AF$242+AE$243+AF$243)/Denscalc($K202))*1000*  $K202 * Data!$B$6)) ), 0    )","v":0},179,null,null,{"$f":"IF(AND($A202<>\"\",(AI202+AJ202)>0),    IF(AJ$13=\"Nm3\",(AK$12*1000*1000/((AI$242+AJ$242+AI$243+AJ$243)*1000*  $K202 * Data!$B$6)),  (AK$12*1000*1000/(((AI$242+AJ$242+AI$243+AJ$243)/Denscalc($K202))*1000*  $K202 * Data!$B$6)) ), 0    )","v":0},179,null,null,{"$f":"IF(AND($A202<>\"\",(AM202+AN202)>0),     IF(AN$13=\"Nm3\",(AO$12*1000*1000/((AM$242+AN$242+AM$243+AN$243)*1000*  $K202 * Data!$B$6)),  (AO$12*1000*1000/(((AM$242+AN$242+AM$243+AN$243)/Denscalc($K202))*1000*  $K202 * Data!$B$6)) ), 0    )","v":0},179,null,null,{"$f":"IF(AND($A202<>\"\",(AQ202+AR202)>0),     IF(AR$13=\"Nm3\",(AS$12*1000*1000/((AQ$242+AR$242+AQ$243+AR$243)*1000*  $K202 * Data!$B$6)),  (AS$12*1000*1000/(((AQ$242+AR$242+AQ$243+AR$243)/Denscalc($K202))*1000*  $K202 * Data!$B$6)) ), 0     )","v":0},179,null,null,{"$f":"IF(AND($A202<>\"\",(AU202+AV202)>0),     IF(AV$13=\"Nm3\",(AW$12*1000*1000/((AU$242+AV$242+AU$243+AV$243)*1000*  $K202 * Data!$B$6)),  (AW$12*1000*1000/(((AU$242+AV$242+AU$243+AV$243)/Denscalc($K202))*1000*  $K202 * Data!$B$6)) ), 0   )","v":0},179,null,null,{"$f":"IF(AND(BA$11>0,$A202<>\"\",(AY202+AZ202)>0), BA$11, IF(AND($A202<>\"\",(AY202+AZ202)>0),\nIF(AZ$13=\"Nm3\",(BA$6*1000*1000/((AY$242+AZ$242+AY$243+AZ$243)*1000*$K202*Data!$B$6))+((BA$12-BA$6)*1000*1000/((AY$242+AZ$242+AY$243+AZ$243-AY$241-AZ$241)*1000*$K202*Data!$B$6)),\n(BA$6*1000*1000/(((AY$242+AZ$242+AY$243+AZ$243)/Denscalc($K202))*1000*$K202*Data!$B$6))+((BA$12-BA$6)*1000*1000/(((AY$242+AZ$242+AY$243+AZ$243-AY$241-AZ$241)/Denscalc($K202))*1000*$K202*Data!$B$6))),0))","v":0},179,null,null,{"$f":"IF(AND(BE$11>0,$A202<>\"\",(BC202+BD202)>0), BE$11, IF(AND($A202<>\"\",(BC202+BD202)>0),\n (BE$6*1000*1000/((BC$244+BD$244)*1000* Data!$B$7))+ ((BE$12-BE$6)*1000*1000/((BC$244+BD$244-BC$241-BD$241)*1000* Data!$B$7)),0))","v":0},179,{"$f":"IF(A202<>\"\", (Data!$B$127*1000*Data!$B$3)/Data!$B$7,  \"\")","v":""},"","",{"$f":"IF(A202<>\"\",  ROUND( (Data!$B$8-BI202)/Data!$B$8,3),   \"\")","v":""},"","","","",{"$f":"IF(A202<>\"\",  IF(TYPE(BN202)=1, ROUND( (Data!$B$8-BN202)/Data!$B$8,3),   \"\"),\"\")","v":""},"",179,"","","",null,""]
[null,180,null,null,null,null,null,null,null,null,null,null,null,null,null,null,{"$f":"IF(AND($A203<>\"\",(O203+P203)>0),    IF(P$13=\"Nm3\",(Q$12*1000*1000/((O$242+P$242+O$243+P$243)*1000*  $K203 * Data!$B$6)),  (Q$12*1000*1000/(((O$242+P$242+O$243+P$243)/Denscalc($K203))*1000*  $K203 * Data!$B$6)) ), 0    )","v":0},180,null,null,{"$f":"IF(AND($A203<>\"\",(S203+T203)>0),    IF(T$13=\"Nm3\",(U$12*1000*1000/((S$242+T$242+S$243+T$243)*1000*  $K203 * Data!$B$6)),  (U$12*1000*1000/(((S$242+T$242+S$243+T$243)/Denscalc($K203))*1000*  $K203 * Data!$B$6)) ), 0     )","v":0},180,null,null,{"$f":"IF(AND($A203<>\"\",(W203+X203)>0),     IF(X$13=\"Nm3\",(Y$12*1000*1000/((W$242+X$242+W$243+X$243)*1000*  $K203 * Data!$B$6)),  (Y$12*1000*1000/(((W$242+X$242+W$243+X$243)/Denscalc($K203))*1000*  $K203 * Data!$B$6)) ), 0   )","v":0},180,null,null,{"$f":"IF(AND($A203<>\"\",(AA203+AB203)>0),     IF(AB$13=\"Nm3\",(AC$12*1000*1000/((AA$242+AB$242+AA$243+AB$243)*1000*  $K203 * Data!$B$6)),  (AC$12*1000*1000/(((AA$242+AB$242+AA$243+AB$243)/Denscalc($K203))*1000*  $K203 * Data!$B$6)) ), 0     )","v":0},180,null,null,{"$f":"IF(AND($A203<>\"\",(AE203+AF203)>0),     IF(AF$13=\"Nm3\",(AG$12*1000*1000/((AE$242+AF$242+AE$243+AF$243)*1000*  $K203 * Data!$B$6)),  (AG$12*1000*1000/(((AE$242+AF$242+AE$243+AF$243)/Denscalc($K203))*1000*  $K203 * Data!$B$6)) ), 0    )","v":0},180,null,null,{"$f":"IF(AND($A203<>\"\",(AI203+AJ203)>0),    IF(AJ$13=\"Nm3\",(AK$12*1000*1000/((AI$242+AJ$242+AI$243+AJ$243)*1000*  $K203 * Data!$B$6)),  (AK$12*1000*1000/(((AI$242+AJ$242+AI$243+AJ$243)/Denscalc($K203))*1000*  $K203 * Data!$B$6)) ), 0    )","v":0},180,null,null,{"$f":"IF(AND($A203<>\"\",(AM203+AN203)>0),     IF(AN$13=\"Nm3\",(AO$12*1000*1000/((AM$242+AN$242+AM$243+AN$243)*1000*  $K203 * Data!$B$6)),  (AO$12*1000*1000/(((AM$242+AN$242+AM$243+AN$243)/Denscalc($K203))*1000*  $K203 * Data!$B$6)) ), 0    )","v":0},180,null,null,{"$f":"IF(AND($A203<>\"\",(AQ203+AR203)>0),     IF(AR$13=\"Nm3\",(AS$12*1000*1000/((AQ$242+AR$242+AQ$243+AR$243)*1000*  $K203 * Data!$B$6)),  (AS$12*1000*1000/(((AQ$242+AR$242+AQ$243+AR$243)/Denscalc($K203))*1000*  $K203 * Data!$B$6)) ), 0     )","v":0},180,null,null,{"$f":"IF(AND($A203<>\"\",(AU203+AV203)>0),     IF(AV$13=\"Nm3\",(AW$12*1000*1000/((AU$242+AV$242+AU$243+AV$243)*1000*  $K203 * Data!$B$6)),  (AW$12*1000*1000/(((AU$242+AV$242+AU$243+AV$243)/Denscalc($K203))*1000*  $K203 * Data!$B$6)) ), 0   )","v":0},180,null,null,{"$f":"IF(AND(BA$11>0,$A203<>\"\",(AY203+AZ203)>0), BA$11, IF(AND($A203<>\"\",(AY203+AZ203)>0),\nIF(AZ$13=\"Nm3\",(BA$6*1000*1000/((AY$242+AZ$242+AY$243+AZ$243)*1000*$K203*Data!$B$6))+((BA$12-BA$6)*1000*1000/((AY$242+AZ$242+AY$243+AZ$243-AY$241-AZ$241)*1000*$K203*Data!$B$6)),\n(BA$6*1000*1000/(((AY$242+AZ$242+AY$243+AZ$243)/Denscalc($K203))*1000*$K203*Data!$B$6))+((BA$12-BA$6)*1000*1000/(((AY$242+AZ$242+AY$243+AZ$243-AY$241-AZ$241)/Denscalc($K203))*1000*$K203*Data!$B$6))),0))","v":0},180,null,null,{"$f":"IF(AND(BE$11>0,$A203<>\"\",(BC203+BD203)>0), BE$11, IF(AND($A203<>\"\",(BC203+BD203)>0),\n (BE$6*1000*1000/((BC$244+BD$244)*1000* Data!$B$7))+ ((BE$12-BE$6)*1000*1000/((BC$244+BD$244-BC$241-BD$241)*1000* Data!$B$7)),0))","v":0},180,{"$f":"IF(A203<>\"\", (Data!$B$127*1000*Data!$B$3)/Data!$B$7,  \"\")","v":""},"","",{"$f":"IF(A203<>\"\",  ROUND( (Data!$B$8-BI203)/Data!$B$8,3),   \"\")","v":""},"","","","",{"$f":"IF(A203<>\"\",  IF(TYPE(BN203)=1, ROUND( (Data!$B$8-BN203)/Data!$B$8,3),   \"\"),\"\")","v":""},"",180,"","","",null,""]
[null,181,null,null,null,null,null,null,null,null,null,null,null,null,null,null,{"$f":"IF(AND($A204<>\"\",(O204+P204)>0),    IF(P$13=\"Nm3\",(Q$12*1000*1000/((O$242+P$242+O$243+P$243)*1000*  $K204 * Data!$B$6)),  (Q$12*1000*1000/(((O$242+P$242+O$243+P$243)/Denscalc($K204))*1000*  $K204 * Data!$B$6)) ), 0    )","v":0},181,null,null,{"$f":"IF(AND($A204<>\"\",(S204+T204)>0),    IF(T$13=\"Nm3\",(U$12*1000*1000/((S$242+T$242+S$243+T$243)*1000*  $K204 * Data!$B$6)),  (U$12*1000*1000/(((S$242+T$242+S$243+T$243)/Denscalc($K204))*1000*  $K204 * Data!$B$6)) ), 0     )","v":0},181,null,null,{"$f":"IF(AND($A204<>\"\",(W204+X204)>0),     IF(X$13=\"Nm3\",(Y$12*1000*1000/((W$242+X$242+W$243+X$243)*1000*  $K204 * Data!$B$6)),  (Y$12*1000*1000/(((W$242+X$242+W$243+X$243)/Denscalc($K204))*1000*  $K204 * Data!$B$6)) ), 0   )","v":0},181,null,null,{"$f":"IF(AND($A204<>\"\",(AA204+AB204)>0),     IF(AB$13=\"Nm3\",(AC$12*1000*1000/((AA$242+AB$242+AA$243+AB$243)*1000*  $K204 * Data!$B$6)),  (AC$12*1000*1000/(((AA$242+AB$242+AA$243+AB$243)/Denscalc($K204))*1000*  $K204 * Data!$B$6)) ), 0     )","v":0},181,null,null,{"$f":"IF(AND($A204<>\"\",(AE204+AF204)>0),     IF(AF$13=\"Nm3\",(AG$12*1000*1000/((AE$242+AF$242+AE$243+AF$243)*1000*  $K204 * Data!$B$6)),  (AG$12*1000*1000/(((AE$242+AF$242+AE$243+AF$243)/Denscalc($K204))*1000*  $K204 * Data!$B$6)) ), 0    )","v":0},181,null,null,{"$f":"IF(AND($A204<>\"\",(AI204+AJ204)>0),    IF(AJ$13=\"Nm3\",(AK$12*1000*1000/((AI$242+AJ$242+AI$243+AJ$243)*1000*  $K204 * Data!$B$6)),  (AK$12*1000*1000/(((AI$242+AJ$242+AI$243+AJ$243)/Denscalc($K204))*1000*  $K204 * Data!$B$6)) ), 0    )","v":0},181,null,null,{"$f":"IF(AND($A204<>\"\",(AM204+AN204)>0),     IF(AN$13=\"Nm3\",(AO$12*1000*1000/((AM$242+AN$242+AM$243+AN$243)*1000*  $K204 * Data!$B$6)),  (AO$12*1000*1000/(((AM$242+AN$242+AM$243+AN$243)/Denscalc($K204))*1000*  $K204 * Data!$B$6)) ), 0    )","v":0},181,null,null,{"$f":"IF(AND($A204<>\"\",(AQ204+AR204)>0),     IF(AR$13=\"Nm3\",(AS$12*1000*1000/((AQ$242+AR$242+AQ$243+AR$243)*1000*  $K204 * Data!$B$6)),  (AS$12*1000*1000/(((AQ$242+AR$242+AQ$243+AR$243)/Denscalc($K204))*1000*  $K204 * Data!$B$6)) ), 0     )","v":0},181,null,null,{"$f":"IF(AND($A204<>\"\",(AU204+AV204)>0),     IF(AV$13=\"Nm3\",(AW$12*1000*1000/((AU$242+AV$242+AU$243+AV$243)*1000*  $K204 * Data!$B$6)),  (AW$12*1000*1000/(((AU$242+AV$242+AU$243+AV$243)/Denscalc($K204))*1000*  $K204 * Data!$B$6)) ), 0   )","v":0},181,null,null,{"$f":"IF(AND(BA$11>0,$A204<>\"\",(AY204+AZ204)>0), BA$11, IF(AND($A204<>\"\",(AY204+AZ204)>0),\nIF(AZ$13=\"Nm3\",(BA$6*1000*1000/((AY$242+AZ$242+AY$243+AZ$243)*1000*$K204*Data!$B$6))+((BA$12-BA$6)*1000*1000/((AY$242+AZ$242+AY$243+AZ$243-AY$241-AZ$241)*1000*$K204*Data!$B$6)),\n(BA$6*1000*1000/(((AY$242+AZ$242+AY$243+AZ$243)/Denscalc($K204))*1000*$K204*Data!$B$6))+((BA$12-BA$6)*1000*1000/(((AY$242+AZ$242+AY$243+AZ$243-AY$241-AZ$241)/Denscalc($K204))*1000*$K204*Data!$B$6))),0))","v":0},181,null,null,{"$f":"IF(AND(BE$11>0,$A204<>\"\",(BC204+BD204)>0), BE$11, IF(AND($A204<>\"\",(BC204+BD204)>0),\n (BE$6*1000*1000/((BC$244+BD$244)*1000* Data!$B$7))+ ((BE$12-BE$6)*1000*1000/((BC$244+BD$244-BC$241-BD$241)*1000* Data!$B$7)),0))","v":0},181,{"$f":"IF(A204<>\"\", (Data!$B$127*1000*Data!$B$3)/Data!$B$7,  \"\")","v":""},"","",{"$f":"IF(A204<>\"\",  ROUND( (Data!$B$8-BI204)/Data!$B$8,3),   \"\")","v":""},"","","","",{"$f":"IF(A204<>\"\",  IF(TYPE(BN204)=1, ROUND( (Data!$B$8-BN204)/Data!$B$8,3),   \"\"),\"\")","v":""},"",181,"","","",null,""]
[null,182,null,null,null,null,null,null,null,null,null,null,null,null,null,null,{"$f":"IF(AND($A205<>\"\",(O205+P205)>0),    IF(P$13=\"Nm3\",(Q$12*1000*1000/((O$242+P$242+O$243+P$243)*1000*  $K205 * Data!$B$6)),  (Q$12*1000*1000/(((O$242+P$242+O$243+P$243)/Denscalc($K205))*1000*  $K205 * Data!$B$6)) ), 0    )","v":0},182,null,null,{"$f":"IF(AND($A205<>\"\",(S205+T205)>0),    IF(T$13=\"Nm3\",(U$12*1000*1000/((S$242+T$242+S$243+T$243)*1000*  $K205 * Data!$B$6)),  (U$12*1000*1000/(((S$242+T$242+S$243+T$243)/Denscalc($K205))*1000*  $K205 * Data!$B$6)) ), 0     )","v":0},182,null,null,{"$f":"IF(AND($A205<>\"\",(W205+X205)>0),     IF(X$13=\"Nm3\",(Y$12*1000*1000/((W$242+X$242+W$243+X$243)*1000*  $K205 * Data!$B$6)),  (Y$12*1000*1000/(((W$242+X$242+W$243+X$243)/Denscalc($K205))*1000*  $K205 * Data!$B$6)) ), 0   )","v":0},182,null,null,{"$f":"IF(AND($A205<>\"\",(AA205+AB205)>0),     IF(AB$13=\"Nm3\",(AC$12*1000*1000/((AA$242+AB$242+AA$243+AB$243)*1000*  $K205 * Data!$B$6)),  (AC$12*1000*1000/(((AA$242+AB$242+AA$243+AB$243)/Denscalc($K205))*1000*  $K205 * Data!$B$6)) ), 0     )","v":0},182,null,null,{"$f":"IF(AND($A205<>\"\",(AE205+AF205)>0),     IF(AF$13=\"Nm3\",(AG$12*1000*1000/((AE$242+AF$242+AE$243+AF$243)*1000*  $K205 * Data!$B$6)),  (AG$12*1000*1000/(((AE$242+AF$242+AE$243+AF$243)/Denscalc($K205))*1000*  $K205 * Data!$B$6)) ), 0    )","v":0},182,null,null,{"$f":"IF(AND($A205<>\"\",(AI205+AJ205)>0),    IF(AJ$13=\"Nm3\",(AK$12*1000*1000/((AI$242+AJ$242+AI$243+AJ$243)*1000*  $K205 * Data!$B$6)),  (AK$12*1000*1000/(((AI$242+AJ$242+AI$243+AJ$243)/Denscalc($K205))*1000*  $K205 * Data!$B$6)) ), 0    )","v":0},182,null,null,{"$f":"IF(AND($A205<>\"\",(AM205+AN205)>0),     IF(AN$13=\"Nm3\",(AO$12*1000*1000/((AM$242+AN$242+AM$243+AN$243)*1000*  $K205 * Data!$B$6)),  (AO$12*1000*1000/(((AM$242+AN$242+AM$243+AN$243)/Denscalc($K205))*1000*  $K205 * Data!$B$6)) ), 0    )","v":0},182,null,null,{"$f":"IF(AND($A205<>\"\",(AQ205+AR205)>0),     IF(AR$13=\"Nm3\",(AS$12*1000*1000/((AQ$242+AR$242+AQ$243+AR$243)*1000*  $K205 * Data!$B$6)),  (AS$12*1000*1000/(((AQ$242+AR$242+AQ$243+AR$243)/Denscalc($K205))*1000*  $K205 * Data!$B$6)) ), 0     )","v":0},182,null,null,{"$f":"IF(AND($A205<>\"\",(AU205+AV205)>0),     IF(AV$13=\"Nm3\",(AW$12*1000*1000/((AU$242+AV$242+AU$243+AV$243)*1000*  $K205 * Data!$B$6)),  (AW$12*1000*1000/(((AU$242+AV$242+AU$243+AV$243)/Denscalc($K205))*1000*  $K205 * Data!$B$6)) ), 0   )","v":0},182,null,null,{"$f":"IF(AND(BA$11>0,$A205<>\"\",(AY205+AZ205)>0), BA$11, IF(AND($A205<>\"\",(AY205+AZ205)>0),\nIF(AZ$13=\"Nm3\",(BA$6*1000*1000/((AY$242+AZ$242+AY$243+AZ$243)*1000*$K205*Data!$B$6))+((BA$12-BA$6)*1000*1000/((AY$242+AZ$242+AY$243+AZ$243-AY$241-AZ$241)*1000*$K205*Data!$B$6)),\n(BA$6*1000*1000/(((AY$242+AZ$242+AY$243+AZ$243)/Denscalc($K205))*1000*$K205*Data!$B$6))+((BA$12-BA$6)*1000*1000/(((AY$242+AZ$242+AY$243+AZ$243-AY$241-AZ$241)/Denscalc($K205))*1000*$K205*Data!$B$6))),0))","v":0},182,null,null,{"$f":"IF(AND(BE$11>0,$A205<>\"\",(BC205+BD205)>0), BE$11, IF(AND($A205<>\"\",(BC205+BD205)>0),\n (BE$6*1000*1000/((BC$244+BD$244)*1000* Data!$B$7))+ ((BE$12-BE$6)*1000*1000/((BC$244+BD$244-BC$241-BD$241)*1000* Data!$B$7)),0))","v":0},182,{"$f":"IF(A205<>\"\", (Data!$B$127*1000*Data!$B$3)/Data!$B$7,  \"\")","v":""},"","",{"$f":"IF(A205<>\"\",  ROUND( (Data!$B$8-BI205)/Data!$B$8,3),   \"\")","v":""},"","","","",{"$f":"IF(A205<>\"\",  IF(TYPE(BN205)=1, ROUND( (Data!$B$8-BN205)/Data!$B$8,3),   \"\"),\"\")","v":""},"",182,"","","",null,""]
[null,183,null,null,null,null,null,null,null,null,null,null,null,null,null,null,{"$f":"IF(AND($A206<>\"\",(O206+P206)>0),    IF(P$13=\"Nm3\",(Q$12*1000*1000/((O$242+P$242+O$243+P$243)*1000*  $K206 * Data!$B$6)),  (Q$12*1000*1000/(((O$242+P$242+O$243+P$243)/Denscalc($K206))*1000*  $K206 * Data!$B$6)) ), 0    )","v":0},183,null,null,{"$f":"IF(AND($A206<>\"\",(S206+T206)>0),    IF(T$13=\"Nm3\",(U$12*1000*1000/((S$242+T$242+S$243+T$243)*1000*  $K206 * Data!$B$6)),  (U$12*1000*1000/(((S$242+T$242+S$243+T$243)/Denscalc($K206))*1000*  $K206 * Data!$B$6)) ), 0     )","v":0},183,null,null,{"$f":"IF(AND($A206<>\"\",(W206+X206)>0),     IF(X$13=\"Nm3\",(Y$12*1000*1000/((W$242+X$242+W$243+X$243)*1000*  $K206 * Data!$B$6)),  (Y$12*1000*1000/(((W$242+X$242+W$243+X$243)/Denscalc($K206))*1000*  $K206 * Data!$B$6)) ), 0   )","v":0},183,null,null,{"$f":"IF(AND($A206<>\"\",(AA206+AB206)>0),     IF(AB$13=\"Nm3\",(AC$12*1000*1000/((AA$242+AB$242+AA$243+AB$243)*1000*  $K206 * Data!$B$6)),  (AC$12*1000*1000/(((AA$242+AB$242+AA$243+AB$243)/Denscalc($K206))*1000*  $K206 * Data!$B$6)) ), 0     )","v":0},183,null,null,{"$f":"IF(AND($A206<>\"\",(AE206+AF206)>0),     IF(AF$13=\"Nm3\",(AG$12*1000*1000/((AE$242+AF$242+AE$243+AF$243)*1000*  $K206 * Data!$B$6)),  (AG$12*1000*1000/(((AE$242+AF$242+AE$243+AF$243)/Denscalc($K206))*1000*  $K206 * Data!$B$6)) ), 0    )","v":0},183,null,null,{"$f":"IF(AND($A206<>\"\",(AI206+AJ206)>0),    IF(AJ$13=\"Nm3\",(AK$12*1000*1000/((AI$242+AJ$242+AI$243+AJ$243)*1000*  $K206 * Data!$B$6)),  (AK$12*1000*1000/(((AI$242+AJ$242+AI$243+AJ$243)/Denscalc($K206))*1000*  $K206 * Data!$B$6)) ), 0    )","v":0},183,null,null,{"$f":"IF(AND($A206<>\"\",(AM206+AN206)>0),     IF(AN$13=\"Nm3\",(AO$12*1000*1000/((AM$242+AN$242+AM$243+AN$243)*1000*  $K206 * Data!$B$6)),  (AO$12*1000*1000/(((AM$242+AN$242+AM$243+AN$243)/Denscalc($K206))*1000*  $K206 * Data!$B$6)) ), 0    )","v":0},183,null,null,{"$f":"IF(AND($A206<>\"\",(AQ206+AR206)>0),     IF(AR$13=\"Nm3\",(AS$12*1000*1000/((AQ$242+AR$242+AQ$243+AR$243)*1000*  $K206 * Data!$B$6)),  (AS$12*1000*1000/(((AQ$242+AR$242+AQ$243+AR$243)/Denscalc($K206))*1000*  $K206 * Data!$B$6)) ), 0     )","v":0},183,null,null,{"$f":"IF(AND($A206<>\"\",(AU206+AV206)>0),     IF(AV$13=\"Nm3\",(AW$12*1000*1000/((AU$242+AV$242+AU$243+AV$243)*1000*  $K206 * Data!$B$6)),  (AW$12*1000*1000/(((AU$242+AV$242+AU$243+AV$243)/Denscalc($K206))*1000*  $K206 * Data!$B$6)) ), 0   )","v":0},183,null,null,{"$f":"IF(AND(BA$11>0,$A206<>\"\",(AY206+AZ206)>0), BA$11, IF(AND($A206<>\"\",(AY206+AZ206)>0),\nIF(AZ$13=\"Nm3\",(BA$6*1000*1000/((AY$242+AZ$242+AY$243+AZ$243)*1000*$K206*Data!$B$6))+((BA$12-BA$6)*1000*1000/((AY$242+AZ$242+AY$243+AZ$243-AY$241-AZ$241)*1000*$K206*Data!$B$6)),\n(BA$6*1000*1000/(((AY$242+AZ$242+AY$243+AZ$243)/Denscalc($K206))*1000*$K206*Data!$B$6))+((BA$12-BA$6)*1000*1000/(((AY$242+AZ$242+AY$243+AZ$243-AY$241-AZ$241)/Denscalc($K206))*1000*$K206*Data!$B$6))),0))","v":0},183,null,null,{"$f":"IF(AND(BE$11>0,$A206<>\"\",(BC206+BD206)>0), BE$11, IF(AND($A206<>\"\",(BC206+BD206)>0),\n (BE$6*1000*1000/((BC$244+BD$244)*1000* Data!$B$7))+ ((BE$12-BE$6)*1000*1000/((BC$244+BD$244-BC$241-BD$241)*1000* Data!$B$7)),0))","v":0},183,{"$f":"IF(A206<>\"\", (Data!$B$127*1000*Data!$B$3)/Data!$B$7,  \"\")","v":""},"","",{"$f":"IF(A206<>\"\",  ROUND( (Data!$B$8-BI206)/Data!$B$8,3),   \"\")","v":""},"","","","",{"$f":"IF(A206<>\"\",  IF(TYPE(BN206)=1, ROUND( (Data!$B$8-BN206)/Data!$B$8,3),   \"\"),\"\")","v":""},"",183,"","","",null,""]
[null,184,null,null,null,null,null,null,null,null,null,null,null,null,null,null,{"$f":"IF(AND($A207<>\"\",(O207+P207)>0),    IF(P$13=\"Nm3\",(Q$12*1000*1000/((O$242+P$242+O$243+P$243)*1000*  $K207 * Data!$B$6)),  (Q$12*1000*1000/(((O$242+P$242+O$243+P$243)/Denscalc($K207))*1000*  $K207 * Data!$B$6)) ), 0    )","v":0},184,null,null,{"$f":"IF(AND($A207<>\"\",(S207+T207)>0),    IF(T$13=\"Nm3\",(U$12*1000*1000/((S$242+T$242+S$243+T$243)*1000*  $K207 * Data!$B$6)),  (U$12*1000*1000/(((S$242+T$242+S$243+T$243)/Denscalc($K207))*1000*  $K207 * Data!$B$6)) ), 0     )","v":0},184,null,null,{"$f":"IF(AND($A207<>\"\",(W207+X207)>0),     IF(X$13=\"Nm3\",(Y$12*1000*1000/((W$242+X$242+W$243+X$243)*1000*  $K207 * Data!$B$6)),  (Y$12*1000*1000/(((W$242+X$242+W$243+X$243)/Denscalc($K207))*1000*  $K207 * Data!$B$6)) ), 0   )","v":0},184,null,null,{"$f":"IF(AND($A207<>\"\",(AA207+AB207)>0),     IF(AB$13=\"Nm3\",(AC$12*1000*1000/((AA$242+AB$242+AA$243+AB$243)*1000*  $K207 * Data!$B$6)),  (AC$12*1000*1000/(((AA$242+AB$242+AA$243+AB$243)/Denscalc($K207))*1000*  $K207 * Data!$B$6)) ), 0     )","v":0},184,null,null,{"$f":"IF(AND($A207<>\"\",(AE207+AF207)>0),     IF(AF$13=\"Nm3\",(AG$12*1000*1000/((AE$242+AF$242+AE$243+AF$243)*1000*  $K207 * Data!$B$6)),  (AG$12*1000*1000/(((AE$242+AF$242+AE$243+AF$243)/Denscalc($K207))*1000*  $K207 * Data!$B$6)) ), 0    )","v":0},184,null,null,{"$f":"IF(AND($A207<>\"\",(AI207+AJ207)>0),    IF(AJ$13=\"Nm3\",(AK$12*1000*1000/((AI$242+AJ$242+AI$243+AJ$243)*1000*  $K207 * Data!$B$6)),  (AK$12*1000*1000/(((AI$242+AJ$242+AI$243+AJ$243)/Denscalc($K207))*1000*  $K207 * Data!$B$6)) ), 0    )","v":0},184,null,null,{"$f":"IF(AND($A207<>\"\",(AM207+AN207)>0),     IF(AN$13=\"Nm3\",(AO$12*1000*1000/((AM$242+AN$242+AM$243+AN$243)*1000*  $K207 * Data!$B$6)),  (AO$12*1000*1000/(((AM$242+AN$242+AM$243+AN$243)/Denscalc($K207))*1000*  $K207 * Data!$B$6)) ), 0    )","v":0},184,null,null,{"$f":"IF(AND($A207<>\"\",(AQ207+AR207)>0),     IF(AR$13=\"Nm3\",(AS$12*1000*1000/((AQ$242+AR$242+AQ$243+AR$243)*1000*  $K207 * Data!$B$6)),  (AS$12*1000*1000/(((AQ$242+AR$242+AQ$243+AR$243)/Denscalc($K207))*1000*  $K207 * Data!$B$6)) ), 0     )","v":0},184,null,null,{"$f":"IF(AND($A207<>\"\",(AU207+AV207)>0),     IF(AV$13=\"Nm3\",(AW$12*1000*1000/((AU$242+AV$242+AU$243+AV$243)*1000*  $K207 * Data!$B$6)),  (AW$12*1000*1000/(((AU$242+AV$242+AU$243+AV$243)/Denscalc($K207))*1000*  $K207 * Data!$B$6)) ), 0   )","v":0},184,null,null,{"$f":"IF(AND(BA$11>0,$A207<>\"\",(AY207+AZ207)>0), BA$11, IF(AND($A207<>\"\",(AY207+AZ207)>0),\nIF(AZ$13=\"Nm3\",(BA$6*1000*1000/((AY$242+AZ$242+AY$243+AZ$243)*1000*$K207*Data!$B$6))+((BA$12-BA$6)*1000*1000/((AY$242+AZ$242+AY$243+AZ$243-AY$241-AZ$241)*1000*$K207*Data!$B$6)),\n(BA$6*1000*1000/(((AY$242+AZ$242+AY$243+AZ$243)/Denscalc($K207))*1000*$K207*Data!$B$6))+((BA$12-BA$6)*1000*1000/(((AY$242+AZ$242+AY$243+AZ$243-AY$241-AZ$241)/Denscalc($K207))*1000*$K207*Data!$B$6))),0))","v":0},184,null,null,{"$f":"IF(AND(BE$11>0,$A207<>\"\",(BC207+BD207)>0), BE$11, IF(AND($A207<>\"\",(BC207+BD207)>0),\n (BE$6*1000*1000/((BC$244+BD$244)*1000* Data!$B$7))+ ((BE$12-BE$6)*1000*1000/((BC$244+BD$244-BC$241-BD$241)*1000* Data!$B$7)),0))","v":0},184,{"$f":"IF(A207<>\"\", (Data!$B$127*1000*Data!$B$3)/Data!$B$7,  \"\")","v":""},"","",{"$f":"IF(A207<>\"\",  ROUND( (Data!$B$8-BI207)/Data!$B$8,3),   \"\")","v":""},"","","","",{"$f":"IF(A207<>\"\",  IF(TYPE(BN207)=1, ROUND( (Data!$B$8-BN207)/Data!$B$8,3),   \"\"),\"\")","v":""},"",184,"","","",null,""]
[null,185,null,null,null,null,null,null,null,null,null,null,null,null,null,null,{"$f":"IF(AND($A208<>\"\",(O208+P208)>0),    IF(P$13=\"Nm3\",(Q$12*1000*1000/((O$242+P$242+O$243+P$243)*1000*  $K208 * Data!$B$6)),  (Q$12*1000*1000/(((O$242+P$242+O$243+P$243)/Denscalc($K208))*1000*  $K208 * Data!$B$6)) ), 0    )","v":0},185,null,null,{"$f":"IF(AND($A208<>\"\",(S208+T208)>0),    IF(T$13=\"Nm3\",(U$12*1000*1000/((S$242+T$242+S$243+T$243)*1000*  $K208 * Data!$B$6)),  (U$12*1000*1000/(((S$242+T$242+S$243+T$243)/Denscalc($K208))*1000*  $K208 * Data!$B$6)) ), 0     )","v":0},185,null,null,{"$f":"IF(AND($A208<>\"\",(W208+X208)>0),     IF(X$13=\"Nm3\",(Y$12*1000*1000/((W$242+X$242+W$243+X$243)*1000*  $K208 * Data!$B$6)),  (Y$12*1000*1000/(((W$242+X$242+W$243+X$243)/Denscalc($K208))*1000*  $K208 * Data!$B$6)) ), 0   )","v":0},185,null,null,{"$f":"IF(AND($A208<>\"\",(AA208+AB208)>0),     IF(AB$13=\"Nm3\",(AC$12*1000*1000/((AA$242+AB$242+AA$243+AB$243)*1000*  $K208 * Data!$B$6)),  (AC$12*1000*1000/(((AA$242+AB$242+AA$243+AB$243)/Denscalc($K208))*1000*  $K208 * Data!$B$6)) ), 0     )","v":0},185,null,null,{"$f":"IF(AND($A208<>\"\",(AE208+AF208)>0),     IF(AF$13=\"Nm3\",(AG$12*1000*1000/((AE$242+AF$242+AE$243+AF$243)*1000*  $K208 * Data!$B$6)),  (AG$12*1000*1000/(((AE$242+AF$242+AE$243+AF$243)/Denscalc($K208))*1000*  $K208 * Data!$B$6)) ), 0    )","v":0},185,null,null,{"$f":"IF(AND($A208<>\"\",(AI208+AJ208)>0),    IF(AJ$13=\"Nm3\",(AK$12*1000*1000/((AI$242+AJ$242+AI$243+AJ$243)*1000*  $K208 * Data!$B$6)),  (AK$12*1000*1000/(((AI$242+AJ$242+AI$243+AJ$243)/Denscalc($K208))*1000*  $K208 * Data!$B$6)) ), 0    )","v":0},185,null,null,{"$f":"IF(AND($A208<>\"\",(AM208+AN208)>0),     IF(AN$13=\"Nm3\",(AO$12*1000*1000/((AM$242+AN$242+AM$243+AN$243)*1000*  $K208 * Data!$B$6)),  (AO$12*1000*1000/(((AM$242+AN$242+AM$243+AN$243)/Denscalc($K208))*1000*  $K208 * Data!$B$6)) ), 0    )","v":0},185,null,null,{"$f":"IF(AND($A208<>\"\",(AQ208+AR208)>0),     IF(AR$13=\"Nm3\",(AS$12*1000*1000/((AQ$242+AR$242+AQ$243+AR$243)*1000*  $K208 * Data!$B$6)),  (AS$12*1000*1000/(((AQ$242+AR$242+AQ$243+AR$243)/Denscalc($K208))*1000*  $K208 * Data!$B$6)) ), 0     )","v":0},185,null,null,{"$f":"IF(AND($A208<>\"\",(AU208+AV208)>0),     IF(AV$13=\"Nm3\",(AW$12*1000*1000/((AU$242+AV$242+AU$243+AV$243)*1000*  $K208 * Data!$B$6)),  (AW$12*1000*1000/(((AU$242+AV$242+AU$243+AV$243)/Denscalc($K208))*1000*  $K208 * Data!$B$6)) ), 0   )","v":0},185,null,null,{"$f":"IF(AND(BA$11>0,$A208<>\"\",(AY208+AZ208)>0), BA$11, IF(AND($A208<>\"\",(AY208+AZ208)>0),\nIF(AZ$13=\"Nm3\",(BA$6*1000*1000/((AY$242+AZ$242+AY$243+AZ$243)*1000*$K208*Data!$B$6))+((BA$12-BA$6)*1000*1000/((AY$242+AZ$242+AY$243+AZ$243-AY$241-AZ$241)*1000*$K208*Data!$B$6)),\n(BA$6*1000*1000/(((AY$242+AZ$242+AY$243+AZ$243)/Denscalc($K208))*1000*$K208*Data!$B$6))+((BA$12-BA$6)*1000*1000/(((AY$242+AZ$242+AY$243+AZ$243-AY$241-AZ$241)/Denscalc($K208))*1000*$K208*Data!$B$6))),0))","v":0},185,null,null,{"$f":"IF(AND(BE$11>0,$A208<>\"\",(BC208+BD208)>0), BE$11, IF(AND($A208<>\"\",(BC208+BD208)>0),\n (BE$6*1000*1000/((BC$244+BD$244)*1000* Data!$B$7))+ ((BE$12-BE$6)*1000*1000/((BC$244+BD$244-BC$241-BD$241)*1000* Data!$B$7)),0))","v":0},185,{"$f":"IF(A208<>\"\", (Data!$B$127*1000*Data!$B$3)/Data!$B$7,  \"\")","v":""},"","",{"$f":"IF(A208<>\"\",  ROUND( (Data!$B$8-BI208)/Data!$B$8,3),   \"\")","v":""},"","","","",{"$f":"IF(A208<>\"\",  IF(TYPE(BN208)=1, ROUND( (Data!$B$8-BN208)/Data!$B$8,3),   \"\"),\"\")","v":""},"",185,"","","",null,""]
[null,186,null,null,null,null,null,null,null,null,null,null,null,null,null,null,{"$f":"IF(AND($A209<>\"\",(O209+P209)>0),    IF(P$13=\"Nm3\",(Q$12*1000*1000/((O$242+P$242+O$243+P$243)*1000*  $K209 * Data!$B$6)),  (Q$12*1000*1000/(((O$242+P$242+O$243+P$243)/Denscalc($K209))*1000*  $K209 * Data!$B$6)) ), 0    )","v":0},186,null,null,{"$f":"IF(AND($A209<>\"\",(S209+T209)>0),    IF(T$13=\"Nm3\",(U$12*1000*1000/((S$242+T$242+S$243+T$243)*1000*  $K209 * Data!$B$6)),  (U$12*1000*1000/(((S$242+T$242+S$243+T$243)/Denscalc($K209))*1000*  $K209 * Data!$B$6)) ), 0     )","v":0},186,null,null,{"$f":"IF(AND($A209<>\"\",(W209+X209)>0),     IF(X$13=\"Nm3\",(Y$12*1000*1000/((W$242+X$242+W$243+X$243)*1000*  $K209 * Data!$B$6)),  (Y$12*1000*1000/(((W$242+X$242+W$243+X$243)/Denscalc($K209))*1000*  $K209 * Data!$B$6)) ), 0   )","v":0},186,null,null,{"$f":"IF(AND($A209<>\"\",(AA209+AB209)>0),     IF(AB$13=\"Nm3\",(AC$12*1000*1000/((AA$242+AB$242+AA$243+AB$243)*1000*  $K209 * Data!$B$6)),  (AC$12*1000*1000/(((AA$242+AB$242+AA$243+AB$243)/Denscalc($K209))*1000*  $K209 * Data!$B$6)) ), 0     )","v":0},186,null,null,{"$f":"IF(AND($A209<>\"\",(AE209+AF209)>0),     IF(AF$13=\"Nm3\",(AG$12*1000*1000/((AE$242+AF$242+AE$243+AF$243)*1000*  $K209 * Data!$B$6)),  (AG$12*1000*1000/(((AE$242+AF$242+AE$243+AF$243)/Denscalc($K209))*1000*  $K209 * Data!$B$6)) ), 0    )","v":0},186,null,null,{"$f":"IF(AND($A209<>\"\",(AI209+AJ209)>0),    IF(AJ$13=\"Nm3\",(AK$12*1000*1000/((AI$242+AJ$242+AI$243+AJ$243)*1000*  $K209 * Data!$B$6)),  (AK$12*1000*1000/(((AI$242+AJ$242+AI$243+AJ$243)/Denscalc($K209))*1000*  $K209 * Data!$B$6)) ), 0    )","v":0},186,null,null,{"$f":"IF(AND($A209<>\"\",(AM209+AN209)>0),     IF(AN$13=\"Nm3\",(AO$12*1000*1000/((AM$242+AN$242+AM$243+AN$243)*1000*  $K209 * Data!$B$6)),  (AO$12*1000*1000/(((AM$242+AN$242+AM$243+AN$243)/Denscalc($K209))*1000*  $K209 * Data!$B$6)) ), 0    )","v":0},186,null,null,{"$f":"IF(AND($A209<>\"\",(AQ209+AR209)>0),     IF(AR$13=\"Nm3\",(AS$12*1000*1000/((AQ$242+AR$242+AQ$243+AR$243)*1000*  $K209 * Data!$B$6)),  (AS$12*1000*1000/(((AQ$242+AR$242+AQ$243+AR$243)/Denscalc($K209))*1000*  $K209 * Data!$B$6)) ), 0     )","v":0},186,null,null,{"$f":"IF(AND($A209<>\"\",(AU209+AV209)>0),     IF(AV$13=\"Nm3\",(AW$12*1000*1000/((AU$242+AV$242+AU$243+AV$243)*1000*  $K209 * Data!$B$6)),  (AW$12*1000*1000/(((AU$242+AV$242+AU$243+AV$243)/Denscalc($K209))*1000*  $K209 * Data!$B$6)) ), 0   )","v":0},186,null,null,{"$f":"IF(AND(BA$11>0,$A209<>\"\",(AY209+AZ209)>0), BA$11, IF(AND($A209<>\"\",(AY209+AZ209)>0),\nIF(AZ$13=\"Nm3\",(BA$6*1000*1000/((AY$242+AZ$242+AY$243+AZ$243)*1000*$K209*Data!$B$6))+((BA$12-BA$6)*1000*1000/((AY$242+AZ$242+AY$243+AZ$243-AY$241-AZ$241)*1000*$K209*Data!$B$6)),\n(BA$6*1000*1000/(((AY$242+AZ$242+AY$243+AZ$243)/Denscalc($K209))*1000*$K209*Data!$B$6))+((BA$12-BA$6)*1000*1000/(((AY$242+AZ$242+AY$243+AZ$243-AY$241-AZ$241)/Denscalc($K209))*1000*$K209*Data!$B$6))),0))","v":0},186,null,null,{"$f":"IF(AND(BE$11>0,$A209<>\"\",(BC209+BD209)>0), BE$11, IF(AND($A209<>\"\",(BC209+BD209)>0),\n (BE$6*1000*1000/((BC$244+BD$244)*1000* Data!$B$7))+ ((BE$12-BE$6)*1000*1000/((BC$244+BD$244-BC$241-BD$241)*1000* Data!$B$7)),0))","v":0},186,{"$f":"IF(A209<>\"\", (Data!$B$127*1000*Data!$B$3)/Data!$B$7,  \"\")","v":""},"","",{"$f":"IF(A209<>\"\",  ROUND( (Data!$B$8-BI209)/Data!$B$8,3),   \"\")","v":""},"","","","",{"$f":"IF(A209<>\"\",  IF(TYPE(BN209)=1, ROUND( (Data!$B$8-BN209)/Data!$B$8,3),   \"\"),\"\")","v":""},"",186,"","","",null,""]
[null,187,null,null,null,null,null,null,null,null,null,null,null,null,null,null,{"$f":"IF(AND($A210<>\"\",(O210+P210)>0),    IF(P$13=\"Nm3\",(Q$12*1000*1000/((O$242+P$242+O$243+P$243)*1000*  $K210 * Data!$B$6)),  (Q$12*1000*1000/(((O$242+P$242+O$243+P$243)/Denscalc($K210))*1000*  $K210 * Data!$B$6)) ), 0    )","v":0},187,null,null,{"$f":"IF(AND($A210<>\"\",(S210+T210)>0),    IF(T$13=\"Nm3\",(U$12*1000*1000/((S$242+T$242+S$243+T$243)*1000*  $K210 * Data!$B$6)),  (U$12*1000*1000/(((S$242+T$242+S$243+T$243)/Denscalc($K210))*1000*  $K210 * Data!$B$6)) ), 0     )","v":0},187,null,null,{"$f":"IF(AND($A210<>\"\",(W210+X210)>0),     IF(X$13=\"Nm3\",(Y$12*1000*1000/((W$242+X$242+W$243+X$243)*1000*  $K210 * Data!$B$6)),  (Y$12*1000*1000/(((W$242+X$242+W$243+X$243)/Denscalc($K210))*1000*  $K210 * Data!$B$6)) ), 0   )","v":0},187,null,null,{"$f":"IF(AND($A210<>\"\",(AA210+AB210)>0),     IF(AB$13=\"Nm3\",(AC$12*1000*1000/((AA$242+AB$242+AA$243+AB$243)*1000*  $K210 * Data!$B$6)),  (AC$12*1000*1000/(((AA$242+AB$242+AA$243+AB$243)/Denscalc($K210))*1000*  $K210 * Data!$B$6)) ), 0     )","v":0},187,null,null,{"$f":"IF(AND($A210<>\"\",(AE210+AF210)>0),     IF(AF$13=\"Nm3\",(AG$12*1000*1000/((AE$242+AF$242+AE$243+AF$243)*1000*  $K210 * Data!$B$6)),  (AG$12*1000*1000/(((AE$242+AF$242+AE$243+AF$243)/Denscalc($K210))*1000*  $K210 * Data!$B$6)) ), 0    )","v":0},187,null,null,{"$f":"IF(AND($A210<>\"\",(AI210+AJ210)>0),    IF(AJ$13=\"Nm3\",(AK$12*1000*1000/((AI$242+AJ$242+AI$243+AJ$243)*1000*  $K210 * Data!$B$6)),  (AK$12*1000*1000/(((AI$242+AJ$242+AI$243+AJ$243)/Denscalc($K210))*1000*  $K210 * Data!$B$6)) ), 0    )","v":0},187,null,null,{"$f":"IF(AND($A210<>\"\",(AM210+AN210)>0),     IF(AN$13=\"Nm3\",(AO$12*1000*1000/((AM$242+AN$242+AM$243+AN$243)*1000*  $K210 * Data!$B$6)),  (AO$12*1000*1000/(((AM$242+AN$242+AM$243+AN$243)/Denscalc($K210))*1000*  $K210 * Data!$B$6)) ), 0    )","v":0},187,null,null,{"$f":"IF(AND($A210<>\"\",(AQ210+AR210)>0),     IF(AR$13=\"Nm3\",(AS$12*1000*1000/((AQ$242+AR$242+AQ$243+AR$243)*1000*  $K210 * Data!$B$6)),  (AS$12*1000*1000/(((AQ$242+AR$242+AQ$243+AR$243)/Denscalc($K210))*1000*  $K210 * Data!$B$6)) ), 0     )","v":0},187,null,null,{"$f":"IF(AND($A210<>\"\",(AU210+AV210)>0),     IF(AV$13=\"Nm3\",(AW$12*1000*1000/((AU$242+AV$242+AU$243+AV$243)*1000*  $K210 * Data!$B$6)),  (AW$12*1000*1000/(((AU$242+AV$242+AU$243+AV$243)/Denscalc($K210))*1000*  $K210 * Data!$B$6)) ), 0   )","v":0},187,null,null,{"$f":"IF(AND(BA$11>0,$A210<>\"\",(AY210+AZ210)>0), BA$11, IF(AND($A210<>\"\",(AY210+AZ210)>0),\nIF(AZ$13=\"Nm3\",(BA$6*1000*1000/((AY$242+AZ$242+AY$243+AZ$243)*1000*$K210*Data!$B$6))+((BA$12-BA$6)*1000*1000/((AY$242+AZ$242+AY$243+AZ$243-AY$241-AZ$241)*1000*$K210*Data!$B$6)),\n(BA$6*1000*1000/(((AY$242+AZ$242+AY$243+AZ$243)/Denscalc($K210))*1000*$K210*Data!$B$6))+((BA$12-BA$6)*1000*1000/(((AY$242+AZ$242+AY$243+AZ$243-AY$241-AZ$241)/Denscalc($K210))*1000*$K210*Data!$B$6))),0))","v":0},187,null,null,{"$f":"IF(AND(BE$11>0,$A210<>\"\",(BC210+BD210)>0), BE$11, IF(AND($A210<>\"\",(BC210+BD210)>0),\n (BE$6*1000*1000/((BC$244+BD$244)*1000* Data!$B$7))+ ((BE$12-BE$6)*1000*1000/((BC$244+BD$244-BC$241-BD$241)*1000* Data!$B$7)),0))","v":0},187,{"$f":"IF(A210<>\"\", (Data!$B$127*1000*Data!$B$3)/Data!$B$7,  \"\")","v":""},"","",{"$f":"IF(A210<>\"\",  ROUND( (Data!$B$8-BI210)/Data!$B$8,3),   \"\")","v":""},"","","","",{"$f":"IF(A210<>\"\",  IF(TYPE(BN210)=1, ROUND( (Data!$B$8-BN210)/Data!$B$8,3),   \"\"),\"\")","v":""},"",201,{"$f":"IF(A210<>\"\", SUM(IF(P$13=\"Nm3\",P210,0),  IF(T$13=\"Nm3\",T210,0),  IF(X$13=\"Nm3\",X210,0),  IF(AB$13=\"Nm3\",AB210,0),  IF(AF$13=\"Nm3\",AF210,0), IF(AJ$13=\"Nm3\",AJ210,0),  IF(AN$13=\"Nm3\",AN210,0),  IF(AR$13=\"Nm3\",AR210,0),  IF(AV$13=\"Nm3\",AV210,0), IF(AZ$13=\"Nm3\",AZ210,0),  ),\"\")","v":""},{"$f":"IF(A210<>\"\", SUM(IF(P$13=\"kg\",P210,0),  IF(T$13=\"kg\",T210,0),  IF(X$13=\"kg\",X210,0),  IF(AB$13=\"kg\",AB210,0),  IF(AF$13=\"kg\",AF210,0), IF(AJ$13=\"kg\",AJ210,0),  IF(AN$13=\"kg\",AN210,0),  IF(AR$13=\"kg\",AR210,0),  IF(AV$13=\"kg\",AV210,0), IF(AZ$13=\"kg\",AZ210,0),  ),\"\")","v":""},{"$f":"IF(A210<>\"\",BD210,\"\")","v":""},null,{"$f":"IF(A210<>\"\",    IF(I210=\"Gas\", IF(J210=\"kg\", ((BK210*Denscalc(K210) +BL210+BR210*Denscalc(K210)+BS210)-H210), ( (BK210+BL210/Denscalc(K210) + BR210+BS210/Denscalc(K210))-H210)), ( (   BK210*Denscalc(K210)+BL210+BP210+BR210*Denscalc(K210)+BS210+BT210)-H210)  ), \"\")","v":""}]
[null,188,null,null,null,null,null,null,null,null,null,null,null,null,null,null,{"$f":"IF(AND($A211<>\"\",(O211+P211)>0),    IF(P$13=\"Nm3\",(Q$12*1000*1000/((O$242+P$242+O$243+P$243)*1000*  $K211 * Data!$B$6)),  (Q$12*1000*1000/(((O$242+P$242+O$243+P$243)/Denscalc($K211))*1000*  $K211 * Data!$B$6)) ), 0    )","v":0},188,null,null,{"$f":"IF(AND($A211<>\"\",(S211+T211)>0),    IF(T$13=\"Nm3\",(U$12*1000*1000/((S$242+T$242+S$243+T$243)*1000*  $K211 * Data!$B$6)),  (U$12*1000*1000/(((S$242+T$242+S$243+T$243)/Denscalc($K211))*1000*  $K211 * Data!$B$6)) ), 0     )","v":0},188,null,null,{"$f":"IF(AND($A211<>\"\",(W211+X211)>0),     IF(X$13=\"Nm3\",(Y$12*1000*1000/((W$242+X$242+W$243+X$243)*1000*  $K211 * Data!$B$6)),  (Y$12*1000*1000/(((W$242+X$242+W$243+X$243)/Denscalc($K211))*1000*  $K211 * Data!$B$6)) ), 0   )","v":0},188,null,null,{"$f":"IF(AND($A211<>\"\",(AA211+AB211)>0),     IF(AB$13=\"Nm3\",(AC$12*1000*1000/((AA$242+AB$242+AA$243+AB$243)*1000*  $K211 * Data!$B$6)),  (AC$12*1000*1000/(((AA$242+AB$242+AA$243+AB$243)/Denscalc($K211))*1000*  $K211 * Data!$B$6)) ), 0     )","v":0},188,null,null,{"$f":"IF(AND($A211<>\"\",(AE211+AF211)>0),     IF(AF$13=\"Nm3\",(AG$12*1000*1000/((AE$242+AF$242+AE$243+AF$243)*1000*  $K211 * Data!$B$6)),  (AG$12*1000*1000/(((AE$242+AF$242+AE$243+AF$243)/Denscalc($K211))*1000*  $K211 * Data!$B$6)) ), 0    )","v":0},188,null,null,{"$f":"IF(AND($A211<>\"\",(AI211+AJ211)>0),    IF(AJ$13=\"Nm3\",(AK$12*1000*1000/((AI$242+AJ$242+AI$243+AJ$243)*1000*  $K211 * Data!$B$6)),  (AK$12*1000*1000/(((AI$242+AJ$242+AI$243+AJ$243)/Denscalc($K211))*1000*  $K211 * Data!$B$6)) ), 0    )","v":0},188,null,null,{"$f":"IF(AND($A211<>\"\",(AM211+AN211)>0),     IF(AN$13=\"Nm3\",(AO$12*1000*1000/((AM$242+AN$242+AM$243+AN$243)*1000*  $K211 * Data!$B$6)),  (AO$12*1000*1000/(((AM$242+AN$242+AM$243+AN$243)/Denscalc($K211))*1000*  $K211 * Data!$B$6)) ), 0    )","v":0},188,null,null,{"$f":"IF(AND($A211<>\"\",(AQ211+AR211)>0),     IF(AR$13=\"Nm3\",(AS$12*1000*1000/((AQ$242+AR$242+AQ$243+AR$243)*1000*  $K211 * Data!$B$6)),  (AS$12*1000*1000/(((AQ$242+AR$242+AQ$243+AR$243)/Denscalc($K211))*1000*  $K211 * Data!$B$6)) ), 0     )","v":0},188,null,null,{"$f":"IF(AND($A211<>\"\",(AU211+AV211)>0),     IF(AV$13=\"Nm3\",(AW$12*1000*1000/((AU$242+AV$242+AU$243+AV$243)*1000*  $K211 * Data!$B$6)),  (AW$12*1000*1000/(((AU$242+AV$242+AU$243+AV$243)/Denscalc($K211))*1000*  $K211 * Data!$B$6)) ), 0   )","v":0},188,null,null,{"$f":"IF(AND(BA$11>0,$A211<>\"\",(AY211+AZ211)>0), BA$11, IF(AND($A211<>\"\",(AY211+AZ211)>0),\nIF(AZ$13=\"Nm3\",(BA$6*1000*1000/((AY$242+AZ$242+AY$243+AZ$243)*1000*$K211*Data!$B$6))+((BA$12-BA$6)*1000*1000/((AY$242+AZ$242+AY$243+AZ$243-AY$241-AZ$241)*1000*$K211*Data!$B$6)),\n(BA$6*1000*1000/(((AY$242+AZ$242+AY$243+AZ$243)/Denscalc($K211))*1000*$K211*Data!$B$6))+((BA$12-BA$6)*1000*1000/(((AY$242+AZ$242+AY$243+AZ$243-AY$241-AZ$241)/Denscalc($K211))*1000*$K211*Data!$B$6))),0))","v":0},188,null,null,{"$f":"IF(AND(BE$11>0,$A211<>\"\",(BC211+BD211)>0), BE$11, IF(AND($A211<>\"\",(BC211+BD211)>0),\n (BE$6*1000*1000/((BC$244+BD$244)*1000* Data!$B$7))+ ((BE$12-BE$6)*1000*1000/((BC$244+BD$244-BC$241-BD$241)*1000* Data!$B$7)),0))","v":0},188,{"$f":"IF(A211<>\"\", (Data!$B$127*1000*Data!$B$3)/Data!$B$7,  \"\")","v":""},"","",{"$f":"IF(A211<>\"\",  ROUND( (Data!$B$8-BI211)/Data!$B$8,3),   \"\")","v":""},"","","","",{"$f":"IF(A211<>\"\",  IF(TYPE(BN211)=1, ROUND( (Data!$B$8-BN211)/Data!$B$8,3),   \"\"),\"\")","v":""},"",203,"","","",null,""]
[null,189,null,null,null,null,null,null,null,null,null,null,null,null,null,null,{"$f":"IF(AND($A212<>\"\",(O212+P212)>0),    IF(P$13=\"Nm3\",(Q$12*1000*1000/((O$242+P$242+O$243+P$243)*1000*  $K212 * Data!$B$6)),  (Q$12*1000*1000/(((O$242+P$242+O$243+P$243)/Denscalc($K212))*1000*  $K212 * Data!$B$6)) ), 0    )","v":0},189,null,null,{"$f":"IF(AND($A212<>\"\",(S212+T212)>0),    IF(T$13=\"Nm3\",(U$12*1000*1000/((S$242+T$242+S$243+T$243)*1000*  $K212 * Data!$B$6)),  (U$12*1000*1000/(((S$242+T$242+S$243+T$243)/Denscalc($K212))*1000*  $K212 * Data!$B$6)) ), 0     )","v":0},189,null,null,{"$f":"IF(AND($A212<>\"\",(W212+X212)>0),     IF(X$13=\"Nm3\",(Y$12*1000*1000/((W$242+X$242+W$243+X$243)*1000*  $K212 * Data!$B$6)),  (Y$12*1000*1000/(((W$242+X$242+W$243+X$243)/Denscalc($K212))*1000*  $K212 * Data!$B$6)) ), 0   )","v":0},189,null,null,{"$f":"IF(AND($A212<>\"\",(AA212+AB212)>0),     IF(AB$13=\"Nm3\",(AC$12*1000*1000/((AA$242+AB$242+AA$243+AB$243)*1000*  $K212 * Data!$B$6)),  (AC$12*1000*1000/(((AA$242+AB$242+AA$243+AB$243)/Denscalc($K212))*1000*  $K212 * Data!$B$6)) ), 0     )","v":0},189,null,null,{"$f":"IF(AND($A212<>\"\",(AE212+AF212)>0),     IF(AF$13=\"Nm3\",(AG$12*1000*1000/((AE$242+AF$242+AE$243+AF$243)*1000*  $K212 * Data!$B$6)),  (AG$12*1000*1000/(((AE$242+AF$242+AE$243+AF$243)/Denscalc($K212))*1000*  $K212 * Data!$B$6)) ), 0    )","v":0},189,null,null,{"$f":"IF(AND($A212<>\"\",(AI212+AJ212)>0),    IF(AJ$13=\"Nm3\",(AK$12*1000*1000/((AI$242+AJ$242+AI$243+AJ$243)*1000*  $K212 * Data!$B$6)),  (AK$12*1000*1000/(((AI$242+AJ$242+AI$243+AJ$243)/Denscalc($K212))*1000*  $K212 * Data!$B$6)) ), 0    )","v":0},189,null,null,{"$f":"IF(AND($A212<>\"\",(AM212+AN212)>0),     IF(AN$13=\"Nm3\",(AO$12*1000*1000/((AM$242+AN$242+AM$243+AN$243)*1000*  $K212 * Data!$B$6)),  (AO$12*1000*1000/(((AM$242+AN$242+AM$243+AN$243)/Denscalc($K212))*1000*  $K212 * Data!$B$6)) ), 0    )","v":0},189,null,null,{"$f":"IF(AND($A212<>\"\",(AQ212+AR212)>0),     IF(AR$13=\"Nm3\",(AS$12*1000*1000/((AQ$242+AR$242+AQ$243+AR$243)*1000*  $K212 * Data!$B$6)),  (AS$12*1000*1000/(((AQ$242+AR$242+AQ$243+AR$243)/Denscalc($K212))*1000*  $K212 * Data!$B$6)) ), 0     )","v":0},189,null,null,{"$f":"IF(AND($A212<>\"\",(AU212+AV212)>0),     IF(AV$13=\"Nm3\",(AW$12*1000*1000/((AU$242+AV$242+AU$243+AV$243)*1000*  $K212 * Data!$B$6)),  (AW$12*1000*1000/(((AU$242+AV$242+AU$243+AV$243)/Denscalc($K212))*1000*  $K212 * Data!$B$6)) ), 0   )","v":0},189,null,null,{"$f":"IF(AND(BA$11>0,$A212<>\"\",(AY212+AZ212)>0), BA$11, IF(AND($A212<>\"\",(AY212+AZ212)>0),\nIF(AZ$13=\"Nm3\",(BA$6*1000*1000/((AY$242+AZ$242+AY$243+AZ$243)*1000*$K212*Data!$B$6))+((BA$12-BA$6)*1000*1000/((AY$242+AZ$242+AY$243+AZ$243-AY$241-AZ$241)*1000*$K212*Data!$B$6)),\n(BA$6*1000*1000/(((AY$242+AZ$242+AY$243+AZ$243)/Denscalc($K212))*1000*$K212*Data!$B$6))+((BA$12-BA$6)*1000*1000/(((AY$242+AZ$242+AY$243+AZ$243-AY$241-AZ$241)/Denscalc($K212))*1000*$K212*Data!$B$6))),0))","v":0},189,null,null,{"$f":"IF(AND(BE$11>0,$A212<>\"\",(BC212+BD212)>0), BE$11, IF(AND($A212<>\"\",(BC212+BD212)>0),\n (BE$6*1000*1000/((BC$244+BD$244)*1000* Data!$B$7))+ ((BE$12-BE$6)*1000*1000/((BC$244+BD$244-BC$241-BD$241)*1000* Data!$B$7)),0))","v":0},189,{"$f":"IF(A212<>\"\", (Data!$B$127*1000*Data!$B$3)/Data!$B$7,  \"\")","v":""},{"$f":"IF(A212<>\"\",   IF(I212=\"Gas\",\nIF((BK212+BL212)=0, Q212+BG212, ( (( U212*(S212+T212) + Y212*(W212+X212) + AC212*(AA212+AB212) + AG212*(AE212+AF212) + AK212*(AI212+AJ212) + AO212*(AM212+AN212) + AS212*(AQ212+AR212) + AW212*(AU212+AV212)  )) /\n( S212+T212+W212+X212+AA212+AB212+AE212+AF212+AI212+AJ212+AM212+AN212+AQ212+AR212+AU212+AV212)+Q212+BG212)),\nBA212+BG212 ),  \"\")","v":""},{"$f":"IF(A212<>\"\",   (L212+BH212), \"\")","v":""},{"$f":"IF(A212<>\"\",  ROUND( (Data!$B$8-BI212)/Data!$B$8,3),   \"\")","v":""},{"$f":"IF(A212<>\"\", SUM( IF(T$13=\"Nm3\",S212,0),  IF(X$13=\"Nm3\",W212,0),  IF(AB$13=\"Nm3\",AA212,0),  IF(AF$13=\"Nm3\",AE212,0), IF(AJ$13=\"Nm3\",AI212,0),  IF(AN$13=\"Nm3\",AM212,0),  IF(AR$13=\"Nm3\",AQ212,0),  IF(AV$13=\"Nm3\",AU212,0), IF(AZ$13=\"Nm3\",AY212,0),  ),\"\")","v":""},{"$f":"IF(A212<>\"\", SUM(  IF(T$13=\"kg\",S212,0),  IF(X$13=\"kg\",W212,0),  IF(AB$13=\"kg\",AA212,0),  IF(AF$13=\"kg\",AE212,0), IF(AJ$13=\"kg\",AI212,0),  IF(AN$13=\"kg\",AM212,0),  IF(AR$13=\"kg\",AQ212,0),  IF(AV$13=\"kg\",AU212,0), IF(AZ$13=\"kg\",AY212,0),  ),\"\")","v":""},{"$f":"IF(A212<>\"\",   IF(I212=\"Flytande\", BE212+BG212, \"\"    ), \"\")","v":""},{"$f":"IF(A212<>\"\", IF(I212=\"Flytande\",    (L212+BM212), \"\"), \"\")","v":""},{"$f":"IF(A212<>\"\",  IF(TYPE(BN212)=1, ROUND( (Data!$B$8-BN212)/Data!$B$8,3),   \"\"),\"\")","v":""},{"$f":"IF(A212<>\"\",BC212,\"\")","v":""},204,"","","",null,""]
[null,190,null,null,null,null,null,null,null,null,null,null,null,null,null,null,{"$f":"IF(AND($A213<>\"\",(O213+P213)>0),    IF(P$13=\"Nm3\",(Q$12*1000*1000/((O$242+P$242+O$243+P$243)*1000*  $K213 * Data!$B$6)),  (Q$12*1000*1000/(((O$242+P$242+O$243+P$243)/Denscalc($K213))*1000*  $K213 * Data!$B$6)) ), 0    )","v":0},190,null,null,{"$f":"IF(AND($A213<>\"\",(S213+T213)>0),    IF(T$13=\"Nm3\",(U$12*1000*1000/((S$242+T$242+S$243+T$243)*1000*  $K213 * Data!$B$6)),  (U$12*1000*1000/(((S$242+T$242+S$243+T$243)/Denscalc($K213))*1000*  $K213 * Data!$B$6)) ), 0     )","v":0},190,null,null,{"$f":"IF(AND($A213<>\"\",(W213+X213)>0),     IF(X$13=\"Nm3\",(Y$12*1000*1000/((W$242+X$242+W$243+X$243)*1000*  $K213 * Data!$B$6)),  (Y$12*1000*1000/(((W$242+X$242+W$243+X$243)/Denscalc($K213))*1000*  $K213 * Data!$B$6)) ), 0   )","v":0},190,null,null,{"$f":"IF(AND($A213<>\"\",(AA213+AB213)>0),     IF(AB$13=\"Nm3\",(AC$12*1000*1000/((AA$242+AB$242+AA$243+AB$243)*1000*  $K213 * Data!$B$6)),  (AC$12*1000*1000/(((AA$242+AB$242+AA$243+AB$243)/Denscalc($K213))*1000*  $K213 * Data!$B$6)) ), 0     )","v":0},190,null,null,{"$f":"IF(AND($A213<>\"\",(AE213+AF213)>0),     IF(AF$13=\"Nm3\",(AG$12*1000*1000/((AE$242+AF$242+AE$243+AF$243)*1000*  $K213 * Data!$B$6)),  (AG$12*1000*1000/(((AE$242+AF$242+AE$243+AF$243)/Denscalc($K213))*1000*  $K213 * Data!$B$6)) ), 0    )","v":0},190,null,null,{"$f":"IF(AND($A213<>\"\",(AI213+AJ213)>0),    IF(AJ$13=\"Nm3\",(AK$12*1000*1000/((AI$242+AJ$242+AI$243+AJ$243)*1000*  $K213 * Data!$B$6)),  (AK$12*1000*1000/(((AI$242+AJ$242+AI$243+AJ$243)/Denscalc($K213))*1000*  $K213 * Data!$B$6)) ), 0    )","v":0},190,null,null,{"$f":"IF(AND($A213<>\"\",(AM213+AN213)>0),     IF(AN$13=\"Nm3\",(AO$12*1000*1000/((AM$242+AN$242+AM$243+AN$243)*1000*  $K213 * Data!$B$6)),  (AO$12*1000*1000/(((AM$242+AN$242+AM$243+AN$243)/Denscalc($K213))*1000*  $K213 * Data!$B$6)) ), 0    )","v":0},190,null,null,{"$f":"IF(AND($A213<>\"\",(AQ213+AR213)>0),     IF(AR$13=\"Nm3\",(AS$12*1000*1000/((AQ$242+AR$242+AQ$243+AR$243)*1000*  $K213 * Data!$B$6)),  (AS$12*1000*1000/(((AQ$242+AR$242+AQ$243+AR$243)/Denscalc($K213))*1000*  $K213 * Data!$B$6)) ), 0     )","v":0},190,null,null,{"$f":"IF(AND($A213<>\"\",(AU213+AV213)>0),     IF(AV$13=\"Nm3\",(AW$12*1000*1000/((AU$242+AV$242+AU$243+AV$243)*1000*  $K213 * Data!$B$6)),  (AW$12*1000*1000/(((AU$242+AV$242+AU$243+AV$243)/Denscalc($K213))*1000*  $K213 * Data!$B$6)) ), 0   )","v":0},190,null,null,{"$f":"IF(AND(BA$11>0,$A213<>\"\",(AY213+AZ213)>0), BA$11, IF(AND($A213<>\"\",(AY213+AZ213)>0),\nIF(AZ$13=\"Nm3\",(BA$6*1000*1000/((AY$242+AZ$242+AY$243+AZ$243)*1000*$K213*Data!$B$6))+((BA$12-BA$6)*1000*1000/((AY$242+AZ$242+AY$243+AZ$243-AY$241-AZ$241)*1000*$K213*Data!$B$6)),\n(BA$6*1000*1000/(((AY$242+AZ$242+AY$243+AZ$243)/Denscalc($K213))*1000*$K213*Data!$B$6))+((BA$12-BA$6)*1000*1000/(((AY$242+AZ$242+AY$243+AZ$243-AY$241-AZ$241)/Denscalc($K213))*1000*$K213*Data!$B$6))),0))","v":0},190,null,null,{"$f":"IF(AND(BE$11>0,$A213<>\"\",(BC213+BD213)>0), BE$11, IF(AND($A213<>\"\",(BC213+BD213)>0),\n (BE$6*1000*1000/((BC$244+BD$244)*1000* Data!$B$7))+ ((BE$12-BE$6)*1000*1000/((BC$244+BD$244-BC$241-BD$241)*1000* Data!$B$7)),0))","v":0},190,{"$f":"IF(A213<>\"\", (Data!$B$127*1000*Data!$B$3)/Data!$B$7,  \"\")","v":""},"","",{"$f":"IF(A213<>\"\",  ROUND( (Data!$B$8-BI213)/Data!$B$8,3),   \"\")","v":""},"","","","",{"$f":"IF(A213<>\"\",  IF(TYPE(BN213)=1, ROUND( (Data!$B$8-BN213)/Data!$B$8,3),   \"\"),\"\")","v":""},"",205,"","","",null,""]
[null,191,null,null,null,null,null,null,null,null,null,null,null,null,null,null,{"$f":"IF(AND($A214<>\"\",(O214+P214)>0),    IF(P$13=\"Nm3\",(Q$12*1000*1000/((O$242+P$242+O$243+P$243)*1000*  $K214 * Data!$B$6)),  (Q$12*1000*1000/(((O$242+P$242+O$243+P$243)/Denscalc($K214))*1000*  $K214 * Data!$B$6)) ), 0    )","v":0},191,null,null,{"$f":"IF(AND($A214<>\"\",(S214+T214)>0),    IF(T$13=\"Nm3\",(U$12*1000*1000/((S$242+T$242+S$243+T$243)*1000*  $K214 * Data!$B$6)),  (U$12*1000*1000/(((S$242+T$242+S$243+T$243)/Denscalc($K214))*1000*  $K214 * Data!$B$6)) ), 0     )","v":0},191,null,null,{"$f":"IF(AND($A214<>\"\",(W214+X214)>0),     IF(X$13=\"Nm3\",(Y$12*1000*1000/((W$242+X$242+W$243+X$243)*1000*  $K214 * Data!$B$6)),  (Y$12*1000*1000/(((W$242+X$242+W$243+X$243)/Denscalc($K214))*1000*  $K214 * Data!$B$6)) ), 0   )","v":0},191,null,null,{"$f":"IF(AND($A214<>\"\",(AA214+AB214)>0),     IF(AB$13=\"Nm3\",(AC$12*1000*1000/((AA$242+AB$242+AA$243+AB$243)*1000*  $K214 * Data!$B$6)),  (AC$12*1000*1000/(((AA$242+AB$242+AA$243+AB$243)/Denscalc($K214))*1000*  $K214 * Data!$B$6)) ), 0     )","v":0},191,null,null,{"$f":"IF(AND($A214<>\"\",(AE214+AF214)>0),     IF(AF$13=\"Nm3\",(AG$12*1000*1000/((AE$242+AF$242+AE$243+AF$243)*1000*  $K214 * Data!$B$6)),  (AG$12*1000*1000/(((AE$242+AF$242+AE$243+AF$243)/Denscalc($K214))*1000*  $K214 * Data!$B$6)) ), 0    )","v":0},191,null,null,{"$f":"IF(AND($A214<>\"\",(AI214+AJ214)>0),    IF(AJ$13=\"Nm3\",(AK$12*1000*1000/((AI$242+AJ$242+AI$243+AJ$243)*1000*  $K214 * Data!$B$6)),  (AK$12*1000*1000/(((AI$242+AJ$242+AI$243+AJ$243)/Denscalc($K214))*1000*  $K214 * Data!$B$6)) ), 0    )","v":0},191,null,null,{"$f":"IF(AND($A214<>\"\",(AM214+AN214)>0),     IF(AN$13=\"Nm3\",(AO$12*1000*1000/((AM$242+AN$242+AM$243+AN$243)*1000*  $K214 * Data!$B$6)),  (AO$12*1000*1000/(((AM$242+AN$242+AM$243+AN$243)/Denscalc($K214))*1000*  $K214 * Data!$B$6)) ), 0    )","v":0},191,null,null,{"$f":"IF(AND($A214<>\"\",(AQ214+AR214)>0),     IF(AR$13=\"Nm3\",(AS$12*1000*1000/((AQ$242+AR$242+AQ$243+AR$243)*1000*  $K214 * Data!$B$6)),  (AS$12*1000*1000/(((AQ$242+AR$242+AQ$243+AR$243)/Denscalc($K214))*1000*  $K214 * Data!$B$6)) ), 0     )","v":0},191,null,null,{"$f":"IF(AND($A214<>\"\",(AU214+AV214)>0),     IF(AV$13=\"Nm3\",(AW$12*1000*1000/((AU$242+AV$242+AU$243+AV$243)*1000*  $K214 * Data!$B$6)),  (AW$12*1000*1000/(((AU$242+AV$242+AU$243+AV$243)/Denscalc($K214))*1000*  $K214 * Data!$B$6)) ), 0   )","v":0},191,null,null,{"$f":"IF(AND(BA$11>0,$A214<>\"\",(AY214+AZ214)>0), BA$11, IF(AND($A214<>\"\",(AY214+AZ214)>0),\nIF(AZ$13=\"Nm3\",(BA$6*1000*1000/((AY$242+AZ$242+AY$243+AZ$243)*1000*$K214*Data!$B$6))+((BA$12-BA$6)*1000*1000/((AY$242+AZ$242+AY$243+AZ$243-AY$241-AZ$241)*1000*$K214*Data!$B$6)),\n(BA$6*1000*1000/(((AY$242+AZ$242+AY$243+AZ$243)/Denscalc($K214))*1000*$K214*Data!$B$6))+((BA$12-BA$6)*1000*1000/(((AY$242+AZ$242+AY$243+AZ$243-AY$241-AZ$241)/Denscalc($K214))*1000*$K214*Data!$B$6))),0))","v":0},191,null,null,{"$f":"IF(AND(BE$11>0,$A214<>\"\",(BC214+BD214)>0), BE$11, IF(AND($A214<>\"\",(BC214+BD214)>0),\n (BE$6*1000*1000/((BC$244+BD$244)*1000* Data!$B$7))+ ((BE$12-BE$6)*1000*1000/((BC$244+BD$244-BC$241-BD$241)*1000* Data!$B$7)),0))","v":0},191,{"$f":"IF(A214<>\"\", (Data!$B$127*1000*Data!$B$3)/Data!$B$7,  \"\")","v":""},"","",{"$f":"IF(A214<>\"\",  ROUND( (Data!$B$8-BI214)/Data!$B$8,3),   \"\")","v":""},"","","","",{"$f":"IF(A214<>\"\",  IF(TYPE(BN214)=1, ROUND( (Data!$B$8-BN214)/Data!$B$8,3),   \"\"),\"\")","v":""},"",206,"","","",null,""]
[null,192,null,null,null,null,null,null,null,null,null,null,null,null,null,null,{"$f":"IF(AND($A215<>\"\",(O215+P215)>0),    IF(P$13=\"Nm3\",(Q$12*1000*1000/((O$242+P$242+O$243+P$243)*1000*  $K215 * Data!$B$6)),  (Q$12*1000*1000/(((O$242+P$242+O$243+P$243)/Denscalc($K215))*1000*  $K215 * Data!$B$6)) ), 0    )","v":0},192,null,null,{"$f":"IF(AND($A215<>\"\",(S215+T215)>0),    IF(T$13=\"Nm3\",(U$12*1000*1000/((S$242+T$242+S$243+T$243)*1000*  $K215 * Data!$B$6)),  (U$12*1000*1000/(((S$242+T$242+S$243+T$243)/Denscalc($K215))*1000*  $K215 * Data!$B$6)) ), 0     )","v":0},192,null,null,{"$f":"IF(AND($A215<>\"\",(W215+X215)>0),     IF(X$13=\"Nm3\",(Y$12*1000*1000/((W$242+X$242+W$243+X$243)*1000*  $K215 * Data!$B$6)),  (Y$12*1000*1000/(((W$242+X$242+W$243+X$243)/Denscalc($K215))*1000*  $K215 * Data!$B$6)) ), 0   )","v":0},192,null,null,{"$f":"IF(AND($A215<>\"\",(AA215+AB215)>0),     IF(AB$13=\"Nm3\",(AC$12*1000*1000/((AA$242+AB$242+AA$243+AB$243)*1000*  $K215 * Data!$B$6)),  (AC$12*1000*1000/(((AA$242+AB$242+AA$243+AB$243)/Denscalc($K215))*1000*  $K215 * Data!$B$6)) ), 0     )","v":0},192,null,null,{"$f":"IF(AND($A215<>\"\",(AE215+AF215)>0),     IF(AF$13=\"Nm3\",(AG$12*1000*1000/((AE$242+AF$242+AE$243+AF$243)*1000*  $K215 * Data!$B$6)),  (AG$12*1000*1000/(((AE$242+AF$242+AE$243+AF$243)/Denscalc($K215))*1000*  $K215 * Data!$B$6)) ), 0    )","v":0},192,null,null,{"$f":"IF(AND($A215<>\"\",(AI215+AJ215)>0),    IF(AJ$13=\"Nm3\",(AK$12*1000*1000/((AI$242+AJ$242+AI$243+AJ$243)*1000*  $K215 * Data!$B$6)),  (AK$12*1000*1000/(((AI$242+AJ$242+AI$243+AJ$243)/Denscalc($K215))*1000*  $K215 * Data!$B$6)) ), 0    )","v":0},192,null,null,{"$f":"IF(AND($A215<>\"\",(AM215+AN215)>0),     IF(AN$13=\"Nm3\",(AO$12*1000*1000/((AM$242+AN$242+AM$243+AN$243)*1000*  $K215 * Data!$B$6)),  (AO$12*1000*1000/(((AM$242+AN$242+AM$243+AN$243)/Denscalc($K215))*1000*  $K215 * Data!$B$6)) ), 0    )","v":0},192,null,null,{"$f":"IF(AND($A215<>\"\",(AQ215+AR215)>0),     IF(AR$13=\"Nm3\",(AS$12*1000*1000/((AQ$242+AR$242+AQ$243+AR$243)*1000*  $K215 * Data!$B$6)),  (AS$12*1000*1000/(((AQ$242+AR$242+AQ$243+AR$243)/Denscalc($K215))*1000*  $K215 * Data!$B$6)) ), 0     )","v":0},192,null,null,{"$f":"IF(AND($A215<>\"\",(AU215+AV215)>0),     IF(AV$13=\"Nm3\",(AW$12*1000*1000/((AU$242+AV$242+AU$243+AV$243)*1000*  $K215 * Data!$B$6)),  (AW$12*1000*1000/(((AU$242+AV$242+AU$243+AV$243)/Denscalc($K215))*1000*  $K215 * Data!$B$6)) ), 0   )","v":0},192,null,null,{"$f":"IF(AND(BA$11>0,$A215<>\"\",(AY215+AZ215)>0), BA$11, IF(AND($A215<>\"\",(AY215+AZ215)>0),\nIF(AZ$13=\"Nm3\",(BA$6*1000*1000/((AY$242+AZ$242+AY$243+AZ$243)*1000*$K215*Data!$B$6))+((BA$12-BA$6)*1000*1000/((AY$242+AZ$242+AY$243+AZ$243-AY$241-AZ$241)*1000*$K215*Data!$B$6)),\n(BA$6*1000*1000/(((AY$242+AZ$242+AY$243+AZ$243)/Denscalc($K215))*1000*$K215*Data!$B$6))+((BA$12-BA$6)*1000*1000/(((AY$242+AZ$242+AY$243+AZ$243-AY$241-AZ$241)/Denscalc($K215))*1000*$K215*Data!$B$6))),0))","v":0},192,null,null,{"$f":"IF(AND(BE$11>0,$A215<>\"\",(BC215+BD215)>0), BE$11, IF(AND($A215<>\"\",(BC215+BD215)>0),\n (BE$6*1000*1000/((BC$244+BD$244)*1000* Data!$B$7))+ ((BE$12-BE$6)*1000*1000/((BC$244+BD$244-BC$241-BD$241)*1000* Data!$B$7)),0))","v":0},192,{"$f":"IF(A215<>\"\", (Data!$B$127*1000*Data!$B$3)/Data!$B$7,  \"\")","v":""},"","",{"$f":"IF(A215<>\"\",  ROUND( (Data!$B$8-BI215)/Data!$B$8,3),   \"\")","v":""},"","","","",{"$f":"IF(A215<>\"\",  IF(TYPE(BN215)=1, ROUND( (Data!$B$8-BN215)/Data!$B$8,3),   \"\"),\"\")","v":""},"",207,"","","",null,""]
[null,193,null,null,null,null,null,null,null,null,null,null,null,null,null,null,{"$f":"IF(AND($A216<>\"\",(O216+P216)>0),    IF(P$13=\"Nm3\",(Q$12*1000*1000/((O$242+P$242+O$243+P$243)*1000*  $K216 * Data!$B$6)),  (Q$12*1000*1000/(((O$242+P$242+O$243+P$243)/Denscalc($K216))*1000*  $K216 * Data!$B$6)) ), 0    )","v":0},193,null,null,{"$f":"IF(AND($A216<>\"\",(S216+T216)>0),    IF(T$13=\"Nm3\",(U$12*1000*1000/((S$242+T$242+S$243+T$243)*1000*  $K216 * Data!$B$6)),  (U$12*1000*1000/(((S$242+T$242+S$243+T$243)/Denscalc($K216))*1000*  $K216 * Data!$B$6)) ), 0     )","v":0},193,null,null,{"$f":"IF(AND($A216<>\"\",(W216+X216)>0),     IF(X$13=\"Nm3\",(Y$12*1000*1000/((W$242+X$242+W$243+X$243)*1000*  $K216 * Data!$B$6)),  (Y$12*1000*1000/(((W$242+X$242+W$243+X$243)/Denscalc($K216))*1000*  $K216 * Data!$B$6)) ), 0   )","v":0},193,null,null,{"$f":"IF(AND($A216<>\"\",(AA216+AB216)>0),     IF(AB$13=\"Nm3\",(AC$12*1000*1000/((AA$242+AB$242+AA$243+AB$243)*1000*  $K216 * Data!$B$6)),  (AC$12*1000*1000/(((AA$242+AB$242+AA$243+AB$243)/Denscalc($K216))*1000*  $K216 * Data!$B$6)) ), 0     )","v":0},193,null,null,{"$f":"IF(AND($A216<>\"\",(AE216+AF216)>0),     IF(AF$13=\"Nm3\",(AG$12*1000*1000/((AE$242+AF$242+AE$243+AF$243)*1000*  $K216 * Data!$B$6)),  (AG$12*1000*1000/(((AE$242+AF$242+AE$243+AF$243)/Denscalc($K216))*1000*  $K216 * Data!$B$6)) ), 0    )","v":0},193,null,null,{"$f":"IF(AND($A216<>\"\",(AI216+AJ216)>0),    IF(AJ$13=\"Nm3\",(AK$12*1000*1000/((AI$242+AJ$242+AI$243+AJ$243)*1000*  $K216 * Data!$B$6)),  (AK$12*1000*1000/(((AI$242+AJ$242+AI$243+AJ$243)/Denscalc($K216))*1000*  $K216 * Data!$B$6)) ), 0    )","v":0},193,null,null,{"$f":"IF(AND($A216<>\"\",(AM216+AN216)>0),     IF(AN$13=\"Nm3\",(AO$12*1000*1000/((AM$242+AN$242+AM$243+AN$243)*1000*  $K216 * Data!$B$6)),  (AO$12*1000*1000/(((AM$242+AN$242+AM$243+AN$243)/Denscalc($K216))*1000*  $K216 * Data!$B$6)) ), 0    )","v":0},193,null,null,{"$f":"IF(AND($A216<>\"\",(AQ216+AR216)>0),     IF(AR$13=\"Nm3\",(AS$12*1000*1000/((AQ$242+AR$242+AQ$243+AR$243)*1000*  $K216 * Data!$B$6)),  (AS$12*1000*1000/(((AQ$242+AR$242+AQ$243+AR$243)/Denscalc($K216))*1000*  $K216 * Data!$B$6)) ), 0     )","v":0},193,null,null,{"$f":"IF(AND($A216<>\"\",(AU216+AV216)>0),     IF(AV$13=\"Nm3\",(AW$12*1000*1000/((AU$242+AV$242+AU$243+AV$243)*1000*  $K216 * Data!$B$6)),  (AW$12*1000*1000/(((AU$242+AV$242+AU$243+AV$243)/Denscalc($K216))*1000*  $K216 * Data!$B$6)) ), 0   )","v":0},193,null,null,{"$f":"IF(AND(BA$11>0,$A216<>\"\",(AY216+AZ216)>0), BA$11, IF(AND($A216<>\"\",(AY216+AZ216)>0),\nIF(AZ$13=\"Nm3\",(BA$6*1000*1000/((AY$242+AZ$242+AY$243+AZ$243)*1000*$K216*Data!$B$6))+((BA$12-BA$6)*1000*1000/((AY$242+AZ$242+AY$243+AZ$243-AY$241-AZ$241)*1000*$K216*Data!$B$6)),\n(BA$6*1000*1000/(((AY$242+AZ$242+AY$243+AZ$243)/Denscalc($K216))*1000*$K216*Data!$B$6))+((BA$12-BA$6)*1000*1000/(((AY$242+AZ$242+AY$243+AZ$243-AY$241-AZ$241)/Denscalc($K216))*1000*$K216*Data!$B$6))),0))","v":0},193,null,null,{"$f":"IF(AND(BE$11>0,$A216<>\"\",(BC216+BD216)>0), BE$11, IF(AND($A216<>\"\",(BC216+BD216)>0),\n (BE$6*1000*1000/((BC$244+BD$244)*1000* Data!$B$7))+ ((BE$12-BE$6)*1000*1000/((BC$244+BD$244-BC$241-BD$241)*1000* Data!$B$7)),0))","v":0},193,{"$f":"IF(A216<>\"\", (Data!$B$127*1000*Data!$B$3)/Data!$B$7,  \"\")","v":""},"","",{"$f":"IF(A216<>\"\",  ROUND( (Data!$B$8-BI216)/Data!$B$8,3),   \"\")","v":""},"","","","",{"$f":"IF(A216<>\"\",  IF(TYPE(BN216)=1, ROUND( (Data!$B$8-BN216)/Data!$B$8,3),   \"\"),\"\")","v":""},"",208,"","","",null,""]
[null,194,null,null,"",null,null,null,null,null,null,null,null,null,null,null,{"$f":"IF(AND($A217<>\"\",(O217+P217)>0),    IF(P$13=\"Nm3\",(Q$12*1000*1000/((O$242+P$242+O$243+P$243)*1000*  $K217 * Data!$B$6)),  (Q$12*1000*1000/(((O$242+P$242+O$243+P$243)/Denscalc($K217))*1000*  $K217 * Data!$B$6)) ), 0    )","v":0},194,null,null,{"$f":"IF(AND($A217<>\"\",(S217+T217)>0),    IF(T$13=\"Nm3\",(U$12*1000*1000/((S$242+T$242+S$243+T$243)*1000*  $K217 * Data!$B$6)),  (U$12*1000*1000/(((S$242+T$242+S$243+T$243)/Denscalc($K217))*1000*  $K217 * Data!$B$6)) ), 0     )","v":0},194,null,null,{"$f":"IF(AND($A217<>\"\",(W217+X217)>0),     IF(X$13=\"Nm3\",(Y$12*1000*1000/((W$242+X$242+W$243+X$243)*1000*  $K217 * Data!$B$6)),  (Y$12*1000*1000/(((W$242+X$242+W$243+X$243)/Denscalc($K217))*1000*  $K217 * Data!$B$6)) ), 0   )","v":0},194,null,null,{"$f":"IF(AND($A217<>\"\",(AA217+AB217)>0),     IF(AB$13=\"Nm3\",(AC$12*1000*1000/((AA$242+AB$242+AA$243+AB$243)*1000*  $K217 * Data!$B$6)),  (AC$12*1000*1000/(((AA$242+AB$242+AA$243+AB$243)/Denscalc($K217))*1000*  $K217 * Data!$B$6)) ), 0     )","v":0},194,null,null,{"$f":"IF(AND($A217<>\"\",(AE217+AF217)>0),     IF(AF$13=\"Nm3\",(AG$12*1000*1000/((AE$242+AF$242+AE$243+AF$243)*1000*  $K217 * Data!$B$6)),  (AG$12*1000*1000/(((AE$242+AF$242+AE$243+AF$243)/Denscalc($K217))*1000*  $K217 * Data!$B$6)) ), 0    )","v":0},194,null,null,{"$f":"IF(AND($A217<>\"\",(AI217+AJ217)>0),    IF(AJ$13=\"Nm3\",(AK$12*1000*1000/((AI$242+AJ$242+AI$243+AJ$243)*1000*  $K217 * Data!$B$6)),  (AK$12*1000*1000/(((AI$242+AJ$242+AI$243+AJ$243)/Denscalc($K217))*1000*  $K217 * Data!$B$6)) ), 0    )","v":0},194,null,null,{"$f":"IF(AND($A217<>\"\",(AM217+AN217)>0),     IF(AN$13=\"Nm3\",(AO$12*1000*1000/((AM$242+AN$242+AM$243+AN$243)*1000*  $K217 * Data!$B$6)),  (AO$12*1000*1000/(((AM$242+AN$242+AM$243+AN$243)/Denscalc($K217))*1000*  $K217 * Data!$B$6)) ), 0    )","v":0},194,null,null,{"$f":"IF(AND($A217<>\"\",(AQ217+AR217)>0),     IF(AR$13=\"Nm3\",(AS$12*1000*1000/((AQ$242+AR$242+AQ$243+AR$243)*1000*  $K217 * Data!$B$6)),  (AS$12*1000*1000/(((AQ$242+AR$242+AQ$243+AR$243)/Denscalc($K217))*1000*  $K217 * Data!$B$6)) ), 0     )","v":0},194,null,null,{"$f":"IF(AND($A217<>\"\",(AU217+AV217)>0),     IF(AV$13=\"Nm3\",(AW$12*1000*1000/((AU$242+AV$242+AU$243+AV$243)*1000*  $K217 * Data!$B$6)),  (AW$12*1000*1000/(((AU$242+AV$242+AU$243+AV$243)/Denscalc($K217))*1000*  $K217 * Data!$B$6)) ), 0   )","v":0},194,null,null,{"$f":"IF(AND(BA$11>0,$A217<>\"\",(AY217+AZ217)>0), BA$11, IF(AND($A217<>\"\",(AY217+AZ217)>0),\nIF(AZ$13=\"Nm3\",(BA$6*1000*1000/((AY$242+AZ$242+AY$243+AZ$243)*1000*$K217*Data!$B$6))+((BA$12-BA$6)*1000*1000/((AY$242+AZ$242+AY$243+AZ$243-AY$241-AZ$241)*1000*$K217*Data!$B$6)),\n(BA$6*1000*1000/(((AY$242+AZ$242+AY$243+AZ$243)/Denscalc($K217))*1000*$K217*Data!$B$6))+((BA$12-BA$6)*1000*1000/(((AY$242+AZ$242+AY$243+AZ$243-AY$241-AZ$241)/Denscalc($K217))*1000*$K217*Data!$B$6))),0))","v":0},194,null,null,{"$f":"IF(AND(BE$11>0,$A217<>\"\",(BC217+BD217)>0), BE$11, IF(AND($A217<>\"\",(BC217+BD217)>0),\n (BE$6*1000*1000/((BC$244+BD$244)*1000* Data!$B$7))+ ((BE$12-BE$6)*1000*1000/((BC$244+BD$244-BC$241-BD$241)*1000* Data!$B$7)),0))","v":0},194,{"$f":"IF(A217<>\"\", (Data!$B$127*1000*Data!$B$3)/Data!$B$7,  \"\")","v":""},"","",{"$f":"IF(A217<>\"\",  ROUND( (Data!$B$8-BI217)/Data!$B$8,3),   \"\")","v":""},"","","","",{"$f":"IF(A217<>\"\",  IF(TYPE(BN217)=1, ROUND( (Data!$B$8-BN217)/Data!$B$8,3),   \"\"),\"\")","v":""},"",209,"","","",null,""]
["Summa inköpt biogas (gasform, Nm3 )",null,null,null,"",null,null,{"$f":"SUMIFS(H84:H217,I84:I217,\"=Gas\",J84:J217,\"=Nm3\")","v":0},"Nm3",null,null,null,null,null,{"$f":"IF(P13=\"Nm3\", SUM(O84:O217),\"\")","v":0},{"$f":"IF(P13=\"Nm3\", SUM(P84:P217),\"\")","v":0},"Nm3",null,{"$f":"IF(T13=\"Nm3\", SUM(S84:S217),\"\")","v":""},{"$f":"IF(T13=\"Nm3\", SUM(T84:T217),\"\")","v":""},"Nm3",null,{"$f":"IF(X13=\"Nm3\", SUM(W84:W217),\"\")","v":""},{"$f":"IF(X13=\"Nm3\", SUM(X84:X217),\"\")","v":""},"Nm3",null,{"$f":"IF(AB13=\"Nm3\", SUM(AA84:AA217),\"\")","v":""},{"$f":"IF(AB13=\"Nm3\", SUM(AB84:AB217),\"\")","v":""},"Nm3",null,{"$f":"IF(AF13=\"Nm3\", SUM(AE84:AE217),\"\")","v":""},{"$f":"IF(AF13=\"Nm3\", SUM(AF84:AF217),\"\")","v":""},"Nm3",null,{"$f":"IF(AJ13=\"Nm3\", SUM(AI84:AI217),\"\")","v":""},{"$f":"IF(AJ13=\"Nm3\", SUM(AJ84:AJ217),\"\")","v":""},"Nm3",null,{"$f":"IF(AN13=\"Nm3\", SUM(AM84:AM217),\"\")","v":""},{"$f":"IF(AN13=\"Nm3\", SUM(AN84:AN217),\"\")","v":""},"Nm3",null,{"$f":"IF(AR13=\"Nm3\", SUM(AQ84:AQ217),\"\")","v":""},{"$f":"IF(AR13=\"Nm3\", SUM(AR84:AR217),\"\")","v":""},"Nm3",null,{"$f":"IF(AV13=\"Nm3\", SUM(AU84:AU217),\"\")","v":""},{"$f":"IF(AV13=\"Nm3\", SUM(AV84:AV217),\"\")","v":""},"Nm3",null,{"$f":"IF(AZ13=\"Nm3\", SUM(AY84:AY217),\"\")","v":""},{"$f":"IF(AZ13=\"Nm3\", SUM(AZ84:AZ217),\"\")","v":""},"Nm3",null,null,null,null,null,null,null,null,"Summa",{"$f":"SUM(BK84:BK217)","v":0},null,"Nm3",null,null,null,null,{"$f":"SUM(BR84:BR217)","v":0}]
["Summa inköpt biogas (gasform, kg)",null,null,null,"",null,null,{"$f":"SUMIFS(H84:H217,I84:I217,\"=Gas\",J84:J217,\"=kg\")","v":0},"kg",null,null,null,null,null,{"$f":"IF(P13=\"kg\", SUM(O84:O217),\"\")","v":""},{"$f":"IF(P13=\"kg\", SUM(P84:P217),\"\")","v":""},"kg",null,{"$f":"IF(T13=\"kg\", SUM(S84:S217),\"\")","v":0},{"$f":"IF(T13=\"kg\", SUM(T84:T217),\"\")","v":0},"kg",null,{"$f":"IF(X13=\"kg\", SUM(W84:W217),\"\")","v":0},{"$f":"IF(X13=\"kg\", SUM(X84:X217),\"\")","v":0},"kg",null,{"$f":"IF(AB13=\"kg\", SUM(AA84:AA217),\"\")","v":0},{"$f":"IF(AB13=\"kg\", SUM(AB84:AB217),\"\")","v":0},"kg",null,{"$f":"IF(AF13=\"kg\", SUM(AE84:AE217),\"\")","v":0},{"$f":"IF(AF13=\"kg\", SUM(AF84:AF217),\"\")","v":0},"kg",null,{"$f":"IF(AJ13=\"kg\", SUM(AI84:AI217),\"\")","v":0},{"$f":"IF(AJ13=\"kg\", SUM(AJ84:AJ217),\"\")","v":0},"kg",null,{"$f":"IF(AN13=\"kg\", SUM(AM84:AM217),\"\")","v":0},{"$f":"IF(AN13=\"kg\", SUM(AN84:AN217),\"\")","v":0},"kg",null,{"$f":"IF(AR13=\"kg\", SUM(AQ84:AQ217),\"\")","v":0},{"$f":"IF(AR13=\"kg\", SUM(AR84:AR217),\"\")","v":0},"kg",null,{"$f":"IF(AV13=\"kg\", SUM(AU84:AU217),\"\")","v":0},{"$f":"IF(AV13=\"kg\", SUM(AV84:AV217),\"\")","v":0},"kg",null,{"$f":"IF(AZ13=\"kg\", SUM(AY84:AY217),\"\")","v":0},{"$f":"IF(AZ13=\"kg\", SUM(AZ84:AZ217),\"\")","v":0},"kg",null,null,null,null,null,null,null,null,"Summa",null,{"$f":"SUM(BL84:BL217)","v":0},"kg",null,null,null,null,null,{"$f":"SUM(BS84:BS217)","v":0}]
["Summa inköpt biogas (flytande form, kg)",null,null,null,"",null,null,{"$f":"SUMIF(I84:I217,\"=Flytande\",H84:H217)","v":0},"kg",null,null,null,null,null,null,null,null,null,null,null,null,null,null,null,null,null,null,null,null,null,null,null,null,null,null,null,null,null,null,null,null,null,null,null,null,null,null,null,null,null,null,null,null,null,{"$f":"SUM(BC84:BC217)","v":0},{"$f":"SUM(BD84:BD217)","v":0},null,null,null,null,null,null,null,null,null,null,"Summa",{"$f":"SUM(BP84:BP217)","v":0},"kg",null,null,{"$f":"SUM(BT84:BT217)","v":0}]
["   ",null,null,null,null,null,null,null,null,null,null,null,null,null,null,null,null,null,null,null,null,null,null,null,null,null,null,null,null,null,null,null,null,null,null,null,null,null,null,null,null,null,null,null,null,null,null,null,null,null,null,null,null,null,null,null,null,null,"Summa biogas",null,null,null,{"$f":"BK46+BK80+BK218","v":0},{"$f":"BL47+BL81+BL219","v":0},"Nm3 / kg",null,null,{"$f":"BP48+BP82+BP220","v":0},"kg",{"$f":"BR46+BR80+BR218","v":0},{"$f":"BS47+BS81+BS219","v":0},{"$f":"BT48+BT82+BT220","v":0}]
["Inköpt naturgas via gasnät, ursprungsland",null,null,null,null,null,null,"Mängd, Nm3 / kg (tusental)","Form, \nGas / \nFlytande","Enhet, \nNm3 / kg","Energiinnehåll, MJ/Nm3, MJ/kg","Densitet, kg/Nm3"]
[null,null,null,null,null,null,null,null,"Gas","kg",{"$f":"IF(H223<>0,IF(J223=\"Nm3\",Data!B$185*Data!C$185,Data!B$185),\"\")","v":""},{"$f":"IF(H223<>0,Data!C$185,\"\")","v":""},null,null,null,null,{"$f":"IF(OR(O223<>\"\",P223<>\"\"),P$13,\"\")","v":""},null,null,null,{"$f":"IF(OR(S223<>\"\",T223<>\"\"),T$13,\"\")","v":""},null,null,null,{"$f":"IF(OR(W223<>\"\",X223<>\"\"),X$13,\"\")","v":""},null,null,null,{"$f":"IF(OR(AA223<>\"\",AB223<>\"\"),AB$13,\"\")","v":""},null,null,null,{"$f":"IF(OR(AE223<>\"\",AF223<>\"\"),AF$13,\"\")","v":""},null,null,null,{"$f":"IF(OR(AI223<>\"\",AJ223<>\"\"),AJ$13,\"\")","v":""},null,null,null,{"$f":"IF(OR(AM223<>\"\",AN223<>\"\"),AN$13,\"\")","v":""},null,null,null,{"$f":"IF(OR(AQ223<>\"\",AR223<>\"\"),AR$13,\"\")","v":""},null,null,null,{"$f":"IF(OR(AU223<>\"\",AV223<>\"\"),AV$13,\"\")","v":""},null,null,null,{"$f":"IF(OR(AY223<>\"\",AZ223<>\"\"),AZ$13,\"\")","v":""},null,null,null,null,null,"Naturgas i gasform",null,null,null,{"$f":"IF(A223<>\"\", SUM( IF(T$13=\"Nm3\",S223,0),  IF(X$13=\"Nm3\",W223,0),  IF(AB$13=\"Nm3\",AA223,0),  IF(AF$13=\"Nm3\",AE223,0), IF(AJ$13=\"Nm3\",AI223,0),  IF(AN$13=\"Nm3\",AM223,0),  IF(AR$13=\"Nm3\",AQ223,0),  IF(AV$13=\"Nm3\",AU223,0), IF(AZ$13=\"Nm3\",AY223,0),  ),\"\")","v":""},{"$f":"IF(A223<>\"\", SUM(  IF(T$13=\"kg\",S223,0),  IF(X$13=\"kg\",W223,0),  IF(AB$13=\"kg\",AA223,0),  IF(AF$13=\"kg\",AE223,0), IF(AJ$13=\"kg\",AI223,0),  IF(AN$13=\"kg\",AM223,0),  IF(AR$13=\"kg\",AQ223,0),  IF(AV$13=\"kg\",AU223,0), IF(AZ$13=\"kg\",AY223,0),  ),\"\")","v":""},null,null,null,null,null,{"$f":"IF(A223<>\"\", SUM(IF(P$13=\"Nm3\",P223,0),  IF(T$13=\"Nm3\",T223,0),  IF(X$13=\"Nm3\",X223,0),  IF(AB$13=\"Nm3\",AB223,0),  IF(AF$13=\"Nm3\",AF223,0), IF(AJ$13=\"Nm3\",AJ223,0),  IF(AN$13=\"Nm3\",AN223,0),  IF(AR$13=\"Nm3\",AR223,0),  IF(AV$13=\"Nm3\",AV223,0), IF(AZ$13=\"Nm3\",AZ223,0),  ),\"\")","v":""},{"$f":"IF(A223<>\"\", SUM(IF(P$13=\"kg\",P223,0),  IF(T$13=\"kg\",T223,0),  IF(X$13=\"kg\",X223,0),  IF(AB$13=\"kg\",AB223,0),  IF(AF$13=\"kg\",AF223,0), IF(AJ$13=\"kg\",AJ223,0),  IF(AN$13=\"kg\",AN223,0),  IF(AR$13=\"kg\",AR223,0),  IF(AV$13=\"kg\",AV223,0), IF(AZ$13=\"kg\",AZ223,0),  ),\"\")","v":""},null,null,{"$f":"IF(A223<>\"\", (IF(J223=\"Nm3\", ((BK223+BL223/L223+BR223+BS223/L223)-  H223),  (BK223*L223+BL223+BR223*L223+BS223+BP223+BT223)-H223)), \"\")","v":""}]
[null,null,null,null,null,null,null,null,"Gas","kg",{"$f":"IF(H224<>0,IF(J224=\"Nm3\",Data!B$185*Data!C$185,Data!B$185),\"\")","v":""},{"$f":"IF(H224<>0,Data!C$185,\"\")","v":""},null,null,null,null,{"$f":"IF(OR(O224<>\"\",P224<>\"\"),P$13,\"\")","v":""},null,null,null,{"$f":"IF(OR(S224<>\"\",T224<>\"\"),T$13,\"\")","v":""},null,null,null,{"$f":"IF(OR(W224<>\"\",X224<>\"\"),X$13,\"\")","v":""},null,null,null,{"$f":"IF(OR(AA224<>\"\",AB224<>\"\"),AB$13,\"\")","v":""},null,null,null,{"$f":"IF(OR(AE224<>\"\",AF224<>\"\"),AF$13,\"\")","v":""},null,null,null,{"$f":"IF(OR(AI224<>\"\",AJ224<>\"\"),AJ$13,\"\")","v":""},null,null,null,{"$f":"IF(OR(AM224<>\"\",AN224<>\"\"),AN$13,\"\")","v":""},null,null,null,{"$f":"IF(OR(AQ224<>\"\",AR224<>\"\"),AR$13,\"\")","v":""},null,null,null,{"$f":"IF(OR(AU224<>\"\",AV224<>\"\"),AV$13,\"\")","v":""},null,null,null,{"$f":"IF(OR(AY224<>\"\",AZ224<>\"\"),AZ$13,\"\")","v":""},null,null,null,null,null,null,null,null,null,{"$f":"IF(A224<>\"\", SUM( IF(T$13=\"Nm3\",S224,0),  IF(X$13=\"Nm3\",W224,0),  IF(AB$13=\"Nm3\",AA224,0),  IF(AF$13=\"Nm3\",AE224,0), IF(AJ$13=\"Nm3\",AI224,0),  IF(AN$13=\"Nm3\",AM224,0),  IF(AR$13=\"Nm3\",AQ224,0),  IF(AV$13=\"Nm3\",AU224,0), IF(AZ$13=\"Nm3\",AY224,0),  ),\"\")","v":""},{"$f":"IF(A224<>\"\", SUM(  IF(T$13=\"kg\",S224,0),  IF(X$13=\"kg\",W224,0),  IF(AB$13=\"kg\",AA224,0),  IF(AF$13=\"kg\",AE224,0), IF(AJ$13=\"kg\",AI224,0),  IF(AN$13=\"kg\",AM224,0),  IF(AR$13=\"kg\",AQ224,0),  IF(AV$13=\"kg\",AU224,0), IF(AZ$13=\"kg\",AY224,0),  ),\"\")","v":""},null,null,null,null,null,{"$f":"IF(A224<>\"\", SUM(IF(P$13=\"Nm3\",P224,0),  IF(T$13=\"Nm3\",T224,0),  IF(X$13=\"Nm3\",X224,0),  IF(AB$13=\"Nm3\",AB224,0),  IF(AF$13=\"Nm3\",AF224,0), IF(AJ$13=\"Nm3\",AJ224,0),  IF(AN$13=\"Nm3\",AN224,0),  IF(AR$13=\"Nm3\",AR224,0),  IF(AV$13=\"Nm3\",AV224,0), IF(AZ$13=\"Nm3\",AZ224,0),  ),\"\")","v":""},{"$f":"IF(A224<>\"\", SUM(IF(P$13=\"kg\",P224,0),  IF(T$13=\"kg\",T224,0),  IF(X$13=\"kg\",X224,0),  IF(AB$13=\"kg\",AB224,0),  IF(AF$13=\"kg\",AF224,0), IF(AJ$13=\"kg\",AJ224,0),  IF(AN$13=\"kg\",AN224,0),  IF(AR$13=\"kg\",AR224,0),  IF(AV$13=\"kg\",AV224,0), IF(AZ$13=\"kg\",AZ224,0),  ),\"\")","v":""},null,null,{"$f":"IF(A224<>\"\", (IF(J224=\"Nm3\",  ((BK224+BL224/L224+BR224+BS224/L224)-  H224),  (BK224*L224+BL224+BR224*L224+BS224+BP224+BT224)-H224)), \"\")","v":""}]
[null,null,null,null,null,null,null,null,"Gas","kg",{"$f":"IF(H225<>0,IF(J225=\"Nm3\",Data!B$185*Data!C$185,Data!B$185),\"\")","v":""},{"$f":"IF(H225<>0,Data!C$185,\"\")","v":""},null,null,null,null,"",null,null,null,"",null,null,null,"",null,null,null,"",null,null,null,"",null,null,null,"",null,null,null,"",null,null,null,"",null,null,null,"",null,null,null,"",null,null,null,null,null,null,null,null,null,"","",null,null,null,null,null,"","",null,null,{"$f":"IF(A225<>\"\", (IF(J225=\"Nm3\", ((BK225+BL225/L225+BR225+BS225/L225)-  H225),  (BK225*L225+BL225+BR225*L225+BS225+BP225+BT225)-H225)), \"\")","v":""}]
[null,null,null,null,null,null,null,null,"Gas","kg",{"$f":"IF(H226<>0,IF(J226=\"Nm3\",Data!B$185*Data!C$185,Data!B$185),\"\")","v":""},{"$f":"IF(H226<>0,Data!C$185,\"\")","v":""},null,null,null,null,"",null,null,null,"",null,null,null,"",null,null,null,"",null,null,null,"",null,null,null,"",null,null,null,"",null,null,null,"",null,null,null,"",null,null,null,"",null,null,null,null,null,null,null,null,null,"","",null,null,null,null,null,"","",null,null,""]
[null,null,null,null,null,null,null,null,"Gas","kg",{"$f":"IF(H227<>0,IF(J227=\"Nm3\",Data!B$185*Data!C$185,Data!B$185),\"\")","v":""},{"$f":"IF(H227<>0,Data!C$185,\"\")","v":""},null,null,null,null,"",null,null,null,"",null,null,null,"",null,null,null,"",null,null,null,"",null,null,null,"",null,null,null,"",null,null,null,"",null,null,null,"",null,null,null,"",null,null,null,null,null,null,null,null,null,"","",null,null,null,null,null,"","",null,null,""]
[]
["Inköpt naturgas i flytand form (LNG), ursprungsland"]
[null,null,null,null,null,null,null,null,"Flytande","kg",{"$f":"IF(H230<>0,Data!B$186,\"\")","v":""},{"$f":"IF(H230<>0,Data!C$186,\"\")","v":""},null,null,null,null,{"$f":"IF(OR(O230<>\"\",P230<>\"\"),P$13,\"\")","v":""},null,null,null,{"$f":"IF(OR(S230<>\"\",T230<>\"\"),T$13,\"\")","v":""},null,null,null,{"$f":"IF(OR(W230<>\"\",X230<>\"\"),X$13,\"\")","v":""},null,null,null,{"$f":"IF(OR(AA230<>\"\",AB230<>\"\"),AB$13,\"\")","v":""},null,null,null,{"$f":"IF(OR(AE230<>\"\",AF230<>\"\"),AF$13,\"\")","v":""},null,null,null,{"$f":"IF(OR(AI230<>\"\",AJ230<>\"\"),AJ$13,\"\")","v":""},null,null,null,{"$f":"IF(OR(AM230<>\"\",AN230<>\"\"),AN$13,\"\")","v":""},null,null,null,{"$f":"IF(OR(AQ230<>\"\",AR230<>\"\"),AR$13,\"\")","v":""},null,null,null,{"$f":"IF(OR(AU230<>\"\",AV230<>\"\"),AV$13,\"\")","v":""},null,null,null,{"$f":"IF(OR(AY230<>\"\",AZ230<>\"\"),AZ$13,\"\")","v":""},null,null,null,{"$f":"IF(OR(BC230<>\"\",BD230<>\"\"),BD$13,\"\")","v":""},null,"Naturgas i gasform",null,null,null,{"$f":"IF(A230<>\"\", SUM( IF(T$13=\"Nm3\",S230,0),  IF(X$13=\"Nm3\",W230,0),  IF(AB$13=\"Nm3\",AA230,0),  IF(AF$13=\"Nm3\",AE230,0), IF(AJ$13=\"Nm3\",AI230,0),  IF(AN$13=\"Nm3\",AM230,0),  IF(AR$13=\"Nm3\",AQ230,0),  IF(AV$13=\"Nm3\",AU230,0), IF(AZ$13=\"Nm3\",AY230,0),  ),\"\")","v":""},{"$f":"IF(A230<>\"\", SUM(  IF(T$13=\"kg\",S230,0),  IF(X$13=\"kg\",W230,0),  IF(AB$13=\"kg\",AA230,0),  IF(AF$13=\"kg\",AE230,0), IF(AJ$13=\"kg\",AI230,0),  IF(AN$13=\"kg\",AM230,0),  IF(AR$13=\"kg\",AQ230,0),  IF(AV$13=\"kg\",AU230,0), IF(AZ$13=\"kg\",AY230,0),  ),\"\")","v":""},null,"Naturgas i fl. form (LNG)",null,{"$f":"IF(A230<>\"\",BC230,\"\")","v":""},null,{"$f":"IF(A230<>\"\", SUM(IF(P$13=\"Nm3\",P230,0),  IF(T$13=\"Nm3\",T230,0),  IF(X$13=\"Nm3\",X230,0),  IF(AB$13=\"Nm3\",AB230,0),  IF(AF$13=\"Nm3\",AF230,0), IF(AJ$13=\"Nm3\",AJ230,0),  IF(AN$13=\"Nm3\",AN230,0),  IF(AR$13=\"Nm3\",AR230,0),  IF(AV$13=\"Nm3\",AV230,0), IF(AZ$13=\"Nm3\",AZ230,0),  ),\"\")","v":""},{"$f":"IF(A230<>\"\", SUM(IF(P$13=\"kg\",P230,0),  IF(T$13=\"kg\",T230,0),  IF(X$13=\"kg\",X230,0),  IF(AB$13=\"kg\",AB230,0),  IF(AF$13=\"kg\",AF230,0), IF(AJ$13=\"kg\",AJ230,0),  IF(AN$13=\"kg\",AN230,0),  IF(AR$13=\"kg\",AR230,0),  IF(AV$13=\"kg\",AV230,0), IF(AZ$13=\"kg\",AZ230,0),  ),\"\")","v":""},{"$f":"IF(A230<>\"\",BD230,\"\")","v":""},null,{"$f":"IF(A230<>\"\", (IF(J230=\"Nm3\", ((BK230+BL230/L230+BR230+BS230/L230)-  H230),  (BK230*Data!$C$187+BL230+BR230*Data!$C$187+BS230+BP230+BT230)-H230)), \"\")","v":""}]
[null,null,null,null,null,null,null,null,"Flytande","kg",{"$f":"IF(H231<>0,Data!B$186,\"\")","v":""},{"$f":"IF(H231<>0,Data!C$186,\"\")","v":""},null,null,null,null,{"$f":"IF(OR(O231<>\"\",P231<>\"\"),P$13,\"\")","v":""},null,null,null,"",null,null,null,"",null,null,null,"",null,null,null,"",null,null,null,"",null,null,null,"",null,null,null,"",null,null,null,"",null,null,null,"",null,null,null,{"$f":"IF(OR(BC231<>\"\",BD231<>\"\"),BD$13,\"\")","v":""},null,null,null,null,null,"","",null,null,null,{"$f":"IF(A231<>\"\",BC231,\"\")","v":""},null,"","",{"$f":"IF(A231<>\"\",BD231,\"\")","v":""},null,{"$f":"IF(A231<>\"\", (IF(J231=\"Nm3\", ((BK231+BL231/L231+BR231+BS231/L231)-  H231),  (BK231*Data!$C$187+BL231+BR231*Data!$C$187+BS231+BP231+BT231)-H231)), \"\")","v":""}]
[null,null,null,null,null,null,null,null,"Flytande","kg",{"$f":"IF(H232<>0,Data!B$186,\"\")","v":""},{"$f":"IF(H232<>0,Data!C$186,\"\")","v":""},null,null,null,null,"",null,null,null,"",null,null,null,"",null,null,null,"",null,null,null,"",null,null,null,"",null,null,null,"",null,null,null,"",null,null,null,"",null,null,null,"",null,null,null,"",null,null,null,null,null,"","",null,null,null,"",null,"","","",null,{"$f":"IF(A232<>\"\", (IF(J232=\"Nm3\", ((BK232+BL232/L232+BR232+BS232/L232)-  H232),  (BK232*Data!$C$187+BL232+BR232*Data!$C$187+BS232+BP232+BT232)-H232)), \"\")","v":""}]
["",null,null,null,null,null,null,null,"Flytande","kg",{"$f":"IF(H233<>0,Data!B$186,\"\")","v":""},{"$f":"IF(H233<>0,Data!C$186,\"\")","v":""},null,null,null,null,"",null,null,null,"",null,null,null,"",null,null,null,"",null,null,null,"",null,null,null,"",null,null,null,"",null,null,null,"",null,null,null,"",null,null,null,"",null,null,null,"",null,null,null,null,null,"","",null,null,null,"",null,"","","",null,{"$f":"IF(A233<>\"\", (IF(J233=\"Nm3\", ((BK233+BL233/L233+BR233+BS233/L233)-  H233),  (BK233*Data!$C$187+BL233+BR233*Data!$C$187+BS233+BP233+BT233)-H233)), \"\")","v":""}]
[null,null,null,null,null,null,null,null,"Flytande","kg",{"$f":"IF(H234<>0,Data!B$186,\"\")","v":""},{"$f":"IF(H234<>0,Data!C$186,\"\")","v":""},null,null,null,null,"",null,null,null,"",null,null,null,"",null,null,null,"",null,null,null,"",null,null,null,"",null,null,null,"",null,null,null,"",null,null,null,"",null,null,null,"",null,null,null,"",null,null,null,null,null,null,null,null,null,null,"",null,"","","",null,{"$f":"IF(A234<>\"\", (IF(J234=\"Nm3\", ((BK234+BL234/L234+BR234+BS234/L234)-  H234),  (BK234*Data!$C$187+BL234+BR234*Data!$C$187+BS234+BP234+BT234)-H234)), \"\")","v":""}]
[null,null,null,null,null,null,null,null,"Flytande","kg",{"$f":"IF(H235<>0,Data!B$186,\"\")","v":""},{"$f":"IF(H235<>0,Data!C$186,\"\")","v":""},null,null,null,null,"",null,null,null,"",null,null,null,"",null,null,null,"",null,null,null,"",null,null,null,"",null,null,null,"",null,null,null,"",null,null,null,"",null,null,null,"",null,null,null,"",null,null,null,null,null,null,null,null,null,null,"",null,"","","",null,{"$f":"IF(A235<>\"\", (IF(J235=\"Nm3\", ((BK235+BL235/L235+BR235+BS235/L235)-  H235),  (BK235*Data!$C$187+BL235+BR235*Data!$C$187+BS235+BP235+BT235)-H235)), \"\")","v":""}]
[null,null,null,null,null,null,null,null,"Flytande","kg",{"$f":"IF(H236<>0,Data!B$186,\"\")","v":""},{"$f":"IF(H236<>0,Data!C$186,\"\")","v":""},null,null,null,null,"",null,null,null,"",null,null,null,"",null,null,null,"",null,null,null,"",null,null,null,"",null,null,null,"",null,null,null,"",null,null,null,"",null,null,null,"",null,null,null,"",null,null,null,null,null,null,null,null,null,null,"",null,"","","",null,{"$f":"IF(A236<>\"\", (IF(J236=\"Nm3\", ((BK236+BL236/L236+BR236+BS236/L236)-  H236),  (BK236*Data!$C$187+BL236+BR236*Data!$C$187+BS236+BP236+BT236)-H236)), \"\")","v":""}]
[null,null,null,null,null,null,null,null,"Flytande","kg",{"$f":"IF(H237<>0,Data!B$186,\"\")","v":""},{"$f":"IF(H237<>0,Data!C$186,\"\")","v":""},null,null,null,null,"",null,null,null,"",null,null,null,"",null,null,null,"",null,null,null,"",null,null,null,"",null,null,null,"",null,null,null,"",null,null,null,"",null,null,null,"",null,null,null,"",null,null,null,null,null,null,null,null,null,null,"",null,"","","",null,{"$f":"IF(A237<>\"\", (IF(J237=\"Nm3\", ((BK237+BL237/L237+BR237+BS237/L237)-  H237),  (BK237*Data!$C$187+BL237+BR237*Data!$C$187+BS237+BP237+BT237)-H237)), \"\")","v":""}]
[null,null,null,null,null,null,null,null,"Flytande","kg",{"$f":"IF(H238<>0,Data!B$186,\"\")","v":""},{"$f":"IF(H238<>0,Data!C$186,\"\")","v":""},null,null,null,null,"",null,null,null,"",null,null,null,"",null,null,null,"",null,null,null,"",null,null,null,"",null,null,null,"",null,null,null,"",null,null,null,"",null,null,null,"",null,null,null,"",null,null,null,null,null,null,null,null,null,null,"",null,"","","",null,{"$f":"IF(A238<>\"\", (IF(J238=\"Nm3\", ((BK238+BL238/L238+BR238+BS238/L238)-  H238),  (BK238*Data!$C$187+BL238+BR238*Data!$C$187+BS238+BP238+BT238)-H238)), \"\")","v":""}]
[null,null,null,null,null,null,null,null,"Flytande","kg",{"$f":"IF(H239<>0,Data!B$186,\"\")","v":""},{"$f":"IF(H239<>0,Data!C$186,\"\")","v":""},null,null,null,null,"",null,null,null,"",null,null,null,"",null,null,null,"",null,null,null,"",null,null,null,"",null,null,null,"",null,null,null,"",null,null,null,"",null,null,null,"",null,null,null,"",null,null,null,null,null,null,null,null,null,null,"",null,"","","",null,{"$f":"IF(A239<>\"\", (IF(J239=\"Nm3\", ((BK239+BL239/L239+BR239+BS239/L239)-  H239),  (BK239*Data!$C$187+BL239+BR239*Data!$C$187+BS239+BP239+BT239)-H239)), \"\")","v":""}]
[]
["Naturgas, Nm3 / kg (tusental)",null,null,null,null,null,null,null,null,null,null,null,null,null,{"$f":"SUM(O223:O239)","v":0},{"$f":"SUM(P223:P239)","v":0},null,null,{"$f":"SUM(S223:S239)","v":0},{"$f":"SUM(T223:T239)","v":0},"Nm3 / kg",null,{"$f":"SUM(W223:W239)","v":0},{"$f":"SUM(X223:X239)","v":0},"Nm3 / kg",null,{"$f":"SUM(AA223:AA239)","v":0},{"$f":"SUM(AB223:AB239)","v":0},"Nm3 / kg",null,{"$f":"SUM(AE223:AE239)","v":0},{"$f":"SUM(AF223:AF239)","v":0},"Nm3 / kg",null,{"$f":"SUM(AI223:AI239)","v":0},{"$f":"SUM(AJ223:AJ239)","v":0},"Nm3 / kg",null,{"$f":"SUM(AM223:AM239)","v":0},{"$f":"SUM(AN223:AN239)","v":0},"Nm3 / kg",null,{"$f":"SUM(AQ223:AQ239)","v":0},{"$f":"SUM(AR223:AR239)","v":0},"Nm3 / kg",null,{"$f":"SUM(AU223:AU239)","v":0},{"$f":"SUM(AV223:AV239)","v":0},"Nm3 / kg",null,{"$f":"SUM(AY223:AY239)","v":0},{"$f":"SUM(AZ223:AZ239)","v":0},"Nm3 / kg",null,{"$f":"SUM(BC230:BC239)","v":0},{"$f":"SUM(BD230:BD239)","v":0},"kg",null,"Summa naturgas i gasform",null,null,null,{"$f":"SUM(BK223:BK239)","v":0},{"$f":"SUM(BL223:BL239)","v":0},"Nm3 / kg","Summa LNG",null,{"$f":"SUM(BP230:BP239)","v":0},"kg",{"$f":"SUM(BR223:BR239)","v":0},{"$f":"SUM(BS223:BS239)","v":0},{"$f":"SUM(BT230:BT239)","v":0}]
["Totalsumma gas i gasform, Nm3 (tusental)",null,null,null,null,null,null,{"$f":"SUM(H46,H80,H218)+SUMIF(J223:J227,\"Nm3\",H223:H227)","v":0},"Nm3",null,null,null,null,null,{"$f":"SUM(O46,O80,O218)+ IF(P13=\"Nm3\",O241,0)","v":0},{"$f":"SUM(P46,P80,P218)+ IF(P13=\"Nm3\",P241,0)","v":0},"Nm3",null,{"$f":"SUM(S46,S80,S218)+ IF(T13=\"Nm3\",S241,0)","v":0},{"$f":"SUM(T46,T80,T218)+ IF(T13=\"Nm3\",T241,0)","v":0},"Nm3",null,{"$f":"SUM(W46,W80,W218)+ IF(X13=\"Nm3\",W241,0)","v":0},{"$f":"SUM(X46,X80,X218)+ IF(X13=\"Nm3\",X241,0)","v":0},"Nm3",null,{"$f":"SUM(AA46,AA80,AA218)+ IF(AB13=\"Nm3\",AA241,0)","v":0},{"$f":"SUM(AB46,AB80,AB218)+ IF(AB13=\"Nm3\",AB241,0)","v":0},"Nm3",null,{"$f":"SUM(AE46,AE80,AE218)+ IF(AF13=\"Nm3\",AE241,0)","v":0},{"$f":"SUM(AF46,AF80,AF218)+ IF(AF13=\"Nm3\",AF241,0)","v":0},"Nm3",null,{"$f":"SUM(AI46,AI80,AI218)+ IF(AJ13=\"Nm3\",AI241,0)","v":0},{"$f":"SUM(AJ46,AJ80,AJ218)+ IF(AJ13=\"Nm3\",AJ241,0)","v":0},"Nm3",null,{"$f":"SUM(AM46,AM80,AM218)+ IF(AN13=\"Nm3\",AM241,0)","v":0},{"$f":"SUM(AN46,AN80,AN218)+ IF(AN13=\"Nm3\",AN241,0)","v":0},"Nm3",null,{"$f":"SUM(AQ46,AQ80,AQ218)+ IF(AR13=\"Nm3\",AQ241,0)","v":0},{"$f":"SUM(AR46,AR80,AR218)+ IF(AR13=\"Nm3\",AR241,0)","v":0},"Nm3",null,{"$f":"SUM(AU46,AU80,AU218)+ IF(AV13=\"Nm3\",AU241,0)","v":0},{"$f":"SUM(AV46,AV80,AV218)+ IF(AV13=\"Nm3\",AV241,0)","v":0},"Nm3",null,{"$f":"SUM(AY46,AY80,AY218)+ IF(AZ13=\"Nm3\",AY241,0)","v":0},{"$f":"SUM(AZ46,AZ80,AZ218)+ IF(AZ13=\"Nm3\",AZ241,0)","v":0},"Nm3",null,null,null,null,null,"Summa fordonsgas i gasform",null,null,null,{"$f":"BK221+BK241","v":0},null,"Nm3"]
["Totalsumma gas i gasform, kg (tusental)",null,null,null,null,null,null,{"$f":"SUM(H47,H81,H219)+SUMIF(J223:J227,\"kg\",H223:H227)","v":0},"kg",null,null,null,null,null,{"$f":"SUM(O47,O81,O219)+ IF(P13=\"kg\",O241,0)","v":0},{"$f":"SUM(P47,P81,P219)+ IF(P13=\"kg\",P241,0)","v":0},"kg",null,{"$f":"SUM(S47,S81,S219)+ IF(T13=\"kg\",S241,0)","v":0},{"$f":"SUM(T47,T81,T219)+ IF(T13=\"kg\",T241,0)","v":0},"kg",null,{"$f":"SUM(W47,W81,W219)+ IF(X13=\"kg\",W241,0)","v":0},{"$f":"SUM(X47,X81,X219)+ IF(X13=\"kg\",X241,0)","v":0},"kg",null,{"$f":"SUM(AA47,AA81,AA219)+ IF(AB13=\"kg\",AA241,0)","v":0},{"$f":"SUM(AB47,AB81,AB219)+ IF(AB13=\"kg\",AB241,0)","v":0},"kg",null,{"$f":"SUM(AE47,AE81,AE219)+ IF(AF13=\"kg\",AE241,0)","v":0},{"$f":"SUM(AF47,AF81,AF219)+ IF(AF13=\"kg\",AF241,0)","v":0},"kg",null,{"$f":"SUM(AI47,AI81,AI219)+ IF(AJ13=\"kg\",AI241,0)","v":0},{"$f":"SUM(AJ47,AJ81,AJ219)+ IF(AJ13=\"kg\",AJ241,0)","v":0},"kg",null,{"$f":"SUM(AM47,AM81,AM219)+ IF(AN13=\"kg\",AM241,0)","v":0},{"$f":"SUM(AN47,AN81,AN219)+ IF(AN13=\"kg\",AN241,0)","v":0},"kg",null,{"$f":"SUM(AQ47,AQ81,AQ219)+ IF(AR13=\"kg\",AQ241,0)","v":0},{"$f":"SUM(AR47,AR81,AR219)+ IF(AR13=\"kg\",AR241,0)","v":0},"kg",null,{"$f":"SUM(AU47,AU81,AU219)+ IF(AV13=\"kg\",AU241,0)","v":0},{"$f":"SUM(AV47,AV81,AV219)+ IF(AV13=\"kg\",AV241,0)","v":0},"kg",null,{"$f":"SUM(AY47,AY81,AY219)+ IF(AZ13=\"kg\",AY241,0)","v":0},{"$f":"SUM(AZ47,AZ81,AZ219)+ IF(AZ13=\"kg\",AZ241,0)","v":0},"kg",null,null,null,null,null,"Summa fordonsgas i gasform",null,null,null,null,{"$f":"BL221+BL241","v":0},"kg"]
["Totalsumma gas i flytande form, kg (tusental)",null,null,null,null,null,null,{"$f":"SUM(H48,H82,H220) + SUM(H230:H239)","v":0},"kg",null,null,"Elförbrukning",null,null,{"$f":"P6*1000/SUM(O242:P243)/1000","v":{"$error":"#DIV/0!"}},null,{"$f":"IF(P13=\"Nm3\", \"kWh/Nm3\", \"kWh/kg\")","v":"kWh/Nm3"},null,{"$f":"T6*1000/SUM(S242:T243)/1000","v":{"$error":"#DIV/0!"}},null,{"$f":"IF(T13=\"Nm3\", \"kWh/Nm3\", \"kWh/kg\")","v":"kWh/kg"},null,{"$f":"X6*1000/SUM(W242:X243)/1000","v":{"$error":"#DIV/0!"}},null,{"$f":"IF(X13=\"Nm3\", \"kWh/Nm3\", \"kWh/kg\")","v":"kWh/kg"},null,{"$f":"AB6*1000/SUM(AA242:AB243)/1000","v":{"$error":"#DIV/0!"}},null,{"$f":"IF(AB13=\"Nm3\", \"kWh/Nm3\", \"kWh/kg\")","v":"kWh/kg"},null,{"$f":"AF6*1000/SUM(AE242:AF243)/1000","v":{"$error":"#DIV/0!"}},null,{"$f":"IF(AF13=\"Nm3\", \"kWh/Nm3\", \"kWh/kg\")","v":"kWh/kg"},null,{"$f":"AJ6*1000/SUM(AI242:AJ243)/1000","v":{"$error":"#DIV/0!"}},null,{"$f":"IF(AJ13=\"Nm3\", \"kWh/Nm3\", \"kWh/kg\")","v":"kWh/kg"},null,{"$f":"AN6*1000/SUM(AM242:AN243)/1000","v":{"$error":"#DIV/0!"}},null,{"$f":"IF(AN13=\"Nm3\", \"kWh/Nm3\", \"kWh/kg\")","v":"kWh/kg"},null,{"$f":"AR6*1000/SUM(AQ242:AR243)/1000","v":{"$error":"#DIV/0!"}},null,{"$f":"IF(AR13=\"Nm3\", \"kWh/Nm3\", \"kWh/kg\")","v":"kWh/kg"},null,{"$f":"AV6*1000/SUM(AU242:AV243)/1000","v":{"$error":"#DIV/0!"}},null,{"$f":"IF(AV13=\"Nm3\", \"kWh/Nm3\", \"kWh/kg\")","v":"kWh/kg"},null,"Summa såld gas (flytande form)  ",null,null,null,{"$f":"SUM(BC48,BC82,BC220,BC241)","v":0},{"$f":"SUM(BD48,BD82,BD220,BD241)","v":0},null,null,"Summa fordonsgas i flytande form",null,null,null,null,null,null,null,null,{"$f":"SUM(BP221,BP241)","v":0},"kg"]
[null,null,null,null,null,null,null,null,null,null,null,null,null,null,null,null,null,null,null,null,null,null,null,null,null,null,null,null,null,null,null,null,null,null,null,null,null,null,null,null,null,null,null,null,null,null,null,null,"Elförbrukning",null,{"$f":"AZ6*1000/SUM(AY242:AZ243)/1000","v":{"$error":"#DIV/0!"}},null,{"$f":"IF(AZ13=\"Nm3\", \"kWh/Nm3\", \"kWh/kg\")","v":"kWh/kg"},null,{"$f":"BD6*1000/SUM(BC244:BD244)/1000","v":{"$error":"#DIV/0!"}},null,"kWh/Nm3"]
[null,null,null,null,null,null,null,null,null,"Elförbrukning >>",null,null,null,null,null,{"$f":"IF((P242+P243+O242+O243)>0,IF(P13=\"Nm3\",P6*1000/((O242+P242)*1000),P6*1000/((O243+P243)*1000)),\"\")","v":""},{"$f":"IF(P13=\"Nm3\",\"kWh/Nm3\",\"kWh/kg\")","v":"kWh/Nm3"},null,null,{"$f":"IF((T242+T243+S242+S243)>0,IF(T13=\"Nm3\",T6*1000/((S242+T242)*1000),T6*1000/((S243+T243)*1000)),\"\")","v":""},{"$f":"IF(T13=\"Nm3\",\"kWh/Nm3\",\"kWh/kg\")","v":"kWh/kg"},null,null,{"$f":"IF((X242+X243+W242+W243)>0,IF(X13=\"Nm3\",X6*1000/((W242+X242)*1000),X6*1000/((W243+X243)*1000)),\"\")","v":""},{"$f":"IF(X13=\"Nm3\",\"kWh/Nm3\",\"kWh/kg\")","v":"kWh/kg"},null,null,{"$f":"IF((AB242+AB243+AA242+AA243)>0,IF(AB13=\"Nm3\",AB6*1000/((AA242+AB242)*1000),AB6*1000/((AA243+AB243)*1000)),\"\")","v":""},{"$f":"IF(AB13=\"Nm3\",\"kWh/Nm3\",\"kWh/kg\")","v":"kWh/kg"},null,null,{"$f":"IF((AF242+AF243+AE242+AE243)>0,IF(AF13=\"Nm3\",AF6*1000/((AE242+AF242)*1000),AF6*1000/((AE243+AF243)*1000)),\"\")","v":""},{"$f":"IF(AF13=\"Nm3\",\"kWh/Nm3\",\"kWh/kg\")","v":"kWh/kg"},null,null,{"$f":"IF((AJ242+AJ243+AI242+AI243)>0,IF(AJ13=\"Nm3\",AJ6*1000/((AI242+AJ242)*1000),AJ6*1000/((AI243+AJ243)*1000)),\"\")","v":""},{"$f":"IF(AJ13=\"Nm3\",\"kWh/Nm3\",\"kWh/kg\")","v":"kWh/kg"},null,null,{"$f":"IF((AN242+AN243+AM242+AM243)>0,IF(AN13=\"Nm3\",AN6*1000/((AM242+AN242)*1000),AN6*1000/((AM243+AN243)*1000)),\"\")","v":""},{"$f":"IF(AN13=\"Nm3\",\"kWh/Nm3\",\"kWh/kg\")","v":"kWh/kg"},null,null,{"$f":"IF((AR242+AR243+AQ242+AQ243)>0,IF(AR13=\"Nm3\",AR6*1000/((AQ242+AR242)*1000),AR6*1000/((AQ243+AR243)*1000)),\"\")","v":""},{"$f":"IF(AR13=\"Nm3\",\"kWh/Nm3\",\"kWh/kg\")","v":"kWh/kg"},null,null,{"$f":"IF((AV242+AV243+AU242+AU243)>0,IF(AV13=\"Nm3\",AV6*1000/((AU242+AV242)*1000),AV6*1000/((AU243+AV243)*1000)),\"\")","v":""},{"$f":"IF(AV13=\"Nm3\",\"kWh/Nm3\",\"kWh/kg\")","v":"kWh/kg"},null,null,{"$f":"IF((AZ242+AZ243+AY242+AY243)>0,IF(AZ13=\"Nm3\",AZ6*1000/((AY242+AZ242)*1000),AZ6*1000/((AY243+AZ243)*1000)),\"\")","v":""},{"$f":"IF(AZ13=\"Nm3\",\"kWh/Nm3\",\"kWh/kg\")","v":"kWh/kg"},null,null,{"$f":"IF((BD244+BC244)>0,BD6*1000/((BC244+BD244)*1000),\"\")","v":""},"kWh/kg"]
[]
[]
[]
[]
[]
[]
[]
[]
[]
[]
[]
[null,null,null,null,""]
[null,null,null,null,""]
[]
[]
[]
[]
[]
[]
[]
[]
[]
[]
[]
[]
[]
[]
[]
[]
[null,null,null,null,null,null,null,{"$f":"SUMIF(J223,\"Nm3\",H223)","v":0}]

{"sheet":"Rapport HBL","index":4,"n_rows":11,"n_cols":21,"rows_kept":11,"cut":false,"hidden":false,"merged":[[0,0,0,20],[3,0,3,1],[3,2,3,6],[1,0,1,1],[1,2,1,6],[2,0,2,1],[2,2,2,6]]}
["HBK Biogasredovisning, ver 4.2 - Underlag för rapportering enligt Hållbarhetslagen"]
["Företag:",null,{"$f":"Produktion!B2","v":"företagsnamn"}]
["Org.nr:",null,{"$f":"Produktion!I2","v":"xxxxxx-xxxx"}]
["Period:",null,{"$f":"Produktion!B3","v":"2023-01-01 -- 2023-12-31"}]
["Drivmedel","Produktnamn","Bränsletyp","Bränslekategori","Anläggningens driftsättningsdatum","Användningsområde (OBS kolumnen är dold i rapportmallen)","Hållbar mängd","Enhet mängd","Effektivt värmevärde","Enhet värmevärde","Råvara","Råvarans ursprungsland","Restprodukt eller avfall","Livsmedel/fodergröda","Högrisk ILUC","Metod för bestämmande av växthusgasutsläpp","Produktionskedja","Växthusgasutsläpp g CO2e/MJ","VHG-bonus eb","VHG-bonus esca","Certifiering"]
["1001. Fordonsgas",null,"Gasformig","Biogas (gasformig)","Senast 5 oktober 2015","Motordrift",111000,"kg",48.5,"MJ/kg","Matavfall","Sverige","Ja","Nej","Nej",null,null,22.5,null,null,"ISCC EU"]
["1001. Fordonsgas",null,"Gasformig","Biogas (gasformig)","Från 6 oktober 2015 till 31 december 2020","Motordrift",111000,"kg",48.5,"MJ/kg","Matavfall","Sverige","Ja","Nej","Nej",null,null,22.5,null,null,"Red Cert"]
["1001. Fordonsgas",null,"Gasformig","Biogas (gasformig)","Från 1 januari 2021","Motordrift",111000,"kg",48.5,"MJ/kg","Matavfall","Sverige","Ja","Nej","Nej",null,null,22.5,null,null,"ISCC EU"]
["1001. Fordonsgas",null,"Gasformig","Biogas (gasformig)","Senast 5 oktober 2015","Motordrift",111000,"kg",48.5,"MJ/kg","Matavfall","Sverige","Ja","Nej","Nej",null,null,22.5,null,null,"Red Cert"]
["1001. Fordonsgas",null,"Gasformig","Biogas (gasformig)","Från 6 oktober 2015 till 31 december 2020","Motordrift",111000,"kg",48.5,"MJ/kg","Matavfall","Sverige","Ja","Nej","Nej",null,null,22.5,null,null,"ISCC EU"]
["1001. Fordonsgas",null,"Gasformig","Biogas (gasformig)","Från 1 januari 2021","Motordrift",111000,"kg",48.5,"MJ/kg","Matavfall","Sverige","Ja","Nej","Nej",null,null,22.5,null,null,"Red Cert"]

{"sheet":"Rapport DML","index":5,"n_rows":7,"n_cols":17,"rows_kept":7,"cut":false,"hidden":false,"merged":[[1,0,1,2],[2,0,2,2],[3,0,3,2],[4,0,4,6],[4,8,4,16],[1,3,1,7],[2,3,2,7],[3,3,3,7]]}
["HBK Biogasredovisning, ver 4.2 - Underlag för rapportering enligt  Drivmedelslagen"]
["Företag:",null,null,{"$f":"Produktion!B2","v":"företagsnamn"}]
["Org.nr:",null,null,{"$f":"Produktion!I2","v":"xxxxxx-xxxx"}]
["Period:",null,null,{"$f":"Produktion!B3","v":"2023-01-01 -- 2023-12-31"}]
["               DML - Drivmedel",null,null,null,null,null,null,null,"DML - Fossila komponenter"]
["ID","Typ av drivmedel","Produktnamn","Reduktionsplikt","Mängd","Enhet mängd","Värmevärde","Enhet värmevärde","ID","Drivmedel","Produktnamn","Fossil komponent","Mängd","Enhet mängd","Värmevärde","Enhet värmevärde","Råvarans ursprungsland"]
[1001,"Fordonsgas",null,"Nej",666000,"kg",48.5,"MJ/kg"]

{"sheet":"Rapport Ej Slutkund","index":6,"n_rows":129,"n_cols":35,"rows_kept":129,"cut":false,"hidden":false,"merged":[[0,0,0,34],[1,0,1,1],[1,2,1,4],[2,0,2,1],[2,2,2,4],[2,14,2,33]]}
["HBK Biogasredovisning, ver 4.2 - Hållbarhetsdata för biogas såld till ej slutkund dvs till annan aktör som distribuerar (säljer) biogasen till slutkund"]
["Företag:",null,{"$f":"Produktion!B2","v":"företagsnamn"}]
["Period:",null,{"$f":"Produktion!B3","v":"2023-01-01 -- 2023-12-31"},null,null,null,null,null,null,null,null,null,null,null,"Fördelning av såld gas på kunder"]
["Parti","Substrat","Kompletterande information","Produktionsanläggning, startdatum","Ursprung","Substrat, typ","Substrat kategori","Mängd, Nm3 / kg (tusental)","Form, \nGas / \nFlytande","Enhet, \nNm3 / kg","Metanhalt, %","g CO2eq/MJ","Beräkning, F + Esca om gödselbonus tillämpats","Certifiering utöver HBK","Kund 1","Kund 2","Kund 3","Kund 4","Kund 5","Kund 6","Kund 7","Kund 8","Kund 9","Kund 10","Kund 11","Kund 12","Kund 13","Kund 14","Kund 15","Kund 16","Kund 17","Kund 18","Kund 19","Kund 20","Avvikelse"]
[]
[]
[]
[]
[]
[]
[]
[]
[]
[]
[]
[]
[]
[]
[]
[]
[]
[]
[]
[]
[]
[]
[]
[]
[]
[]
[]
[]
[]
[]
[]
[]
[]
[]
[]
[]
[]
[]
[]
[]
[]
[]
[]
[]
[]
[]
[]
[]
[]
[]
[]
[]
[]
[]
[]
[]
[]
[]
[]
[]
[]
[]
[]
[]
[]
[]
[]
[]
[]
[]
[]
[]
[]
[]
[]
[]
[]
[]
[]
[]
[]
[]
[]
[]
[]
[]
[]
[]
[]
[]
[]
[]
[]
[]
[]
[]
[]
[]
[]
[]
[]
[]
[]
[]
[]
[]
[]
[]
[]
[]
[]
[]
[]
[]
[]
[]
[]
[]
[]
[]
[]
[]
[]
[]
[null,null,null,null,null,null,null,{"$f":"SUM(H5:H128)","v":0},null,null,null,null,null,null,{"$f":"SUM(O5:O128)","v":0},0,0,0,0,0,0,0,0,0,0,0,0,0,0,0,0,0,0,0]

{"sheet":"Substrat","index":7,"n_rows":401,"n_cols":14,"rows_kept":401,"cut":false,"hidden":false,"merged":[[16,9,16,12],[17,9,17,12],[18,9,18,12],[26,9,26,12],[0,0,0,12],[8,9,9,12],[11,9,12,12],[5,9,5,12],[1,9,1,12],[2,9,2,12],[3,9,3,12],[4,9,4,12],[6,9,6,12],[10,9,10,12],[7,9,7,12],[39,9,39,12],[38,9,38,12],[24,9,24,12],[27,9,27,12],[29,9,29,12],[30,9,30,12],[31,9,31,12],[32,9,32,12],[37,9,37,12],[33,9,33,12],[34,9,34,12],[35,9,35,12],[36,9,36,12],[25,9,25,12],[55,9,55,12],[56,9,56,12],[57,9,57,12],[65,9,65,12],[66,9,66,12],[58,9,58,12],[59,9,59,12],[60,9,60,12],[61,9,61,12],[62,9,62,12],[63,9,63,12],[64,9,64,12],[50,9,50,12],[51,9,51,12],[52,9,52,12],[53,9,53,12],[54,9,54,12],[45,9,45,12],[46,9,46,12],[47,9,47,12],[48,9,48,12],[49,9,49,12],[95,0,95,12],[15,9,15,12],[13,9,13,12],[14,9,14,12],[19,9,19,12],[20,9,20,12],[21,9,21,12],[22,9,22,12],[23,9,23,12],[28,9,28,12],[67,9,67,12],[40,9,40,12],[41,9,41,12],[42,9,42,12],[43,9,43,12],[44,9,44,12]]}
["HBK Biogasredovisning, ver 4.2 - Substrat för biogasproduktion"]
["Substratslag","Typ","Kategori","Gasproduktion Nm3 biogas per ton substrat (Våtvikt)","Växthusgasutsläpp, g CO2eq/ton torrsubstans","Torrsubstanshalt, intervall, %","Krav på uppfyllande av markkriterie","Gödselbonus, kg/ton","Avfall Web-kod","Not"]
["Källsorterat matavfall från hushåll och verksamheter (fast form)","Avfall","Matavfall",148,0,"25 - 35","Nej",null,"EB8","Hushåll och verksamheter inklusive t ex restauranger, skolkök och liknande. Hanteras i fast form i t ex påsar och transporteras med renhållningsfordon eller i container till anläggningen"]
["Källsorterat matavfall (kvarnat och spätt) - Låg TS","Avfall","Matavfall",45,0,"5 - 10","Nej",null,"EB8","Hushåll och verksamheter som t ex restauranger, skolkök och liknande. Hanteras i flytande form med slamsugningsbil"]
["Källsorterat matavfall (kvarnat och spätt) - Hög TS","Avfall","Matavfall",72,0,"10 - 15","Nej",null,"EB8","Hushåll och verksamheter som t ex restauranger, skolkök och liknande. Hanteras i flytande form med slamsugningsbil"]
["Fett från hushåll, restauranger och storkök","Avfall","Matavfall",780,0,"85 - 95","Nej",null,"EB8","Frityrfett. Hanteras i flytande form med slamsugningsbil eller i kärl"]
["Fettavskiljareslam från restauranger och storkök","Avfall","Matavfall",44,0,"5 - 10","Nej",null,"EB42","Hanteras i flytande form med slamsugningsbil"]
["Fast avfall från handel","Avfall","Matavfall",170,0,"30 - 50","Nej",null,"EB41a","T ex bröd, deg, grönsaker, rester från charkuteri och styckning och färdig mat. Hanteras i fast form t ex med container"]
["Flytande avfall från handel - Låg TS","Avfall","Matavfall",33,0,"5 - 10","Nej",null,"EB41a","T ex Förpackade livsmedel, skal från grönsaker, fiskrens, mejeriprodukter, läskedrycksrester. Hanteras antingen i flytande form till anläggningen eller pressas vid förbehandling"]
["Flytande avfall från handel - Hög TS","Avfall","Matavfall",66,0,"10 - 15","Nej",null,"EB41a"]
["Fast avfall från livsmedelsindustri","Avfall","Avfall från livsmedelsindustri",170,0,"30 - 50","Nej",null,"EB37","T ex bröd, deg, grönsaker, rester från charkuteri och styckning och färdig mat. Hanteras i fast form t ex med container"]
["Flytande avfall från livsmedelsindustri - Låg TS","Avfall","Avfall från livsmedelsindustri",33,0,"5 - 10","Nej",null,"EB37","T ex Förpackade livsmedel, skal från grönsaker, fiskrens, mejeriprodukter, läskedrycksrester. Hanteras antingen i flytande form till anläggningen eller pressas vid förbehandling"]
["Flytande avfall från livsmedelsindustri - Hög TS","Avfall","Avfall från livsmedelsindustri",66,0,"10 - 15","Nej",null,"EB37"]
["Slam från kommunalt avloppsreningsverk och enskilda avlopp","Avfall","Avloppsslam",15,0,"3 - 7","Nej",null,"EB40","Inklusive slam från externa reningsverk utan rötkammare. Slam från enskilda avlopp och externa reningsverk hanteras med slamsugningsbil. Biogas från avloppsslam är en restprodukt från reningsprocessen. Inga utsläpp från produktionen ingår därför i beräkningarna"]
["Avfall från slakteri - Låg TS","Avfall","Slaktavfall",80,0,"5 - 15","Nej",null,"EB36","T ex mag- och tarminnehåll, blod, fett och slam från reningsverk.  Hanteras i flytande form med tankbil"]
["Avfall från slakteri - Hög TS","Avfall","Slaktavfall",160,0,"15 - 25","Nej",null,"EB36","T ex mag- och tarminnehåll, blod, fett och slam från reningsverk.  Hanteras i container"]
["Flytgödsel","Restp","Gödsel",{"$f":"AVERAGE(22,26)","v":24},0,"5 - 10","Nej",{"$f":"-45*12*0.075","v":-40.5},"EB38","Gödsel från svin, nötkreatur och fjäderfä. Hanteras i flytande form med tankbil"]
["Fast stallgödsel","Restp","Gödsel",54,0,"15 - 25","Nej",{"$f":"-45*12*0.2","v":-108},"EB38","Gödsel från svin, nötkreatur och hästar. Hanteras i fast form t ex med container"]
["Höns/kycklinggödsel","Restp","Gödsel",85,0,"25 - 35","Nej",{"$f":"-45*12*0.3","v":-162},"EB38","Gödsel från höns och kycklingar. Hanteras i fast form t ex med container"]
["Slam från papper-, massa- och cellulosaindustri","Avfall","Industrislam",12,0,"5 - 10","Nej",null,"EB41b","Industriellt avloppsvatten/avloppsslam och verksamhetsslam, t.ex. fiberslam. Om möjligt exkl. tillsatt processvatten"]
["Rester från djurfodertillverkning ","Avfall","Avfall från djurfodertillverkning",720,0,"80 - 85","Nej",null,"EB42","Rester från tillverkning av foder till husdjur som nötkreatur, svin, fjäderfä, hund- och katt (hanteras i fast form)"]
["Rester från spannmålshantering","Restp","Rester från spannmålshantering",322,0,"80 - 85","Nej",null,"EB41c","Till exempel sekunda spannmål och avrens etc "]
["Blast från sockerbeta och potatis","Restp","Grödrester",70,0,"15 - 35","Ja",null,"EB41c","Hanteras färsk direkt från fält eller ensilerad"]
["Halm (torkad)","Restp","Grödrester",207,0,"80 - 85","Ja",null,"EB41c","Torkad och balad"]
["Råglycerin","Restp","Råglycerin",500,0,"80 - 90","Nej",null,"EB42","Ex från biodieseltillverkning, kallades i tidigare versioner \"Glycerol, oraffinerad\""]
["Drav","Restp","Avfall från livsmedelsindustri",104,0,"20 - 30","Nej",null,"EB42","Från bryggerier. Typ av substrat (avfall, restprodukt eller samprodukt) bestäms i samråd mellan leverantör och mottagare. Om substratet klassas som samprodukt ska växthusgasutsläpp anges."]
["Drank från etanoltillverkning","Restp","Drank",45,0,"5 - 15","Nej",null,"EB42","Typ av substrat (avfall, restprodukt eller samprodukt) bestäms i samråd mellan leverantör och mottagare. Om substratet klassas som samprodukt ska växthusgasutsläpp anges."]
["Höstvete","Livsmedel/fodergröda","Vete",550,{"$error":"#N/A"},"84 - 88","Ja",null,"EB39"]
["Vårvete","Livsmedel/fodergröda","Vete",550,{"$error":"#N/A"},"84 - 88","Ja",null,"EB39"]
["Korn","Livsmedel/fodergröda","Korn",550,{"$error":"#N/A"},"84 - 88","Ja",null,"EB39"]
["Råg","Livsmedel/fodergröda","Råg",550,{"$error":"#N/A"},"84 - 88","Ja",null,"EB39"]
["Rågvete","Livsmedel/fodergröda","Rågvete",550,{"$error":"#N/A"},"84 - 88","Ja",null,"EB39"]
["Havre","Livsmedel/fodergröda","Havre",550,{"$error":"#N/A"},"84 - 88","Ja",null,"EB39"]
["Helsäd-Vete","Livsmedel/fodergröda","Helsäd-vete",174,{"$error":"#N/A"},"30 - 45","Ja",null,"EB39","Kärna & halm, lagrat som ensilage. "]
["Vallgröda","Gröda","Vallgröda",159,{"$error":"#N/A"},"30 - 45","Ja",null,"EB39","Klövergräsblandning, lagrat som ensilage. "]
["Majs","Livsmedel/fodergröda","Majs",172,{"$error":"#N/A"},"30 - 45","Ja",null,"EB39","Avser hela plantan, lagrat som ensilage"]
["Sockerbetor","Livsmedel/fodergröda","Sockerbetor",150,{"$error":"#N/A"},"20 - 30","Ja",null,"EB39","Avser beta utan blast"]
["Gräs och andra mellangrödor","Gröda","Mellangröda",150,150000,"30 - 45","Ja",null,"EB41d","Är gröda som odlas mellan huvudgrödor på åkermark lagrat som ensilage"]
["Gräs från vägkanter","Avfall","Avfall från naturvård",150,0,"40 - 60","Nej",null,"EB41d","Avser gräs och andra växter som skördats i samband med naturvärdsåtgärder, som till exempel från vägkanter grönområden etc. Lagrat som rundbalsensilage. Tillagd 2023-03-21"]
["Egen definition 1","Ej def",null,0,0]
["Egen definition 2","Ej def",null,0,0]
["Egen definition 3","Ej def",null,0,0]
["Egen definition 4","Ej def",null,0,0]
["Egen definition 5","Ej def",null,0,0]
["Egen definition 6","Ej def",null,0,0]
["Egen definition 7","Ej def",null,0,0]
["Egen definition 8","Ej def",null,0,0]
["Egen definition 9","Ej def",null,0,0]
["Egen definition 10","Ej def",null,0,0]
["Egen definition 11","Ej def",null,0,0]
["Egen definition 12","Ej def",null,0,0]
["Egen definition 13","Ej def",null,0,0]
["Egen definition 14","Ej def",null,0,0]
["Egen definition 15","Ej def",null,0,0]
["Egen definition 16","Ej def",null,0,0]
["Egen definition 17","Ej def",null,0,0]
["Egen definition 18","Ej def",null,0,0]
["Egen definition 19","Ej def",null,0,0]
["Egen definition 20","Ej def",null,0,0]
["Egen definition 21","Ej def",null,0,0]
["Egen definition 22","Ej def",null,0,0]
["Egen definition 23","Ej def",null,0,0]
["Egen definition 24","Ej def",null,0,0]
["Egen definition 25","Ej def",null,0,0]
["Egen definition 26","Ej def",null,0,0]
["Egen definition 27","Ej def",null,0,0]
["Egen definition 28","Ej def",null,0,0]
["Egen definition 29","Ej def",null,0,0]
["Egen definition 30","Ej def",null,0,0]
["Egen definition 31","Ej def",null,0,0]
["Egen definition 32","Ej def",null,0,0]
["Egen definition 33","Ej def",null,0,0]
["Egen definition 34","Ej def",null,0,0]
["Egen definition 35","Ej def",null,0,0]
["Egen definition 36","Ej def",null,0,0]
["Egen definition 37","Ej def",null,0,0]
["Egen definition 38","Ej def",null,0,0]
["Egen definition 39","Ej def",null,0,0]
["Egen definition 40","Ej def",null,0,0]
["Egen definition 41","Ej def",null,0,0]
["Egen definition 42","Ej def",null,0,0]
["Egen definition 43","Ej def",null,0,0]
["Egen definition 44","Ej def",null,0,0]
["Egen definition 45","Ej def",null,0,0]
["Ursprungsland för substrat (för val vid inmatning av substrat)",null,null,null,null,null,null,null,null,null,null,null,"Kommentar"]
["Sverige"]
["Danmark"]
["Norge"]
["Finland "]
["Eget val 1"]
["Eget val 2"]
["Eget val 3"]
["Eget val 4"]
["Eget val 5"]
["Eget val 6"]
["Typiska växthusgasutsläpp för grödor från olika regioner, gram CO2eq/ton torrsubstans",null,null,null,null,null,null,null,null,null,null,null,null,"Kommentar"]
[null,"Höstvete",null,"Vårvete","Korn","Råg","Rågvete","Havre",null,"Helsäd-Vete","Vallgröda","Majs","Sockerbetor","För Spannmålsslagen har, tabell 23-25 samt 27-29 i SLU rapport (enligt ref.) samt spannmål som kärna 7.93 MJ etanol per kg säd (86% TS), samt allokering 60,8 % till etanolen baserat på energiinnehållet, nyttjats.                                                                       För Helsäd har antagits ensilage av hela plantan, 50% kärna (vårvete) samt 50% Vetehalm"]
["Blekinge",{"$f":"18.1*(1+(1/60.8)*39.2)*(7.93/0.86)*1000","v":274504.66646266828},null,{"$f":"21*(1+(1/60.8)*39.2)*(7.93/0.86)*1000","v":318486.07711138309},{"$f":"19.3*(1+(1/60.8)*39.2)*(7.93/0.86)*1000","v":292703.87086903304},"SAKNAS",{"$f":"19.2*(1+(1/60.8)*39.2)*(7.93/0.86)*1000","v":291187.27050183597},{"$f":"20.6*(1+(1/60.8)*39.2)*(7.93/0.86)*1000","v":312419.67564259487},null,{"$f":"D98/2+9000/2","v":163743.03855569154},135000,109000,89000,"SAKNAS = inget värde för denna NUTs region finns att hämta"]
["Dalarna",{"$f":"19.5*(1+(1/60.8)*39.2)*(7.93/0.86)*1000","v":295737.07160342718},null,"SAKNAS",{"$f":"20.9*(1+(1/60.8)*39.2)*(7.93/0.86)*1000","v":316969.47674418602},"SAKNAS","SAKNAS",{"$f":"21.1*(1+(1/60.8)*39.2)*(7.93/0.86)*1000","v":320002.67747858015},null,"SAKNAS",148000,"SAKNAS","SAKNAS","SAKNAS = inget värde för denna NUTs region finns att hämta"]
["Gotland",{"$f":"19*(1+(1/60.8)*39.2)*(7.93/0.86)*1000","v":288154.06976744183},null,{"$f":"23*(1+(1/60.8)*39.2)*(7.93/0.86)*1000","v":348818.0844553244},{"$f":"18.5*(1+(1/60.8)*39.2)*(7.93/0.86)*1000","v":280571.06793145655},{"$f":"16.7*(1+(1/60.8)*39.2)*(7.93/0.86)*1000","v":253272.26132190941},{"$f":"18.1*(1+(1/60.8)*39.2)*(7.93/0.86)*1000","v":274504.66646266828},{"$f":"20.8*(1+(1/60.8)*39.2)*(7.93/0.86)*1000","v":315452.87637698901},null,{"$f":"D100/2+9000/2","v":178909.0422276622},132000,114000,125000,"SAKNAS = inget värde för denna NUTs region finns att hämta"]
["Gävleborg","SAKNAS",null,"SAKNAS",{"$f":"20.4*(1+(1/60.8)*39.2)*(7.93/0.86)*1000","v":309386.47490820073},"SAKNAS","SAKNAS",{"$f":"24.9*(1+(1/60.8)*39.2)*(7.93/0.86)*1000","v":377633.49143206852},null,"SAKNAS",150000,159000,"SAKNAS","SAKNAS = inget värde för denna NUTs region finns att hämta"]
["Halland",{"$f":"19.6*(1+(1/60.8)*39.2)*(7.93/0.86)*1000","v":297253.6719706243},null,{"$f":"20.3*(1+(1/60.8)*39.2)*(7.93/0.86)*1000","v":307869.87454100366},{"$f":"17.8*(1+(1/60.8)*39.2)*(7.93/0.86)*1000","v":269954.86536107713},"SAKNAS",{"$f":"15.8*(1+(1/60.8)*39.2)*(7.93/0.86)*1000","v":239622.85801713588},{"$f":"20.1*(1+(1/60.8)*39.2)*(7.93/0.86)*1000","v":304836.67380660953},null,{"$f":"D102/2+9000/2","v":158434.93727050183},137000,122000,107000,"SAKNAS = inget värde för denna NUTs region finns att hämta"]
["Jämtland","SAKNAS",null,"SAKNAS",{"$f":"18.8*(1+(1/60.8)*39.2)*(7.93/0.86)*1000","v":285120.86903304775},"SAKNAS","SAKNAS","SAKNAS",null,"SAKNAS",149000,"SAKNAS","SAKNAS","SAKNAS = inget värde för denna NUTs region finns att hämta"]
["Jönköping",{"$f":"18.8*(1+(1/60.8)*39.2)*(7.93/0.86)*1000","v":285120.86903304775},null,"SAKNAS",{"$f":"21.8*(1+(1/60.8)*39.2)*(7.93/0.86)*1000","v":330618.88004895963},"SAKNAS",{"$f":"21*(1+(1/60.8)*39.2)*(7.93/0.86)*1000","v":318486.07711138309},{"$f":"19.3*(1+(1/60.8)*39.2)*(7.93/0.86)*1000","v":292703.87086903304},null,"SAKNAS",136000,142000,"SAKNAS","SAKNAS = inget värde för denna NUTs region finns att hämta"]
["Kalmar",{"$f":"18.4*(1+(1/60.8)*39.2)*(7.93/0.86)*1000","v":279054.46756425948},null,{"$f":"16.2*(1+(1/60.8)*39.2)*(7.93/0.86)*1000","v":245689.25948592412},{"$f":"21.8*(1+(1/60.8)*39.2)*(7.93/0.86)*1000","v":330618.88004895963},"SAKNAS",{"$f":"20.9*(1+(1/60.8)*39.2)*(7.93/0.86)*1000","v":316969.47674418602},{"$f":"20*(1+(1/60.8)*39.2)*(7.93/0.86)*1000","v":303320.07343941252},null,{"$f":"D105/2+9000/2","v":127344.62974296206},134000,111000,103000,"SAKNAS = inget värde för denna NUTs region finns att hämta"]
["Kronoberg",{"$f":"18.5*(1+(1/60.8)*39.2)*(7.93/0.86)*1000","v":280571.06793145655},null,"SAKNAS",{"$f":"19.4*(1+(1/60.8)*39.2)*(7.93/0.86)*1000","v":294220.47123623011},"SAKNAS",{"$f":"17.2*(1+(1/60.8)*39.2)*(7.93/0.86)*1000","v":260855.26315789475},{"$f":"14.4*(1+(1/60.8)*39.2)*(7.93/0.86)*1000","v":218390.45287637701},null,"SAKNAS",135000,138000,"SAKNAS","SAKNAS = inget värde för denna NUTs region finns att hämta"]
["Norrbotten","SAKNAS",null,"SAKNAS",{"$f":"23*(1+(1/60.8)*39.2)*(7.93/0.86)*1000","v":348818.0844553244},"SAKNAS","SAKNAS","SAKNAS",null,"SAKNAS",142000,"SAKNAS","SAKNAS","SAKNAS = inget värde för denna NUTs region finns att hämta"]
["Skåne",{"$f":"18.3*(1+(1/60.8)*39.2)*(7.93/0.86)*1000","v":277537.86719706241},null,{"$f":"24.5*(1+(1/60.8)*39.2)*(7.93/0.86)*1000","v":371567.0899632803},{"$f":"17.6*(1+(1/60.8)*39.2)*(7.93/0.86)*1000","v":266921.66462668305},{"$f":"17.4*(1+(1/60.8)*39.2)*(7.93/0.86)*1000","v":263888.4638922888},{"$f":"19.7*(1+(1/60.8)*39.2)*(7.93/0.86)*1000","v":298770.27233782125},{"$f":"18.5*(1+(1/60.8)*39.2)*(7.93/0.86)*1000","v":280571.06793145655},null,{"$f":"D108/2+9000/2","v":190283.54498164015},136000,104000,104000,"SAKNAS = inget värde för denna NUTs region finns att hämta"]
["Stockholm",{"$f":"19.2*(1+(1/60.8)*39.2)*(7.93/0.86)*1000","v":291187.27050183597},null,{"$f":"23.3*(1+(1/60.8)*39.2)*(7.93/0.86)*1000","v":353367.88555691554},{"$f":"20.1*(1+(1/60.8)*39.2)*(7.93/0.86)*1000","v":304836.67380660953},"SAKNAS",{"$f":"18.8*(1+(1/60.8)*39.2)*(7.93/0.86)*1000","v":285120.86903304775},{"$f":"19.3*(1+(1/60.8)*39.2)*(7.93/0.86)*1000","v":292703.87086903304},null,{"$f":"D109/2+9000/2","v":181183.94277845777},150000,125000,"SAKNAS","SAKNAS = inget värde för denna NUTs region finns att hämta"]
["Södermanland",{"$f":"21*(1+(1/60.8)*39.2)*(7.92/0.86)*1000","v":318084.45532435743},null,{"$f":"22.8*(1+(1/60.8)*39.2)*(7.93/0.86)*1000","v":345784.88372093026},{"$f":"17.8*(1+(1/60.8)*39.2)*(7.93/0.86)*1000","v":269954.86536107713},{"$f":"16.1*(1+(1/60.8)*39.2)*(7.93/0.86)*1000","v":244172.65911872708},{"$f":"18.3*(1+(1/60.8)*39.2)*(7.93/0.86)*1000","v":277537.86719706241},{"$f":"19.6*(1+(1/60.8)*39.2)*(7.93/0.86)*1000","v":297253.6719706243},null,{"$f":"D110/2+9000/2","v":177392.44186046513},150000,126000,"SAKNAS","SAKNAS = inget värde för denna NUTs region finns att hämta"]
["Uppsala",{"$f":"19.8*(1+(1/60.8)*39.2)*(7.93/0.86)*1000","v":300286.87270501838},null,{"$f":"20.8*(1+(1/60.8)*39.2)*(7.93/0.86)*1000","v":315452.87637698901},{"$f":"17.6*(1+(1/60.8)*39.2)*(7.93/0.86)*1000","v":266921.66462668305},{"$f":"15.4*(1+(1/60.8)*39.2)*(7.93/0.86)*1000","v":233556.45654834763},{"$f":"19.3*(1+(1/60.8)*39.2)*(7.93/0.86)*1000","v":292703.87086903304},{"$f":"17.2*(1+(1/60.8)*39.2)*(7.93/0.86)*1000","v":260855.26315789475},null,{"$f":"D111/2+9000/2","v":162226.4381884945},151000,126000,"SAKNAS","SAKNAS = inget värde för denna NUTs region finns att hämta"]
["V:a Götaland",{"$f":"21*(1+(1/60.8)*39.2)*(7.93/0.86)*1000","v":318486.07711138309},null,{"$f":"22.2*(1+(1/60.8)*39.2)*(7.93/0.86)*1000","v":336685.28151774785},{"$f":"21.7*(1+(1/60.8)*39.2)*(7.93/0.86)*1000","v":329102.27968176251},{"$f":"17*(1+(1/60.8)*39.2)*(7.93/0.86)*1000","v":257822.06242350061},{"$f":"18.8*(1+(1/60.8)*39.2)*(7.93/0.86)*1000","v":285120.86903304775},{"$f":"21.4*(1+(1/60.8)*39.2)*(7.93/0.86)*1000","v":324552.47858017136},null,{"$f":"D112/2+9000/2","v":172842.64075887392},136000,136000,"SAKNAS","SAKNAS = inget värde för denna NUTs region finns att hämta"]
["Värmland",{"$f":"21.5*(1+(1/60.8)*39.2)*(7.93/0.86)*1000","v":326069.07894736837},null,"SAKNAS",{"$f":"22.8*(1+(1/60.8)*39.2)*(7.93/0.86)*1000","v":345784.88372093026},"SAKNAS",{"$f":"19.4*(1+(1/60.8)*39.2)*(7.93/0.86)*1000","v":294220.47123623011},{"$f":"21.8*(1+(1/60.8)*39.2)*(7.93/0.86)*1000","v":330618.88004895963},null,"SAKNAS",151000,145000,"SAKNAS","SAKNAS = inget värde för denna NUTs region finns att hämta"]
["Västerbotten","SAKNAS",null,"SAKNAS",{"$f":"25.2*(1+(1/60.8)*39.2)*(7.93/0.86)*1000","v":382183.29253365973},"SAKNAS","SAKNAS",{"$f":"23*(1+(1/60.8)*39.2)*(7.93/0.86)*1000","v":348818.0844553244},null,"SAKNAS",147000,"SAKNAS","SAKNAS","SAKNAS = inget värde för denna NUTs region finns att hämta"]
["Västernorrland","SAKNAS",null,"SAKNAS",{"$f":"23.3*(1+(1/60.8)*39.2)*(7.93/0.86)*1000","v":353367.88555691554},"SAKNAS","SAKNAS","SAKNAS",null,"SAKNAS",148000,"SAKNAS","SAKNAS","SAKNAS = inget värde för denna NUTs region finns att hämta"]
["Västmanland",{"$f":"19.8*(1+(1/60.8)*39.2)*(7.93/0.86)*1000","v":300286.87270501838},null,{"$f":"20.7*(1+(1/60.8)*39.2)*(7.93/0.86)*1000","v":313936.27600979188},{"$f":"18*(1+(1/60.8)*39.2)*(7.93/0.86)*1000","v":272988.06609547127},"SAKNAS",{"$f":"17.8*(1+(1/60.8)*39.2)*(7.93/0.86)*1000","v":269954.86536107713},{"$f":"18.3*(1+(1/60.8)*39.2)*(7.93/0.86)*1000","v":277537.86719706241},null,{"$f":"D116/2+9000/2","v":161468.13800489594},150000,126000,"SAKNAS","SAKNAS = inget värde för denna NUTs region finns att hämta"]
["Örebro",{"$f":"18.8*(1+(1/60.8)*39.2)*(7.93/0.86)*1000","v":285120.86903304775},null,{"$f":"20*(1+(1/60.8)*39.2)*(7.93/0.86)*1000","v":303320.07343941252},{"$f":"18.3*(1+(1/60.8)*39.2)*(7.93/0.86)*1000","v":277537.86719706241},{"$f":"20.6*(1+(1/60.8)*39.2)*(7.93/0.86)*1000","v":312419.67564259487},{"$f":"19.7*(1+(1/60.8)*39.2)*(7.93/0.86)*1000","v":298770.27233782125},{"$f":"17.9*(1+(1/60.8)*39.2)*(7.93/0.86)*1000","v":271471.46572827414},null,{"$f":"D117/2+9000/2","v":156160.03671970626},150000,131000,"SAKNAS","SAKNAS = inget värde för denna NUTs region finns att hämta"]
["Östergötland",{"$f":"19.2*(1+(1/60.8)*39.2)*(7.93/0.86)*1000","v":291187.27050183597},null,{"$f":"20.6*(1+(1/60.8)*39.2)*(7.93/0.86)*1000","v":312419.67564259487},{"$f":"21*(1+(1/60.8)*39.2)*(7.93/0.86)*1000","v":318486.07711138309},{"$f":"17*(1+(1/60.8)*39.2)*(7.93/0.86)*1000","v":257822.06242350061},{"$f":"18.3*(1+(1/60.8)*39.2)*(7.93/0.86)*1000","v":277537.86719706241},{"$f":"18*(1+(1/60.8)*39.2)*(7.93/0.86)*1000","v":272988.06609547127},null,{"$f":"D118/2+9000/2","v":160709.83782129743},140000,145000,"SAKNAS","SAKNAS = inget värde för denna NUTs region finns att hämta"]
[]
["Substratkategorier"]
["Avfall från djurfodertillverkning"]
["Avfall från livsmedelsindustri"]
["Avfall från naturvård"]
["Avloppsslam"]
["Drank "]
["Grödrester"]
["Gödsel"]
["Industrislam"]
["Matavfall"]
["Rester från spannmålshantering"]
["Råglycerin"]
["Slaktavfall"]
["Havre"]
["Helsäd-Vete"]
["Korn"]
["Majs"]
["Mellangröda"]
["Råg"]
["Rågvete"]
["Sockerbetor"]
["Vallgröda"]
["Vete"]
["Certifieringssystem"]
["2BSvs"]
["Austrian agricultural certification scheme"]
["Better Biomass"]
["Bonsucro EU"]
["ISCC EU"]
["KZR INIG System"]
["Red Cert"]
["RED Tractor"]
["RSB EU RED"]
["RTRS EU RED"]
["SBP"]
["SQC"]
["SURE"]
["Trade Assurance Combinable Crops"]
["Universal Feed Assurance Scheme"]
[]
[]
[]
[]
["Länder"]
["Sverige"]
["Danmark"]
["Estland"]
["Finland"]
["Frankrike"]
["Lettland"]
["Litauen"]
["Nederländerna"]
["Norge"]
["Polen"]
["Portugal"]
["Storbritannien"]
["Tyskland"]
["USA"]
["Afghanistan"]
["Albanien"]
["Algeriet"]
["Amerikanska Jungfruöarna"]
["Amerikanska Samoa"]
["Andorra"]
["Angola"]
["Anguilla"]
["Antarktis"]
["Antigua och Barbuda"]
["Argentina"]
["Armenien"]
["Aruba"]
["Australien"]
["Azerbajdzjan"]
["Bahamas"]
["Bahrain"]
["Bangladesh"]
["Barbados"]
["Belarus"]
["Belgien"]
["Belize"]
["Benin"]
["Bermuda"]
["Bhutan"]
["Bolivia"]
["Bosnien och Hercegovina"]
["Botswana"]
["Bouvetön"]
["Brasilien"]
["Brittiska Jungfruöarna"]
["Brittiska territoriet i Indiska oceanen"]
["Brunei"]
["Bulgarien"]
["BurkinaFaso"]
["Burundi"]
["Caymanöarna"]
["Centralafrikanska republiken"]
["Ceuta"]
["Chile"]
["Colombia"]
["Cooköarna"]
["CostaRica"]
["Cypern"]
["De franska territorierna i södra Indiska oceanen (Terres australes françaises)"]
["Demokratiska republiken Kongo"]
["Det ockuperade palestinska territoriet"]
["Djibouti"]
["Dominica"]
["Dominikanska republiken"]
["Ecuador"]
["Egypten"]
["Ekvatorialguinea"]
["Elfenbenskusten"]
["ElSalvador"]
["Eritrea"]
["Etiopien"]
["Falklandsöarna (Islas Malvinas)"]
["Fiji"]
["Filippinerna"]
["Franska Polynesien"]
["Färöarna"]
["Förenade Arabemiraten"]
["Gabon"]
["Gambia"]
["Georgien"]
["Ghana"]
["Gibraltar"]
["Grekland"]
["Grenada"]
["Grönland"]
["Guam"]
["Guatemala"]
["Guinea"]
["Guinea-Bissau"]
["Guyana"]
["Haiti"]
["Heard- och McDonaldöarna"]
["Heliga stolen (Vatikanstaten)"]
["Honduras"]
["Hongkong"]
["Indien"]
["Indonesien"]
["Irak"]
["Iran"]
["Irland"]
["Island"]
["Israel"]
["Italien"]
["Jamaica"]
["Japan"]
["Jemen"]
["Jordanien"]
["Julön"]
["Kambodja"]
["Kamerun"]
["Kanada"]
["KapVerde"]
["Kazakstan"]
["Kenya"]
["Kina"]
["Kirgizistan"]
["Kiribati"]
["Kokosöarna (eller Keelingöarna)"]
["Komorerna"]
["Kongo"]
["Kosovov"]
["Kroatien"]
["Kuba"]
["Kuwait"]
["Laos"]
["Lesotho"]
["Libanon"]
["Liberia"]
["Libyen"]
["Liechtenstein"]
["Litauen"]
["Luxemburg"]
["Macao"]
["Madagaskar"]
["Makedonien (F.d. jugoslaviska republiken)"]
["Malawi"]
["Malaysia"]
["Maldiverna"]
["Mali"]
["Malta"]
["Marocko"]
["Marshallöarna"]
["Mauretanien"]
["Mauritius"]
["Mayotte"]
["Melilla"]
["Mexiko"]
["Mikronesien"]
["Moçambique"]
["Moldavien"]
["Mongoliet"]
["Montenegro"]
["Montserrat"]
["Myanmar"]
["Namibia"]
["Nauru"]
["Nederländska Antillerna"]
["Nepal"]
["Nicaragua"]
["Niger"]
["Nigeria"]
["Niue"]
["Nordkorea"]
["Nordmarianerna"]
["Norfolkön"]
["Nya Kaledonien"]
["Nya Zeeland"]
["Oman"]
["Pakistan"]
["Palau"]
["Panama"]
["Papua Nya Guinea"]
["Paraguay"]
["Peru"]
["Pitcairn"]
["Qatar"]
["Rumänien"]
["Rwanda"]
["Ryssland"]
["S:t Helena"]
["S:t Pierre och Miquelon"]
["Saint Kitts och Nevis"]
["Saint Lucia"]
["Saint Vincent och Grenadinerna"]
["Salomonöarna"]
["Samoa"]
["San Marino"]
["São Tomé och Príncipe"]
["Saudiarabien"]
["Schweiz"]
["Senegal"]
["Serbien"]
["Seychellerna"]
["Sierra Leone"]
["Singapore"]
["Slovakien"]
["Slovenien"]
["Somalia"]
["Spanien"]
["Sri Lanka"]
["Sudan"]
["Surinam"]
["Swaziland"]
["Sydafrika"]
["Sydgeorgien och Sydsandwichöarna"]
["Sydkorea"]
["Syrien"]
["Tadzjikistan"]
["Taiwan"]
["Tanzania"]
["Tchad"]
["Thailand"]
["Timor-Leste"]
["Tjeckien"]
["Togo"]
["Tokelau"]
["Tonga"]
["Trinidad och Tobago"]
["Tunisien"]
["Turkiet"]
["Turkmenistan"]
["Turks- och Caicosöarna"]
["Tuvalu"]
["Uganda"]
["Ukraina"]
["Ungern"]
["Ursprungsland saknas – utanför EU/EES"]
["Uruguay"]
["USAs mindre öar i Oceanien och Västindien"]
["Uzbekistan"]
["Vanuatu"]
["Venezuela"]
["Vietnam"]
["Vitryssland"]
["Wallis och Futuna"]
["Zambia"]
["Zimbabwe"]
["Österrike"]

{"sheet":"Data","index":8,"n_rows":187,"n_cols":5,"rows_kept":187,"cut":false,"hidden":false,"merged":[[0,0,0,4]]}
["HBK Biogasredovisning, ver 4.2 - Underlagsdata"]
["Allmänna data",null,null,null,"Kommentar"]
["Omräkningsfaktorer till CO2 eq CH4 (gram/gram)",25,null,null,"Energimyndighetens föreskrifter STEM2021:7"]
["Omräkningsfaktorer till CO2 eq N2O (gram/gram)",298,null,null,"Energimyndighetens föreskrifter STEM2021:7"]
["Densitet metan, kg/Nm3",0.71750000000000003,null,null,"Svenskt Gastekniskt Center (www.sgc.se)"]
["Energiinnehåll metan, MJ/Nm3",{"$f":"50*B5","v":35.875},null,null,"Biograce: 50,0 MJ/kg "]
["Energiinnehåll metan, MJ/kg",50,null,null,"Biograce: 50,0 MJ/kg "]
["Ef; Fossila motsvarigheten till biodrivmedel för transport,  gCO2eq/MJ",94,null,null,"Energimyndighetens föreskrifter STEM2021:7"]
["Ja",null,null,null,"För val av Ja / Nej - alternativ"]
["Nej",null,null,null,"För val av Ja / Nej - alternativ"]
["Nm3",null,null,null,"För val av kg/Nm3 - alternativ"]
["kg",null,null,null,"För val av kg/Nm3 - alternativ"]
["Gränsvärde för varning för växthusgasminskning",0,null,null,"Används inte"]
["Gränsvärde för varning för avvikelse i massbalans",0.05,null,null,"Detta värde används vid kontroll av massbalans i distributionsbladet. Vid större avvikelse rödmarkeras avvikelsen för partiet"]
["Gränsvärde för varning för avvikelse i mängd uppgraderad gas",0.05,null,null,"Detta värde används vid kontroll av mängden uppgraderad gas i förhållande till beräknad mängd uppgraderad gas som är = inkommande mängd gas x metanhalt in / metanhalt ut"]
["Visa startsida","Ja"]
["Visa välkomstsida","Ja"]
["Värmekälla","gCO2eq/MWh",null,null,"Kommentar"]
["Fjärrvärme – 94% återvunnen energi (70% avfall), 5% förnybart, 1% fossilt, MWh",96000,null,null,"Emissionsdata för Tekniska Verken.  Alternativproduktionsmetoden används vid allokering mellan producerad el och värme och 51% av emissionerna allokerade till värme. Källa: Energiföretagen, Lokala miljövärden 2020"]
["Fjärrvärme - 61% återvunnen energi (40% avfall), 37% förnybart och 2% fossilt, MWh",68000,null,null,"Emissionsdata för Jönköping Energi.  Alternativproduktionsmetoden används vid allokering mellan producerad el och värme och 52% av emissionerna allokerade till värme. Källa: Energiföretagen, Lokala miljövärden 2020"]
["Fjärrvärme – 98% förnybar, 2% eldningsolja, MWh",27000,null,null,"Emissionsdata för Fränsta/Ånge Energi. Endast förnybara bränslen och ingen kraftproduktion.  Källa: Energiföretagen, Lokala miljövärden 2020"]
["Fjärrvärme – 73% återvunnen energi, 25% förnybart, 2% fossil el, MWh",13000,null,null,"Emissionsdata för Enköpings fjärrvärmenät.  Alternativproduktionsmetoden används vid allokering mellan producerad el och värme och 56% av emissionerna allokerade till värme. Källa: Energiföretagen, Lokala miljövärden 2020"]
["Fjärrvärme - Bra Miljöval – 22% återvunnen energi, 78% förnybart, MWh",10000,null,null,"Emissionsdata för Göteborg Energi, Ale bra miljlöval.  Alternativproduktionsmetoden används vid allokering mellan producerad el och värme och 81% av emissionerna allokerade till värme. Källa: Energiföretagen, Lokala miljövärden 2020"]
["Oljepanna Default om ingen info om värmeförsörjning finns, MWh",340000,null,null,"Beräknad med 85 % verkningsgrad och användning av 100 % eldningsolja 1. Källa Överenskommelse i värmemarknadskommitén 2021."]
["Naturgaspanna, MWh",278000,null,null,"Beräknad med 90 % verkningsgrad och användning av 100 % naturgas. Källa Överenskommelse i värmemarknadskommitén 2021."]
["Flispanna, MWh",9000,null,null,"Produktion och distribution av RT-flis, exklusive förändringar av markkol samt en verkningsgrad på 80 %. Källa Överenskommelse i värmemarknadskommitén 2021."]
["Pelletspanna, MWh",21000,null,null,"Produktion och distribution av pellets, briketter och pulver. Beräknat för en verktningsgrad av 85%. Källa Överenskommelse i värmemarknadskommitén 2021."]
["Deponigaspanna, MWh",0]
["Biogaspanna, MWh",0,null,null,"Avser värme som framställts av egenproducerad biogas i gaspanna. Minskar mängden levererad biogas vilket leder till ökad emissionsfaktor för levererad biogas"]
["Biogas -  gasmotor/gasturbin, MWh",0,null,null,"Avser värme som framställts av egenproducerad biogas med hjälp av gasmotor eller gasturbin. Minskar mängden levererad biogas vilket leder till ökad emissionsfaktor för levererad biogas"]
["Eget värde 1",9999999,null,null,"Eget värde som ska kunna verifieras"]
["Eget värde 2",9999999,null,null,"Eget värde som ska kunna verifieras"]
["Eget värde 3",9999999,null,null,"Eget värde som ska kunna verifieras"]
["Eget värde 4",9999999,null,null,"Eget värde som ska kunna verifieras"]
["Eget värde 5",9999999,null,null,"Eget värde som ska kunna verifieras"]
["Eget värde 6",9999999,null,null,"Eget värde som ska kunna verifieras"]
["Eget värde 7",9999999,null,null,"Eget värde som ska kunna verifieras"]
["Eget värde 8",9999999,null,null,"Eget värde som ska kunna verifieras"]
["Eget värde 9",9999999,null,null,"Eget värde som ska kunna verifieras"]
["Eget värde 10",9999999,null,null,"Eget värde som ska kunna verifieras"]
["Eget värde 11",9999999,null,null,"Eget värde som ska kunna verifieras"]
["Eget värde 12",9999999,null,null,"Eget värde som ska kunna verifieras"]
["Eget värde 13",9999999,null,null,"Eget värde som ska kunna verifieras"]
["Eget värde 14",9999999,null,null,"Eget värde som ska kunna verifieras"]
["Eget värde 15",9999999,null,null,"Eget värde som ska kunna verifieras"]
["Eget värde 16",9999999,null,null,"Eget värde som ska kunna verifieras"]
["Eget värde 17",9999999,null,null,"Eget värde som ska kunna verifieras"]
["Elektricitet","gCO2eq/MWh","gCO2eq/MJ",null,"Kommentar"]
["El",26000,{"$f":"B49/1000/3.6","v":7.2222222222222223},null,"Källa: Energimyndigheten, uppdatarad 2022-01-27"]
["Bränsle till fordon (maskiner) och transporter","gCO2eq/liter (kg)","gCO2eq/MJ","MJ/liter (kg)","Kommentar"]
["Diesel MK1, liter",{"$f":"C51*D51","v":2354.5099999999998},66.7,35.299999999999997,"Källa: Energimyndighetens webbsida Växthusgasutsläpp, uppdatarad 2024-01-02"]
["Eco Par A",3289.8440999999998,94.3,34.887,"Källa: Well-to-tank appendix 2 - version 4A, summary of energy and GHG balance of individual pathways, well-to-wheels analysis of future automotive fuels and powertrains in the european context. http://iet.jrc.ec.europa.eu/about-jec"]
["Eco Par Bio",349.98796800000002,10.224,34.231999999999999,"Källa: Eco Par AB, 2019-01-24"]
["Preem Evolution Diesel",2298,{"$f":"B54/D54","v":66.081955427749818},34.774999999999999,"Källa: Preem 2024-01-16"]
["ACP Diesel 50",1820,{"$f":"B55/D55","v":52.631578947368425},34.58,"Källa: Preem 2024-01-16"]
["Diesel med RME",3188,{"$f":"B56/D56","v":90.725404820854308},35.139000000000003,"Källa: Preem 2024-01-16"]
["FAME100, liter",1098.8999999999999,33.299999999999997,33,"Källa: Energimyndighetens webbsida Växthusgasutsläpp, uppdaterad 2024-01-02"]
["HVO100, liter",357,10.5,34,"Källa: Energimyndighetens webbsida Växthusgasutsläpp, uppdatarad 2024-01-02"]
["Biogas-100, kg",0,0,48.8,"Källa: Energimyndighetens webbsida Växthusgasutsläpp, uppdatarad 2024-01-15"]
["Biogas-50, kg",1626.8175000000001,{"$f":"(C59*0.5)+(C61*0.5)","v":34.65},{"$f":"D59*0.5+D61*0.5","v":46.95},"Fordonsgas bestående av 50 % biogas och 50 % naturgas"]
["Naturgas, kg",3125.43,69.3,45.1,"Rådets direktiv (EU) 2015/652 av den 20 april 2015 om fastställande av beräkningsmetoder och rapporteringskrav i enlighet med Europaparlamentets och rådets direktiv 98/70/EG om kvaliteten på bensin och dieselbränslen"]
["LBG-100, kg",245.00000000000003,4.9000000000000004,50,"För användning i Otto-motor. Baserat på METHANE AS VEHICLE FUEL  – A WELL-TO-WHEEL ANALYSIS (METDRIV) (Börjesson et al., 2016) antas samma som för komprimerad biogas. // Källa: Energimyndighetens webbsida Växthusgasutsläpp, uppdatarad 2024-01-15"]
["LBG-50, kg",1985.0000000000002,{"$f":"(C62*0.5)+(C64*0.5)","v":39.700000000000003},{"$f":"(D62*0.5)+(D64*0.5)","v":50},"För användning i Otto-motor. 50 % LBG och 50 % LNG"]
["LNG, kg",3725,74.5,50,"Rådets direktiv (EU) 2015/652 av den 20 april 2015 om fastställande av beräkningsmetoder och rapporteringskrav i enlighet med Europaparlamentets och rådets direktiv 98/70/EG om kvaliteten på bensin och dieselbränslen"]
["Eget värde 1",999999,999999,999999,"Eget värde som ska kunna verifieras"]
["Eget värde 2",999999,999999,999999,"Eget värde som ska kunna verifieras"]
["Eget värde 3",999999,999999,999999,"Eget värde som ska kunna verifieras"]
["Eget värde 4",999999,999999,999999,"Eget värde som ska kunna verifieras"]
["Eget värde 5",999999,999999,999999,"Eget värde som ska kunna verifieras"]
["Eget värde 6",999999,999999,999999,"Eget värde som ska kunna verifieras"]
["Insatsvaror - Produktion","CO2eq g/enhet",null,null,"Kommentar"]
["Vatten, m3",43.63,null,null,"Klimatpåverkan från dricksvatten ‐ Beräkningsmodell för Norrvattens koldioxidavtryck, Sophie Jutterström, KTH 2015:07"]
["PAX-15, m3",585000,null,null,"Data från Kemira 2022-01-27. Densitet 1,31 ton/m3"]
["PAX-215, m3",112000,null,null,"Data från Kemira 2022-01-27. Densitet 1,33 ton/m3"]
["PIX-111, m3",474000,null,null,"Data från Kemira 2022-01-27. Densitet 1,42 ton/m3"]
["PIX-118, m3",414000,null,null,"Data från Kemira 2022-01-27. Densitet 1,48 ton/m3"]
["Magnafloc 336, kg",2260,null,null,"Antar data som är beräknat för Polyakrylamid. Polyakrylamid är modellerad i GaBi som en blandning av lika delar akrylsyra och akrylnitril. Europeiska genomsnittsdata från Ecoinvent 2.0"]
["Flockulenter från SNF Nordic, kg",2260,null,null,"Gäller för Nordic Nordfloc C-51, C-91, K-211, C-211, C-111 och C-172. Antaget data för polyakrylamid. Källa: modellerat i GaBi som en blandning av lika delar akrylsyra och akrylnitril. Europeiska genomsnittsdata från Ecoinvent 2.0."]
["Flockulenter från Kemira, kg",2260,null,null,"Gäller för Kemira Superfloc C492HMW, A110HMW och C-448. Antaget samma data som övriga polyakrylamider. Källa GaBi."]
["Kemira Kem Foam X2500, kg",2580,null,null,"Beräknad som \"Fatty alcohol\", approximerad som petroleumbaserad produkt (dvs. restriktivt värde). Referens GaBi. 2016-01-26: Nytt namn, hette tidigare Kemira Bevaloid 5000."]
["BC Fex 510","n.a.",null,null,"Data saknas"]
["Kemira BDP-Produkter, m3",424000,null,null,"Avser Kemira BDP-820 Kemira BDP-821 Kemira BDP-822 Kemira BDP-823 Kemira BDP-824 Kemira BDP-825 Kemira BDP-840 Kemira BDP-841 Kemira BDP-842 Kemira BDP-843 Kemira BDP-844 Kemira BDP-846 Kemira BDP-860 Kemira BDP-865 Kemira BDP-866 Kemira BDP-867 Kemira BDP-868 Kemira BDP-869 Kemira BDP-870\nKemira BDP-Start-up 100. Data från Kemira 2022-01-27. Densitet 1,27 ton/m3"]
["Ekapam C3503, kg",2260,null,null,"Antaget samma data som övriga polyakrylamider. Källa GaBi."]
["Zetag 7563, kg",2260,null,null,"Approximeras som polyakrylamid"]
["Zetag 7155, kg",2260,null,null,"Approximeras som polyakrylamid"]
["Foamaster ENA-389 NO, kg",1901,null,null,"Baserat på data från fettsyreestrar, vegetabilisk olja, solikon och paraffin. Ursprunglig källa GaBi."]
["Polymerer från SNF Nordic, kg",2260,null,null,"Samma som Nordic Nordfloc."]
["Flopam FO 4440 SH , kg",2260,null,null,"Antaget samma data som övriga polyakrylamider. Källa GaBi."]
["Flopam FO 4700 SSH, kg",2260,null,null,"Antaget samma data som övriga polyakrylamider. Källa GaBi."]
["Svavelsyra-EU ursprung, m3",241040,null,null,"EcoInvent Databas 2.0. Europeiskt genomsnitt. Se faktaruta nedan. Framställs ur svavel från raffinaderier. densitet för 95 % svavelsyra används vid omräkning till volym, se http://www.simetric.co.uk/si_liquids.htm"]
["Svavelsyra-Svenskt ursprung, m3",120000,null,null,"Data från Kemira 2022-01-27. Densitet 1,84 ton/m3"]
["Väteperoxid, m3",1663625.9008599999,null,null,"PE International 2008. EU-medelvärde. Densitet 1463 kg/m^3. Ref: Wikipedia"]
["Väteperoxid,  50 % i H2O, m3",1305390,null,null,"Per 100 % H2O2. EcoInvent Databas 2.0. Europeiskt genomsnitt. Densiteten är approximerad som ett medelvärde mellan 100 % väteperoxid och 100 % vatten."]
["Järnslam, ton",9200,null,null,"Restprodukt från dricksvattenrening. Utsläpp från transport 100 km med lastbil, bränsle diesel. Inlagt i version 4.0 av verktyget"]
["Eget värde 1",9999,null,null,"Eget värde som ska kunna verifieras"]
["Eget värde 2",9999,null,null,"Eget värde som ska kunna verifieras"]
["Eget värde 3",9999,null,null,"Eget värde som ska kunna verifieras"]
["Eget värde 4",9999,null,null,"Eget värde som ska kunna verifieras"]
["Eget värde 5",9999,null,null,"Eget värde som ska kunna verifieras"]
["Eget värde 6",9999,null,null,"Eget värde som ska kunna verifieras"]
["Eget värde 7",9999,null,null,"Eget värde som ska kunna verifieras"]
["Eget värde 8",9999,null,null,"Eget värde som ska kunna verifieras"]
["Eget värde 9",9999,null,null,"Eget värde som ska kunna verifieras"]
["Eget värde 10",9999,null,null,"Eget värde som ska kunna verifieras"]
["Eget värde 11",9999,null,null,"Eget värde som ska kunna verifieras"]
["Eget värde 12",9999,null,null,"Eget värde som ska kunna verifieras"]
["Eget värde 13",9999,null,null,"Eget värde som ska kunna verifieras"]
["Eget värde 14",9999,null,null,"Eget värde som ska kunna verifieras"]
["Eget värde 15",9999,null,null,"Eget värde som ska kunna verifieras"]
["Eget värde 16",9999,null,null,"Eget värde som ska kunna verifieras"]
["Eget värde 17",9999,null,null,"Eget värde som ska kunna verifieras"]
["Eget värde 18",9999,null,null,"Eget värde som ska kunna verifieras"]
["Eget värde 19",9999,null,null,"Eget värde som ska kunna verifieras"]
["Eget värde 20",9999,null,null,"Eget värde som ska kunna verifieras"]
["Metanförlust","%",null,null,"Kommentar"]
["Defaultvärde avloppsreningsverk, exklusive slamhantering % ",3.8999999999999998E-3,null,null,"EgMet omg 5: Avser avloppsreningsverk där rötslammet används i jordbruket som gödselmedel"]
["Defaultvärde avloppsreningsverk, inklusive slamhantering % ",3.7199999999999997E-2,null,null,"EgMet omg 5: Avser avloppsreningsverk där rötslammet används för andra ändamål än som gödselmedel i jordbruket"]
["Defaultvärde biogasanlägningar, exklusive rötresthantering, %",3.0999999999999999E-3,null,null,"EgMet omg 5: Avser samrötningsanläggningar där rötresten (bioögdseln) änvänds i jorbruket"]
["Defaultvärde biogasanlägningar, inklusive rötresthantering, %",2.0199999999999999E-2,null,null,"EgMet omg 5: Avser samrötningsanläggningar där rötresten används för andra ändamål än som gödselmedel i jordbruket"]
["Uppmätt värde, % ",0.99,null,null,"Uppmätt värde enligt metod beskriven i Handbok metanmätningar, Avfall Sveriges rapport 2016:17 ”Handbok metanmätningar. Revidering 2016”. Har mätning utförts, ska värdet användas"]
["Defaultvärde för aminskrubber och anläggningar med RTO, %",1.1999999999999999E-3,null,null,"EgMet omg 5: Fastställt värde för anläggningar med aminskrubber och andra anläggningar försedda med RTO"]
["Defaultvärde för vattenskrubber och övriga typer av anläggningar, %",3.3700000000000001E-2,null,null,"EgMet omg 5: Fastställt värde för vattensskrubberanläggningar, PSA och andra typer av anläggningar "]
["Uppmätt värde för anläggning 1, % ",0.99,null,null,"Uppmätt värde enligt metod beskriven i Handbok metanmätningar, Avfall Sveriges rapport 2016:17 ”Handbok metanmätningar. Revidering 2016”. Har mätning utförts, ska värdet användas"]
["Uppmätt värde för anläggning 2, % ",0.99,null,null,"Uppmätt värde enligt metod beskriven i Handbok metanmätningar, Avfall Sveriges rapport 2016:17 ”Handbok metanmätningar. Revidering 2016”. Har mätning utförts, ska värdet användas"]
["Uppmätt värde för anläggning 3, % ",0.99,null,null,"Uppmätt värde enligt metod beskriven i Handbok metanmätningar, Avfall Sveriges rapport 2016:17 ”Handbok metanmätningar. Revidering 2016”. Har mätning utförts, ska värdet användas"]
["Uppmätt värde för anläggning 4, % ",0.99,null,null,"Uppmätt värde enligt metod beskriven i Handbok metanmätningar, Avfall Sveriges rapport 2016:17 ”Handbok metanmätningar. Revidering 2016”. Har mätning utförts, ska värdet användas"]
["Defaultvärde distribution",1E-3,null,null,"Satt värde av Energimyndigheten"]
["Utrustning för reduktion av metanförluster",null,null,null,"Kommentar"]
["Utrustning för reduktion av metanförluster, drifttid, %",null,null,null,"Väljs om uppgraderingsanläggning har utrustning för reduktion av metan i restgas, värdet anges för uppgraderingsanläggningen"]
["Ingen metanreducerande utrustning finns",null,null,null,"Standardvärde, endast ledtext inget värde anges"]
["Fordon för transport av substrat","MJ/tonkm, full last","MJ/tonkm, tom","MJ/ton, Schablon","Kommentar"]
["Lastbil 12 ton flyt. bränsle",0.72,0.5,null,"NTM Lastbil med trailer, Euro 5 och transport på landsväg. Kan också användas för egna beräkningar av insamling av fettavskiljarslam."]
["Lastbil 33 ton flyt. bränsle",0.56000000000000005,0.26,null,"NTM Lastbil med trailer, Euro 5 och transport på landsväg"]
["Lastbil 12 ton gas",{"$f":"B132*1.18","v":0.84959999999999991},{"$f":"C132*1.18","v":0.59},null,"Lastbil med otto-motor antas ha 18 % högre bränsleförbrukning än motsvarande dieselmotor baserat på MetDriv (Börjesson et al., 2017). "]
["Lastbil 33 ton gas",{"$f":"B133*1.18","v":0.66080000000000005},{"$f":"C133*1.18","v":0.30680000000000002},null,"Lastbil med otto-motor antas ha 18 % högre bränsleförbrukning än motsvarande dieselmotor baserat på MetDriv (Börjesson et al., 2017). "]
["Lastbil 12 ton dual-fuel",0.72,0.5,null,"Antar samma verkningsgrad som för flytande bränsle"]
["Lastbil 33 ton dual-fuel",0.56000000000000005,0.26,null,"Antar samma verkningsgrad som för flytande bränsle"]
["Tankbil 33 ton fly. bränsle",0.56000000000000005,0.26,null,"NTM Lastbil med trailer, Euro 5 och transport på landsväg"]
["Tankbil 40 ton fly.bränsle",0.56999999999999995,0.25,null,"NTM Lastbil med trailer, Euro 5 och transport på landsväg"]
["Tankbil 33 ton gas",{"$f":"B138*1.18","v":0.66080000000000005},{"$f":"C138*1.18","v":0.30680000000000002},null,"Lastbil med otto-motor antas ha 18 % högre bränsleförbrukning än motsvarande dieselmotor baserat på MetDriv (Börjesson et al., 2017). "]
["Tankbil 40 ton gas",{"$f":"B139*1.18","v":0.67259999999999986},{"$f":"C139*1.18","v":0.29499999999999998},null,"Lastbil med otto-motor antas ha 18 % högre bränsleförbrukning än motsvarande dieselmotor baserat på MetDriv (Börjesson et al., 2017). "]
["Tankbil 33 ton dual-fuel",0.56000000000000005,0.26,null,"Antar samma verkningsgrad som för flytande bränsle"]
["Tankbil 40 ton dual-fuel",0.56999999999999995,0.25,null,"Antar samma verkningsgrad som för flytande bränsle"]
["Rörledning",0,0,null,"Används i de fall substrat pumpas till anläggningen via rörledning. El används för drift av pumparna och utsläppsvärde för el amvänds för beräkningarna"]
["Eget värde 1",99,99,null,"Eget värde som ska kunna verifieras"]
["Eget värde 2",99,99,null,"Eget värde som ska kunna verifieras"]
["Eget värde 3",99,99,null,"Eget värde som ska kunna verifieras"]
["Eget värde 4",99,99,null,"Eget värde som ska kunna verifieras"]
["Eget värde 5",99,99,null,"Eget värde som ska kunna verifieras"]
["Eget värde 6",99,99,null,"Eget värde som ska kunna verifieras"]
["Eget värde 7",99,99,null,"Eget värde som ska kunna verifieras"]
["Insatsvaror - Uppgradering","CO2eq g/enhet",null,null,"Kommentar"]
["Aktivt kol-fossilt ursprung, kg",2390,null,null,"Antar samma värde som för \"carbon black\". Troligtvis mer likt kimrök än aktivt kol men bör inte skilja avsevärt. Den totala klimatpåverkan  (koldioxid + metan + lustgas) beräknad  enligt Ecoinvent och GaBi (karakteriseringsfaktorer enligt CML2001 – nov.09, 100 års sikt)"]
["Aktivt kol-biogent ursprung, kg",1190,null,null,"EcoInvent Databas 2.0. Globalt värde. Betecknas som carbon, Aktivkohle i databasen, se faktaruta. CO2 (biotic) anges till 2820 g. Stor del av klimatpåverkan kommer från metan."]
["Kvävgas, Nm3",103,null,null,"Genomsnittsvärde EU27: Nitrogen ELCD/PE-GaBi"]
["Contraspum E640, kg",5282,null,null,"Approximeras som etylenglykoldietylether. Källa GaBi."]
["Vatten, m3",121,null,null,"Chalmers, Livscykelanalys av dricksvatten - en studie av ett vattenverk i Göteborg,  ERIKA WALLÈN  Examensarbete 1999:3. Metan och lustgas ingår ej i studien"]
["Capure, kg",2700,null,null,"Uppgift från Purac-Puregas december 2015. Uppgiften avser tillverkning av Ucarsol AP-814 (CApure/Cooab) "]
["Eget värde 1",9999,null,null,"Eget värde som ska kunna verifieras"]
["Eget värde 2",9999,null,null,"Eget värde som ska kunna verifieras"]
["Eget värde 3",9999,null,null,"Eget värde som ska kunna verifieras"]
["Eget värde 4",9999,null,null,"Eget värde som ska kunna verifieras"]
["Eget värde 5",9999,null,null,"Eget värde som ska kunna verifieras"]
["Eget värde 6",9999,null,null,"Eget värde som ska kunna verifieras"]
["Eget värde 7",9999,null,null,"Eget värde som ska kunna verifieras"]
["Eget värde 8",9999,null,null,"Eget värde som ska kunna verifieras"]
["Eget värde 9",9999,null,null,"Eget värde som ska kunna verifieras"]
["Transport av gas till tankstationer","Bränsleförbruk-ning, MJ/km",null,null,"Kommentar"]
["Rörledning",0,null,null,"Förbrukning ingår i uppgraderingsanläggningarna"]
["Lastbil, 1 cont, flytande bränsle",{"$f":"((0.251+0.495)/2)*D51","v":13.166899999999998},null,null,"NTM Fordonskategori 9. City trailer. 33 ton lastkapacitet. Landsväg. Genomsnittligförbrukning för hela transporten då tom återtransport inkluderas.  Förbrukning vid 100% lastgrad dit + Förbrukning vid 0 % lastgrad tillbaka."]
["Lastbil, m  släp, flytande bränsle",{"$f":"((0.608+0.334)/2)*D51","v":16.626299999999997},null,null,"Baserat på 58 tons total lastvikt ( Benjaminsson & Nilsson 2009). NTM Fordonskategori 10. . 40 ton lastkapacitet. Landsväg. Genomsnittligförbrukning för hela transporten då tom återtransport inkluderas.  Förbrukning vid 100% lastgrad dit + Förbrukning vid 0 % lastgrad tillbaka."]
["Tankbil LBG, flytande bränsle",{"$f":"((0.268+0.528)/2)*D51","v":14.0494},null,null,"NTM Fordonskategori 9. 33 ton lastkapacitet. Landsväg. Genomsnittlig förbrukning för hela transporten då tom återtransport inkluderas.  Förbrukning vid 100% lastgrad dit + Förbrukning vid 0 % lastgrad tillbaka."]
["Lastbil, 1 cont, gas",{"$f":"((0.251+0.495)/2)*D59*1.18","v":21.478831999999997},null,null,"NTM Fordonskategori 9. City trailer. 33 ton lastkapacitet. Landsväg. Genomsnittligförbrukning för hela transporten då tom återtransport inkluderas.  Förbrukning vid 100% lastgrad dit + Förbrukning vid 0 % lastgrad tillbaka. Energiförbrukning antas öka med 18 % pga gas baserat på MetDriv (Börjesson et al. 2017). "]
["Lastbil, m  släp, gas",{"$f":"((0.608+0.334)/2)*D59*1.18","v":27.122063999999995},null,null,"Baserat på 58 tons total lastvikt ( Benjaminsson & Nilsson 2009). NTM Fordonskategori 10. . 40 ton lastkapacitet. Landsväg. Genomsnittligförbrukning för hela transporten då tom återtransport inkluderas.  Förbrukning vid 100% lastgrad dit + Förbrukning vid 0 % lastgrad tillbaka. Energiförbrukning antas öka med 18 % pga gas baserat på MetDriv (Börjesson et al. 2017). "]
["Tankbil LBG, gas",{"$f":"((0.268+0.528)/2)*D59*1.18","v":22.918431999999999},null,null,"NTM Fordonskategori 9. 33 ton lastkapacitet. Landsväg. Genomsnittlig förbrukning för hela transporten då tom återtransport inkluderas.  Förbrukning vid 100% lastgrad dit + Förbrukning vid 0 % lastgrad tillbaka. Energiförbrukning antas öka med 18 % pga gas baserat på MetDriv (Börjesson et al. 2017). "]
["Lastbil, 1 cont, dual-fuel",{"$f":"B170","v":13.166899999999998},null,null,"NTM Fordonskategori 9. City trailer. 33 ton lastkapacitet. Landsväg. Genomsnittligförbrukning för hela transporten då tom återtransport inkluderas.  Förbrukning vid 100% lastgrad dit + Förbrukning vid 0 % lastgrad tillbaka."]
["Lastbil, m  släp, dual-fuel",{"$f":"B171","v":16.626299999999997},null,null,"Baserat på 58 tons total lastvikt ( Benjaminsson & Nilsson 2009). NTM Fordonskategori 10. . 40 ton lastkapacitet. Landsväg. Genomsnittligförbrukning för hela transporten då tom återtransport inkluderas.  Förbrukning vid 100% lastgrad dit + Förbrukning vid 0 % lastgrad tillbaka."]
["Tankbil LBG, dual-fuel",14.0494,null,null,"NTM Fordonskategori 9. 33 ton lastkapacitet. Landsväg. Genomsnittlig förbrukning för hela transporten då tom återtransport inkluderas.  Förbrukning vid 100% lastgrad dit + Förbrukning vid 0 % lastgrad tillbaka."]
["Eget värde 1",99,null,null,"Eget värde som ska kunna verifieras"]
["Eget värde 2",99,null,null,"Eget värde som ska kunna verifieras"]
["Eget värde 3",99,null,null,"Eget värde som ska kunna verifieras"]
["Eget värde 4",99,null,null,"Eget värde som ska kunna verifieras"]
["Eget värde 5",99,null,null,"Eget värde som ska kunna verifieras"]
["Naturgas som komplement till levererad biogas","Energiinnehåll, MJ/kg","Densitet, kg/Nm3",null,"Kommentar"]
["Naturgas från ledning",45.1,0.79159999999999997,null,"Energimyndigheten 2024-01-16: WELL-TO-TANK (WTT) REPORT– APPENDIX PPENDIX PPENDIX 1, VERSION VERSION 4, JULY 2013"]
["Förångad LNG ",49.641300000000001,0.76139999999999997,null,"Genomsnitt för LNG från terminalerna i Lysekil och Nynäshamn under 2023"]
["Naturgas (LNG) i flytande form till tankstation för tankning av flytande gas",49.641300000000001,0.76139999999999997,null,"Genomsnitt för LNG från terminalerna i Lysekil och Nynäshamn under 2023"]

{"sheet":"Resultat","index":9,"n_rows":8,"n_cols":10,"rows_kept":8,"cut":false,"hidden":false,"merged":[[0,0,0,9]]}
["HBK Biogasredovisning, ver 4.2 - Resultat - nyckeltal"]
[]
[null,"Växthusgasutsläpp, g CO2eq/MJ",null,null,null,null,"Växthusgasminskning, %"]
["Egen producerad biogas","Produktion","Uppgradering","Distribution","Summa",null,"Produktion","Uppgradering","Distribution","Summa"]
[]
["Inköpt rågas / Förvätskad gas","Produktion","Uppgradering","Distribution","Summa",null,"Produktion","Uppgradering","Distribution","Summa"]
[]
["Inköpt uppgraderad biogas",null,"Prod + Uppgr","Distribution","Summa",null,null,"Prod + Uppgr","Distribution","Summa"]

{"sheet":"Avfall Web","index":10,"n_rows":121,"n_cols":7,"rows_kept":121,"cut":false,"hidden":false,"merged":[[0,0,0,6]]}
["HBK Biogasredovisning, ver 4.2 - Data till Avfall Web"]
[null,"Avser driftår",{"$f":"LEFT(Produktion!B3,4)","v":"2023"}]
[null,"Företag",{"$f":"Produktion!B2","v":"företagsnamn"}]
[null,"Rapportdatum",{"$f":"TODAY()","v":"2024-03-08"}]
[null,"Rapport, klockslag",{"$f":"NOW()","v":45359.549061226855}]
[]
["ID","Namn","Beskrivning","Nivå","Enhet","Värde","Summerings- eller annan funktion"]
[null,"Nivå 1","Grundläggande data (kan ses av andra anläggningar)"]
[null,"Uppgifter om anläggningen"]
["EB27","Antal rötkammare","Avser antalet rötkammare som gas tas ut från. Ev. efterrötkammare som gas tas ut från ska inkluderas i antalet.","1","st"]
["EB28","Rötkammarvolym","Ange anläggningens totala rötkammarvolym","1","m3"]
["EB4","Tillåten mängd biologiskt nedbrytbart material enligt tillstånd","Den mängd biologiskt nedbrytbart material som anläggningen har tillstånd att behandla","1","ton"]
[null,"Behandlade mängder totalt"]
["EB7","Behandlade mängder totalt","Ton våtvikt. Utgör summan av \"Beandlade mängder biologiskt avfall\" (EB8, EB8a samt EB36-EB42). ","1","ton",{"$f":"Produktion!$Q$36","v":0},"Summan av EB8, EB8a, EB36, EB37, EB38, EB39, EB40, EB41a, EB41b, EB41c, EB41d EB42"]
[null,"Producerad energi"]
["EB12","Energiproduktion totalt","Producerad energi i anläggningen (gas). Utgör summan av EB13, EB14, EB15, EB15a, EB32 och EB33. ","1","MWh",{"$f":"SUM(F35:F40)","v":0},"Summan av EB13, EB14, EB15, EB15a, EB32, EB33"]
["EB31","Metanhalt","Medeltal året","1","%",{"$f":"Produktion!$F$123*100","v":0}]
[null,"Process"]
["EB58","Temperatur","Medel per år. Uppgiften syftar till om processen drivs t.ex. mesofilt, termofilt eller i annat temperaturområde","1","Grader C"]
[null,"Nivå 2","Fördjupade data (kan inte ses av andra anläggningar)"]
[null,"Behandlade mängder substrat"]
["EB8","Behandlad mängd inhemskt matavfall","Ton våtvikt, invägd på våg. Matavfall både från hushåll och verksamheter, t.ex. restauranger och storkök. Livsmedelsavfall från livsmedelsindustri och livsmedelsbutiker ska registreras i EB37 respektive EB41a. Är en delmängd av EB7. OBS Mängden normeras i bladet Produktion.",2,"ton",{"$f":"SUMIFS( Produktion!$Q$6:$Q$35,    Produktion!$P$6:$P$35, G22, Produktion!$E$6:$E$35, \"=Sverige\" )","v":0},"EB8"]
["EB8a","Behandlad mängd importerat matavfall","Ton våtvikt, invägd på våg. Matavfall både från hushåll och verksamheter, t.ex. restauranger och storkök. Livsmedelsavfall från livsmedelsindustri och livsmedelsbutiker ska registreras i EB37 respektive EB41a. Är en delmängd av EB7. OBS Mängden normeras i bladet Produktion.",2,"ton",{"$f":"SUMIFS( Produktion!$Q$6:$Q$35,    Produktion!$P$6:$P$35, G23, Produktion!$E$6:$E$35, \"<>Sverige\" )","v":0},"EB8"]
["EB36","Behandlad mängd från slakteri","Om möjligt exkl. tillsatt processvatten. Är en delmängd av EB7.",2,"ton",{"$f":"SUMIFS( Produktion!$Q$6:$Q$35,    Produktion!$P$6:$P$35, G24 )","v":0},"EB36"]
["EB37","Behandlad mängd från livsmedelsindustri","Om möjligt exkl. tillsatt processvatten. Är en delmängd av EB7.",2,"ton",{"$f":"SUMIFS( Produktion!$Q$6:$Q$35,    Produktion!$P$6:$P$35, G25 )","v":0},"EB37"]
["EB38","Behandlad mängd gödsel","Om möjligt exkl. tillsatt processvatten. Är en delmängd av EB7.",2,"ton",{"$f":"SUMIFS( Produktion!$Q$6:$Q$35,    Produktion!$P$6:$P$35, G26 )","v":0},"EB38"]
["EB39","Behandlad mängd energigrödor","Grödor som är producerade med avsikt att rötas, t.ex. gräs/vall. Om möjligt exkl. tillsatt processvatten. Är en delmängd av EB7.",2,"ton",{"$f":"SUMIFS( Produktion!$Q$6:$Q$35,    Produktion!$P$6:$P$35, G27 )","v":0},"EB39"]
["EB40","Behandlad mängd avloppsslam","Slam från kommunalt avloppsreningsverk och enskilda avlopp. Om möjligt exkl. tillsatt processvatten. Är en delmängd av EB7.",2,"ton",{"$f":"SUMIFS( Produktion!$Q$6:$Q$35,    Produktion!$P$6:$P$35, G28 )","v":0},"EB40"]
["EB41a","Behandlad mängd från livsmedelsbutiker","Om möjligt exkl. tillsatt processvatten. Är en delmängd av EB7.",2,"ton",{"$f":"SUMIFS( Produktion!$Q$6:$Q$35,    Produktion!$P$6:$P$35, G29 )","v":0},"EB41a"]
["EB41b","Behandlad mängd industrislam","Industriellt avloppsvatten/avloppsslam och verksamhetsslam, t.ex. fiberslam. Om möjligt exkl. tillsatt processvatten. Är en delmängd av EB7.",2,"ton",{"$f":"SUMIFS( Produktion!$Q$6:$Q$35,    Produktion!$P$6:$P$35, G30 )","v":0},"EB41b"]
["EB41c","Behandlad mängd restprodukter från jordbruk  ","Till exempel halm, blast osv. Även rester från spannmålshantering, till exempel sekunda spannmål och avrens etc. EJ gödsel). Om möjligt exkl. tillsatt processvatten. Är en delmängd av EB7.","2","ton",{"$f":"SUMIFS( Produktion!$Q$6:$Q$35,    Produktion!$P$6:$P$35, G31 )","v":0},"EB41c"]
["EB41d","Behandlad mängd gräs och andra mellangrödor","Avser gröda som odlas mellan huvudgrödor på åkermark. Om möjligt exkl. tillsatt processvatten. Är en delmängd av EB7.","2","ton",{"$f":"SUMIFS( Produktion!$Q$6:$Q$35,    Produktion!$P$6:$P$35, G32 )","v":0},"EB41d"]
["EB42","Behandlad mängd övrigt (vänligen specificera i kommentar)","Till exempel fettavskiljarslam, rester från industriell djurfodertillverkning, drank, råglycering etc. Om möjligt exkl. tillsatt processvatten. Är en delmängd av EB7.",2,"ton",{"$f":"SUMIFS( Produktion!$Q$6:$Q$35,    Produktion!$P$6:$P$35, G33 )","v":0},"EB42"]
[null,"Användning av producerad energi"]
["EB13","Biogas till värme","Producerad energi i anläggningen (gas) som använts  till värme. Är en delmängd av EB12.","2","MWh",{"$f":"IF(Produktion!$G$126=\"Nm3\",  (Produktion!$F$125+Produktion!F128)*1000* Produktion!$F$123*10/1000,  ((Produktion!$F$125+Produktion!F128)/Produktion!$H$126)*1000* Produktion!$F$123*10/1000) - (Produktion!$C$98 )","v":0}]
["EB14","Biogas till uppgradering ","Producerad energi i anläggningen (gas) som använts  till uppgradering. Är en delmängd av EB12.","2","MWh",{"$f":"IF(Produktion!$G$126=\"Nm3\",  Produktion!$F$129*1000* Produktion!$F$123*10/1000,  (Produktion!$F$129/Produktion!$H$126)*1000* Produktion!$F$123*10/1000)","v":0}]
["EB15","Biogas till elproduktion","Producerad el från biogas. Är en delmängd av EB12.","2","MWh",{"$f":"Produktion!$C$98","v":0}]
["EB15a","Biogas till industriell användning","Användning av rågas som råvara eller processvärme i industriella processer, annan än uppvärmning av lokaler. Är en delmängd av EB12.",2,"MWh",{"$f":"IF(Produktion!$G$126=\"Nm3\",  Produktion!$F$127*1000* Produktion!$F$123*10/1000,  (Produktion!$F$127/Produktion!$H$126)*1000* Produktion!$F$123*10/1000)","v":0}]
["EB32","Biogas till övrigt (vänligen specificera övrig användning i kommentar)","Producerad energi i anläggningen (gas) som använts till övrig produktion. Är en delmängd av EB12. ","2","MWh"]
["EB33","Biogas som facklats","Fackling av gas från biogasanläggningen. Är en delmängd av EB12.","2","MWh",{"$f":"IF(Produktion!$G$126=\"Nm3\",  Produktion!$F$124*1000* Produktion!$F$123*10/1000,  (Produktion!$F$124/Produktion!$H$126)*1000* Produktion!$F$123*10/1000)","v":0}]
[null,"Biogödsel","Allmänt"]
["EB16","Certifierad biogödsel enligt SPCR 120","Välj ett alternativ: Ja, Nej.","2","Val","Ja"]
["EB104","Andel certifierad biogödsel","Andel av biogödseln som levererats som certifierad till kund. Om hela biogödselmängden levererats ut som certifierad innebär det 100%, om vissa partier underkänts blir det <100%.","2","%"]
["EB61","Biogödsel ur rötkammaren","Den mängd biogödsel som tas ut från rötkammaren, innan ev fasseparering/efterbehandling. Utgör summan av EB62, EB63 och EB64. ","2","Ton våtvikt",{"$f":"F51+F99+F75","v":0},"Summan av EB62, EB63 och EB64. "]
["EB61a","varav godkänd för ekologisk produktion","Andel av den producerade biogödseln som är godkänd för ekologisk produktion.","2","%"]
["EB17","Avsättning biogödsel där växtnäring tas till vara","Andel av den producerade biogödseln som fått avsättning i åkermark, skogsmark, energiskog, kompostjord inom trädgårdsodling eller grönytor med behov av näring.  för den anläggning som matavfallet har skickats till. Summan av EB17 och EB18 ska vara lika med 100 %.","2","%"]
["EB18","Annan avsättning biogödsel","Andel av den producerade biogödseln som fått annan avsättning som inte kan tillgodoräknas som tillvaratagande av växtnäring. Exempel på annan avsättning är växtetableringsskikt på deponier och vid täckning av gruvhögar. Summan av EB17 och EB18 ska vara lika med 100 %. ",2,"%"]
["EB105","Fasseparering/efterbehandling av biogödsel","Välj ett alternativ: Ja, Nej.","2","Val","Ja"]
["EB108","Beskrivning av fasseparering/eftebehandling biogödsel","Här kan du beskriva kortfattat hur fasseparering/efterbehandling utförs, t.ex. vilken teknik och vilka produkter som genereras. ","2","Fritext"]
[null,"EJ fasseparerad/efterbehandlad biogödsel ","Fraktion som sprids utan behandling/förädling på t.ex. åkermark"]
["EB63","Mängd biogödsel","Biogödsel utan fasseparering.",2,"Ton våtvikt"]
[null,"Innehåll av tungmetaller (medel/år)"]
["EB43","Bly","Pb. Medel/år. Obs! \"Mindre än\"-värden ska anges som halva värdet. T.ex <0,5 ska rapporteras som 0,25.","2","mg/kg TS"]
["EB44","Kadmium","Cd. Medel/år. Obs! \"Mindre än\"-värden ska anges som halva värdet. T.ex <0,5 ska rapporteras som 0,25.","2","mg/kg TS"]
["EB45","Koppar","Cu. Medel/år. Obs! \"Mindre än\"-värden ska anges som halva värdet. T.ex <0,5 ska rapporteras som 0,25.","2","mg/kg TS"]
["EB46","Krom","Cr. Medel/år. Obs! \"Mindre än\"-värden ska anges som halva värdet. T.ex <0,5 ska rapporteras som 0,25.","2","mg/kg TS"]
["EB47","Kvicksilver","Hg. Medel/år. Obs! \"Mindre än\"-värden ska anges som halva värdet. T.ex <0,5 ska rapporteras som 0,25.","2","mg/kg TS"]
["EB48","Nickel","Ni. Medel/år. Obs! \"Mindre än\"-värden ska anges som halva värdet. T.ex <0,5 ska rapporteras som 0,25.","2","mg/kg TS"]
["EB49","Zink","Zn. Medel/år. Obs! \"Mindre än\"-värden ska anges som halva värdet. T.ex <0,5 ska rapporteras som 0,25.","2","mg/kg TS"]
[null,"Innehåll av växtnäring (medel/år)"]
["EB50","Totalkväve","N-tot. Medel/år","2","kg/ton"]
["EB51","Ammoniumkväve","NH4-N. Medel/år","2","kg/ton"]
["EB52","Totalfosfor","P-tot. Medel/år","2","kg/ton"]
["EB53","Totalkalium","K-tot. Medel/år","2","kg/ton"]
["EB101","Magnesium","Mg. Medel/år","2","kg/ton"]
["EB102","Svavel","S. Medel/år","2","kg/ton"]
["EB103","Kalcium","Ca. Medel/år","2","kg/ton"]
[null,"Jordförbättrande och fysikaliska egenskaper (medel/år)"]
["EB66","Torrsubstanshalt","TS-halt, medel/år",2,"%"]
["EB106","Organisk substans","Glödgningsförlust i viktprocent av torrsubstansen. Medel/år",2,"% av TS"]
["EB107","pH",null,2]
[null,"Synliga föroreningar (medel/år)"]
["EB84","Synliga föroreningar i biogödsel med <20% TS-halt (s.k. flytande biogödsel)","Synliga föroreningar är föremål som är mer än 2 mm, dvs sådana föremål som inte passerar en sikt med 2 mm maskvidd, och som utgörs av glas, plast, metall, gummi, kompositer, biologiskt nedbrytbara polymerer och papper. Enheten är cm2 per kg biogödsel. Medel/år.",2,"cm2/kg"]
[null,"Fasseparerad/efterbehandlad biogödsel","FLYTANDE fraktion (sprids som flytgödsel)"]
["EB64","Mängd biogödsel","Ton våtvikt","2","Ton våtvikt"]
[null,"Innehåll av tungmetaller (medel/år)"]
["EB76","Bly","Pb. Medel/år. Obs! \"Mindre än\"-värden ska anges som halva värdet. T.ex <0,5 ska rapporteras som 0,25.","2","mg/kg TS"]
["EB77","Kadmium","Cd. Medel/år. Obs! \"Mindre än\"-värden ska anges som halva värdet. T.ex <0,5 ska rapporteras som 0,25.","2","mg/kg TS"]
["EB78","Koppar","Cu. Medel/år. Obs! \"Mindre än\"-värden ska anges som halva värdet. T.ex <0,5 ska rapporteras som 0,25.","2","mg/kg TS"]
["EB79","Krom","Cr. Medel/år. Obs! \"Mindre än\"-värden ska anges som halva värdet. T.ex <0,5 ska rapporteras som 0,25.","2","mg/kg TS"]
["EB80","Kvicksilver","Hg. Medel/år. Obs! \"Mindre än\"-värden ska anges som halva värdet. T.ex <0,5 ska rapporteras som 0,25.","2","mg/kg TS"]
["EB81","Nickel","Ni. Medel/år. Obs! \"Mindre än\"-värden ska anges som halva värdet. T.ex <0,5 ska rapporteras som 0,25.","2","mg/kg TS"]
["EB82","Zink","Zn. Medel/år. Obs! \"Mindre än\"-värden ska anges som halva värdet. T.ex <0,5 ska rapporteras som 0,25.","2","mg/kg TS"]
[null,"Innehåll av växtnäring (medel/år)"]
["EB50a","Totalkväve","N-tot. Medel/år","2","kg/ton"]
["EB51a","Ammoniumkväve","NH4-N. Medel/år","2","kg/ton"]
["EB52a","Totalfosfor","P-tot. Medel/år","2","kg/ton"]
["EB53a","Totalkalium","K-tot. Medel/år","2","kg/ton"]
["EB101a","Magnesium","Mg. Medel/år","2","kg/ton"]
["EB102a","Svavel","S. Medel/år","2","kg/ton"]
["EB103a","Kalcium","Ca. Medel/år","2","kg/ton"]
[null,"Jordförbättrande och fysikaliska egenskaper (medel/år)"]
["EB75","Torrsubstanshalt","TS-halt, medel/år",2,"%"]
["EB106a","Organisk substtans","Glödgningsförlust i viktprocent av torrsubstansen. Medel/år",2,"% av TS"]
["EB107a","pH",null,2]
[null,"Synliga föroreningar (medel/år)"]
["EB83","Synliga föroreningar i biogödsel med <20% TS-halt (s.k. flytande biogödsel)","Synliga föroreningar är föremål som är mer än 2 mm, dvs sådana föremål som inte passerar en sikt med 2 mm maskvidd, och som utgörs av glas, plast, metall, gummi, kompositer, biologiskt nedbrytbara polymerer och papper. Enheten är cm2 per kg biogödsel. Medel/år.",2,"cm2/kg"]
[null,"Fasseparerad/efterbehandlad biogödsel","FAST fraktion (sprids som fastgödsel)"]
["EB62","Mängd biogödsel","Ton våtvikt","2","Ton våtvikt"]
[null,"Innehåll av tungmetaller (medel/år)"]
["EB68","Bly","Pb. Medel/år. Obs! \"Mindre än\"-värden ska anges som halva värdet. T.ex <0,5 ska rapporteras som 0,25.","2","mg/kg TS"]
["EB69","Kadmium","Cd. Medel/år. Obs! \"Mindre än\"-värden ska anges som halva värdet. T.ex <0,5 ska rapporteras som 0,25.","2","mg/kg TS"]
["EB70","Koppar","Cu. Medel/år. Obs! \"Mindre än\"-värden ska anges som halva värdet. T.ex <0,5 ska rapporteras som 0,25.","2","mg/kg TS"]
["EB71","Krom","Cr. Medel/år. Obs! \"Mindre än\"-värden ska anges som halva värdet. T.ex <0,5 ska rapporteras som 0,25.","2","mg/kg TS"]
["EB72","Kvicksilver","Hg. Medel/år. Obs! \"Mindre än\"-värden ska anges som halva värdet. T.ex <0,5 ska rapporteras som 0,25.","2","mg/kg TS"]
["EB73","Nickel","Ni. Medel/år. Obs! \"Mindre än\"-värden ska anges som halva värdet. T.ex <0,5 ska rapporteras som 0,25.","2","mg/kg TS"]
["EB74","Zink","Zn. Medel/år. Obs! \"Mindre än\"-värden ska anges som halva värdet. T.ex <0,5 ska rapporteras som 0,25.","2","mg/kg TS"]
[null,"Innehåll av växtnäring (medel/år)"]
["EB50b","Totalkväve","N-tot. Medel/år","2","kg/ton"]
["EB51b","Ammoniumkväve","NH4-N. Medel/år","2","kg/ton"]
["EB52b","Totalfosfor","P-tot. Medel/år","2","kg/ton"]
["EB53b","Totalkalium","K-tot. Medel/år","2","kg/ton"]
["EB101b","Magnesium","Mg. Medel/år","2","kg/ton"]
["EB102b","Svavel","S. Medel/år","2","kg/ton"]
["EB103b","Kalcium","Ca. Medel/år","2","kg/ton"]
[null,"Jordförbättrande och fysikaliska egenskaper (medel/år)"]
["EB67","Torrsubstanshalt","TS-halt, medel/år",2,"%"]
["EB106b","Organisk substans","Glödgningsförlust i viktprocent av torrsubstansen. Medel/år",2,"% av TS"]
["EB107b","pH",null,2]
[null,"Synliga föroreningar (medel/år)"]
["EB85b","Synliga föroreningar i biogödsel med >20% TS-halt (s.k. fast biogödsel)","Synliga föroreningar är föremål som är mer än 2 mm, dvs sådana föremål som inte passerar en sikt med 2 mm maskvidd, och som utgörs av glas, plast, metall, gummi, kompositer, biologiskt nedbrytbara polymerer och papper. Enheten är cm2 per kg biogödsel. Medel/år.",2,"cm2/kg"]

{"sheet":"Egna Data 1","index":11,"n_rows":1,"n_cols":1,"rows_kept":1,"cut":false,"hidden":false,"merged":[[0,0,0,13]]}
["HBK Biogasredovisning, ver 4.2 - Egna data, blad 1"]

{"sheet":"Egna Data 2","index":12,"n_rows":1,"n_cols":1,"rows_kept":1,"cut":false,"hidden":false,"merged":[[0,0,0,13]]}
["HBK Biogasredovisning, ver 4.2 - Egna data, blad 2"]