{"text_format":"1","workbook":"xlsx","n_sheets":5,"sheets":["Gasanvändning","Rapport HBL","Substrat","Data","Egna Data"],"not_rendered":{"charts":0,"images":20,"macros":1,"external_links":1,"defined_names":18,"comments":3,"pivot_tables":0},"unopened":[],"bounds":{"document_bytes":16777216,"sheet_cells":100000,"rows_first":2000,"rows_last":500,"rows_between":2000,"halvings":0,"cell_chars":16384,"cell_head_chars":4096},"cells_cut":0,"cells_raw":0,"read":"whole","date_system":"1900"}

{"sheet":"Gasanvändning","index":0,"n_rows":194,"n_cols":40,"rows_kept":194,"cut":false,"hidden":false,"merged":[[1,37,4,37],[0,15,0,34],[1,15,2,16],[1,18,2,19],[1,21,2,22],[1,24,2,25],[3,15,4,16],[1,35,5,35],[1,17,6,17],[1,20,5,20],[1,36,6,36],[3,21,4,22],[3,24,4,25],[1,27,2,28],[1,31,1,32],[1,33,1,34],[159,7,159,11],[0,14,6,14],[3,18,4,19],[0,12,0,13],[3,0,5,10],[1,0,2,0],[1,1,2,2],[1,10,2,10],[0,1,0,2],[0,7,0,9],[0,3,0,6],[1,11,5,11],[1,3,2,9],[159,0,159,4],[158,0,158,4],[158,7,158,11],[3,30,3,31],[4,30,4,31],[5,30,5,31],[2,30,2,31],[3,27,4,28]]}
["HBK-El & Värme, ver 1.1","Företag:",null,"företagsnamn",null,null,null,"Rapportering för år:",null,null,2023,null,"Transport av gas",null,null,"Fördelning av gas på enheter i anläggningen",null,null,null,null,null,null,null,null,null,null,null,null,null,null,null,null,null,null,null,null,"Massbalans"]
["Datum när biobränsle började användas","20xx-xx-xx",null,{"$f":"IF(ISBLANK(B2),\"Datum måste anges\",IF(B2<=DATEVALUE(\"2020-12-31\"),\"Inget krav på växthusgasreduktion\",IF(AND(B2>DATEVALUE(\"2020-12-31\"),B2<=DATEVALUE(\"2025-12-31\")),\"Krav på 70% växthusgasreduktion\",IF(B2>DATEVALUE(\"2025-12-31\"),\"Krav på 80% växthusgasreduktion\",))))","v":"Krav på 80% växthusgasreduktion"},null,null,null,null,null,null,{"$f":"IF(B2<=DATEVALUE(\"2020-12-31\"),0,  IF(B2<=DATEVALUE(\"2025-12-31\"),1,  2))","v":2},null,"Transport, typ",null,null,"Värme-kyla, enhet 1",null,null,"Värme-kyla, enhet 2",null,null,"Värme-kyla, enhet 3",null,null,"Värme-kyla enhet 4",null,null,"Elproduktion",null,null,"Kraft-värme","Värme",null,"El"]
[null,null,null,null,null,null,null,null,null,null,null,null,"Bränsle",null,null,null,null,null,null,null,null,null,null,null,null,null,null,null,null,null,"Producerad mängd, MWh"]
["Inkommande gas ",null,null,null,null,null,null,null,null,null,null,null,"Avstånd, km",null,null,null,null,null,null,null,null,null,null,null,null,null,null,null,null,null,"Verkningsgrad, %"]
[null,null,null,null,null,null,null,null,null,null,null,null,"Antal trp",null,null,null,null,null,null,null,null,null,null,null,null,null,null,null,null,null,"Temperatur för nyttiggjord värme, grader C"]
[null,null,null,null,null,null,null,null,null,null,null,null,"Utsl, ton CO2eq",{"$f":"IF(N2<>\"\",IF(N2=\"Rörledning\",\"0\",VLOOKUP(N2,Data!$A$46:$B$60,2,FALSE)*VLOOKUP(N3,Data!$A$23:$C$44,3,FALSE)*N4*N5/1000/1000*2),\"\")","v":""},null,"Verkningsgrad, %",null,null,"Verkningsgrad, %",null,null,"Verkningsgrad, %",null,null,"Verkningsgrad, %",null,null,"Verkningsgrad, %",null,null,"Carnot effektivitet, ch",null,{"$f":"AG5/(AG5+273.15)","v":0}]
["Råvara / Substrat","Parti nr","Ursprung","Substrat, typ","Bränslekategori, \nGas / \nFlytande / annan","Mängd, Nm3 / kg (tusental)","Enhet, \nNm3 / kg","Värmevärde, MJ/enhet","Växthusgasutsläpp, CO2eq/MJ","Beräkning, F eller N, Esca om gödselbonus tillämpats","Certifiering","Parti nr","Mängd, kg/Nm3 (tusental)","Växthusgas-utsläpp, g CO2eq/MJ",null,"Mängd, kg/Nm3 (tusental)","Växthusgasutsläpp, g CO2eq/MJ",null,"Mängd, kg/Nm3 (tusental)","Växthusgasutsläpp, g CO2eq/MJ","Parti nr","Mängd, kg/Nm3 (tusental)","Växthusgasutsläpp, g CO2eq/MJ",null,"Mängd, kg/Nm3 (tusental)","Växthusgasutsläpp, g CO2eq/MJ","Parti nr","Mängd, kg/Nm3 (tusental)","Växthusgasutsläpp, g CO2eq/MJ",null,"Tillförd mängd gas, kg/Nm3 (tusental)","Gasmängd att rapportera, kg/Nm3 (tusental)","Växthusgasutsläpp, g CO2eq/MJ","Gasmängd att rapportera, kg/Nm3 (tusental)","Växthusgasutsläpp, g CO2eq/MJ",null,null,"Elproduktion",null,"Avvikelse In - ut, Nm3 / kg (tusental)"]
[]
["",1,"","","",null,null,null,null,"","",1,null,{"$f":"IF(AND(K$2>0,M9>0),Calc_Emissions(),\"\")","v":""},null,null,{"$f":"IF(P9>0, Calc_Conversion(Q$6),\"\")","v":""},null,null,{"$f":"IF(S9>0, Calc_Conversion(T$6),\"\")","v":""},1,null,{"$f":"IF(V9>0, Calc_Conversion(W$6),\"\")","v":""},null,null,{"$f":"IF(Y9>0, Calc_Conversion(Z$6),\"\")","v":""},1,null,{"$f":"IF(AB9>0, Calc_Conversion(AC$6),\"\")","v":""},null,null,{"$f":"IF(AND($A9<>\"\",AE9>0), AE9/($AG$3+$AI$3)*$AG$3, \"\")","v":""},{"$f":"IF(AE9>0, Calc_Conversion_elandheat(AG$4,  AG$6,   AG$4,  AG$6,  AI$4,  AG$4), \"\")","v":""},{"$f":"IF(AND($A9<>\"\",AE9>0), AE9/($AG$3+$AI$3)*$AI$3, \"\")","v":""},{"$f":"IF(AE9>0, Calc_Conversion_elandheat(AI$4,  1,   AI$4,  AG$6,  AG$4,  AI$4), \"\")","v":""},null,{"$f":"IF(A9<>\"\", (P9+S9+V9+Y9+AB9+AE9)-F9, \"\")","v":""},{"$f":"IF(A9<>\"\",#REF!,\"\")","v":""},null,{"$f":"IF(A9<>\"\",    IF(G9=\"Gas\", IF(H9=\"kg\", ((#REF!*Denscalc(I9) +#REF!+#REF!*Denscalc(I9)+#REF!)-F9), ( (#REF!+#REF!/Denscalc(I9) +#REF!+#REF!/Denscalc(I9))-F9)), ( (#REF!*   Denscalc(I9)+#REF!+AL9+#REF!*Denscalc(I9)+#REF!+#REF!)-F9)  ), \"\")","v":""}]
["",2,"","","",null,null,null,null,"","",2,null,{"$f":"IF(AND(K$2>0,M10>0),Calc_Emissions(),\"\")","v":""},null,null,{"$f":"IF(P10>0, Calc_Conversion(Q$6),\"\")","v":""},null,null,{"$f":"IF(S10>0, Calc_Conversion(T$6),\"\")","v":""},2,null,{"$f":"IF(V10>0, Calc_Conversion(W$6),\"\")","v":""},null,null,{"$f":"IF(Y10>0, Calc_Conversion(Z$6),\"\")","v":""},2,null,{"$f":"IF(AB10>0, Calc_Conversion(AC$6),\"\")","v":""},null,null,{"$f":"IF(AND($A10<>\"\",AE10>0), AE10/($AG$3+$AI$3)*$AG$3, \"\")","v":""},{"$f":"IF(AE10>0, Calc_Conversion_elandheat(AG$4,  AG$6,   AG$4,  AG$6,  AI$4,  AG$4), \"\")","v":""},{"$f":"IF(AND($A10<>\"\",AE10>0), AE10/($AG$3+$AI$3)*$AI$3, \"\")","v":""},{"$f":"IF(AE10>0, Calc_Conversion_elandheat(AI$4,  1,   AI$4,  AG$6,  AG$4,  AI$4), \"\")","v":""},null,{"$f":"IF(A10<>\"\", (P10+S10+V10+Y10+AB10+AE10)-F10, \"\")","v":""},{"$f":"IF(A10<>\"\",#REF!,\"\")","v":""},null,{"$f":"IF(A10<>\"\",    IF(G10=\"Gas\", IF(H10=\"kg\", ((#REF!*Denscalc(I10) +#REF!+#REF!*Denscalc(I10)+#REF!)-F10), ( (#REF!+#REF!/Denscalc(I10) +#REF!+#REF!/Denscalc(I10))-F10)), ( (#REF!*   Denscalc(I10)+#REF!+AL10+#REF!*Denscalc(I10)+#REF!+#REF!)-F10)  ), \"\")","v":""}]
["",3,"","","",null,null,null,null,"","",3,null,{"$f":"IF(AND(K$2>0,M11>0),Calc_Emissions(),\"\")","v":""},null,null,{"$f":"IF(P11>0, Calc_Conversion(Q$6),\"\")","v":""},null,null,{"$f":"IF(S11>0, Calc_Conversion(T$6),\"\")","v":""},3,null,{"$f":"IF(V11>0, Calc_Conversion(W$6),\"\")","v":""},null,null,{"$f":"IF(Y11>0, Calc_Conversion(Z$6),\"\")","v":""},3,null,{"$f":"IF(AB11>0, Calc_Conversion(AC$6),\"\")","v":""},null,null,{"$f":"IF(AND($A11<>\"\",AE11>0), AE11/($AG$3+$AI$3)*$AG$3, \"\")","v":""},{"$f":"IF(AE11>0, Calc_Conversion_elandheat(AG$4,  AG$6,   AG$4,  AG$6,  AI$4,  AG$4), \"\")","v":""},{"$f":"IF(AND($A11<>\"\",AE11>0), AE11/($AG$3+$AI$3)*$AI$3, \"\")","v":""},{"$f":"IF(AE11>0, Calc_Conversion_elandheat(AI$4,  1,   AI$4,  AG$6,  AG$4,  AI$4), \"\")","v":""},null,"",{"$f":"IF(A11<>\"\",#REF!,\"\")","v":""},null,{"$f":"IF(A11<>\"\",    IF(G11=\"Gas\", IF(H11=\"kg\", ((#REF!*Denscalc(I11) +#REF!+#REF!*Denscalc(I11)+#REF!)-F11), ( (#REF!+#REF!/Denscalc(I11) +#REF!+#REF!/Denscalc(I11))-F11)), ( (#REF!*   Denscalc(I11)+#REF!+AL11+#REF!*Denscalc(I11)+#REF!+#REF!)-F11)  ), \"\")","v":""}]
["",4,"","","",null,null,null,null,"","",4,null,{"$f":"IF(AND(K$2>0,M12>0),Calc_Emissions(),\"\")","v":""},null,null,{"$f":"IF(P12>0, Calc_Conversion(Q$6),\"\")","v":""},null,null,{"$f":"IF(S12>0, Calc_Conversion(T$6),\"\")","v":""},4,null,{"$f":"IF(V12>0, Calc_Conversion(W$6),\"\")","v":""},null,null,{"$f":"IF(Y12>0, Calc_Conversion(Z$6),\"\")","v":""},4,null,{"$f":"IF(AB12>0, Calc_Conversion(AC$6),\"\")","v":""},null,null,"",{"$f":"IF(AE12>0, Calc_Conversion_elandheat(AG$4,  AG$6,   AG$4,  AG$6,  AI$4,  AG$4), \"\")","v":""},"",{"$f":"IF(AE12>0, Calc_Conversion_elandheat(AI$4,  1,   AI$4,  AG$6,  AG$4,  AI$4), \"\")","v":""},null,"",{"$f":"IF(A12<>\"\",#REF!,\"\")","v":""},null,{"$f":"IF(A12<>\"\",    IF(G12=\"Gas\", IF(H12=\"kg\", ((#REF!*Denscalc(I12) +#REF!+#REF!*Denscalc(I12)+#REF!)-F12), ( (#REF!+#REF!/Denscalc(I12) +#REF!+#REF!/Denscalc(I12))-F12)), ( (#REF!*   Denscalc(I12)+#REF!+AL12+#REF!*Denscalc(I12)+#REF!+#REF!)-F12)  ), \"\")","v":""}]
["",5,"","","",null,null,null,null,"","",5,null,{"$f":"IF(AND(K$2>0,M13>0),Calc_Emissions(),\"\")","v":""},null,null,{"$f":"IF(P13>0, Calc_Conversion(Q$6),\"\")","v":""},null,null,{"$f":"IF(S13>0, Calc_Conversion(T$6),\"\")","v":""},5,null,{"$f":"IF(V13>0, Calc_Conversion(W$6),\"\")","v":""},null,null,{"$f":"IF(Y13>0, Calc_Conversion(Z$6),\"\")","v":""},5,null,{"$f":"IF(AB13>0, Calc_Conversion(AC$6),\"\")","v":""},null,null,"",{"$f":"IF(AE13>0, Calc_Conversion_elandheat(AG$4,  AG$6,   AG$4,  AG$6,  AI$4,  AG$4), \"\")","v":""},"",{"$f":"IF(AE13>0, Calc_Conversion_elandheat(AI$4,  1,   AI$4,  AG$6,  AG$4,  AI$4), \"\")","v":""},null,"",{"$f":"IF(A13<>\"\",#REF!,\"\")","v":""},null,{"$f":"IF(A13<>\"\",    IF(G13=\"Gas\", IF(H13=\"kg\", ((#REF!*Denscalc(I13) +#REF!+#REF!*Denscalc(I13)+#REF!)-F13), ( (#REF!+#REF!/Denscalc(I13) +#REF!+#REF!/Denscalc(I13))-F13)), ( (#REF!*   Denscalc(I13)+#REF!+AL13+#REF!*Denscalc(I13)+#REF!+#REF!)-F13)  ), \"\")","v":""}]
["",6,"","","",null,null,null,null,"","",6,null,{"$f":"IF(AND(K$2>0,M14>0),Calc_Emissions(),\"\")","v":""},null,null,{"$f":"IF(P14>0, Calc_Conversion(Q$6),\"\")","v":""},null,null,{"$f":"IF(S14>0, Calc_Conversion(T$6),\"\")","v":""},6,null,{"$f":"IF(V14>0, Calc_Conversion(W$6),\"\")","v":""},null,null,{"$f":"IF(Y14>0, Calc_Conversion(Z$6),\"\")","v":""},6,null,{"$f":"IF(AB14>0, Calc_Conversion(AC$6),\"\")","v":""},null,null,"",{"$f":"IF(AE14>0, Calc_Conversion_elandheat(AG$4,  AG$6,   AG$4,  AG$6,  AI$4,  AG$4), \"\")","v":""},"",{"$f":"IF(AE14>0, Calc_Conversion_elandheat(AI$4,  1,   AI$4,  AG$6,  AG$4,  AI$4), \"\")","v":""},null,"",{"$f":"IF(A14<>\"\",#REF!,\"\")","v":""},null,{"$f":"IF(A14<>\"\",    IF(G14=\"Gas\", IF(H14=\"kg\", ((#REF!*Denscalc(I14) +#REF!+#REF!*Denscalc(I14)+#REF!)-F14), ( (#REF!+#REF!/Denscalc(I14) +#REF!+#REF!/Denscalc(I14))-F14)), ( (#REF!*   Denscalc(I14)+#REF!+AL14+#REF!*Denscalc(I14)+#REF!+#REF!)-F14)  ), \"\")","v":""}]
["",7,"","","",null,null,null,null,"","",7,null,{"$f":"IF(AND(K$2>0,M15>0),Calc_Emissions(),\"\")","v":""},null,null,{"$f":"IF(P15>0, Calc_Conversion(Q$6),\"\")","v":""},null,null,{"$f":"IF(S15>0, Calc_Conversion(T$6),\"\")","v":""},7,null,{"$f":"IF(V15>0, Calc_Conversion(W$6),\"\")","v":""},null,null,{"$f":"IF(Y15>0, Calc_Conversion(Z$6),\"\")","v":""},7,null,{"$f":"IF(AB15>0, Calc_Conversion(AC$6),\"\")","v":""},null,null,"",{"$f":"IF(AE15>0, Calc_Conversion_elandheat(AG$4,  AG$6,   AG$4,  AG$6,  AI$4,  AG$4), \"\")","v":""},"",{"$f":"IF(AE15>0, Calc_Conversion_elandheat(AI$4,  1,   AI$4,  AG$6,  AG$4,  AI$4), \"\")","v":""},null,"",{"$f":"IF(A15<>\"\",#REF!,\"\")","v":""}]
["",8,"","","",null,null,null,null,"","",8,null,{"$f":"IF(AND(K$2>0,M16>0),Calc_Emissions(),\"\")","v":""},null,null,{"$f":"IF(P16>0, Calc_Conversion(Q$6),\"\")","v":""},null,null,{"$f":"IF(S16>0, Calc_Conversion(T$6),\"\")","v":""},8,null,{"$f":"IF(V16>0, Calc_Conversion(W$6),\"\")","v":""},null,null,{"$f":"IF(Y16>0, Calc_Conversion(Z$6),\"\")","v":""},8,null,{"$f":"IF(AB16>0, Calc_Conversion(AC$6),\"\")","v":""},null,null,"",{"$f":"IF(AE16>0, Calc_Conversion_elandheat(AG$4,  AG$6,   AG$4,  AG$6,  AI$4,  AG$4), \"\")","v":""},"",{"$f":"IF(AE16>0, Calc_Conversion_elandheat(AI$4,  1,   AI$4,  AG$6,  AG$4,  AI$4), \"\")","v":""},null,"",{"$f":"IF(A16<>\"\",#REF!,\"\")","v":""},null,{"$f":"IF(A16<>\"\",    IF(G16=\"Gas\", IF(H16=\"kg\", ((#REF!*Denscalc(I16) +#REF!+#REF!*Denscalc(I16)+#REF!)-F16), ( (#REF!+#REF!/Denscalc(I16) +#REF!+#REF!/Denscalc(I16))-F16)), ( (#REF!*   Denscalc(I16)+#REF!+AL16+#REF!*Denscalc(I16)+#REF!+#REF!)-F16)  ), \"\")","v":""}]
["",9,"","","",null,null,null,null,"","",9,null,{"$f":"IF(AND(K$2>0,M17>0),Calc_Emissions(),\"\")","v":""},null,null,{"$f":"IF(P17>0, Calc_Conversion(Q$6),\"\")","v":""},null,null,{"$f":"IF(S17>0, Calc_Conversion(T$6),\"\")","v":""},9,null,{"$f":"IF(V17>0, Calc_Conversion(W$6),\"\")","v":""},null,null,{"$f":"IF(Y17>0, Calc_Conversion(Z$6),\"\")","v":""},9,null,{"$f":"IF(AB17>0, Calc_Conversion(AC$6),\"\")","v":""},null,null,"",{"$f":"IF(AE17>0, Calc_Conversion_elandheat(AG$4,  AG$6,   AG$4,  AG$6,  AI$4,  AG$4), \"\")","v":""},"",{"$f":"IF(AE17>0, Calc_Conversion_elandheat(AI$4,  1,   AI$4,  AG$6,  AG$4,  AI$4), \"\")","v":""},null,"",{"$f":"IF(A17<>\"\",#REF!,\"\")","v":""},null,{"$f":"IF(A17<>\"\",    IF(G17=\"Gas\", IF(H17=\"kg\", ((#REF!*Denscalc(I17) +#REF!+#REF!*Denscalc(I17)+#REF!)-F17), ( (#REF!+#REF!/Denscalc(I17) +#REF!+#REF!/Denscalc(I17))-F17)), ( (#REF!*   Denscalc(I17)+#REF!+AL17+#REF!*Denscalc(I17)+#REF!+#REF!)-F17)  ), \"\")","v":""}]
["",10,"","","",null,null,null,null,"","",10,null,{"$f":"IF(AND(K$2>0,M18>0),Calc_Emissions(),\"\")","v":""},null,null,{"$f":"IF(P18>0, Calc_Conversion(Q$6),\"\")","v":""},null,null,{"$f":"IF(S18>0, Calc_Conversion(T$6),\"\")","v":""},10,null,{"$f":"IF(V18>0, Calc_Conversion(W$6),\"\")","v":""},null,null,{"$f":"IF(Y18>0, Calc_Conversion(Z$6),\"\")","v":""},10,null,{"$f":"IF(AB18>0, Calc_Conversion(AC$6),\"\")","v":""},null,null,"",{"$f":"IF(AE18>0, Calc_Conversion_elandheat(AG$4,  AG$6,   AG$4,  AG$6,  AI$4,  AG$4), \"\")","v":""},"",{"$f":"IF(AE18>0, Calc_Conversion_elandheat(AI$4,  1,   AI$4,  AG$6,  AG$4,  AI$4), \"\")","v":""},null,"",{"$f":"IF(A18<>\"\",#REF!,\"\")","v":""},null,{"$f":"IF(A18<>\"\",    IF(G18=\"Gas\", IF(H18=\"kg\", ((#REF!*Denscalc(I18) +#REF!+#REF!*Denscalc(I18)+#REF!)-F18), ( (#REF!+#REF!/Denscalc(I18) +#REF!+#REF!/Denscalc(I18))-F18)), ( (#REF!*   Denscalc(I18)+#REF!+AL18+#REF!*Denscalc(I18)+#REF!+#REF!)-F18)  ), \"\")","v":""}]
["",11,"","","",null,null,null,null,"","",11,null,{"$f":"IF(AND(K$2>0,M19>0),Calc_Emissions(),\"\")","v":""},null,null,{"$f":"IF(P19>0, Calc_Conversion(Q$6),\"\")","v":""},null,null,{"$f":"IF(S19>0, Calc_Conversion(T$6),\"\")","v":""},11,null,{"$f":"IF(V19>0, Calc_Conversion(W$6),\"\")","v":""},null,null,{"$f":"IF(Y19>0, Calc_Conversion(Z$6),\"\")","v":""},11,null,{"$f":"IF(AB19>0, Calc_Conversion(AC$6),\"\")","v":""},null,null,"",{"$f":"IF(AE19>0, Calc_Conversion_elandheat(AG$4,  AG$6,   AG$4,  AG$6,  AI$4,  AG$4), \"\")","v":""},"",{"$f":"IF(AE19>0, Calc_Conversion_elandheat(AI$4,  1,   AI$4,  AG$6,  AG$4,  AI$4), \"\")","v":""},null,"",{"$f":"IF(A19<>\"\",#REF!,\"\")","v":""},null,{"$f":"IF(A19<>\"\",    IF(G19=\"Gas\", IF(H19=\"kg\", ((#REF!*Denscalc(I19) +#REF!+#REF!*Denscalc(I19)+#REF!)-F19), ( (#REF!+#REF!/Denscalc(I19) +#REF!+#REF!/Denscalc(I19))-F19)), ( (#REF!*   Denscalc(I19)+#REF!+AL19+#REF!*Denscalc(I19)+#REF!+#REF!)-F19)  ), \"\")","v":""}]
["",12,"","","",null,null,null,null,"","",12,null,{"$f":"IF(AND(K$2>0,M20>0),Calc_Emissions(),\"\")","v":""},null,null,{"$f":"IF(P20>0, Calc_Conversion(Q$6),\"\")","v":""},null,null,{"$f":"IF(S20>0, Calc_Conversion(T$6),\"\")","v":""},12,null,{"$f":"IF(V20>0, Calc_Conversion(W$6),\"\")","v":""},null,null,{"$f":"IF(Y20>0, Calc_Conversion(Z$6),\"\")","v":""},12,null,{"$f":"IF(AB20>0, Calc_Conversion(AC$6),\"\")","v":""},null,null,"",{"$f":"IF(AE20>0, Calc_Conversion_elandheat(AG$4,  AG$6,   AG$4,  AG$6,  AI$4,  AG$4), \"\")","v":""},"",{"$f":"IF(AE20>0, Calc_Conversion_elandheat(AI$4,  1,   AI$4,  AG$6,  AG$4,  AI$4), \"\")","v":""},null,"",{"$f":"IF(A20<>\"\",#REF!,\"\")","v":""},null,{"$f":"IF(A20<>\"\",    IF(G20=\"Gas\", IF(H20=\"kg\", ((#REF!*Denscalc(I20) +#REF!+#REF!*Denscalc(I20)+#REF!)-F20), ( (#REF!+#REF!/Denscalc(I20) +#REF!+#REF!/Denscalc(I20))-F20)), ( (#REF!*   Denscalc(I20)+#REF!+AL20+#REF!*Denscalc(I20)+#REF!+#REF!)-F20)  ), \"\")","v":""}]
["",13,"","","",null,null,null,null,"","",13,null,{"$f":"IF(AND(K$2>0,M21>0),Calc_Emissions(),\"\")","v":""},null,null,{"$f":"IF(P21>0, Calc_Conversion(Q$6),\"\")","v":""},null,null,{"$f":"IF(S21>0, Calc_Conversion(T$6),\"\")","v":""},13,null,{"$f":"IF(V21>0, Calc_Conversion(W$6),\"\")","v":""},null,null,{"$f":"IF(Y21>0, Calc_Conversion(Z$6),\"\")","v":""},13,null,{"$f":"IF(AB21>0, Calc_Conversion(AC$6),\"\")","v":""},null,null,"",{"$f":"IF(AE21>0, Calc_Conversion_elandheat(AG$4,  AG$6,   AG$4,  AG$6,  AI$4,  AG$4), \"\")","v":""},"",{"$f":"IF(AE21>0, Calc_Conversion_elandheat(AI$4,  1,   AI$4,  AG$6,  AG$4,  AI$4), \"\")","v":""},null,"",{"$f":"IF(A21<>\"\",#REF!,\"\")","v":""},null,{"$f":"IF(A21<>\"\",    IF(G21=\"Gas\", IF(H21=\"kg\", ((#REF!*Denscalc(I21) +#REF!+#REF!*Denscalc(I21)+#REF!)-F21), ( (#REF!+#REF!/Denscalc(I21) +#REF!+#REF!/Denscalc(I21))-F21)), ( (#REF!*   Denscalc(I21)+#REF!+AL21+#REF!*Denscalc(I21)+#REF!+#REF!)-F21)  ), \"\")","v":""}]
["",14,"","","",null,null,null,null,"","",14,null,{"$f":"IF(AND(K$2>0,M22>0),Calc_Emissions(),\"\")","v":""},null,null,{"$f":"IF(P22>0, Calc_Conversion(Q$6),\"\")","v":""},null,null,{"$f":"IF(S22>0, Calc_Conversion(T$6),\"\")","v":""},14,null,{"$f":"IF(V22>0, Calc_Conversion(W$6),\"\")","v":""},null,null,{"$f":"IF(Y22>0, Calc_Conversion(Z$6),\"\")","v":""},14,null,{"$f":"IF(AB22>0, Calc_Conversion(AC$6),\"\")","v":""},null,null,"",{"$f":"IF(AE22>0, Calc_Conversion_elandheat(AG$4,  AG$6,   AG$4,  AG$6,  AI$4,  AG$4), \"\")","v":""},"",{"$f":"IF(AE22>0, Calc_Conversion_elandheat(AI$4,  1,   AI$4,  AG$6,  AG$4,  AI$4), \"\")","v":""},null,"",{"$f":"IF(A22<>\"\",#REF!,\"\")","v":""},null,{"$f":"IF(A22<>\"\",    IF(G22=\"Gas\", IF(H22=\"kg\", ((#REF!*Denscalc(I22) +#REF!+#REF!*Denscalc(I22)+#REF!)-F22), ( (#REF!+#REF!/Denscalc(I22) +#REF!+#REF!/Denscalc(I22))-F22)), ( (#REF!*   Denscalc(I22)+#REF!+AL22+#REF!*Denscalc(I22)+#REF!+#REF!)-F22)  ), \"\")","v":""}]
["",15,"","","",null,null,null,null,"","",15,null,{"$f":"IF(AND(K$2>0,M23>0),Calc_Emissions(),\"\")","v":""},null,null,{"$f":"IF(P23>0, Calc_Conversion(Q$6),\"\")","v":""},null,null,{"$f":"IF(S23>0, Calc_Conversion(T$6),\"\")","v":""},15,null,{"$f":"IF(V23>0, Calc_Conversion(W$6),\"\")","v":""},null,null,{"$f":"IF(Y23>0, Calc_Conversion(Z$6),\"\")","v":""},15,null,{"$f":"IF(AB23>0, Calc_Conversion(AC$6),\"\")","v":""},null,null,"",{"$f":"IF(AE23>0, Calc_Conversion_elandheat(AG$4,  AG$6,   AG$4,  AG$6,  AI$4,  AG$4), \"\")","v":""},"",{"$f":"IF(AE23>0, Calc_Conversion_elandheat(AI$4,  1,   AI$4,  AG$6,  AG$4,  AI$4), \"\")","v":""},null,"",{"$f":"IF(A23<>\"\",#REF!,\"\")","v":""},null,{"$f":"IF(A23<>\"\",    IF(G23=\"Gas\", IF(H23=\"kg\", ((#REF!*Denscalc(I23) +#REF!+#REF!*Denscalc(I23)+#REF!)-F23), ( (#REF!+#REF!/Denscalc(I23) +#REF!+#REF!/Denscalc(I23))-F23)), ( (#REF!*   Denscalc(I23)+#REF!+AL23+#REF!*Denscalc(I23)+#REF!+#REF!)-F23)  ), \"\")","v":""}]
["",16,"","","",null,null,null,null,"","",16,null,{"$f":"IF(AND(K$2>0,M24>0),Calc_Emissions(),\"\")","v":""},null,null,{"$f":"IF(P24>0, Calc_Conversion(Q$6),\"\")","v":""},null,null,{"$f":"IF(S24>0, Calc_Conversion(T$6),\"\")","v":""},16,null,{"$f":"IF(V24>0, Calc_Conversion(W$6),\"\")","v":""},null,null,{"$f":"IF(Y24>0, Calc_Conversion(Z$6),\"\")","v":""},16,null,{"$f":"IF(AB24>0, Calc_Conversion(AC$6),\"\")","v":""},null,null,"",{"$f":"IF(AE24>0, Calc_Conversion_elandheat(AG$4,  AG$6,   AG$4,  AG$6,  AI$4,  AG$4), \"\")","v":""},"",{"$f":"IF(AE24>0, Calc_Conversion_elandheat(AI$4,  1,   AI$4,  AG$6,  AG$4,  AI$4), \"\")","v":""},null,{"$f":"IF(A24<>\"\", (P24+S24+V24+Y24+AB24+AE24)-F24, \"\")","v":""},{"$f":"IF(A24<>\"\",#REF!,\"\")","v":""},null,{"$f":"IF(A24<>\"\",    IF(G24=\"Gas\", IF(H24=\"kg\", ((#REF!*Denscalc(I24) +#REF!+#REF!*Denscalc(I24)+#REF!)-F24), ( (#REF!+#REF!/Denscalc(I24) +#REF!+#REF!/Denscalc(I24))-F24)), ( (#REF!*   Denscalc(I24)+#REF!+AL24+#REF!*Denscalc(I24)+#REF!+#REF!)-F24)  ), \"\")","v":""}]
["",17,"","","",null,null,null,null,"","",17,null,{"$f":"IF(AND(K$2>0,M25>0),Calc_Emissions(),\"\")","v":""},null,null,{"$f":"IF(P25>0, Calc_Conversion(Q$6),\"\")","v":""},null,null,{"$f":"IF(S25>0, Calc_Conversion(T$6),\"\")","v":""},17,null,{"$f":"IF(V25>0, Calc_Conversion(W$6),\"\")","v":""},null,null,{"$f":"IF(Y25>0, Calc_Conversion(Z$6),\"\")","v":""},17,null,{"$f":"IF(AB25>0, Calc_Conversion(AC$6),\"\")","v":""},null,null,"",{"$f":"IF(AE25>0, Calc_Conversion_elandheat(AG$4,  AG$6,   AG$4,  AG$6,  AI$4,  AG$4), \"\")","v":""},"",{"$f":"IF(AE25>0, Calc_Conversion_elandheat(AI$4,  1,   AI$4,  AG$6,  AG$4,  AI$4), \"\")","v":""},null,"",{"$f":"IF(A25<>\"\",#REF!,\"\")","v":""},null,{"$f":"IF(A25<>\"\",    IF(G25=\"Gas\", IF(H25=\"kg\", ((#REF!*Denscalc(I25) +#REF!+#REF!*Denscalc(I25)+#REF!)-F25), ( (#REF!+#REF!/Denscalc(I25) +#REF!+#REF!/Denscalc(I25))-F25)), ( (#REF!*   Denscalc(I25)+#REF!+AL25+#REF!*Denscalc(I25)+#REF!+#REF!)-F25)  ), \"\")","v":""}]
["",18,"","","",null,null,null,null,"","",18,null,{"$f":"IF(AND(K$2>0,M26>0),Calc_Emissions(),\"\")","v":""},null,null,{"$f":"IF(P26>0, Calc_Conversion(Q$6),\"\")","v":""},null,null,{"$f":"IF(S26>0, Calc_Conversion(T$6),\"\")","v":""},18,null,{"$f":"IF(V26>0, Calc_Conversion(W$6),\"\")","v":""},null,null,{"$f":"IF(Y26>0, Calc_Conversion(Z$6),\"\")","v":""},18,null,{"$f":"IF(AB26>0, Calc_Conversion(AC$6),\"\")","v":""},null,null,"",{"$f":"IF(AE26>0, Calc_Conversion_elandheat(AG$4,  AG$6,   AG$4,  AG$6,  AI$4,  AG$4), \"\")","v":""},"",{"$f":"IF(AE26>0, Calc_Conversion_elandheat(AI$4,  1,   AI$4,  AG$6,  AG$4,  AI$4), \"\")","v":""},null,"",{"$f":"IF(A26<>\"\",#REF!,\"\")","v":""},null,{"$f":"IF(A26<>\"\",    IF(G26=\"Gas\", IF(H26=\"kg\", ((#REF!*Denscalc(I26) +#REF!+#REF!*Denscalc(I26)+#REF!)-F26), ( (#REF!+#REF!/Denscalc(I26) +#REF!+#REF!/Denscalc(I26))-F26)), ( (#REF!*   Denscalc(I26)+#REF!+AL26+#REF!*Denscalc(I26)+#REF!+#REF!)-F26)  ), \"\")","v":""}]
["",19,"","","",null,null,null,null,"","",19,null,{"$f":"IF(AND(K$2>0,M27>0),Calc_Emissions(),\"\")","v":""},null,null,{"$f":"IF(P27>0, Calc_Conversion(Q$6),\"\")","v":""},null,null,{"$f":"IF(S27>0, Calc_Conversion(T$6),\"\")","v":""},19,null,{"$f":"IF(V27>0, Calc_Conversion(W$6),\"\")","v":""},null,null,{"$f":"IF(Y27>0, Calc_Conversion(Z$6),\"\")","v":""},19,null,{"$f":"IF(AB27>0, Calc_Conversion(AC$6),\"\")","v":""},null,null,"",{"$f":"IF(AE27>0, Calc_Conversion_elandheat(AG$4,  AG$6,   AG$4,  AG$6,  AI$4,  AG$4), \"\")","v":""},"",{"$f":"IF(AE27>0, Calc_Conversion_elandheat(AI$4,  1,   AI$4,  AG$6,  AG$4,  AI$4), \"\")","v":""},null,"",{"$f":"IF(A27<>\"\",#REF!,\"\")","v":""},null,{"$f":"IF(A27<>\"\",    IF(G27=\"Gas\", IF(H27=\"kg\", ((#REF!*Denscalc(I27) +#REF!+#REF!*Denscalc(I27)+#REF!)-F27), ( (#REF!+#REF!/Denscalc(I27) +#REF!+#REF!/Denscalc(I27))-F27)), ( (#REF!*   Denscalc(I27)+#REF!+AL27+#REF!*Denscalc(I27)+#REF!+#REF!)-F27)  ), \"\")","v":""}]
["",20,"","","",null,null,null,null,"","",20,null,{"$f":"IF(AND(K$2>0,M28>0),Calc_Emissions(),\"\")","v":""},null,null,{"$f":"IF(P28>0, Calc_Conversion(Q$6),\"\")","v":""},null,null,{"$f":"IF(S28>0, Calc_Conversion(T$6),\"\")","v":""},20,null,{"$f":"IF(V28>0, Calc_Conversion(W$6),\"\")","v":""},null,null,{"$f":"IF(Y28>0, Calc_Conversion(Z$6),\"\")","v":""},20,null,{"$f":"IF(AB28>0, Calc_Conversion(AC$6),\"\")","v":""},null,null,"",{"$f":"IF(AE28>0, Calc_Conversion_elandheat(AG$4,  AG$6,   AG$4,  AG$6,  AI$4,  AG$4), \"\")","v":""},"",{"$f":"IF(AE28>0, Calc_Conversion_elandheat(AI$4,  1,   AI$4,  AG$6,  AG$4,  AI$4), \"\")","v":""},null,"",{"$f":"IF(A28<>\"\",#REF!,\"\")","v":""},null,{"$f":"IF(A28<>\"\",    IF(G28=\"Gas\", IF(H28=\"kg\", ((#REF!*Denscalc(I28) +#REF!+#REF!*Denscalc(I28)+#REF!)-F28), ( (#REF!+#REF!/Denscalc(I28) +#REF!+#REF!/Denscalc(I28))-F28)), ( (#REF!*   Denscalc(I28)+#REF!+AL28+#REF!*Denscalc(I28)+#REF!+#REF!)-F28)  ), \"\")","v":""}]
["",21,"","","",null,null,null,null,"","",21,null,{"$f":"IF(AND(K$2>0,M29>0),Calc_Emissions(),\"\")","v":""},null,null,{"$f":"IF(P29>0, Calc_Conversion(Q$6),\"\")","v":""},null,null,{"$f":"IF(S29>0, Calc_Conversion(T$6),\"\")","v":""},21,null,{"$f":"IF(V29>0, Calc_Conversion(W$6),\"\")","v":""},null,null,{"$f":"IF(Y29>0, Calc_Conversion(Z$6),\"\")","v":""},21,null,{"$f":"IF(AB29>0, Calc_Conversion(AC$6),\"\")","v":""},null,null,"",{"$f":"IF(AE29>0, Calc_Conversion_elandheat(AG$4,  AG$6,   AG$4,  AG$6,  AI$4,  AG$4), \"\")","v":""},"",{"$f":"IF(AE29>0, Calc_Conversion_elandheat(AI$4,  1,   AI$4,  AG$6,  AG$4,  AI$4), \"\")","v":""},null,"",{"$f":"IF(A29<>\"\",#REF!,\"\")","v":""},null,{"$f":"IF(A29<>\"\",    IF(G29=\"Gas\", IF(H29=\"kg\", ((#REF!*Denscalc(I29) +#REF!+#REF!*Denscalc(I29)+#REF!)-F29), ( (#REF!+#REF!/Denscalc(I29) +#REF!+#REF!/Denscalc(I29))-F29)), ( (#REF!*   Denscalc(I29)+#REF!+AL29+#REF!*Denscalc(I29)+#REF!+#REF!)-F29)  ), \"\")","v":""}]
["",22,"","","",null,null,null,null,"","",22,null,{"$f":"IF(AND(K$2>0,M30>0),Calc_Emissions(),\"\")","v":""},null,null,{"$f":"IF(P30>0, Calc_Conversion(Q$6),\"\")","v":""},null,null,{"$f":"IF(S30>0, Calc_Conversion(T$6),\"\")","v":""},22,null,{"$f":"IF(V30>0, Calc_Conversion(W$6),\"\")","v":""},null,null,{"$f":"IF(Y30>0, Calc_Conversion(Z$6),\"\")","v":""},22,null,{"$f":"IF(AB30>0, Calc_Conversion(AC$6),\"\")","v":""},null,null,"",{"$f":"IF(AE30>0, Calc_Conversion_elandheat(AG$4,  AG$6,   AG$4,  AG$6,  AI$4,  AG$4), \"\")","v":""},"",{"$f":"IF(AE30>0, Calc_Conversion_elandheat(AI$4,  1,   AI$4,  AG$6,  AG$4,  AI$4), \"\")","v":""},null,"",{"$f":"IF(A30<>\"\",#REF!,\"\")","v":""},null,{"$f":"IF(A30<>\"\",    IF(G30=\"Gas\", IF(H30=\"kg\", ((#REF!*Denscalc(I30) +#REF!+#REF!*Denscalc(I30)+#REF!)-F30), ( (#REF!+#REF!/Denscalc(I30) +#REF!+#REF!/Denscalc(I30))-F30)), ( (#REF!*   Denscalc(I30)+#REF!+AL30+#REF!*Denscalc(I30)+#REF!+#REF!)-F30)  ), \"\")","v":""}]
["",23,"","","",null,null,null,null,"","",23,null,{"$f":"IF(AND(K$2>0,M31>0),Calc_Emissions(),\"\")","v":""},null,null,{"$f":"IF(P31>0, Calc_Conversion(Q$6),\"\")","v":""},null,null,{"$f":"IF(S31>0, Calc_Conversion(T$6),\"\")","v":""},23,null,{"$f":"IF(V31>0, Calc_Conversion(W$6),\"\")","v":""},null,null,{"$f":"IF(Y31>0, Calc_Conversion(Z$6),\"\")","v":""},23,null,{"$f":"IF(AB31>0, Calc_Conversion(AC$6),\"\")","v":""},null,null,"",{"$f":"IF(AE31>0, Calc_Conversion_elandheat(AG$4,  AG$6,   AG$4,  AG$6,  AI$4,  AG$4), \"\")","v":""},"",{"$f":"IF(AE31>0, Calc_Conversion_elandheat(AI$4,  1,   AI$4,  AG$6,  AG$4,  AI$4), \"\")","v":""},null,"",{"$f":"IF(A31<>\"\",#REF!,\"\")","v":""},null,{"$f":"IF(A31<>\"\",    IF(G31=\"Gas\", IF(H31=\"kg\", ((#REF!*Denscalc(I31) +#REF!+#REF!*Denscalc(I31)+#REF!)-F31), ( (#REF!+#REF!/Denscalc(I31) +#REF!+#REF!/Denscalc(I31))-F31)), ( (#REF!*   Denscalc(I31)+#REF!+AL31+#REF!*Denscalc(I31)+#REF!+#REF!)-F31)  ), \"\")","v":""}]
["",24,"","","",null,null,null,null,"","",24,null,{"$f":"IF(AND(K$2>0,M32>0),Calc_Emissions(),\"\")","v":""},null,null,{"$f":"IF(P32>0, Calc_Conversion(Q$6),\"\")","v":""},null,null,{"$f":"IF(S32>0, Calc_Conversion(T$6),\"\")","v":""},24,null,{"$f":"IF(V32>0, Calc_Conversion(W$6),\"\")","v":""},null,null,{"$f":"IF(Y32>0, Calc_Conversion(Z$6),\"\")","v":""},24,null,{"$f":"IF(AB32>0, Calc_Conversion(AC$6),\"\")","v":""},null,null,"",{"$f":"IF(AE32>0, Calc_Conversion_elandheat(AG$4,  AG$6,   AG$4,  AG$6,  AI$4,  AG$4), \"\")","v":""},"",{"$f":"IF(AE32>0, Calc_Conversion_elandheat(AI$4,  1,   AI$4,  AG$6,  AG$4,  AI$4), \"\")","v":""},null,"",{"$f":"IF(A32<>\"\",#REF!,\"\")","v":""},null,{"$f":"IF(A32<>\"\",    IF(G32=\"Gas\", IF(H32=\"kg\", ((#REF!*Denscalc(I32) +#REF!+#REF!*Denscalc(I32)+#REF!)-F32), ( (#REF!+#REF!/Denscalc(I32) +#REF!+#REF!/Denscalc(I32))-F32)), ( (#REF!*   Denscalc(I32)+#REF!+AL32+#REF!*Denscalc(I32)+#REF!+#REF!)-F32)  ), \"\")","v":""}]
["",25,"","","",null,null,null,null,"","",25,null,{"$f":"IF(AND(K$2>0,M33>0),Calc_Emissions(),\"\")","v":""},null,null,{"$f":"IF(P33>0, Calc_Conversion(Q$6),\"\")","v":""},null,null,{"$f":"IF(S33>0, Calc_Conversion(T$6),\"\")","v":""},25,null,{"$f":"IF(V33>0, Calc_Conversion(W$6),\"\")","v":""},null,null,{"$f":"IF(Y33>0, Calc_Conversion(Z$6),\"\")","v":""},25,null,{"$f":"IF(AB33>0, Calc_Conversion(AC$6),\"\")","v":""},null,null,"",{"$f":"IF(AE33>0, Calc_Conversion_elandheat(AG$4,  AG$6,   AG$4,  AG$6,  AI$4,  AG$4), \"\")","v":""},"",{"$f":"IF(AE33>0, Calc_Conversion_elandheat(AI$4,  1,   AI$4,  AG$6,  AG$4,  AI$4), \"\")","v":""},null,"",{"$f":"IF(A33<>\"\",#REF!,\"\")","v":""},null,{"$f":"IF(A33<>\"\",    IF(G33=\"Gas\", IF(H33=\"kg\", ((#REF!*Denscalc(I33) +#REF!+#REF!*Denscalc(I33)+#REF!)-F33), ( (#REF!+#REF!/Denscalc(I33) +#REF!+#REF!/Denscalc(I33))-F33)), ( (#REF!*   Denscalc(I33)+#REF!+AL33+#REF!*Denscalc(I33)+#REF!+#REF!)-F33)  ), \"\")","v":""}]
["",26,"","","",null,null,null,null,"","",26,null,{"$f":"IF(AND(K$2>0,M34>0),Calc_Emissions(),\"\")","v":""},null,null,{"$f":"IF(P34>0, Calc_Conversion(Q$6),\"\")","v":""},null,null,{"$f":"IF(S34>0, Calc_Conversion(T$6),\"\")","v":""},26,null,{"$f":"IF(V34>0, Calc_Conversion(W$6),\"\")","v":""},null,null,{"$f":"IF(Y34>0, Calc_Conversion(Z$6),\"\")","v":""},26,null,{"$f":"IF(AB34>0, Calc_Conversion(AC$6),\"\")","v":""},null,null,"",{"$f":"IF(AE34>0, Calc_Conversion_elandheat(AG$4,  AG$6,   AG$4,  AG$6,  AI$4,  AG$4), \"\")","v":""},"",{"$f":"IF(AE34>0, Calc_Conversion_elandheat(AI$4,  1,   AI$4,  AG$6,  AG$4,  AI$4), \"\")","v":""},null,"",{"$f":"IF(A34<>\"\",#REF!,\"\")","v":""},null,{"$f":"IF(A34<>\"\",    IF(G34=\"Gas\", IF(H34=\"kg\", ((#REF!*Denscalc(I34) +#REF!+#REF!*Denscalc(I34)+#REF!)-F34), ( (#REF!+#REF!/Denscalc(I34) +#REF!+#REF!/Denscalc(I34))-F34)), ( (#REF!*   Denscalc(I34)+#REF!+AL34+#REF!*Denscalc(I34)+#REF!+#REF!)-F34)  ), \"\")","v":""}]
["",27,"","","",null,null,null,null,"","",27,null,{"$f":"IF(AND(K$2>0,M35>0),Calc_Emissions(),\"\")","v":""},null,null,{"$f":"IF(P35>0, Calc_Conversion(Q$6),\"\")","v":""},null,null,{"$f":"IF(S35>0, Calc_Conversion(T$6),\"\")","v":""},27,null,{"$f":"IF(V35>0, Calc_Conversion(W$6),\"\")","v":""},null,null,{"$f":"IF(Y35>0, Calc_Conversion(Z$6),\"\")","v":""},27,null,{"$f":"IF(AB35>0, Calc_Conversion(AC$6),\"\")","v":""},null,null,"",{"$f":"IF(AE35>0, Calc_Conversion_elandheat(AG$4,  AG$6,   AG$4,  AG$6,  AI$4,  AG$4), \"\")","v":""},"",{"$f":"IF(AE35>0, Calc_Conversion_elandheat(AI$4,  1,   AI$4,  AG$6,  AG$4,  AI$4), \"\")","v":""},null,"",{"$f":"IF(A35<>\"\",#REF!,\"\")","v":""},null,{"$f":"IF(A35<>\"\",    IF(G35=\"Gas\", IF(H35=\"kg\", ((#REF!*Denscalc(I35) +#REF!+#REF!*Denscalc(I35)+#REF!)-F35), ( (#REF!+#REF!/Denscalc(I35) +#REF!+#REF!/Denscalc(I35))-F35)), ( (#REF!*   Denscalc(I35)+#REF!+AL35+#REF!*Denscalc(I35)+#REF!+#REF!)-F35)  ), \"\")","v":""}]
["",28,"","","",null,null,null,null,"","",28,null,{"$f":"IF(AND(K$2>0,M36>0),Calc_Emissions(),\"\")","v":""},null,null,{"$f":"IF(P36>0, Calc_Conversion(Q$6),\"\")","v":""},null,null,{"$f":"IF(S36>0, Calc_Conversion(T$6),\"\")","v":""},28,null,{"$f":"IF(V36>0, Calc_Conversion(W$6),\"\")","v":""},null,null,{"$f":"IF(Y36>0, Calc_Conversion(Z$6),\"\")","v":""},28,null,{"$f":"IF(AB36>0, Calc_Conversion(AC$6),\"\")","v":""},null,null,"",{"$f":"IF(AE36>0, Calc_Conversion_elandheat(AG$4,  AG$6,   AG$4,  AG$6,  AI$4,  AG$4), \"\")","v":""},"",{"$f":"IF(AE36>0, Calc_Conversion_elandheat(AI$4,  1,   AI$4,  AG$6,  AG$4,  AI$4), \"\")","v":""},null,"",{"$f":"IF(A36<>\"\",#REF!,\"\")","v":""},null,{"$f":"IF(A36<>\"\",    IF(G36=\"Gas\", IF(H36=\"kg\", ((#REF!*Denscalc(I36) +#REF!+#REF!*Denscalc(I36)+#REF!)-F36), ( (#REF!+#REF!/Denscalc(I36) +#REF!+#REF!/Denscalc(I36))-F36)), ( (#REF!*   Denscalc(I36)+#REF!+AL36+#REF!*Denscalc(I36)+#REF!+#REF!)-F36)  ), \"\")","v":""}]
["",29,"","","",null,null,null,null,"","",29,null,{"$f":"IF(AND(K$2>0,M37>0),Calc_Emissions(),\"\")","v":""},null,null,{"$f":"IF(P37>0, Calc_Conversion(Q$6),\"\")","v":""},null,null,{"$f":"IF(S37>0, Calc_Conversion(T$6),\"\")","v":""},29,null,{"$f":"IF(V37>0, Calc_Conversion(W$6),\"\")","v":""},null,null,{"$f":"IF(Y37>0, Calc_Conversion(Z$6),\"\")","v":""},29,null,{"$f":"IF(AB37>0, Calc_Conversion(AC$6),\"\")","v":""},null,null,"",{"$f":"IF(AE37>0, Calc_Conversion_elandheat(AG$4,  AG$6,   AG$4,  AG$6,  AI$4,  AG$4), \"\")","v":""},"",{"$f":"IF(AE37>0, Calc_Conversion_elandheat(AI$4,  1,   AI$4,  AG$6,  AG$4,  AI$4), \"\")","v":""},null,"",{"$f":"IF(A37<>\"\",#REF!,\"\")","v":""},null,{"$f":"IF(A37<>\"\",    IF(G37=\"Gas\", IF(H37=\"kg\", ((#REF!*Denscalc(I37) +#REF!+#REF!*Denscalc(I37)+#REF!)-F37), ( (#REF!+#REF!/Denscalc(I37) +#REF!+#REF!/Denscalc(I37))-F37)), ( (#REF!*   Denscalc(I37)+#REF!+AL37+#REF!*Denscalc(I37)+#REF!+#REF!)-F37)  ), \"\")","v":""}]
["",30,"","","",null,null,null,null,"","",30,null,{"$f":"IF(AND(K$2>0,M38>0),Calc_Emissions(),\"\")","v":""},null,null,{"$f":"IF(P38>0, Calc_Conversion(Q$6),\"\")","v":""},null,null,{"$f":"IF(S38>0, Calc_Conversion(T$6),\"\")","v":""},30,null,{"$f":"IF(V38>0, Calc_Conversion(W$6),\"\")","v":""},null,null,{"$f":"IF(Y38>0, Calc_Conversion(Z$6),\"\")","v":""},30,null,{"$f":"IF(AB38>0, Calc_Conversion(AC$6),\"\")","v":""},null,null,"",{"$f":"IF(AE38>0, Calc_Conversion_elandheat(AG$4,  AG$6,   AG$4,  AG$6,  AI$4,  AG$4), \"\")","v":""},"",{"$f":"IF(AE38>0, Calc_Conversion_elandheat(AI$4,  1,   AI$4,  AG$6,  AG$4,  AI$4), \"\")","v":""},null,"",{"$f":"IF(A38<>\"\",#REF!,\"\")","v":""},null,{"$f":"IF(A38<>\"\",    IF(G38=\"Gas\", IF(H38=\"kg\", ((#REF!*Denscalc(I38) +#REF!+#REF!*Denscalc(I38)+#REF!)-F38), ( (#REF!+#REF!/Denscalc(I38) +#REF!+#REF!/Denscalc(I38))-F38)), ( (#REF!*   Denscalc(I38)+#REF!+AL38+#REF!*Denscalc(I38)+#REF!+#REF!)-F38)  ), \"\")","v":""}]
["",31,"","","",null,null,null,null,"","",31,null,{"$f":"IF(AND(K$2>0,M39>0),Calc_Emissions(),\"\")","v":""},null,null,{"$f":"IF(P39>0, Calc_Conversion(Q$6),\"\")","v":""},null,null,{"$f":"IF(S39>0, Calc_Conversion(T$6),\"\")","v":""},31,null,{"$f":"IF(V39>0, Calc_Conversion(W$6),\"\")","v":""},null,null,{"$f":"IF(Y39>0, Calc_Conversion(Z$6),\"\")","v":""},31,null,{"$f":"IF(AB39>0, Calc_Conversion(AC$6),\"\")","v":""},null,null,"",{"$f":"IF(AE39>0, Calc_Conversion_elandheat(AG$4,  AG$6,   AG$4,  AG$6,  AI$4,  AG$4), \"\")","v":""},"",{"$f":"IF(AE39>0, Calc_Conversion_elandheat(AI$4,  1,   AI$4,  AG$6,  AG$4,  AI$4), \"\")","v":""},null,"",{"$f":"IF(A39<>\"\",#REF!,\"\")","v":""},null,{"$f":"IF(A39<>\"\",    IF(G39=\"Gas\", IF(H39=\"kg\", ((#REF!*Denscalc(I39) +#REF!+#REF!*Denscalc(I39)+#REF!)-F39), ( (#REF!+#REF!/Denscalc(I39) +#REF!+#REF!/Denscalc(I39))-F39)), ( (#REF!*   Denscalc(I39)+#REF!+AL39+#REF!*Denscalc(I39)+#REF!+#REF!)-F39)  ), \"\")","v":""}]
["",32,"","","",null,null,null,null,"","",32,null,{"$f":"IF(AND(K$2>0,M40>0),Calc_Emissions(),\"\")","v":""},null,null,{"$f":"IF(P40>0, Calc_Conversion(Q$6),\"\")","v":""},null,null,{"$f":"IF(S40>0, Calc_Conversion(T$6),\"\")","v":""},32,null,{"$f":"IF(V40>0, Calc_Conversion(W$6),\"\")","v":""},null,null,{"$f":"IF(Y40>0, Calc_Conversion(Z$6),\"\")","v":""},32,null,{"$f":"IF(AB40>0, Calc_Conversion(AC$6),\"\")","v":""},null,null,"",{"$f":"IF(AE40>0, Calc_Conversion_elandheat(AG$4,  AG$6,   AG$4,  AG$6,  AI$4,  AG$4), \"\")","v":""},"",{"$f":"IF(AE40>0, Calc_Conversion_elandheat(AI$4,  1,   AI$4,  AG$6,  AG$4,  AI$4), \"\")","v":""},null,"",{"$f":"IF(A40<>\"\",#REF!,\"\")","v":""},null,{"$f":"IF(A40<>\"\",    IF(G40=\"Gas\", IF(H40=\"kg\", ((#REF!*Denscalc(I40) +#REF!+#REF!*Denscalc(I40)+#REF!)-F40), ( (#REF!+#REF!/Denscalc(I40) +#REF!+#REF!/Denscalc(I40))-F40)), ( (#REF!*   Denscalc(I40)+#REF!+AL40+#REF!*Denscalc(I40)+#REF!+#REF!)-F40)  ), \"\")","v":""}]
["",33,"","","",null,null,null,null,"","",33,null,{"$f":"IF(AND(K$2>0,M41>0),Calc_Emissions(),\"\")","v":""},null,null,{"$f":"IF(P41>0, Calc_Conversion(Q$6),\"\")","v":""},null,null,{"$f":"IF(S41>0, Calc_Conversion(T$6),\"\")","v":""},33,null,{"$f":"IF(V41>0, Calc_Conversion(W$6),\"\")","v":""},null,null,{"$f":"IF(Y41>0, Calc_Conversion(Z$6),\"\")","v":""},33,null,{"$f":"IF(AB41>0, Calc_Conversion(AC$6),\"\")","v":""},null,null,"",{"$f":"IF(AE41>0, Calc_Conversion_elandheat(AG$4,  AG$6,   AG$4,  AG$6,  AI$4,  AG$4), \"\")","v":""},"",{"$f":"IF(AE41>0, Calc_Conversion_elandheat(AI$4,  1,   AI$4,  AG$6,  AG$4,  AI$4), \"\")","v":""},null,"",{"$f":"IF(A41<>\"\",#REF!,\"\")","v":""},null,{"$f":"IF(A41<>\"\",    IF(G41=\"Gas\", IF(H41=\"kg\", ((#REF!*Denscalc(I41) +#REF!+#REF!*Denscalc(I41)+#REF!)-F41), ( (#REF!+#REF!/Denscalc(I41) +#REF!+#REF!/Denscalc(I41))-F41)), ( (#REF!*   Denscalc(I41)+#REF!+AL41+#REF!*Denscalc(I41)+#REF!+#REF!)-F41)  ), \"\")","v":""}]
["",34,"","","",null,null,null,null,"","",34,null,{"$f":"IF(AND(K$2>0,M42>0),Calc_Emissions(),\"\")","v":""},null,null,{"$f":"IF(P42>0, Calc_Conversion(Q$6),\"\")","v":""},null,null,{"$f":"IF(S42>0, Calc_Conversion(T$6),\"\")","v":""},34,null,{"$f":"IF(V42>0, Calc_Conversion(W$6),\"\")","v":""},null,null,{"$f":"IF(Y42>0, Calc_Conversion(Z$6),\"\")","v":""},34,null,{"$f":"IF(AB42>0, Calc_Conversion(AC$6),\"\")","v":""},null,null,"",{"$f":"IF(AE42>0, Calc_Conversion_elandheat(AG$4,  AG$6,   AG$4,  AG$6,  AI$4,  AG$4), \"\")","v":""},"",{"$f":"IF(AE42>0, Calc_Conversion_elandheat(AI$4,  1,   AI$4,  AG$6,  AG$4,  AI$4), \"\")","v":""},null,"",{"$f":"IF(A42<>\"\",#REF!,\"\")","v":""},null,{"$f":"IF(A42<>\"\",    IF(G42=\"Gas\", IF(H42=\"kg\", ((#REF!*Denscalc(I42) +#REF!+#REF!*Denscalc(I42)+#REF!)-F42), ( (#REF!+#REF!/Denscalc(I42) +#REF!+#REF!/Denscalc(I42))-F42)), ( (#REF!*   Denscalc(I42)+#REF!+AL42+#REF!*Denscalc(I42)+#REF!+#REF!)-F42)  ), \"\")","v":""}]
["",35,"","","",null,null,null,null,"","",35,null,{"$f":"IF(AND(K$2>0,M43>0),Calc_Emissions(),\"\")","v":""},null,null,{"$f":"IF(P43>0, Calc_Conversion(Q$6),\"\")","v":""},null,null,{"$f":"IF(S43>0, Calc_Conversion(T$6),\"\")","v":""},35,null,{"$f":"IF(V43>0, Calc_Conversion(W$6),\"\")","v":""},null,null,{"$f":"IF(Y43>0, Calc_Conversion(Z$6),\"\")","v":""},35,null,{"$f":"IF(AB43>0, Calc_Conversion(AC$6),\"\")","v":""},null,null,"",{"$f":"IF(AE43>0, Calc_Conversion_elandheat(AG$4,  AG$6,   AG$4,  AG$6,  AI$4,  AG$4), \"\")","v":""},"",{"$f":"IF(AE43>0, Calc_Conversion_elandheat(AI$4,  1,   AI$4,  AG$6,  AG$4,  AI$4), \"\")","v":""},null,"",{"$f":"IF(A43<>\"\",#REF!,\"\")","v":""},null,{"$f":"IF(A43<>\"\",    IF(G43=\"Gas\", IF(H43=\"kg\", ((#REF!*Denscalc(I43) +#REF!+#REF!*Denscalc(I43)+#REF!)-F43), ( (#REF!+#REF!/Denscalc(I43) +#REF!+#REF!/Denscalc(I43))-F43)), ( (#REF!*   Denscalc(I43)+#REF!+AL43+#REF!*Denscalc(I43)+#REF!+#REF!)-F43)  ), \"\")","v":""}]
["",36,"","","",null,null,null,null,"","",36,null,{"$f":"IF(AND(K$2>0,M44>0),Calc_Emissions(),\"\")","v":""},null,null,{"$f":"IF(P44>0, Calc_Conversion(Q$6),\"\")","v":""},null,null,{"$f":"IF(S44>0, Calc_Conversion(T$6),\"\")","v":""},36,null,{"$f":"IF(V44>0, Calc_Conversion(W$6),\"\")","v":""},null,null,{"$f":"IF(Y44>0, Calc_Conversion(Z$6),\"\")","v":""},36,null,{"$f":"IF(AB44>0, Calc_Conversion(AC$6),\"\")","v":""},null,null,"",{"$f":"IF(AE44>0, Calc_Conversion_elandheat(AG$4,  AG$6,   AG$4,  AG$6,  AI$4,  AG$4), \"\")","v":""},"",{"$f":"IF(AE44>0, Calc_Conversion_elandheat(AI$4,  1,   AI$4,  AG$6,  AG$4,  AI$4), \"\")","v":""},null,"",{"$f":"IF(A44<>\"\",#REF!,\"\")","v":""},null,{"$f":"IF(A44<>\"\",    IF(G44=\"Gas\", IF(H44=\"kg\", ((#REF!*Denscalc(I44) +#REF!+#REF!*Denscalc(I44)+#REF!)-F44), ( (#REF!+#REF!/Denscalc(I44) +#REF!+#REF!/Denscalc(I44))-F44)), ( (#REF!*   Denscalc(I44)+#REF!+AL44+#REF!*Denscalc(I44)+#REF!+#REF!)-F44)  ), \"\")","v":""}]
["",37,"","","",null,null,null,null,"","",37,null,{"$f":"IF(AND(K$2>0,M45>0),Calc_Emissions(),\"\")","v":""},null,null,{"$f":"IF(P45>0, Calc_Conversion(Q$6),\"\")","v":""},null,null,{"$f":"IF(S45>0, Calc_Conversion(T$6),\"\")","v":""},37,null,{"$f":"IF(V45>0, Calc_Conversion(W$6),\"\")","v":""},null,null,{"$f":"IF(Y45>0, Calc_Conversion(Z$6),\"\")","v":""},37,null,{"$f":"IF(AB45>0, Calc_Conversion(AC$6),\"\")","v":""},null,null,"",{"$f":"IF(AE45>0, Calc_Conversion_elandheat(AG$4,  AG$6,   AG$4,  AG$6,  AI$4,  AG$4), \"\")","v":""},"",{"$f":"IF(AE45>0, Calc_Conversion_elandheat(AI$4,  1,   AI$4,  AG$6,  AG$4,  AI$4), \"\")","v":""},null,"",{"$f":"IF(A45<>\"\",#REF!,\"\")","v":""},null,{"$f":"IF(A45<>\"\",    IF(G45=\"Gas\", IF(H45=\"kg\", ((#REF!*Denscalc(I45) +#REF!+#REF!*Denscalc(I45)+#REF!)-F45), ( (#REF!+#REF!/Denscalc(I45) +#REF!+#REF!/Denscalc(I45))-F45)), ( (#REF!*   Denscalc(I45)+#REF!+AL45+#REF!*Denscalc(I45)+#REF!+#REF!)-F45)  ), \"\")","v":""}]
["",38,"","","",null,null,null,null,"","",38,null,{"$f":"IF(AND(K$2>0,M46>0),Calc_Emissions(),\"\")","v":""},null,null,{"$f":"IF(P46>0, Calc_Conversion(Q$6),\"\")","v":""},null,null,{"$f":"IF(S46>0, Calc_Conversion(T$6),\"\")","v":""},38,null,{"$f":"IF(V46>0, Calc_Conversion(W$6),\"\")","v":""},null,null,{"$f":"IF(Y46>0, Calc_Conversion(Z$6),\"\")","v":""},38,null,{"$f":"IF(AB46>0, Calc_Conversion(AC$6),\"\")","v":""},null,null,"",{"$f":"IF(AE46>0, Calc_Conversion_elandheat(AG$4,  AG$6,   AG$4,  AG$6,  AI$4,  AG$4), \"\")","v":""},"",{"$f":"IF(AE46>0, Calc_Conversion_elandheat(AI$4,  1,   AI$4,  AG$6,  AG$4,  AI$4), \"\")","v":""},null,"",{"$f":"IF(A46<>\"\",#REF!,\"\")","v":""},null,{"$f":"IF(A46<>\"\",    IF(G46=\"Gas\", IF(H46=\"kg\", ((#REF!*Denscalc(I46) +#REF!+#REF!*Denscalc(I46)+#REF!)-F46), ( (#REF!+#REF!/Denscalc(I46) +#REF!+#REF!/Denscalc(I46))-F46)), ( (#REF!*   Denscalc(I46)+#REF!+AL46+#REF!*Denscalc(I46)+#REF!+#REF!)-F46)  ), \"\")","v":""}]
["",39,"","","",null,null,null,null,"","",39,null,{"$f":"IF(AND(K$2>0,M47>0),Calc_Emissions(),\"\")","v":""},null,null,{"$f":"IF(P47>0, Calc_Conversion(Q$6),\"\")","v":""},null,null,{"$f":"IF(S47>0, Calc_Conversion(T$6),\"\")","v":""},39,null,{"$f":"IF(V47>0, Calc_Conversion(W$6),\"\")","v":""},null,null,{"$f":"IF(Y47>0, Calc_Conversion(Z$6),\"\")","v":""},39,null,{"$f":"IF(AB47>0, Calc_Conversion(AC$6),\"\")","v":""},null,null,"",{"$f":"IF(AE47>0, Calc_Conversion_elandheat(AG$4,  AG$6,   AG$4,  AG$6,  AI$4,  AG$4), \"\")","v":""},"",{"$f":"IF(AE47>0, Calc_Conversion_elandheat(AI$4,  1,   AI$4,  AG$6,  AG$4,  AI$4), \"\")","v":""},null,"",{"$f":"IF(A47<>\"\",#REF!,\"\")","v":""},null,{"$f":"IF(A47<>\"\",    IF(G47=\"Gas\", IF(H47=\"kg\", ((#REF!*Denscalc(I47) +#REF!+#REF!*Denscalc(I47)+#REF!)-F47), ( (#REF!+#REF!/Denscalc(I47) +#REF!+#REF!/Denscalc(I47))-F47)), ( (#REF!*   Denscalc(I47)+#REF!+AL47+#REF!*Denscalc(I47)+#REF!+#REF!)-F47)  ), \"\")","v":""}]
["",40,"","","",null,null,null,null,"","",40,null,{"$f":"IF(AND(K$2>0,M48>0),Calc_Emissions(),\"\")","v":""},null,null,{"$f":"IF(P48>0, Calc_Conversion(Q$6),\"\")","v":""},null,null,{"$f":"IF(S48>0, Calc_Conversion(T$6),\"\")","v":""},40,null,{"$f":"IF(V48>0, Calc_Conversion(W$6),\"\")","v":""},null,null,{"$f":"IF(Y48>0, Calc_Conversion(Z$6),\"\")","v":""},40,null,{"$f":"IF(AB48>0, Calc_Conversion(AC$6),\"\")","v":""},null,null,"",{"$f":"IF(AE48>0, Calc_Conversion_elandheat(AG$4,  AG$6,   AG$4,  AG$6,  AI$4,  AG$4), \"\")","v":""},"",{"$f":"IF(AE48>0, Calc_Conversion_elandheat(AI$4,  1,   AI$4,  AG$6,  AG$4,  AI$4), \"\")","v":""},null,"",{"$f":"IF(A48<>\"\",#REF!,\"\")","v":""},null,{"$f":"IF(A48<>\"\",    IF(G48=\"Gas\", IF(H48=\"kg\", ((#REF!*Denscalc(I48) +#REF!+#REF!*Denscalc(I48)+#REF!)-F48), ( (#REF!+#REF!/Denscalc(I48) +#REF!+#REF!/Denscalc(I48))-F48)), ( (#REF!*   Denscalc(I48)+#REF!+AL48+#REF!*Denscalc(I48)+#REF!+#REF!)-F48)  ), \"\")","v":""}]
["",41,"","","",null,null,null,null,"","",41,null,{"$f":"IF(AND(K$2>0,M49>0),Calc_Emissions(),\"\")","v":""},null,null,{"$f":"IF(P49>0, Calc_Conversion(Q$6),\"\")","v":""},null,null,{"$f":"IF(S49>0, Calc_Conversion(T$6),\"\")","v":""},41,null,{"$f":"IF(V49>0, Calc_Conversion(W$6),\"\")","v":""},null,null,{"$f":"IF(Y49>0, Calc_Conversion(Z$6),\"\")","v":""},41,null,{"$f":"IF(AB49>0, Calc_Conversion(AC$6),\"\")","v":""},null,null,"",{"$f":"IF(AE49>0, Calc_Conversion_elandheat(AG$4,  AG$6,   AG$4,  AG$6,  AI$4,  AG$4), \"\")","v":""},"",{"$f":"IF(AE49>0, Calc_Conversion_elandheat(AI$4,  1,   AI$4,  AG$6,  AG$4,  AI$4), \"\")","v":""},null,"",{"$f":"IF(A49<>\"\",#REF!,\"\")","v":""},null,{"$f":"IF(A49<>\"\",    IF(G49=\"Gas\", IF(H49=\"kg\", ((#REF!*Denscalc(I49) +#REF!+#REF!*Denscalc(I49)+#REF!)-F49), ( (#REF!+#REF!/Denscalc(I49) +#REF!+#REF!/Denscalc(I49))-F49)), ( (#REF!*   Denscalc(I49)+#REF!+AL49+#REF!*Denscalc(I49)+#REF!+#REF!)-F49)  ), \"\")","v":""}]
["",42,"","","",null,null,null,null,"","",42,null,{"$f":"IF(AND(K$2>0,M50>0),Calc_Emissions(),\"\")","v":""},null,null,{"$f":"IF(P50>0, Calc_Conversion(Q$6),\"\")","v":""},null,null,{"$f":"IF(S50>0, Calc_Conversion(T$6),\"\")","v":""},42,null,{"$f":"IF(V50>0, Calc_Conversion(W$6),\"\")","v":""},null,null,{"$f":"IF(Y50>0, Calc_Conversion(Z$6),\"\")","v":""},42,null,{"$f":"IF(AB50>0, Calc_Conversion(AC$6),\"\")","v":""},null,null,"",{"$f":"IF(AE50>0, Calc_Conversion_elandheat(AG$4,  AG$6,   AG$4,  AG$6,  AI$4,  AG$4), \"\")","v":""},"",{"$f":"IF(AE50>0, Calc_Conversion_elandheat(AI$4,  1,   AI$4,  AG$6,  AG$4,  AI$4), \"\")","v":""},null,"",{"$f":"IF(A50<>\"\",#REF!,\"\")","v":""},null,{"$f":"IF(A50<>\"\",    IF(G50=\"Gas\", IF(H50=\"kg\", ((#REF!*Denscalc(I50) +#REF!+#REF!*Denscalc(I50)+#REF!)-F50), ( (#REF!+#REF!/Denscalc(I50) +#REF!+#REF!/Denscalc(I50))-F50)), ( (#REF!*   Denscalc(I50)+#REF!+AL50+#REF!*Denscalc(I50)+#REF!+#REF!)-F50)  ), \"\")","v":""}]
["",43,"","","",null,null,null,null,"","",43,null,{"$f":"IF(AND(K$2>0,M51>0),Calc_Emissions(),\"\")","v":""},null,null,{"$f":"IF(P51>0, Calc_Conversion(Q$6),\"\")","v":""},null,null,{"$f":"IF(S51>0, Calc_Conversion(T$6),\"\")","v":""},43,null,{"$f":"IF(V51>0, Calc_Conversion(W$6),\"\")","v":""},null,null,{"$f":"IF(Y51>0, Calc_Conversion(Z$6),\"\")","v":""},43,null,{"$f":"IF(AB51>0, Calc_Conversion(AC$6),\"\")","v":""},null,null,"",{"$f":"IF(AE51>0, Calc_Conversion_elandheat(AG$4,  AG$6,   AG$4,  AG$6,  AI$4,  AG$4), \"\")","v":""},"",{"$f":"IF(AE51>0, Calc_Conversion_elandheat(AI$4,  1,   AI$4,  AG$6,  AG$4,  AI$4), \"\")","v":""},null,"",{"$f":"IF(A51<>\"\",#REF!,\"\")","v":""},null,{"$f":"IF(A51<>\"\",    IF(G51=\"Gas\", IF(H51=\"kg\", ((#REF!*Denscalc(I51) +#REF!+#REF!*Denscalc(I51)+#REF!)-F51), ( (#REF!+#REF!/Denscalc(I51) +#REF!+#REF!/Denscalc(I51))-F51)), ( (#REF!*   Denscalc(I51)+#REF!+AL51+#REF!*Denscalc(I51)+#REF!+#REF!)-F51)  ), \"\")","v":""}]
["",44,"","","",null,null,null,null,"","",44,null,{"$f":"IF(AND(K$2>0,M52>0),Calc_Emissions(),\"\")","v":""},null,null,{"$f":"IF(P52>0, Calc_Conversion(Q$6),\"\")","v":""},null,null,{"$f":"IF(S52>0, Calc_Conversion(T$6),\"\")","v":""},44,null,{"$f":"IF(V52>0, Calc_Conversion(W$6),\"\")","v":""},null,null,{"$f":"IF(Y52>0, Calc_Conversion(Z$6),\"\")","v":""},44,null,{"$f":"IF(AB52>0, Calc_Conversion(AC$6),\"\")","v":""},null,null,"",{"$f":"IF(AE52>0, Calc_Conversion_elandheat(AG$4,  AG$6,   AG$4,  AG$6,  AI$4,  AG$4), \"\")","v":""},"",{"$f":"IF(AE52>0, Calc_Conversion_elandheat(AI$4,  1,   AI$4,  AG$6,  AG$4,  AI$4), \"\")","v":""},null,"",{"$f":"IF(A52<>\"\",#REF!,\"\")","v":""},null,{"$f":"IF(A52<>\"\",    IF(G52=\"Gas\", IF(H52=\"kg\", ((#REF!*Denscalc(I52) +#REF!+#REF!*Denscalc(I52)+#REF!)-F52), ( (#REF!+#REF!/Denscalc(I52) +#REF!+#REF!/Denscalc(I52))-F52)), ( (#REF!*   Denscalc(I52)+#REF!+AL52+#REF!*Denscalc(I52)+#REF!+#REF!)-F52)  ), \"\")","v":""}]
["",45,"","","",null,null,null,null,"","",45,null,{"$f":"IF(AND(K$2>0,M53>0),Calc_Emissions(),\"\")","v":""},null,null,{"$f":"IF(P53>0, Calc_Conversion(Q$6),\"\")","v":""},null,null,{"$f":"IF(S53>0, Calc_Conversion(T$6),\"\")","v":""},45,null,{"$f":"IF(V53>0, Calc_Conversion(W$6),\"\")","v":""},null,null,{"$f":"IF(Y53>0, Calc_Conversion(Z$6),\"\")","v":""},45,null,{"$f":"IF(AB53>0, Calc_Conversion(AC$6),\"\")","v":""},null,null,"",{"$f":"IF(AE53>0, Calc_Conversion_elandheat(AG$4,  AG$6,   AG$4,  AG$6,  AI$4,  AG$4), \"\")","v":""},"",{"$f":"IF(AE53>0, Calc_Conversion_elandheat(AI$4,  1,   AI$4,  AG$6,  AG$4,  AI$4), \"\")","v":""},null,"",{"$f":"IF(A53<>\"\",#REF!,\"\")","v":""},null,{"$f":"IF(A53<>\"\",    IF(G53=\"Gas\", IF(H53=\"kg\", ((#REF!*Denscalc(I53) +#REF!+#REF!*Denscalc(I53)+#REF!)-F53), ( (#REF!+#REF!/Denscalc(I53) +#REF!+#REF!/Denscalc(I53))-F53)), ( (#REF!*   Denscalc(I53)+#REF!+AL53+#REF!*Denscalc(I53)+#REF!+#REF!)-F53)  ), \"\")","v":""}]
["",46,"","","",null,null,null,null,"","",46,null,{"$f":"IF(AND(K$2>0,M54>0),Calc_Emissions(),\"\")","v":""},null,null,{"$f":"IF(P54>0, Calc_Conversion(Q$6),\"\")","v":""},null,null,{"$f":"IF(S54>0, Calc_Conversion(T$6),\"\")","v":""},46,null,{"$f":"IF(V54>0, Calc_Conversion(W$6),\"\")","v":""},null,null,{"$f":"IF(Y54>0, Calc_Conversion(Z$6),\"\")","v":""},46,null,{"$f":"IF(AB54>0, Calc_Conversion(AC$6),\"\")","v":""},null,null,"",{"$f":"IF(AE54>0, Calc_Conversion_elandheat(AG$4,  AG$6,   AG$4,  AG$6,  AI$4,  AG$4), \"\")","v":""},"",{"$f":"IF(AE54>0, Calc_Conversion_elandheat(AI$4,  1,   AI$4,  AG$6,  AG$4,  AI$4), \"\")","v":""},null,"",{"$f":"IF(A54<>\"\",#REF!,\"\")","v":""},null,{"$f":"IF(A54<>\"\",    IF(G54=\"Gas\", IF(H54=\"kg\", ((#REF!*Denscalc(I54) +#REF!+#REF!*Denscalc(I54)+#REF!)-F54), ( (#REF!+#REF!/Denscalc(I54) +#REF!+#REF!/Denscalc(I54))-F54)), ( (#REF!*   Denscalc(I54)+#REF!+AL54+#REF!*Denscalc(I54)+#REF!+#REF!)-F54)  ), \"\")","v":""}]
["",47,"","","",null,null,null,null,"","",47,null,{"$f":"IF(AND(K$2>0,M55>0),Calc_Emissions(),\"\")","v":""},null,null,{"$f":"IF(P55>0, Calc_Conversion(Q$6),\"\")","v":""},null,null,{"$f":"IF(S55>0, Calc_Conversion(T$6),\"\")","v":""},47,null,{"$f":"IF(V55>0, Calc_Conversion(W$6),\"\")","v":""},null,null,{"$f":"IF(Y55>0, Calc_Conversion(Z$6),\"\")","v":""},47,null,{"$f":"IF(AB55>0, Calc_Conversion(AC$6),\"\")","v":""},null,null,"",{"$f":"IF(AE55>0, Calc_Conversion_elandheat(AG$4,  AG$6,   AG$4,  AG$6,  AI$4,  AG$4), \"\")","v":""},"",{"$f":"IF(AE55>0, Calc_Conversion_elandheat(AI$4,  1,   AI$4,  AG$6,  AG$4,  AI$4), \"\")","v":""},null,"",{"$f":"IF(A55<>\"\",#REF!,\"\")","v":""},null,{"$f":"IF(A55<>\"\",    IF(G55=\"Gas\", IF(H55=\"kg\", ((#REF!*Denscalc(I55) +#REF!+#REF!*Denscalc(I55)+#REF!)-F55), ( (#REF!+#REF!/Denscalc(I55) +#REF!+#REF!/Denscalc(I55))-F55)), ( (#REF!*   Denscalc(I55)+#REF!+AL55+#REF!*Denscalc(I55)+#REF!+#REF!)-F55)  ), \"\")","v":""}]
["",48,"","","",null,null,null,null,"","",48,null,{"$f":"IF(AND(K$2>0,M56>0),Calc_Emissions(),\"\")","v":""},null,null,{"$f":"IF(P56>0, Calc_Conversion(Q$6),\"\")","v":""},null,null,{"$f":"IF(S56>0, Calc_Conversion(T$6),\"\")","v":""},48,null,{"$f":"IF(V56>0, Calc_Conversion(W$6),\"\")","v":""},null,null,{"$f":"IF(Y56>0, Calc_Conversion(Z$6),\"\")","v":""},48,null,{"$f":"IF(AB56>0, Calc_Conversion(AC$6),\"\")","v":""},null,null,"",{"$f":"IF(AE56>0, Calc_Conversion_elandheat(AG$4,  AG$6,   AG$4,  AG$6,  AI$4,  AG$4), \"\")","v":""},"",{"$f":"IF(AE56>0, Calc_Conversion_elandheat(AI$4,  1,   AI$4,  AG$6,  AG$4,  AI$4), \"\")","v":""},null,"",{"$f":"IF(A56<>\"\",#REF!,\"\")","v":""},null,{"$f":"IF(A56<>\"\",    IF(G56=\"Gas\", IF(H56=\"kg\", ((#REF!*Denscalc(I56) +#REF!+#REF!*Denscalc(I56)+#REF!)-F56), ( (#REF!+#REF!/Denscalc(I56) +#REF!+#REF!/Denscalc(I56))-F56)), ( (#REF!*   Denscalc(I56)+#REF!+AL56+#REF!*Denscalc(I56)+#REF!+#REF!)-F56)  ), \"\")","v":""}]
["",49,"","","",null,null,null,null,"","",49,null,{"$f":"IF(AND(K$2>0,M57>0),Calc_Emissions(),\"\")","v":""},null,null,{"$f":"IF(P57>0, Calc_Conversion(Q$6),\"\")","v":""},null,null,{"$f":"IF(S57>0, Calc_Conversion(T$6),\"\")","v":""},49,null,{"$f":"IF(V57>0, Calc_Conversion(W$6),\"\")","v":""},null,null,{"$f":"IF(Y57>0, Calc_Conversion(Z$6),\"\")","v":""},49,null,{"$f":"IF(AB57>0, Calc_Conversion(AC$6),\"\")","v":""},null,null,"",{"$f":"IF(AE57>0, Calc_Conversion_elandheat(AG$4,  AG$6,   AG$4,  AG$6,  AI$4,  AG$4), \"\")","v":""},"",{"$f":"IF(AE57>0, Calc_Conversion_elandheat(AI$4,  1,   AI$4,  AG$6,  AG$4,  AI$4), \"\")","v":""},null,"",{"$f":"IF(A57<>\"\",#REF!,\"\")","v":""},null,{"$f":"IF(A57<>\"\",    IF(G57=\"Gas\", IF(H57=\"kg\", ((#REF!*Denscalc(I57) +#REF!+#REF!*Denscalc(I57)+#REF!)-F57), ( (#REF!+#REF!/Denscalc(I57) +#REF!+#REF!/Denscalc(I57))-F57)), ( (#REF!*   Denscalc(I57)+#REF!+AL57+#REF!*Denscalc(I57)+#REF!+#REF!)-F57)  ), \"\")","v":""}]
["",50,"","","",null,null,null,null,"","",50,null,{"$f":"IF(AND(K$2>0,M58>0),Calc_Emissions(),\"\")","v":""},null,null,{"$f":"IF(P58>0, Calc_Conversion(Q$6),\"\")","v":""},null,null,{"$f":"IF(S58>0, Calc_Conversion(T$6),\"\")","v":""},50,null,{"$f":"IF(V58>0, Calc_Conversion(W$6),\"\")","v":""},null,null,{"$f":"IF(Y58>0, Calc_Conversion(Z$6),\"\")","v":""},50,null,{"$f":"IF(AB58>0, Calc_Conversion(AC$6),\"\")","v":""},null,null,"",{"$f":"IF(AE58>0, Calc_Conversion_elandheat(AG$4,  AG$6,   AG$4,  AG$6,  AI$4,  AG$4), \"\")","v":""},"",{"$f":"IF(AE58>0, Calc_Conversion_elandheat(AI$4,  1,   AI$4,  AG$6,  AG$4,  AI$4), \"\")","v":""},null,"",{"$f":"IF(A58<>\"\",#REF!,\"\")","v":""},null,{"$f":"IF(A58<>\"\",    IF(G58=\"Gas\", IF(H58=\"kg\", ((#REF!*Denscalc(I58) +#REF!+#REF!*Denscalc(I58)+#REF!)-F58), ( (#REF!+#REF!/Denscalc(I58) +#REF!+#REF!/Denscalc(I58))-F58)), ( (#REF!*   Denscalc(I58)+#REF!+AL58+#REF!*Denscalc(I58)+#REF!+#REF!)-F58)  ), \"\")","v":""}]
["",51,"","","",null,null,null,null,"","",51,null,{"$f":"IF(AND(K$2>0,M59>0),Calc_Emissions(),\"\")","v":""},null,null,{"$f":"IF(P59>0, Calc_Conversion(Q$6),\"\")","v":""},null,null,{"$f":"IF(S59>0, Calc_Conversion(T$6),\"\")","v":""},51,null,{"$f":"IF(V59>0, Calc_Conversion(W$6),\"\")","v":""},null,null,{"$f":"IF(Y59>0, Calc_Conversion(Z$6),\"\")","v":""},51,null,{"$f":"IF(AB59>0, Calc_Conversion(AC$6),\"\")","v":""},null,null,"",{"$f":"IF(AE59>0, Calc_Conversion_elandheat(AG$4,  AG$6,   AG$4,  AG$6,  AI$4,  AG$4), \"\")","v":""},"",{"$f":"IF(AE59>0, Calc_Conversion_elandheat(AI$4,  1,   AI$4,  AG$6,  AG$4,  AI$4), \"\")","v":""},null,"",{"$f":"IF(A59<>\"\",#REF!,\"\")","v":""},null,{"$f":"IF(A59<>\"\",    IF(G59=\"Gas\", IF(H59=\"kg\", ((#REF!*Denscalc(I59) +#REF!+#REF!*Denscalc(I59)+#REF!)-F59), ( (#REF!+#REF!/Denscalc(I59) +#REF!+#REF!/Denscalc(I59))-F59)), ( (#REF!*   Denscalc(I59)+#REF!+AL59+#REF!*Denscalc(I59)+#REF!+#REF!)-F59)  ), \"\")","v":""}]
["",52,"","","",null,null,null,null,"","",52,null,{"$f":"IF(AND(K$2>0,M60>0),Calc_Emissions(),\"\")","v":""},null,null,{"$f":"IF(P60>0, Calc_Conversion(Q$6),\"\")","v":""},null,null,{"$f":"IF(S60>0, Calc_Conversion(T$6),\"\")","v":""},52,null,{"$f":"IF(V60>0, Calc_Conversion(W$6),\"\")","v":""},null,null,{"$f":"IF(Y60>0, Calc_Conversion(Z$6),\"\")","v":""},52,null,{"$f":"IF(AB60>0, Calc_Conversion(AC$6),\"\")","v":""},null,null,"",{"$f":"IF(AE60>0, Calc_Conversion_elandheat(AG$4,  AG$6,   AG$4,  AG$6,  AI$4,  AG$4), \"\")","v":""},"",{"$f":"IF(AE60>0, Calc_Conversion_elandheat(AI$4,  1,   AI$4,  AG$6,  AG$4,  AI$4), \"\")","v":""},null,"",{"$f":"IF(A60<>\"\",#REF!,\"\")","v":""},null,{"$f":"IF(A60<>\"\",    IF(G60=\"Gas\", IF(H60=\"kg\", ((#REF!*Denscalc(I60) +#REF!+#REF!*Denscalc(I60)+#REF!)-F60), ( (#REF!+#REF!/Denscalc(I60) +#REF!+#REF!/Denscalc(I60))-F60)), ( (#REF!*   Denscalc(I60)+#REF!+AL60+#REF!*Denscalc(I60)+#REF!+#REF!)-F60)  ), \"\")","v":""}]
["",53,"","","",null,null,null,null,"","",53,null,{"$f":"IF(AND(K$2>0,M61>0),Calc_Emissions(),\"\")","v":""},null,null,{"$f":"IF(P61>0, Calc_Conversion(Q$6),\"\")","v":""},null,null,{"$f":"IF(S61>0, Calc_Conversion(T$6),\"\")","v":""},53,null,{"$f":"IF(V61>0, Calc_Conversion(W$6),\"\")","v":""},null,null,{"$f":"IF(Y61>0, Calc_Conversion(Z$6),\"\")","v":""},53,null,{"$f":"IF(AB61>0, Calc_Conversion(AC$6),\"\")","v":""},null,null,"",{"$f":"IF(AE61>0, Calc_Conversion_elandheat(AG$4,  AG$6,   AG$4,  AG$6,  AI$4,  AG$4), \"\")","v":""},"",{"$f":"IF(AE61>0, Calc_Conversion_elandheat(AI$4,  1,   AI$4,  AG$6,  AG$4,  AI$4), \"\")","v":""},null,"",{"$f":"IF(A61<>\"\",#REF!,\"\")","v":""},null,{"$f":"IF(A61<>\"\",    IF(G61=\"Gas\", IF(H61=\"kg\", ((#REF!*Denscalc(I61) +#REF!+#REF!*Denscalc(I61)+#REF!)-F61), ( (#REF!+#REF!/Denscalc(I61) +#REF!+#REF!/Denscalc(I61))-F61)), ( (#REF!*   Denscalc(I61)+#REF!+AL61+#REF!*Denscalc(I61)+#REF!+#REF!)-F61)  ), \"\")","v":""}]
["",54,"","","",null,null,null,null,"","",54,null,{"$f":"IF(AND(K$2>0,M62>0),Calc_Emissions(),\"\")","v":""},null,null,{"$f":"IF(P62>0, Calc_Conversion(Q$6),\"\")","v":""},null,null,{"$f":"IF(S62>0, Calc_Conversion(T$6),\"\")","v":""},54,null,{"$f":"IF(V62>0, Calc_Conversion(W$6),\"\")","v":""},null,null,{"$f":"IF(Y62>0, Calc_Conversion(Z$6),\"\")","v":""},54,null,{"$f":"IF(AB62>0, Calc_Conversion(AC$6),\"\")","v":""},null,null,"",{"$f":"IF(AE62>0, Calc_Conversion_elandheat(AG$4,  AG$6,   AG$4,  AG$6,  AI$4,  AG$4), \"\")","v":""},"",{"$f":"IF(AE62>0, Calc_Conversion_elandheat(AI$4,  1,   AI$4,  AG$6,  AG$4,  AI$4), \"\")","v":""},null,"",{"$f":"IF(A62<>\"\",#REF!,\"\")","v":""},null,{"$f":"IF(A62<>\"\",    IF(G62=\"Gas\", IF(H62=\"kg\", ((#REF!*Denscalc(I62) +#REF!+#REF!*Denscalc(I62)+#REF!)-F62), ( (#REF!+#REF!/Denscalc(I62) +#REF!+#REF!/Denscalc(I62))-F62)), ( (#REF!*   Denscalc(I62)+#REF!+AL62+#REF!*Denscalc(I62)+#REF!+#REF!)-F62)  ), \"\")","v":""}]
["",55,"","","",null,null,null,null,"","",55,null,{"$f":"IF(AND(K$2>0,M63>0),Calc_Emissions(),\"\")","v":""},null,null,{"$f":"IF(P63>0, Calc_Conversion(Q$6),\"\")","v":""},null,null,{"$f":"IF(S63>0, Calc_Conversion(T$6),\"\")","v":""},55,null,{"$f":"IF(V63>0, Calc_Conversion(W$6),\"\")","v":""},null,null,{"$f":"IF(Y63>0, Calc_Conversion(Z$6),\"\")","v":""},55,null,{"$f":"IF(AB63>0, Calc_Conversion(AC$6),\"\")","v":""},null,null,"",{"$f":"IF(AE63>0, Calc_Conversion_elandheat(AG$4,  AG$6,   AG$4,  AG$6,  AI$4,  AG$4), \"\")","v":""},"",{"$f":"IF(AE63>0, Calc_Conversion_elandheat(AI$4,  1,   AI$4,  AG$6,  AG$4,  AI$4), \"\")","v":""},null,"",{"$f":"IF(A63<>\"\",#REF!,\"\")","v":""},null,{"$f":"IF(A63<>\"\",    IF(G63=\"Gas\", IF(H63=\"kg\", ((#REF!*Denscalc(I63) +#REF!+#REF!*Denscalc(I63)+#REF!)-F63), ( (#REF!+#REF!/Denscalc(I63) +#REF!+#REF!/Denscalc(I63))-F63)), ( (#REF!*   Denscalc(I63)+#REF!+AL63+#REF!*Denscalc(I63)+#REF!+#REF!)-F63)  ), \"\")","v":""}]
["",56,"","","",null,null,null,null,"","",56,null,{"$f":"IF(AND(K$2>0,M64>0),Calc_Emissions(),\"\")","v":""},null,null,{"$f":"IF(P64>0, Calc_Conversion(Q$6),\"\")","v":""},null,null,{"$f":"IF(S64>0, Calc_Conversion(T$6),\"\")","v":""},56,null,{"$f":"IF(V64>0, Calc_Conversion(W$6),\"\")","v":""},null,null,{"$f":"IF(Y64>0, Calc_Conversion(Z$6),\"\")","v":""},56,null,{"$f":"IF(AB64>0, Calc_Conversion(AC$6),\"\")","v":""},null,null,"",{"$f":"IF(AE64>0, Calc_Conversion_elandheat(AG$4,  AG$6,   AG$4,  AG$6,  AI$4,  AG$4), \"\")","v":""},"",{"$f":"IF(AE64>0, Calc_Conversion_elandheat(AI$4,  1,   AI$4,  AG$6,  AG$4,  AI$4), \"\")","v":""},null,"",{"$f":"IF(A64<>\"\",#REF!,\"\")","v":""},null,{"$f":"IF(A64<>\"\",    IF(G64=\"Gas\", IF(H64=\"kg\", ((#REF!*Denscalc(I64) +#REF!+#REF!*Denscalc(I64)+#REF!)-F64), ( (#REF!+#REF!/Denscalc(I64) +#REF!+#REF!/Denscalc(I64))-F64)), ( (#REF!*   Denscalc(I64)+#REF!+AL64+#REF!*Denscalc(I64)+#REF!+#REF!)-F64)  ), \"\")","v":""}]
["",57,"","","",null,null,null,null,"","",57,null,{"$f":"IF(AND(K$2>0,M65>0),Calc_Emissions(),\"\")","v":""},null,null,{"$f":"IF(P65>0, Calc_Conversion(Q$6),\"\")","v":""},null,null,{"$f":"IF(S65>0, Calc_Conversion(T$6),\"\")","v":""},57,null,{"$f":"IF(V65>0, Calc_Conversion(W$6),\"\")","v":""},null,null,{"$f":"IF(Y65>0, Calc_Conversion(Z$6),\"\")","v":""},57,null,{"$f":"IF(AB65>0, Calc_Conversion(AC$6),\"\")","v":""},null,null,"",{"$f":"IF(AE65>0, Calc_Conversion_elandheat(AG$4,  AG$6,   AG$4,  AG$6,  AI$4,  AG$4), \"\")","v":""},"",{"$f":"IF(AE65>0, Calc_Conversion_elandheat(AI$4,  1,   AI$4,  AG$6,  AG$4,  AI$4), \"\")","v":""},null,"",{"$f":"IF(A65<>\"\",#REF!,\"\")","v":""},null,{"$f":"IF(A65<>\"\",    IF(G65=\"Gas\", IF(H65=\"kg\", ((#REF!*Denscalc(I65) +#REF!+#REF!*Denscalc(I65)+#REF!)-F65), ( (#REF!+#REF!/Denscalc(I65) +#REF!+#REF!/Denscalc(I65))-F65)), ( (#REF!*   Denscalc(I65)+#REF!+AL65+#REF!*Denscalc(I65)+#REF!+#REF!)-F65)  ), \"\")","v":""}]
["",58,"","","",null,null,null,null,"","",58,null,{"$f":"IF(AND(K$2>0,M66>0),Calc_Emissions(),\"\")","v":""},null,null,{"$f":"IF(P66>0, Calc_Conversion(Q$6),\"\")","v":""},null,null,{"$f":"IF(S66>0, Calc_Conversion(T$6),\"\")","v":""},58,null,{"$f":"IF(V66>0, Calc_Conversion(W$6),\"\")","v":""},null,null,{"$f":"IF(Y66>0, Calc_Conversion(Z$6),\"\")","v":""},58,null,{"$f":"IF(AB66>0, Calc_Conversion(AC$6),\"\")","v":""},null,null,"",{"$f":"IF(AE66>0, Calc_Conversion_elandheat(AG$4,  AG$6,   AG$4,  AG$6,  AI$4,  AG$4), \"\")","v":""},"",{"$f":"IF(AE66>0, Calc_Conversion_elandheat(AI$4,  1,   AI$4,  AG$6,  AG$4,  AI$4), \"\")","v":""},null,"",{"$f":"IF(A66<>\"\",#REF!,\"\")","v":""},null,{"$f":"IF(A66<>\"\",    IF(G66=\"Gas\", IF(H66=\"kg\", ((#REF!*Denscalc(I66) +#REF!+#REF!*Denscalc(I66)+#REF!)-F66), ( (#REF!+#REF!/Denscalc(I66) +#REF!+#REF!/Denscalc(I66))-F66)), ( (#REF!*   Denscalc(I66)+#REF!+AL66+#REF!*Denscalc(I66)+#REF!+#REF!)-F66)  ), \"\")","v":""}]
["",59,"","","",null,null,null,null,"","",59,null,{"$f":"IF(AND(K$2>0,M67>0),Calc_Emissions(),\"\")","v":""},null,null,{"$f":"IF(P67>0, Calc_Conversion(Q$6),\"\")","v":""},null,null,{"$f":"IF(S67>0, Calc_Conversion(T$6),\"\")","v":""},59,null,{"$f":"IF(V67>0, Calc_Conversion(W$6),\"\")","v":""},null,null,{"$f":"IF(Y67>0, Calc_Conversion(Z$6),\"\")","v":""},59,null,{"$f":"IF(AB67>0, Calc_Conversion(AC$6),\"\")","v":""},null,null,"",{"$f":"IF(AE67>0, Calc_Conversion_elandheat(AG$4,  AG$6,   AG$4,  AG$6,  AI$4,  AG$4), \"\")","v":""},"",{"$f":"IF(AE67>0, Calc_Conversion_elandheat(AI$4,  1,   AI$4,  AG$6,  AG$4,  AI$4), \"\")","v":""},null,"",{"$f":"IF(A67<>\"\",#REF!,\"\")","v":""},null,{"$f":"IF(A67<>\"\",    IF(G67=\"Gas\", IF(H67=\"kg\", ((#REF!*Denscalc(I67) +#REF!+#REF!*Denscalc(I67)+#REF!)-F67), ( (#REF!+#REF!/Denscalc(I67) +#REF!+#REF!/Denscalc(I67))-F67)), ( (#REF!*   Denscalc(I67)+#REF!+AL67+#REF!*Denscalc(I67)+#REF!+#REF!)-F67)  ), \"\")","v":""}]
["",60,"","","",null,null,null,null,"","",60,null,{"$f":"IF(AND(K$2>0,M68>0),Calc_Emissions(),\"\")","v":""},null,null,{"$f":"IF(P68>0, Calc_Conversion(Q$6),\"\")","v":""},null,null,{"$f":"IF(S68>0, Calc_Conversion(T$6),\"\")","v":""},60,null,{"$f":"IF(V68>0, Calc_Conversion(W$6),\"\")","v":""},null,null,{"$f":"IF(Y68>0, Calc_Conversion(Z$6),\"\")","v":""},60,null,{"$f":"IF(AB68>0, Calc_Conversion(AC$6),\"\")","v":""},null,null,"",{"$f":"IF(AE68>0, Calc_Conversion_elandheat(AG$4,  AG$6,   AG$4,  AG$6,  AI$4,  AG$4), \"\")","v":""},"",{"$f":"IF(AE68>0, Calc_Conversion_elandheat(AI$4,  1,   AI$4,  AG$6,  AG$4,  AI$4), \"\")","v":""},null,"",{"$f":"IF(A68<>\"\",#REF!,\"\")","v":""},null,{"$f":"IF(A68<>\"\",    IF(G68=\"Gas\", IF(H68=\"kg\", ((#REF!*Denscalc(I68) +#REF!+#REF!*Denscalc(I68)+#REF!)-F68), ( (#REF!+#REF!/Denscalc(I68) +#REF!+#REF!/Denscalc(I68))-F68)), ( (#REF!*   Denscalc(I68)+#REF!+AL68+#REF!*Denscalc(I68)+#REF!+#REF!)-F68)  ), \"\")","v":""}]
["",61,"","","",null,null,null,null,"","",61,null,{"$f":"IF(AND(K$2>0,M69>0),Calc_Emissions(),\"\")","v":""},null,null,{"$f":"IF(P69>0, Calc_Conversion(Q$6),\"\")","v":""},null,null,{"$f":"IF(S69>0, Calc_Conversion(T$6),\"\")","v":""},61,null,{"$f":"IF(V69>0, Calc_Conversion(W$6),\"\")","v":""},null,null,{"$f":"IF(Y69>0, Calc_Conversion(Z$6),\"\")","v":""},61,null,{"$f":"IF(AB69>0, Calc_Conversion(AC$6),\"\")","v":""},null,null,"",{"$f":"IF(AE69>0, Calc_Conversion_elandheat(AG$4,  AG$6,   AG$4,  AG$6,  AI$4,  AG$4), \"\")","v":""},"",{"$f":"IF(AE69>0, Calc_Conversion_elandheat(AI$4,  1,   AI$4,  AG$6,  AG$4,  AI$4), \"\")","v":""},null,"",{"$f":"IF(A69<>\"\",#REF!,\"\")","v":""},null,{"$f":"IF(A69<>\"\",    IF(G69=\"Gas\", IF(H69=\"kg\", ((#REF!*Denscalc(I69) +#REF!+#REF!*Denscalc(I69)+#REF!)-F69), ( (#REF!+#REF!/Denscalc(I69) +#REF!+#REF!/Denscalc(I69))-F69)), ( (#REF!*   Denscalc(I69)+#REF!+AL69+#REF!*Denscalc(I69)+#REF!+#REF!)-F69)  ), \"\")","v":""}]
["",62,"","","",null,null,null,null,"","",62,null,{"$f":"IF(AND(K$2>0,M70>0),Calc_Emissions(),\"\")","v":""},null,null,{"$f":"IF(P70>0, Calc_Conversion(Q$6),\"\")","v":""},null,null,{"$f":"IF(S70>0, Calc_Conversion(T$6),\"\")","v":""},62,null,{"$f":"IF(V70>0, Calc_Conversion(W$6),\"\")","v":""},null,null,{"$f":"IF(Y70>0, Calc_Conversion(Z$6),\"\")","v":""},62,null,{"$f":"IF(AB70>0, Calc_Conversion(AC$6),\"\")","v":""},null,null,"",{"$f":"IF(AE70>0, Calc_Conversion_elandheat(AG$4,  AG$6,   AG$4,  AG$6,  AI$4,  AG$4), \"\")","v":""},"",{"$f":"IF(AE70>0, Calc_Conversion_elandheat(AI$4,  1,   AI$4,  AG$6,  AG$4,  AI$4), \"\")","v":""},null,"",{"$f":"IF(A70<>\"\",#REF!,\"\")","v":""},null,{"$f":"IF(A70<>\"\",    IF(G70=\"Gas\", IF(H70=\"kg\", ((#REF!*Denscalc(I70) +#REF!+#REF!*Denscalc(I70)+#REF!)-F70), ( (#REF!+#REF!/Denscalc(I70) +#REF!+#REF!/Denscalc(I70))-F70)), ( (#REF!*   Denscalc(I70)+#REF!+AL70+#REF!*Denscalc(I70)+#REF!+#REF!)-F70)  ), \"\")","v":""}]
["",63,"","","",null,null,null,null,"","",63,null,{"$f":"IF(AND(K$2>0,M71>0),Calc_Emissions(),\"\")","v":""},null,null,{"$f":"IF(P71>0, Calc_Conversion(Q$6),\"\")","v":""},null,null,{"$f":"IF(S71>0, Calc_Conversion(T$6),\"\")","v":""},63,null,{"$f":"IF(V71>0, Calc_Conversion(W$6),\"\")","v":""},null,null,{"$f":"IF(Y71>0, Calc_Conversion(Z$6),\"\")","v":""},63,null,{"$f":"IF(AB71>0, Calc_Conversion(AC$6),\"\")","v":""},null,null,"",{"$f":"IF(AE71>0, Calc_Conversion_elandheat(AG$4,  AG$6,   AG$4,  AG$6,  AI$4,  AG$4), \"\")","v":""},"",{"$f":"IF(AE71>0, Calc_Conversion_elandheat(AI$4,  1,   AI$4,  AG$6,  AG$4,  AI$4), \"\")","v":""},null,"",{"$f":"IF(A71<>\"\",#REF!,\"\")","v":""},null,{"$f":"IF(A71<>\"\",    IF(G71=\"Gas\", IF(H71=\"kg\", ((#REF!*Denscalc(I71) +#REF!+#REF!*Denscalc(I71)+#REF!)-F71), ( (#REF!+#REF!/Denscalc(I71) +#REF!+#REF!/Denscalc(I71))-F71)), ( (#REF!*   Denscalc(I71)+#REF!+AL71+#REF!*Denscalc(I71)+#REF!+#REF!)-F71)  ), \"\")","v":""}]
["",64,"","","",null,null,null,null,"","",64,null,{"$f":"IF(AND(K$2>0,M72>0),Calc_Emissions(),\"\")","v":""},null,null,{"$f":"IF(P72>0, Calc_Conversion(Q$6),\"\")","v":""},null,null,{"$f":"IF(S72>0, Calc_Conversion(T$6),\"\")","v":""},64,null,{"$f":"IF(V72>0, Calc_Conversion(W$6),\"\")","v":""},null,null,{"$f":"IF(Y72>0, Calc_Conversion(Z$6),\"\")","v":""},64,null,{"$f":"IF(AB72>0, Calc_Conversion(AC$6),\"\")","v":""},null,null,"",{"$f":"IF(AE72>0, Calc_Conversion_elandheat(AG$4,  AG$6,   AG$4,  AG$6,  AI$4,  AG$4), \"\")","v":""},"",{"$f":"IF(AE72>0, Calc_Conversion_elandheat(AI$4,  1,   AI$4,  AG$6,  AG$4,  AI$4), \"\")","v":""},null,"",{"$f":"IF(A72<>\"\",#REF!,\"\")","v":""},null,{"$f":"IF(A72<>\"\",    IF(G72=\"Gas\", IF(H72=\"kg\", ((#REF!*Denscalc(I72) +#REF!+#REF!*Denscalc(I72)+#REF!)-F72), ( (#REF!+#REF!/Denscalc(I72) +#REF!+#REF!/Denscalc(I72))-F72)), ( (#REF!*   Denscalc(I72)+#REF!+AL72+#REF!*Denscalc(I72)+#REF!+#REF!)-F72)  ), \"\")","v":""}]
["",65,"","","",null,null,null,null,"","",65,null,{"$f":"IF(AND(K$2>0,M73>0),Calc_Emissions(),\"\")","v":""},null,null,{"$f":"IF(P73>0, Calc_Conversion(Q$6),\"\")","v":""},null,null,{"$f":"IF(S73>0, Calc_Conversion(T$6),\"\")","v":""},65,null,{"$f":"IF(V73>0, Calc_Conversion(W$6),\"\")","v":""},null,null,{"$f":"IF(Y73>0, Calc_Conversion(Z$6),\"\")","v":""},65,null,{"$f":"IF(AB73>0, Calc_Conversion(AC$6),\"\")","v":""},null,null,"",{"$f":"IF(AE73>0, Calc_Conversion_elandheat(AG$4,  AG$6,   AG$4,  AG$6,  AI$4,  AG$4), \"\")","v":""},"",{"$f":"IF(AE73>0, Calc_Conversion_elandheat(AI$4,  1,   AI$4,  AG$6,  AG$4,  AI$4), \"\")","v":""},null,"",{"$f":"IF(A73<>\"\",#REF!,\"\")","v":""},null,{"$f":"IF(A73<>\"\",    IF(G73=\"Gas\", IF(H73=\"kg\", ((#REF!*Denscalc(I73) +#REF!+#REF!*Denscalc(I73)+#REF!)-F73), ( (#REF!+#REF!/Denscalc(I73) +#REF!+#REF!/Denscalc(I73))-F73)), ( (#REF!*   Denscalc(I73)+#REF!+AL73+#REF!*Denscalc(I73)+#REF!+#REF!)-F73)  ), \"\")","v":""}]
["",66,"","","",null,null,null,null,"","",66,null,{"$f":"IF(AND(K$2>0,M74>0),Calc_Emissions(),\"\")","v":""},null,null,{"$f":"IF(P74>0, Calc_Conversion(Q$6),\"\")","v":""},null,null,{"$f":"IF(S74>0, Calc_Conversion(T$6),\"\")","v":""},66,null,{"$f":"IF(V74>0, Calc_Conversion(W$6),\"\")","v":""},null,null,{"$f":"IF(Y74>0, Calc_Conversion(Z$6),\"\")","v":""},66,null,{"$f":"IF(AB74>0, Calc_Conversion(AC$6),\"\")","v":""},null,null,"",{"$f":"IF(AE74>0, Calc_Conversion_elandheat(AG$4,  AG$6,   AG$4,  AG$6,  AI$4,  AG$4), \"\")","v":""},"",{"$f":"IF(AE74>0, Calc_Conversion_elandheat(AI$4,  1,   AI$4,  AG$6,  AG$4,  AI$4), \"\")","v":""},null,{"$f":"IF(A74<>\"\", (P74+S74+V74+Y74+AB74+AE74)-F74, \"\")","v":""},{"$f":"IF(A74<>\"\",#REF!,\"\")","v":""},null,{"$f":"IF(A74<>\"\",    IF(G74=\"Gas\", IF(H74=\"kg\", ((#REF!*Denscalc(I74) +#REF!+#REF!*Denscalc(I74)+#REF!)-F74), ( (#REF!+#REF!/Denscalc(I74) +#REF!+#REF!/Denscalc(I74))-F74)), ( (#REF!*   Denscalc(I74)+#REF!+AL74+#REF!*Denscalc(I74)+#REF!+#REF!)-F74)  ), \"\")","v":""}]
["",67,"","","",null,null,null,null,"","",67,null,{"$f":"IF(AND(K$2>0,M75>0),Calc_Emissions(),\"\")","v":""},null,null,{"$f":"IF(P75>0, Calc_Conversion(Q$6),\"\")","v":""},null,null,{"$f":"IF(S75>0, Calc_Conversion(T$6),\"\")","v":""},67,null,{"$f":"IF(V75>0, Calc_Conversion(W$6),\"\")","v":""},null,null,{"$f":"IF(Y75>0, Calc_Conversion(Z$6),\"\")","v":""},67,null,{"$f":"IF(AB75>0, Calc_Conversion(AC$6),\"\")","v":""},null,null,{"$f":"IF(AND($A75<>\"\",AE75>0), AE75/($AG$3+$AI$3)*$AG$3, \"\")","v":""},{"$f":"IF(AE75>0, Calc_Conversion_elandheat(AG$4,  AG$6,   AG$4,  AG$6,  AI$4,  AG$4), \"\")","v":""},{"$f":"IF(AND($A75<>\"\",AE75>0), AE75/($AG$3+$AI$3)*$AI$3, \"\")","v":""},{"$f":"IF(AE75>0, Calc_Conversion_elandheat(AI$4,  1,   AI$4,  AG$6,  AG$4,  AI$4), \"\")","v":""},null,"",{"$f":"IF(A75<>\"\",#REF!,\"\")","v":""},null,{"$f":"IF(A75<>\"\",    IF(G75=\"Gas\", IF(H75=\"kg\", ((#REF!*Denscalc(I75) +#REF!+#REF!*Denscalc(I75)+#REF!)-F75), ( (#REF!+#REF!/Denscalc(I75) +#REF!+#REF!/Denscalc(I75))-F75)), ( (#REF!*   Denscalc(I75)+#REF!+AL75+#REF!*Denscalc(I75)+#REF!+#REF!)-F75)  ), \"\")","v":""}]
["",68,"","","",null,null,null,null,"","",68,null,{"$f":"IF(AND(K$2>0,M76>0),Calc_Emissions(),\"\")","v":""},null,null,{"$f":"IF(P76>0, Calc_Conversion(Q$6),\"\")","v":""},null,null,{"$f":"IF(S76>0, Calc_Conversion(T$6),\"\")","v":""},68,null,{"$f":"IF(V76>0, Calc_Conversion(W$6),\"\")","v":""},null,null,{"$f":"IF(Y76>0, Calc_Conversion(Z$6),\"\")","v":""},68,null,{"$f":"IF(AB76>0, Calc_Conversion(AC$6),\"\")","v":""},null,null,"",{"$f":"IF(AE76>0, Calc_Conversion_elandheat(AG$4,  AG$6,   AG$4,  AG$6,  AI$4,  AG$4), \"\")","v":""},"",{"$f":"IF(AE76>0, Calc_Conversion_elandheat(AI$4,  1,   AI$4,  AG$6,  AG$4,  AI$4), \"\")","v":""},null,"",{"$f":"IF(A76<>\"\",#REF!,\"\")","v":""},null,{"$f":"IF(A76<>\"\",    IF(G76=\"Gas\", IF(H76=\"kg\", ((#REF!*Denscalc(I76) +#REF!+#REF!*Denscalc(I76)+#REF!)-F76), ( (#REF!+#REF!/Denscalc(I76) +#REF!+#REF!/Denscalc(I76))-F76)), ( (#REF!*   Denscalc(I76)+#REF!+AL76+#REF!*Denscalc(I76)+#REF!+#REF!)-F76)  ), \"\")","v":""}]
["",69,"","","",null,null,null,null,"","",69,null,{"$f":"IF(AND(K$2>0,M77>0),Calc_Emissions(),\"\")","v":""},null,null,{"$f":"IF(P77>0, Calc_Conversion(Q$6),\"\")","v":""},null,null,{"$f":"IF(S77>0, Calc_Conversion(T$6),\"\")","v":""},69,null,{"$f":"IF(V77>0, Calc_Conversion(W$6),\"\")","v":""},null,null,{"$f":"IF(Y77>0, Calc_Conversion(Z$6),\"\")","v":""},69,null,{"$f":"IF(AB77>0, Calc_Conversion(AC$6),\"\")","v":""},null,null,"",{"$f":"IF(AE77>0, Calc_Conversion_elandheat(AG$4,  AG$6,   AG$4,  AG$6,  AI$4,  AG$4), \"\")","v":""},"",{"$f":"IF(AE77>0, Calc_Conversion_elandheat(AI$4,  1,   AI$4,  AG$6,  AG$4,  AI$4), \"\")","v":""},null,"",{"$f":"IF(A77<>\"\",#REF!,\"\")","v":""},null,{"$f":"IF(A77<>\"\",    IF(G77=\"Gas\", IF(H77=\"kg\", ((#REF!*Denscalc(I77) +#REF!+#REF!*Denscalc(I77)+#REF!)-F77), ( (#REF!+#REF!/Denscalc(I77) +#REF!+#REF!/Denscalc(I77))-F77)), ( (#REF!*   Denscalc(I77)+#REF!+AL77+#REF!*Denscalc(I77)+#REF!+#REF!)-F77)  ), \"\")","v":""}]
[null,70,null,null,null,null,null,null,null,null,null,70,null,{"$f":"IF(AND(K$2>0,M78>0),Calc_Emissions(),\"\")","v":""},null,null,{"$f":"IF(P78>0, Calc_Conversion(Q$6),\"\")","v":""},null,null,{"$f":"IF(S78>0, Calc_Conversion(T$6),\"\")","v":""},70,null,{"$f":"IF(V78>0, Calc_Conversion(W$6),\"\")","v":""},null,null,{"$f":"IF(Y78>0, Calc_Conversion(Z$6),\"\")","v":""},70,null,{"$f":"IF(AB78>0, Calc_Conversion(AC$6),\"\")","v":""},null,null,"",{"$f":"IF(AE78>0, Calc_Conversion_elandheat(AG$4,  AG$6,   AG$4,  AG$6,  AI$4,  AG$4), \"\")","v":""},"",{"$f":"IF(AE78>0, Calc_Conversion_elandheat(AI$4,  1,   AI$4,  AG$6,  AG$4,  AI$4), \"\")","v":""},null,"",{"$f":"IF(A78<>\"\",#REF!,\"\")","v":""},null,{"$f":"IF(A78<>\"\",    IF(G78=\"Gas\", IF(H78=\"kg\", ((#REF!*Denscalc(I78) +#REF!+#REF!*Denscalc(I78)+#REF!)-F78), ( (#REF!+#REF!/Denscalc(I78) +#REF!+#REF!/Denscalc(I78))-F78)), ( (#REF!*   Denscalc(I78)+#REF!+AL78+#REF!*Denscalc(I78)+#REF!+#REF!)-F78)  ), \"\")","v":""}]
["",71,"","","",null,null,null,null,"","",71,null,{"$f":"IF(AND(K$2>0,M79>0),Calc_Emissions(),\"\")","v":""},null,null,{"$f":"IF(P79>0, Calc_Conversion(Q$6),\"\")","v":""},null,null,{"$f":"IF(S79>0, Calc_Conversion(T$6),\"\")","v":""},71,null,{"$f":"IF(V79>0, Calc_Conversion(W$6),\"\")","v":""},null,null,{"$f":"IF(Y79>0, Calc_Conversion(Z$6),\"\")","v":""},71,null,{"$f":"IF(AB79>0, Calc_Conversion(AC$6),\"\")","v":""},null,null,"",{"$f":"IF(AE79>0, Calc_Conversion_elandheat(AG$4,  AG$6,   AG$4,  AG$6,  AI$4,  AG$4), \"\")","v":""},"",{"$f":"IF(AE79>0, Calc_Conversion_elandheat(AI$4,  1,   AI$4,  AG$6,  AG$4,  AI$4), \"\")","v":""},null,"",{"$f":"IF(A79<>\"\",#REF!,\"\")","v":""},null,{"$f":"IF(A79<>\"\",    IF(G79=\"Gas\", IF(H79=\"kg\", ((#REF!*Denscalc(I79) +#REF!+#REF!*Denscalc(I79)+#REF!)-F79), ( (#REF!+#REF!/Denscalc(I79) +#REF!+#REF!/Denscalc(I79))-F79)), ( (#REF!*   Denscalc(I79)+#REF!+AL79+#REF!*Denscalc(I79)+#REF!+#REF!)-F79)  ), \"\")","v":""}]
["",72,"","","",null,null,null,null,"","",72,null,{"$f":"IF(AND(K$2>0,M80>0),Calc_Emissions(),\"\")","v":""},null,null,{"$f":"IF(P80>0, Calc_Conversion(Q$6),\"\")","v":""},null,null,{"$f":"IF(S80>0, Calc_Conversion(T$6),\"\")","v":""},72,null,{"$f":"IF(V80>0, Calc_Conversion(W$6),\"\")","v":""},null,null,{"$f":"IF(Y80>0, Calc_Conversion(Z$6),\"\")","v":""},72,null,{"$f":"IF(AB80>0, Calc_Conversion(AC$6),\"\")","v":""},null,null,"",{"$f":"IF(AE80>0, Calc_Conversion_elandheat(AG$4,  AG$6,   AG$4,  AG$6,  AI$4,  AG$4), \"\")","v":""},"",{"$f":"IF(AE80>0, Calc_Conversion_elandheat(AI$4,  1,   AI$4,  AG$6,  AG$4,  AI$4), \"\")","v":""},null,"",{"$f":"IF(A80<>\"\",#REF!,\"\")","v":""},null,{"$f":"IF(A80<>\"\",    IF(G80=\"Gas\", IF(H80=\"kg\", ((#REF!*Denscalc(I80) +#REF!+#REF!*Denscalc(I80)+#REF!)-F80), ( (#REF!+#REF!/Denscalc(I80) +#REF!+#REF!/Denscalc(I80))-F80)), ( (#REF!*   Denscalc(I80)+#REF!+AL80+#REF!*Denscalc(I80)+#REF!+#REF!)-F80)  ), \"\")","v":""}]
["",73,"","","",null,null,null,null,"","",73,null,{"$f":"IF(AND(K$2>0,M81>0),Calc_Emissions(),\"\")","v":""},null,null,{"$f":"IF(P81>0, Calc_Conversion(Q$6),\"\")","v":""},null,null,{"$f":"IF(S81>0, Calc_Conversion(T$6),\"\")","v":""},73,null,{"$f":"IF(V81>0, Calc_Conversion(W$6),\"\")","v":""},null,null,{"$f":"IF(Y81>0, Calc_Conversion(Z$6),\"\")","v":""},73,null,{"$f":"IF(AB81>0, Calc_Conversion(AC$6),\"\")","v":""},null,null,"",{"$f":"IF(AE81>0, Calc_Conversion_elandheat(AG$4,  AG$6,   AG$4,  AG$6,  AI$4,  AG$4), \"\")","v":""},"",{"$f":"IF(AE81>0, Calc_Conversion_elandheat(AI$4,  1,   AI$4,  AG$6,  AG$4,  AI$4), \"\")","v":""},null,"",{"$f":"IF(A81<>\"\",#REF!,\"\")","v":""},null,{"$f":"IF(A81<>\"\",    IF(G81=\"Gas\", IF(H81=\"kg\", ((#REF!*Denscalc(I81) +#REF!+#REF!*Denscalc(I81)+#REF!)-F81), ( (#REF!+#REF!/Denscalc(I81) +#REF!+#REF!/Denscalc(I81))-F81)), ( (#REF!*   Denscalc(I81)+#REF!+AL81+#REF!*Denscalc(I81)+#REF!+#REF!)-F81)  ), \"\")","v":""}]
["",74,"","","",null,null,null,null,"","",74,null,{"$f":"IF(AND(K$2>0,M82>0),Calc_Emissions(),\"\")","v":""},null,null,{"$f":"IF(P82>0, Calc_Conversion(Q$6),\"\")","v":""},null,null,{"$f":"IF(S82>0, Calc_Conversion(T$6),\"\")","v":""},74,null,{"$f":"IF(V82>0, Calc_Conversion(W$6),\"\")","v":""},null,null,{"$f":"IF(Y82>0, Calc_Conversion(Z$6),\"\")","v":""},74,null,{"$f":"IF(AB82>0, Calc_Conversion(AC$6),\"\")","v":""},null,null,"",{"$f":"IF(AE82>0, Calc_Conversion_elandheat(AG$4,  AG$6,   AG$4,  AG$6,  AI$4,  AG$4), \"\")","v":""},"",{"$f":"IF(AE82>0, Calc_Conversion_elandheat(AI$4,  1,   AI$4,  AG$6,  AG$4,  AI$4), \"\")","v":""},null,"",{"$f":"IF(A82<>\"\",#REF!,\"\")","v":""},null,{"$f":"IF(A82<>\"\",    IF(G82=\"Gas\", IF(H82=\"kg\", ((#REF!*Denscalc(I82) +#REF!+#REF!*Denscalc(I82)+#REF!)-F82), ( (#REF!+#REF!/Denscalc(I82) +#REF!+#REF!/Denscalc(I82))-F82)), ( (#REF!*   Denscalc(I82)+#REF!+AL82+#REF!*Denscalc(I82)+#REF!+#REF!)-F82)  ), \"\")","v":""}]
["",75,"","","",null,null,null,null,"","",75,null,{"$f":"IF(AND(K$2>0,M83>0),Calc_Emissions(),\"\")","v":""},null,null,{"$f":"IF(P83>0, Calc_Conversion(Q$6),\"\")","v":""},null,null,{"$f":"IF(S83>0, Calc_Conversion(T$6),\"\")","v":""},75,null,{"$f":"IF(V83>0, Calc_Conversion(W$6),\"\")","v":""},null,null,{"$f":"IF(Y83>0, Calc_Conversion(Z$6),\"\")","v":""},75,null,{"$f":"IF(AB83>0, Calc_Conversion(AC$6),\"\")","v":""},null,null,"",{"$f":"IF(AE83>0, Calc_Conversion_elandheat(AG$4,  AG$6,   AG$4,  AG$6,  AI$4,  AG$4), \"\")","v":""},"",{"$f":"IF(AE83>0, Calc_Conversion_elandheat(AI$4,  1,   AI$4,  AG$6,  AG$4,  AI$4), \"\")","v":""},null,"",{"$f":"IF(A83<>\"\",#REF!,\"\")","v":""},null,{"$f":"IF(A83<>\"\",    IF(G83=\"Gas\", IF(H83=\"kg\", ((#REF!*Denscalc(I83) +#REF!+#REF!*Denscalc(I83)+#REF!)-F83), ( (#REF!+#REF!/Denscalc(I83) +#REF!+#REF!/Denscalc(I83))-F83)), ( (#REF!*   Denscalc(I83)+#REF!+AL83+#REF!*Denscalc(I83)+#REF!+#REF!)-F83)  ), \"\")","v":""}]
["",76,"","","",null,null,null,null,"","",76,null,{"$f":"IF(AND(K$2>0,M84>0),Calc_Emissions(),\"\")","v":""},null,null,{"$f":"IF(P84>0, Calc_Conversion(Q$6),\"\")","v":""},null,null,{"$f":"IF(S84>0, Calc_Conversion(T$6),\"\")","v":""},76,null,{"$f":"IF(V84>0, Calc_Conversion(W$6),\"\")","v":""},null,null,{"$f":"IF(Y84>0, Calc_Conversion(Z$6),\"\")","v":""},76,null,{"$f":"IF(AB84>0, Calc_Conversion(AC$6),\"\")","v":""},null,null,"",{"$f":"IF(AE84>0, Calc_Conversion_elandheat(AG$4,  AG$6,   AG$4,  AG$6,  AI$4,  AG$4), \"\")","v":""},"",{"$f":"IF(AE84>0, Calc_Conversion_elandheat(AI$4,  1,   AI$4,  AG$6,  AG$4,  AI$4), \"\")","v":""},null,"",{"$f":"IF(A84<>\"\",#REF!,\"\")","v":""},null,{"$f":"IF(A84<>\"\",    IF(G84=\"Gas\", IF(H84=\"kg\", ((#REF!*Denscalc(I84) +#REF!+#REF!*Denscalc(I84)+#REF!)-F84), ( (#REF!+#REF!/Denscalc(I84) +#REF!+#REF!/Denscalc(I84))-F84)), ( (#REF!*   Denscalc(I84)+#REF!+AL84+#REF!*Denscalc(I84)+#REF!+#REF!)-F84)  ), \"\")","v":""}]
["",77,"","","",null,null,null,null,"","",77,null,{"$f":"IF(AND(K$2>0,M85>0),Calc_Emissions(),\"\")","v":""},null,null,{"$f":"IF(P85>0, Calc_Conversion(Q$6),\"\")","v":""},null,null,{"$f":"IF(S85>0, Calc_Conversion(T$6),\"\")","v":""},77,null,{"$f":"IF(V85>0, Calc_Conversion(W$6),\"\")","v":""},null,null,{"$f":"IF(Y85>0, Calc_Conversion(Z$6),\"\")","v":""},77,null,{"$f":"IF(AB85>0, Calc_Conversion(AC$6),\"\")","v":""},null,null,"",{"$f":"IF(AE85>0, Calc_Conversion_elandheat(AG$4,  AG$6,   AG$4,  AG$6,  AI$4,  AG$4), \"\")","v":""},"",{"$f":"IF(AE85>0, Calc_Conversion_elandheat(AI$4,  1,   AI$4,  AG$6,  AG$4,  AI$4), \"\")","v":""},null,"",{"$f":"IF(A85<>\"\",#REF!,\"\")","v":""},null,{"$f":"IF(A85<>\"\",    IF(G85=\"Gas\", IF(H85=\"kg\", ((#REF!*Denscalc(I85) +#REF!+#REF!*Denscalc(I85)+#REF!)-F85), ( (#REF!+#REF!/Denscalc(I85) +#REF!+#REF!/Denscalc(I85))-F85)), ( (#REF!*   Denscalc(I85)+#REF!+AL85+#REF!*Denscalc(I85)+#REF!+#REF!)-F85)  ), \"\")","v":""}]
["",78,"","","",null,null,null,null,"","",78,null,{"$f":"IF(AND(K$2>0,M86>0),Calc_Emissions(),\"\")","v":""},null,null,{"$f":"IF(P86>0, Calc_Conversion(Q$6),\"\")","v":""},null,null,{"$f":"IF(S86>0, Calc_Conversion(T$6),\"\")","v":""},78,null,{"$f":"IF(V86>0, Calc_Conversion(W$6),\"\")","v":""},null,null,{"$f":"IF(Y86>0, Calc_Conversion(Z$6),\"\")","v":""},78,null,{"$f":"IF(AB86>0, Calc_Conversion(AC$6),\"\")","v":""},null,null,"",{"$f":"IF(AE86>0, Calc_Conversion_elandheat(AG$4,  AG$6,   AG$4,  AG$6,  AI$4,  AG$4), \"\")","v":""},"",{"$f":"IF(AE86>0, Calc_Conversion_elandheat(AI$4,  1,   AI$4,  AG$6,  AG$4,  AI$4), \"\")","v":""},null,"",{"$f":"IF(A86<>\"\",#REF!,\"\")","v":""},null,{"$f":"IF(A86<>\"\",    IF(G86=\"Gas\", IF(H86=\"kg\", ((#REF!*Denscalc(I86) +#REF!+#REF!*Denscalc(I86)+#REF!)-F86), ( (#REF!+#REF!/Denscalc(I86) +#REF!+#REF!/Denscalc(I86))-F86)), ( (#REF!*   Denscalc(I86)+#REF!+AL86+#REF!*Denscalc(I86)+#REF!+#REF!)-F86)  ), \"\")","v":""}]
["",79,"","","",null,null,null,null,"","",79,null,{"$f":"IF(AND(K$2>0,M87>0),Calc_Emissions(),\"\")","v":""},null,null,{"$f":"IF(P87>0, Calc_Conversion(Q$6),\"\")","v":""},null,null,{"$f":"IF(S87>0, Calc_Conversion(T$6),\"\")","v":""},79,null,{"$f":"IF(V87>0, Calc_Conversion(W$6),\"\")","v":""},null,null,{"$f":"IF(Y87>0, Calc_Conversion(Z$6),\"\")","v":""},79,null,{"$f":"IF(AB87>0, Calc_Conversion(AC$6),\"\")","v":""},null,null,"",{"$f":"IF(AE87>0, Calc_Conversion_elandheat(AG$4,  AG$6,   AG$4,  AG$6,  AI$4,  AG$4), \"\")","v":""},"",{"$f":"IF(AE87>0, Calc_Conversion_elandheat(AI$4,  1,   AI$4,  AG$6,  AG$4,  AI$4), \"\")","v":""},null,"",{"$f":"IF(A87<>\"\",#REF!,\"\")","v":""},null,{"$f":"IF(A87<>\"\",    IF(G87=\"Gas\", IF(H87=\"kg\", ((#REF!*Denscalc(I87) +#REF!+#REF!*Denscalc(I87)+#REF!)-F87), ( (#REF!+#REF!/Denscalc(I87) +#REF!+#REF!/Denscalc(I87))-F87)), ( (#REF!*   Denscalc(I87)+#REF!+AL87+#REF!*Denscalc(I87)+#REF!+#REF!)-F87)  ), \"\")","v":""}]
["",80,"","","",null,null,null,null,"","",80,null,{"$f":"IF(AND(K$2>0,M88>0),Calc_Emissions(),\"\")","v":""},null,null,{"$f":"IF(P88>0, Calc_Conversion(Q$6),\"\")","v":""},null,null,{"$f":"IF(S88>0, Calc_Conversion(T$6),\"\")","v":""},80,null,{"$f":"IF(V88>0, Calc_Conversion(W$6),\"\")","v":""},null,null,{"$f":"IF(Y88>0, Calc_Conversion(Z$6),\"\")","v":""},80,null,{"$f":"IF(AB88>0, Calc_Conversion(AC$6),\"\")","v":""},null,null,"",{"$f":"IF(AE88>0, Calc_Conversion_elandheat(AG$4,  AG$6,   AG$4,  AG$6,  AI$4,  AG$4), \"\")","v":""},"",{"$f":"IF(AE88>0, Calc_Conversion_elandheat(AI$4,  1,   AI$4,  AG$6,  AG$4,  AI$4), \"\")","v":""},null,"",{"$f":"IF(A88<>\"\",#REF!,\"\")","v":""},null,{"$f":"IF(A88<>\"\",    IF(G88=\"Gas\", IF(H88=\"kg\", ((#REF!*Denscalc(I88) +#REF!+#REF!*Denscalc(I88)+#REF!)-F88), ( (#REF!+#REF!/Denscalc(I88) +#REF!+#REF!/Denscalc(I88))-F88)), ( (#REF!*   Denscalc(I88)+#REF!+AL88+#REF!*Denscalc(I88)+#REF!+#REF!)-F88)  ), \"\")","v":""}]
["",81,"","","",null,null,null,null,"","",81,null,{"$f":"IF(AND(K$2>0,M89>0),Calc_Emissions(),\"\")","v":""},null,null,{"$f":"IF(P89>0, Calc_Conversion(Q$6),\"\")","v":""},null,null,{"$f":"IF(S89>0, Calc_Conversion(T$6),\"\")","v":""},81,null,{"$f":"IF(V89>0, Calc_Conversion(W$6),\"\")","v":""},null,null,{"$f":"IF(Y89>0, Calc_Conversion(Z$6),\"\")","v":""},81,null,{"$f":"IF(AB89>0, Calc_Conversion(AC$6),\"\")","v":""},null,null,"",{"$f":"IF(AE89>0, Calc_Conversion_elandheat(AG$4,  AG$6,   AG$4,  AG$6,  AI$4,  AG$4), \"\")","v":""},"",{"$f":"IF(AE89>0, Calc_Conversion_elandheat(AI$4,  1,   AI$4,  AG$6,  AG$4,  AI$4), \"\")","v":""},null,"",{"$f":"IF(A89<>\"\",#REF!,\"\")","v":""},null,{"$f":"IF(A89<>\"\",    IF(G89=\"Gas\", IF(H89=\"kg\", ((#REF!*Denscalc(I89) +#REF!+#REF!*Denscalc(I89)+#REF!)-F89), ( (#REF!+#REF!/Denscalc(I89) +#REF!+#REF!/Denscalc(I89))-F89)), ( (#REF!*   Denscalc(I89)+#REF!+AL89+#REF!*Denscalc(I89)+#REF!+#REF!)-F89)  ), \"\")","v":""}]
["",82,"","","",null,null,null,null,"","",82,null,{"$f":"IF(AND(K$2>0,M90>0),Calc_Emissions(),\"\")","v":""},null,null,{"$f":"IF(P90>0, Calc_Conversion(Q$6),\"\")","v":""},null,null,{"$f":"IF(S90>0, Calc_Conversion(T$6),\"\")","v":""},82,null,{"$f":"IF(V90>0, Calc_Conversion(W$6),\"\")","v":""},null,null,{"$f":"IF(Y90>0, Calc_Conversion(Z$6),\"\")","v":""},82,null,{"$f":"IF(AB90>0, Calc_Conversion(AC$6),\"\")","v":""},null,null,"",{"$f":"IF(AE90>0, Calc_Conversion_elandheat(AG$4,  AG$6,   AG$4,  AG$6,  AI$4,  AG$4), \"\")","v":""},"",{"$f":"IF(AE90>0, Calc_Conversion_elandheat(AI$4,  1,   AI$4,  AG$6,  AG$4,  AI$4), \"\")","v":""},null,"",{"$f":"IF(A90<>\"\",#REF!,\"\")","v":""},null,{"$f":"IF(A90<>\"\",    IF(G90=\"Gas\", IF(H90=\"kg\", ((#REF!*Denscalc(I90) +#REF!+#REF!*Denscalc(I90)+#REF!)-F90), ( (#REF!+#REF!/Denscalc(I90) +#REF!+#REF!/Denscalc(I90))-F90)), ( (#REF!*   Denscalc(I90)+#REF!+AL90+#REF!*Denscalc(I90)+#REF!+#REF!)-F90)  ), \"\")","v":""}]
["",83,"","","",null,null,null,null,"","",83,null,{"$f":"IF(AND(K$2>0,M91>0),Calc_Emissions(),\"\")","v":""},null,null,{"$f":"IF(P91>0, Calc_Conversion(Q$6),\"\")","v":""},null,null,{"$f":"IF(S91>0, Calc_Conversion(T$6),\"\")","v":""},83,null,{"$f":"IF(V91>0, Calc_Conversion(W$6),\"\")","v":""},null,null,{"$f":"IF(Y91>0, Calc_Conversion(Z$6),\"\")","v":""},83,null,{"$f":"IF(AB91>0, Calc_Conversion(AC$6),\"\")","v":""},null,null,"",{"$f":"IF(AE91>0, Calc_Conversion_elandheat(AG$4,  AG$6,   AG$4,  AG$6,  AI$4,  AG$4), \"\")","v":""},"",{"$f":"IF(AE91>0, Calc_Conversion_elandheat(AI$4,  1,   AI$4,  AG$6,  AG$4,  AI$4), \"\")","v":""},null,"",{"$f":"IF(A91<>\"\",#REF!,\"\")","v":""},null,{"$f":"IF(A91<>\"\",    IF(G91=\"Gas\", IF(H91=\"kg\", ((#REF!*Denscalc(I91) +#REF!+#REF!*Denscalc(I91)+#REF!)-F91), ( (#REF!+#REF!/Denscalc(I91) +#REF!+#REF!/Denscalc(I91))-F91)), ( (#REF!*   Denscalc(I91)+#REF!+AL91+#REF!*Denscalc(I91)+#REF!+#REF!)-F91)  ), \"\")","v":""}]
["",84,"","","",null,null,null,null,"","",84,null,{"$f":"IF(AND(K$2>0,M92>0),Calc_Emissions(),\"\")","v":""},null,null,{"$f":"IF(P92>0, Calc_Conversion(Q$6),\"\")","v":""},null,null,{"$f":"IF(S92>0, Calc_Conversion(T$6),\"\")","v":""},84,null,{"$f":"IF(V92>0, Calc_Conversion(W$6),\"\")","v":""},null,null,{"$f":"IF(Y92>0, Calc_Conversion(Z$6),\"\")","v":""},84,null,{"$f":"IF(AB92>0, Calc_Conversion(AC$6),\"\")","v":""},null,null,"",{"$f":"IF(AE92>0, Calc_Conversion_elandheat(AG$4,  AG$6,   AG$4,  AG$6,  AI$4,  AG$4), \"\")","v":""},"",{"$f":"IF(AE92>0, Calc_Conversion_elandheat(AI$4,  1,   AI$4,  AG$6,  AG$4,  AI$4), \"\")","v":""},null,"",{"$f":"IF(A92<>\"\",#REF!,\"\")","v":""},null,{"$f":"IF(A92<>\"\",    IF(G92=\"Gas\", IF(H92=\"kg\", ((#REF!*Denscalc(I92) +#REF!+#REF!*Denscalc(I92)+#REF!)-F92), ( (#REF!+#REF!/Denscalc(I92) +#REF!+#REF!/Denscalc(I92))-F92)), ( (#REF!*   Denscalc(I92)+#REF!+AL92+#REF!*Denscalc(I92)+#REF!+#REF!)-F92)  ), \"\")","v":""}]
["",85,"","","",null,null,null,null,"","",85,null,{"$f":"IF(AND(K$2>0,M93>0),Calc_Emissions(),\"\")","v":""},null,null,{"$f":"IF(P93>0, Calc_Conversion(Q$6),\"\")","v":""},null,null,{"$f":"IF(S93>0, Calc_Conversion(T$6),\"\")","v":""},85,null,{"$f":"IF(V93>0, Calc_Conversion(W$6),\"\")","v":""},null,null,{"$f":"IF(Y93>0, Calc_Conversion(Z$6),\"\")","v":""},85,null,{"$f":"IF(AB93>0, Calc_Conversion(AC$6),\"\")","v":""},null,null,"",{"$f":"IF(AE93>0, Calc_Conversion_elandheat(AG$4,  AG$6,   AG$4,  AG$6,  AI$4,  AG$4), \"\")","v":""},"",{"$f":"IF(AE93>0, Calc_Conversion_elandheat(AI$4,  1,   AI$4,  AG$6,  AG$4,  AI$4), \"\")","v":""},null,"",{"$f":"IF(A93<>\"\",#REF!,\"\")","v":""},null,{"$f":"IF(A93<>\"\",    IF(G93=\"Gas\", IF(H93=\"kg\", ((#REF!*Denscalc(I93) +#REF!+#REF!*Denscalc(I93)+#REF!)-F93), ( (#REF!+#REF!/Denscalc(I93) +#REF!+#REF!/Denscalc(I93))-F93)), ( (#REF!*   Denscalc(I93)+#REF!+AL93+#REF!*Denscalc(I93)+#REF!+#REF!)-F93)  ), \"\")","v":""}]
["",86,"","","",null,null,null,null,"","",86,null,{"$f":"IF(AND(K$2>0,M94>0),Calc_Emissions(),\"\")","v":""},null,null,{"$f":"IF(P94>0, Calc_Conversion(Q$6),\"\")","v":""},null,null,{"$f":"IF(S94>0, Calc_Conversion(T$6),\"\")","v":""},86,null,{"$f":"IF(V94>0, Calc_Conversion(W$6),\"\")","v":""},null,null,{"$f":"IF(Y94>0, Calc_Conversion(Z$6),\"\")","v":""},86,null,{"$f":"IF(AB94>0, Calc_Conversion(AC$6),\"\")","v":""},null,null,"",{"$f":"IF(AE94>0, Calc_Conversion_elandheat(AG$4,  AG$6,   AG$4,  AG$6,  AI$4,  AG$4), \"\")","v":""},"",{"$f":"IF(AE94>0, Calc_Conversion_elandheat(AI$4,  1,   AI$4,  AG$6,  AG$4,  AI$4), \"\")","v":""},null,"",{"$f":"IF(A94<>\"\",#REF!,\"\")","v":""},null,{"$f":"IF(A94<>\"\",    IF(G94=\"Gas\", IF(H94=\"kg\", ((#REF!*Denscalc(I94) +#REF!+#REF!*Denscalc(I94)+#REF!)-F94), ( (#REF!+#REF!/Denscalc(I94) +#REF!+#REF!/Denscalc(I94))-F94)), ( (#REF!*   Denscalc(I94)+#REF!+AL94+#REF!*Denscalc(I94)+#REF!+#REF!)-F94)  ), \"\")","v":""}]
["",87,"","","",null,null,null,null,"","",87,null,{"$f":"IF(AND(K$2>0,M95>0),Calc_Emissions(),\"\")","v":""},null,null,{"$f":"IF(P95>0, Calc_Conversion(Q$6),\"\")","v":""},null,null,{"$f":"IF(S95>0, Calc_Conversion(T$6),\"\")","v":""},87,null,{"$f":"IF(V95>0, Calc_Conversion(W$6),\"\")","v":""},null,null,{"$f":"IF(Y95>0, Calc_Conversion(Z$6),\"\")","v":""},87,null,{"$f":"IF(AB95>0, Calc_Conversion(AC$6),\"\")","v":""},null,null,"",{"$f":"IF(AE95>0, Calc_Conversion_elandheat(AG$4,  AG$6,   AG$4,  AG$6,  AI$4,  AG$4), \"\")","v":""},"",{"$f":"IF(AE95>0, Calc_Conversion_elandheat(AI$4,  1,   AI$4,  AG$6,  AG$4,  AI$4), \"\")","v":""},null,"",{"$f":"IF(A95<>\"\",#REF!,\"\")","v":""},null,{"$f":"IF(A95<>\"\",    IF(G95=\"Gas\", IF(H95=\"kg\", ((#REF!*Denscalc(I95) +#REF!+#REF!*Denscalc(I95)+#REF!)-F95), ( (#REF!+#REF!/Denscalc(I95) +#REF!+#REF!/Denscalc(I95))-F95)), ( (#REF!*   Denscalc(I95)+#REF!+AL95+#REF!*Denscalc(I95)+#REF!+#REF!)-F95)  ), \"\")","v":""}]
["",88,"","","",null,null,null,null,"","",88,null,{"$f":"IF(AND(K$2>0,M96>0),Calc_Emissions(),\"\")","v":""},null,null,{"$f":"IF(P96>0, Calc_Conversion(Q$6),\"\")","v":""},null,null,{"$f":"IF(S96>0, Calc_Conversion(T$6),\"\")","v":""},88,null,{"$f":"IF(V96>0, Calc_Conversion(W$6),\"\")","v":""},null,null,{"$f":"IF(Y96>0, Calc_Conversion(Z$6),\"\")","v":""},88,null,{"$f":"IF(AB96>0, Calc_Conversion(AC$6),\"\")","v":""},null,null,"",{"$f":"IF(AE96>0, Calc_Conversion_elandheat(AG$4,  AG$6,   AG$4,  AG$6,  AI$4,  AG$4), \"\")","v":""},"",{"$f":"IF(AE96>0, Calc_Conversion_elandheat(AI$4,  1,   AI$4,  AG$6,  AG$4,  AI$4), \"\")","v":""},null,"",{"$f":"IF(A96<>\"\",#REF!,\"\")","v":""},null,{"$f":"IF(A96<>\"\",    IF(G96=\"Gas\", IF(H96=\"kg\", ((#REF!*Denscalc(I96) +#REF!+#REF!*Denscalc(I96)+#REF!)-F96), ( (#REF!+#REF!/Denscalc(I96) +#REF!+#REF!/Denscalc(I96))-F96)), ( (#REF!*   Denscalc(I96)+#REF!+AL96+#REF!*Denscalc(I96)+#REF!+#REF!)-F96)  ), \"\")","v":""}]
["",89,"","","",null,null,null,null,"","",89,null,{"$f":"IF(AND(K$2>0,M97>0),Calc_Emissions(),\"\")","v":""},null,null,{"$f":"IF(P97>0, Calc_Conversion(Q$6),\"\")","v":""},null,null,{"$f":"IF(S97>0, Calc_Conversion(T$6),\"\")","v":""},89,null,{"$f":"IF(V97>0, Calc_Conversion(W$6),\"\")","v":""},null,null,{"$f":"IF(Y97>0, Calc_Conversion(Z$6),\"\")","v":""},89,null,{"$f":"IF(AB97>0, Calc_Conversion(AC$6),\"\")","v":""},null,null,"",{"$f":"IF(AE97>0, Calc_Conversion_elandheat(AG$4,  AG$6,   AG$4,  AG$6,  AI$4,  AG$4), \"\")","v":""},"",{"$f":"IF(AE97>0, Calc_Conversion_elandheat(AI$4,  1,   AI$4,  AG$6,  AG$4,  AI$4), \"\")","v":""},null,"",{"$f":"IF(A97<>\"\",#REF!,\"\")","v":""},null,{"$f":"IF(A97<>\"\",    IF(G97=\"Gas\", IF(H97=\"kg\", ((#REF!*Denscalc(I97) +#REF!+#REF!*Denscalc(I97)+#REF!)-F97), ( (#REF!+#REF!/Denscalc(I97) +#REF!+#REF!/Denscalc(I97))-F97)), ( (#REF!*   Denscalc(I97)+#REF!+AL97+#REF!*Denscalc(I97)+#REF!+#REF!)-F97)  ), \"\")","v":""}]
["",90,"","","",null,null,null,null,"","",90,null,{"$f":"IF(AND(K$2>0,M98>0),Calc_Emissions(),\"\")","v":""},null,null,{"$f":"IF(P98>0, Calc_Conversion(Q$6),\"\")","v":""},null,null,{"$f":"IF(S98>0, Calc_Conversion(T$6),\"\")","v":""},90,null,{"$f":"IF(V98>0, Calc_Conversion(W$6),\"\")","v":""},null,null,{"$f":"IF(Y98>0, Calc_Conversion(Z$6),\"\")","v":""},90,null,{"$f":"IF(AB98>0, Calc_Conversion(AC$6),\"\")","v":""},null,null,"",{"$f":"IF(AE98>0, Calc_Conversion_elandheat(AG$4,  AG$6,   AG$4,  AG$6,  AI$4,  AG$4), \"\")","v":""},"",{"$f":"IF(AE98>0, Calc_Conversion_elandheat(AI$4,  1,   AI$4,  AG$6,  AG$4,  AI$4), \"\")","v":""},null,"",{"$f":"IF(A98<>\"\",#REF!,\"\")","v":""},null,{"$f":"IF(A98<>\"\",    IF(G98=\"Gas\", IF(H98=\"kg\", ((#REF!*Denscalc(I98) +#REF!+#REF!*Denscalc(I98)+#REF!)-F98), ( (#REF!+#REF!/Denscalc(I98) +#REF!+#REF!/Denscalc(I98))-F98)), ( (#REF!*   Denscalc(I98)+#REF!+AL98+#REF!*Denscalc(I98)+#REF!+#REF!)-F98)  ), \"\")","v":""}]
["",91,"","","",null,null,null,null,"","",91,null,{"$f":"IF(AND(K$2>0,M99>0),Calc_Emissions(),\"\")","v":""},null,null,{"$f":"IF(P99>0, Calc_Conversion(Q$6),\"\")","v":""},null,null,{"$f":"IF(S99>0, Calc_Conversion(T$6),\"\")","v":""},91,null,{"$f":"IF(V99>0, Calc_Conversion(W$6),\"\")","v":""},null,null,{"$f":"IF(Y99>0, Calc_Conversion(Z$6),\"\")","v":""},91,null,{"$f":"IF(AB99>0, Calc_Conversion(AC$6),\"\")","v":""},null,null,"",{"$f":"IF(AE99>0, Calc_Conversion_elandheat(AG$4,  AG$6,   AG$4,  AG$6,  AI$4,  AG$4), \"\")","v":""},"",{"$f":"IF(AE99>0, Calc_Conversion_elandheat(AI$4,  1,   AI$4,  AG$6,  AG$4,  AI$4), \"\")","v":""},null,"",{"$f":"IF(A99<>\"\",#REF!,\"\")","v":""},null,{"$f":"IF(A99<>\"\",    IF(G99=\"Gas\", IF(H99=\"kg\", ((#REF!*Denscalc(I99) +#REF!+#REF!*Denscalc(I99)+#REF!)-F99), ( (#REF!+#REF!/Denscalc(I99) +#REF!+#REF!/Denscalc(I99))-F99)), ( (#REF!*   Denscalc(I99)+#REF!+AL99+#REF!*Denscalc(I99)+#REF!+#REF!)-F99)  ), \"\")","v":""}]
["",92,"","","",null,null,null,null,"","",92,null,{"$f":"IF(AND(K$2>0,M100>0),Calc_Emissions(),\"\")","v":""},null,null,{"$f":"IF(P100>0, Calc_Conversion(Q$6),\"\")","v":""},null,null,{"$f":"IF(S100>0, Calc_Conversion(T$6),\"\")","v":""},92,null,{"$f":"IF(V100>0, Calc_Conversion(W$6),\"\")","v":""},null,null,{"$f":"IF(Y100>0, Calc_Conversion(Z$6),\"\")","v":""},92,null,{"$f":"IF(AB100>0, Calc_Conversion(AC$6),\"\")","v":""},null,null,"",{"$f":"IF(AE100>0, Calc_Conversion_elandheat(AG$4,  AG$6,   AG$4,  AG$6,  AI$4,  AG$4), \"\")","v":""},"",{"$f":"IF(AE100>0, Calc_Conversion_elandheat(AI$4,  1,   AI$4,  AG$6,  AG$4,  AI$4), \"\")","v":""},null,"",{"$f":"IF(A100<>\"\",#REF!,\"\")","v":""},null,{"$f":"IF(A100<>\"\",    IF(G100=\"Gas\", IF(H100=\"kg\", ((#REF!*Denscalc(I100) +#REF!+#REF!*Denscalc(I100)+#REF!)-F100), ( (#REF!+#REF!/Denscalc(I100) +#REF!+#REF!/Denscalc(I100))-F100)), ( (#REF!*   Denscalc(I100)+#REF!+AL100+#REF!*Denscalc(I100)+#REF!+#REF!)-F100)  ), \"\")","v":""}]
["",93,"","","",null,null,null,null,"","",93,null,{"$f":"IF(AND(K$2>0,M101>0),Calc_Emissions(),\"\")","v":""},null,null,{"$f":"IF(P101>0, Calc_Conversion(Q$6),\"\")","v":""},null,null,{"$f":"IF(S101>0, Calc_Conversion(T$6),\"\")","v":""},93,null,{"$f":"IF(V101>0, Calc_Conversion(W$6),\"\")","v":""},null,null,{"$f":"IF(Y101>0, Calc_Conversion(Z$6),\"\")","v":""},93,null,{"$f":"IF(AB101>0, Calc_Conversion(AC$6),\"\")","v":""},null,null,"",{"$f":"IF(AE101>0, Calc_Conversion_elandheat(AG$4,  AG$6,   AG$4,  AG$6,  AI$4,  AG$4), \"\")","v":""},"",{"$f":"IF(AE101>0, Calc_Conversion_elandheat(AI$4,  1,   AI$4,  AG$6,  AG$4,  AI$4), \"\")","v":""},null,"",{"$f":"IF(A101<>\"\",#REF!,\"\")","v":""},null,{"$f":"IF(A101<>\"\",    IF(G101=\"Gas\", IF(H101=\"kg\", ((#REF!*Denscalc(I101) +#REF!+#REF!*Denscalc(I101)+#REF!)-F101), ( (#REF!+#REF!/Denscalc(I101) +#REF!+#REF!/Denscalc(I101))-F101)), ( (#REF!*   Denscalc(I101)+#REF!+AL101+#REF!*Denscalc(I101)+#REF!+#REF!)-F101)  ), \"\")","v":""}]
["",94,"","","",null,null,null,null,"","",94,null,{"$f":"IF(AND(K$2>0,M102>0),Calc_Emissions(),\"\")","v":""},null,null,{"$f":"IF(P102>0, Calc_Conversion(Q$6),\"\")","v":""},null,null,{"$f":"IF(S102>0, Calc_Conversion(T$6),\"\")","v":""},94,null,{"$f":"IF(V102>0, Calc_Conversion(W$6),\"\")","v":""},null,null,{"$f":"IF(Y102>0, Calc_Conversion(Z$6),\"\")","v":""},94,null,{"$f":"IF(AB102>0, Calc_Conversion(AC$6),\"\")","v":""},null,null,"",{"$f":"IF(AE102>0, Calc_Conversion_elandheat(AG$4,  AG$6,   AG$4,  AG$6,  AI$4,  AG$4), \"\")","v":""},"",{"$f":"IF(AE102>0, Calc_Conversion_elandheat(AI$4,  1,   AI$4,  AG$6,  AG$4,  AI$4), \"\")","v":""},null,"",{"$f":"IF(A102<>\"\",#REF!,\"\")","v":""},null,{"$f":"IF(A102<>\"\",    IF(G102=\"Gas\", IF(H102=\"kg\", ((#REF!*Denscalc(I102) +#REF!+#REF!*Denscalc(I102)+#REF!)-F102), ( (#REF!+#REF!/Denscalc(I102) +#REF!+#REF!/Denscalc(I102))-F102)), ( (#REF!*   Denscalc(I102)+#REF!+AL102+#REF!*Denscalc(I102)+#REF!+#REF!)-F102)  ), \"\")","v":""}]
["",95,"","","",null,null,null,null,"","",95,null,{"$f":"IF(AND(K$2>0,M103>0),Calc_Emissions(),\"\")","v":""},null,null,{"$f":"IF(P103>0, Calc_Conversion(Q$6),\"\")","v":""},null,null,{"$f":"IF(S103>0, Calc_Conversion(T$6),\"\")","v":""},95,null,{"$f":"IF(V103>0, Calc_Conversion(W$6),\"\")","v":""},null,null,{"$f":"IF(Y103>0, Calc_Conversion(Z$6),\"\")","v":""},95,null,{"$f":"IF(AB103>0, Calc_Conversion(AC$6),\"\")","v":""},null,null,"",{"$f":"IF(AE103>0, Calc_Conversion_elandheat(AG$4,  AG$6,   AG$4,  AG$6,  AI$4,  AG$4), \"\")","v":""},"",{"$f":"IF(AE103>0, Calc_Conversion_elandheat(AI$4,  1,   AI$4,  AG$6,  AG$4,  AI$4), \"\")","v":""},null,"",{"$f":"IF(A103<>\"\",#REF!,\"\")","v":""},null,{"$f":"IF(A103<>\"\",    IF(G103=\"Gas\", IF(H103=\"kg\", ((#REF!*Denscalc(I103) +#REF!+#REF!*Denscalc(I103)+#REF!)-F103), ( (#REF!+#REF!/Denscalc(I103) +#REF!+#REF!/Denscalc(I103))-F103)), ( (#REF!*   Denscalc(I103)+#REF!+AL103+#REF!*Denscalc(I103)+#REF!+#REF!)-F103)  ), \"\")","v":""}]
["",96,"","","",null,null,null,null,"","",96,null,{"$f":"IF(AND(K$2>0,M104>0),Calc_Emissions(),\"\")","v":""},null,null,{"$f":"IF(P104>0, Calc_Conversion(Q$6),\"\")","v":""},null,null,{"$f":"IF(S104>0, Calc_Conversion(T$6),\"\")","v":""},96,null,{"$f":"IF(V104>0, Calc_Conversion(W$6),\"\")","v":""},null,null,{"$f":"IF(Y104>0, Calc_Conversion(Z$6),\"\")","v":""},96,null,{"$f":"IF(AB104>0, Calc_Conversion(AC$6),\"\")","v":""},null,null,"",{"$f":"IF(AE104>0, Calc_Conversion_elandheat(AG$4,  AG$6,   AG$4,  AG$6,  AI$4,  AG$4), \"\")","v":""},"",{"$f":"IF(AE104>0, Calc_Conversion_elandheat(AI$4,  1,   AI$4,  AG$6,  AG$4,  AI$4), \"\")","v":""},null,"",{"$f":"IF(A104<>\"\",#REF!,\"\")","v":""},null,{"$f":"IF(A104<>\"\",    IF(G104=\"Gas\", IF(H104=\"kg\", ((#REF!*Denscalc(I104) +#REF!+#REF!*Denscalc(I104)+#REF!)-F104), ( (#REF!+#REF!/Denscalc(I104) +#REF!+#REF!/Denscalc(I104))-F104)), ( (#REF!*   Denscalc(I104)+#REF!+AL104+#REF!*Denscalc(I104)+#REF!+#REF!)-F104)  ), \"\")","v":""}]
["",97,"","","",null,null,null,null,"","",97,null,{"$f":"IF(AND(K$2>0,M105>0),Calc_Emissions(),\"\")","v":""},null,null,{"$f":"IF(P105>0, Calc_Conversion(Q$6),\"\")","v":""},null,null,{"$f":"IF(S105>0, Calc_Conversion(T$6),\"\")","v":""},97,null,{"$f":"IF(V105>0, Calc_Conversion(W$6),\"\")","v":""},null,null,{"$f":"IF(Y105>0, Calc_Conversion(Z$6),\"\")","v":""},97,null,{"$f":"IF(AB105>0, Calc_Conversion(AC$6),\"\")","v":""},null,null,"",{"$f":"IF(AE105>0, Calc_Conversion_elandheat(AG$4,  AG$6,   AG$4,  AG$6,  AI$4,  AG$4), \"\")","v":""},"",{"$f":"IF(AE105>0, Calc_Conversion_elandheat(AI$4,  1,   AI$4,  AG$6,  AG$4,  AI$4), \"\")","v":""},null,"",{"$f":"IF(A105<>\"\",#REF!,\"\")","v":""},null,{"$f":"IF(A105<>\"\",    IF(G105=\"Gas\", IF(H105=\"kg\", ((#REF!*Denscalc(I105) +#REF!+#REF!*Denscalc(I105)+#REF!)-F105), ( (#REF!+#REF!/Denscalc(I105) +#REF!+#REF!/Denscalc(I105))-F105)), ( (#REF!*   Denscalc(I105)+#REF!+AL105+#REF!*Denscalc(I105)+#REF!+#REF!)-F105)  ), \"\")","v":""}]
["",98,"","","",null,null,null,null,"","",98,null,{"$f":"IF(AND(K$2>0,M106>0),Calc_Emissions(),\"\")","v":""},null,null,{"$f":"IF(P106>0, Calc_Conversion(Q$6),\"\")","v":""},null,null,{"$f":"IF(S106>0, Calc_Conversion(T$6),\"\")","v":""},98,null,{"$f":"IF(V106>0, Calc_Conversion(W$6),\"\")","v":""},null,null,{"$f":"IF(Y106>0, Calc_Conversion(Z$6),\"\")","v":""},98,null,{"$f":"IF(AB106>0, Calc_Conversion(AC$6),\"\")","v":""},null,null,"",{"$f":"IF(AE106>0, Calc_Conversion_elandheat(AG$4,  AG$6,   AG$4,  AG$6,  AI$4,  AG$4), \"\")","v":""},"",{"$f":"IF(AE106>0, Calc_Conversion_elandheat(AI$4,  1,   AI$4,  AG$6,  AG$4,  AI$4), \"\")","v":""},null,"",{"$f":"IF(A106<>\"\",#REF!,\"\")","v":""},null,{"$f":"IF(A106<>\"\",    IF(G106=\"Gas\", IF(H106=\"kg\", ((#REF!*Denscalc(I106) +#REF!+#REF!*Denscalc(I106)+#REF!)-F106), ( (#REF!+#REF!/Denscalc(I106) +#REF!+#REF!/Denscalc(I106))-F106)), ( (#REF!*   Denscalc(I106)+#REF!+AL106+#REF!*Denscalc(I106)+#REF!+#REF!)-F106)  ), \"\")","v":""}]
["",99,"","","",null,null,null,null,"","",99,null,{"$f":"IF(AND(K$2>0,M107>0),Calc_Emissions(),\"\")","v":""},null,null,{"$f":"IF(P107>0, Calc_Conversion(Q$6),\"\")","v":""},null,null,{"$f":"IF(S107>0, Calc_Conversion(T$6),\"\")","v":""},99,null,{"$f":"IF(V107>0, Calc_Conversion(W$6),\"\")","v":""},null,null,{"$f":"IF(Y107>0, Calc_Conversion(Z$6),\"\")","v":""},99,null,{"$f":"IF(AB107>0, Calc_Conversion(AC$6),\"\")","v":""},null,null,"",{"$f":"IF(AE107>0, Calc_Conversion_elandheat(AG$4,  AG$6,   AG$4,  AG$6,  AI$4,  AG$4), \"\")","v":""},"",{"$f":"IF(AE107>0, Calc_Conversion_elandheat(AI$4,  1,   AI$4,  AG$6,  AG$4,  AI$4), \"\")","v":""},null,"",{"$f":"IF(A107<>\"\",#REF!,\"\")","v":""},null,{"$f":"IF(A107<>\"\",    IF(G107=\"Gas\", IF(H107=\"kg\", ((#REF!*Denscalc(I107) +#REF!+#REF!*Denscalc(I107)+#REF!)-F107), ( (#REF!+#REF!/Denscalc(I107) +#REF!+#REF!/Denscalc(I107))-F107)), ( (#REF!*   Denscalc(I107)+#REF!+AL107+#REF!*Denscalc(I107)+#REF!+#REF!)-F107)  ), \"\")","v":""}]
["",100,"","","",null,null,null,null,"","",100,null,{"$f":"IF(AND(K$2>0,M108>0),Calc_Emissions(),\"\")","v":""},null,null,{"$f":"IF(P108>0, Calc_Conversion(Q$6),\"\")","v":""},null,null,{"$f":"IF(S108>0, Calc_Conversion(T$6),\"\")","v":""},100,null,{"$f":"IF(V108>0, Calc_Conversion(W$6),\"\")","v":""},null,null,{"$f":"IF(Y108>0, Calc_Conversion(Z$6),\"\")","v":""},100,null,{"$f":"IF(AB108>0, Calc_Conversion(AC$6),\"\")","v":""},null,null,"",{"$f":"IF(AE108>0, Calc_Conversion_elandheat(AG$4,  AG$6,   AG$4,  AG$6,  AI$4,  AG$4), \"\")","v":""},"",{"$f":"IF(AE108>0, Calc_Conversion_elandheat(AI$4,  1,   AI$4,  AG$6,  AG$4,  AI$4), \"\")","v":""},null,"",{"$f":"IF(A108<>\"\",#REF!,\"\")","v":""},null,{"$f":"IF(A108<>\"\",    IF(G108=\"Gas\", IF(H108=\"kg\", ((#REF!*Denscalc(I108) +#REF!+#REF!*Denscalc(I108)+#REF!)-F108), ( (#REF!+#REF!/Denscalc(I108) +#REF!+#REF!/Denscalc(I108))-F108)), ( (#REF!*   Denscalc(I108)+#REF!+AL108+#REF!*Denscalc(I108)+#REF!+#REF!)-F108)  ), \"\")","v":""}]
["",101,"","","",null,null,null,null,"","",101,null,{"$f":"IF(AND(K$2>0,M109>0),Calc_Emissions(),\"\")","v":""},null,null,{"$f":"IF(P109>0, Calc_Conversion(Q$6),\"\")","v":""},null,null,{"$f":"IF(S109>0, Calc_Conversion(T$6),\"\")","v":""},101,null,{"$f":"IF(V109>0, Calc_Conversion(W$6),\"\")","v":""},null,null,{"$f":"IF(Y109>0, Calc_Conversion(Z$6),\"\")","v":""},101,null,{"$f":"IF(AB109>0, Calc_Conversion(AC$6),\"\")","v":""},null,null,"",{"$f":"IF(AE109>0, Calc_Conversion_elandheat(AG$4,  AG$6,   AG$4,  AG$6,  AI$4,  AG$4), \"\")","v":""},"",{"$f":"IF(AE109>0, Calc_Conversion_elandheat(AI$4,  1,   AI$4,  AG$6,  AG$4,  AI$4), \"\")","v":""},null,"",{"$f":"IF(A109<>\"\",#REF!,\"\")","v":""},null,{"$f":"IF(A109<>\"\",    IF(G109=\"Gas\", IF(H109=\"kg\", ((#REF!*Denscalc(I109) +#REF!+#REF!*Denscalc(I109)+#REF!)-F109), ( (#REF!+#REF!/Denscalc(I109) +#REF!+#REF!/Denscalc(I109))-F109)), ( (#REF!*   Denscalc(I109)+#REF!+AL109+#REF!*Denscalc(I109)+#REF!+#REF!)-F109)  ), \"\")","v":""}]
["",102,"","","",null,null,null,null,"","",102,null,{"$f":"IF(AND(K$2>0,M110>0),Calc_Emissions(),\"\")","v":""},null,null,{"$f":"IF(P110>0, Calc_Conversion(Q$6),\"\")","v":""},null,null,{"$f":"IF(S110>0, Calc_Conversion(T$6),\"\")","v":""},102,null,{"$f":"IF(V110>0, Calc_Conversion(W$6),\"\")","v":""},null,null,{"$f":"IF(Y110>0, Calc_Conversion(Z$6),\"\")","v":""},102,null,{"$f":"IF(AB110>0, Calc_Conversion(AC$6),\"\")","v":""},null,null,"",{"$f":"IF(AE110>0, Calc_Conversion_elandheat(AG$4,  AG$6,   AG$4,  AG$6,  AI$4,  AG$4), \"\")","v":""},"",{"$f":"IF(AE110>0, Calc_Conversion_elandheat(AI$4,  1,   AI$4,  AG$6,  AG$4,  AI$4), \"\")","v":""},null,"",{"$f":"IF(A110<>\"\",#REF!,\"\")","v":""},null,{"$f":"IF(A110<>\"\",    IF(G110=\"Gas\", IF(H110=\"kg\", ((#REF!*Denscalc(I110) +#REF!+#REF!*Denscalc(I110)+#REF!)-F110), ( (#REF!+#REF!/Denscalc(I110) +#REF!+#REF!/Denscalc(I110))-F110)), ( (#REF!*   Denscalc(I110)+#REF!+AL110+#REF!*Denscalc(I110)+#REF!+#REF!)-F110)  ), \"\")","v":""}]
["",103,"","","",null,null,null,null,"","",103,null,{"$f":"IF(AND(K$2>0,M111>0),Calc_Emissions(),\"\")","v":""},null,null,{"$f":"IF(P111>0, Calc_Conversion(Q$6),\"\")","v":""},null,null,{"$f":"IF(S111>0, Calc_Conversion(T$6),\"\")","v":""},103,null,{"$f":"IF(V111>0, Calc_Conversion(W$6),\"\")","v":""},null,null,{"$f":"IF(Y111>0, Calc_Conversion(Z$6),\"\")","v":""},103,null,{"$f":"IF(AB111>0, Calc_Conversion(AC$6),\"\")","v":""},null,null,"",{"$f":"IF(AE111>0, Calc_Conversion_elandheat(AG$4,  AG$6,   AG$4,  AG$6,  AI$4,  AG$4), \"\")","v":""},"",{"$f":"IF(AE111>0, Calc_Conversion_elandheat(AI$4,  1,   AI$4,  AG$6,  AG$4,  AI$4), \"\")","v":""},null,"",{"$f":"IF(A111<>\"\",#REF!,\"\")","v":""},null,{"$f":"IF(A111<>\"\",    IF(G111=\"Gas\", IF(H111=\"kg\", ((#REF!*Denscalc(I111) +#REF!+#REF!*Denscalc(I111)+#REF!)-F111), ( (#REF!+#REF!/Denscalc(I111) +#REF!+#REF!/Denscalc(I111))-F111)), ( (#REF!*   Denscalc(I111)+#REF!+AL111+#REF!*Denscalc(I111)+#REF!+#REF!)-F111)  ), \"\")","v":""}]
["",104,"","","",null,null,null,null,"","",104,null,{"$f":"IF(AND(K$2>0,M112>0),Calc_Emissions(),\"\")","v":""},null,null,{"$f":"IF(P112>0, Calc_Conversion(Q$6),\"\")","v":""},null,null,{"$f":"IF(S112>0, Calc_Conversion(T$6),\"\")","v":""},104,null,{"$f":"IF(V112>0, Calc_Conversion(W$6),\"\")","v":""},null,null,{"$f":"IF(Y112>0, Calc_Conversion(Z$6),\"\")","v":""},104,null,{"$f":"IF(AB112>0, Calc_Conversion(AC$6),\"\")","v":""},null,null,"",{"$f":"IF(AE112>0, Calc_Conversion_elandheat(AG$4,  AG$6,   AG$4,  AG$6,  AI$4,  AG$4), \"\")","v":""},"",{"$f":"IF(AE112>0, Calc_Conversion_elandheat(AI$4,  1,   AI$4,  AG$6,  AG$4,  AI$4), \"\")","v":""},null,"",{"$f":"IF(A112<>\"\",#REF!,\"\")","v":""},null,{"$f":"IF(A112<>\"\",    IF(G112=\"Gas\", IF(H112=\"kg\", ((#REF!*Denscalc(I112) +#REF!+#REF!*Denscalc(I112)+#REF!)-F112), ( (#REF!+#REF!/Denscalc(I112) +#REF!+#REF!/Denscalc(I112))-F112)), ( (#REF!*   Denscalc(I112)+#REF!+AL112+#REF!*Denscalc(I112)+#REF!+#REF!)-F112)  ), \"\")","v":""}]
["",105,"","","",null,null,null,null,"","",105,null,{"$f":"IF(AND(K$2>0,M113>0),Calc_Emissions(),\"\")","v":""},null,null,{"$f":"IF(P113>0, Calc_Conversion(Q$6),\"\")","v":""},null,null,{"$f":"IF(S113>0, Calc_Conversion(T$6),\"\")","v":""},105,null,{"$f":"IF(V113>0, Calc_Conversion(W$6),\"\")","v":""},null,null,{"$f":"IF(Y113>0, Calc_Conversion(Z$6),\"\")","v":""},105,null,{"$f":"IF(AB113>0, Calc_Conversion(AC$6),\"\")","v":""},null,null,"",{"$f":"IF(AE113>0, Calc_Conversion_elandheat(AG$4,  AG$6,   AG$4,  AG$6,  AI$4,  AG$4), \"\")","v":""},"",{"$f":"IF(AE113>0, Calc_Conversion_elandheat(AI$4,  1,   AI$4,  AG$6,  AG$4,  AI$4), \"\")","v":""},null,"",{"$f":"IF(A113<>\"\",#REF!,\"\")","v":""},null,{"$f":"IF(A113<>\"\",    IF(G113=\"Gas\", IF(H113=\"kg\", ((#REF!*Denscalc(I113) +#REF!+#REF!*Denscalc(I113)+#REF!)-F113), ( (#REF!+#REF!/Denscalc(I113) +#REF!+#REF!/Denscalc(I113))-F113)), ( (#REF!*   Denscalc(I113)+#REF!+AL113+#REF!*Denscalc(I113)+#REF!+#REF!)-F113)  ), \"\")","v":""}]
["",106,"","","",null,null,null,null,"","",106,null,{"$f":"IF(AND(K$2>0,M114>0),Calc_Emissions(),\"\")","v":""},null,null,{"$f":"IF(P114>0, Calc_Conversion(Q$6),\"\")","v":""},null,null,{"$f":"IF(S114>0, Calc_Conversion(T$6),\"\")","v":""},106,null,{"$f":"IF(V114>0, Calc_Conversion(W$6),\"\")","v":""},null,null,{"$f":"IF(Y114>0, Calc_Conversion(Z$6),\"\")","v":""},106,null,{"$f":"IF(AB114>0, Calc_Conversion(AC$6),\"\")","v":""},null,null,"",{"$f":"IF(AE114>0, Calc_Conversion_elandheat(AG$4,  AG$6,   AG$4,  AG$6,  AI$4,  AG$4), \"\")","v":""},"",{"$f":"IF(AE114>0, Calc_Conversion_elandheat(AI$4,  1,   AI$4,  AG$6,  AG$4,  AI$4), \"\")","v":""},null,"",{"$f":"IF(A114<>\"\",#REF!,\"\")","v":""},null,{"$f":"IF(A114<>\"\",    IF(G114=\"Gas\", IF(H114=\"kg\", ((#REF!*Denscalc(I114) +#REF!+#REF!*Denscalc(I114)+#REF!)-F114), ( (#REF!+#REF!/Denscalc(I114) +#REF!+#REF!/Denscalc(I114))-F114)), ( (#REF!*   Denscalc(I114)+#REF!+AL114+#REF!*Denscalc(I114)+#REF!+#REF!)-F114)  ), \"\")","v":""}]
["",107,"","","",null,null,null,null,"","",107,null,{"$f":"IF(AND(K$2>0,M115>0),Calc_Emissions(),\"\")","v":""},null,null,{"$f":"IF(P115>0, Calc_Conversion(Q$6),\"\")","v":""},null,null,{"$f":"IF(S115>0, Calc_Conversion(T$6),\"\")","v":""},107,null,{"$f":"IF(V115>0, Calc_Conversion(W$6),\"\")","v":""},null,null,{"$f":"IF(Y115>0, Calc_Conversion(Z$6),\"\")","v":""},107,null,{"$f":"IF(AB115>0, Calc_Conversion(AC$6),\"\")","v":""},null,null,"",{"$f":"IF(AE115>0, Calc_Conversion_elandheat(AG$4,  AG$6,   AG$4,  AG$6,  AI$4,  AG$4), \"\")","v":""},"",{"$f":"IF(AE115>0, Calc_Conversion_elandheat(AI$4,  1,   AI$4,  AG$6,  AG$4,  AI$4), \"\")","v":""},null,"",{"$f":"IF(A115<>\"\",#REF!,\"\")","v":""},null,{"$f":"IF(A115<>\"\",    IF(G115=\"Gas\", IF(H115=\"kg\", ((#REF!*Denscalc(I115) +#REF!+#REF!*Denscalc(I115)+#REF!)-F115), ( (#REF!+#REF!/Denscalc(I115) +#REF!+#REF!/Denscalc(I115))-F115)), ( (#REF!*   Denscalc(I115)+#REF!+AL115+#REF!*Denscalc(I115)+#REF!+#REF!)-F115)  ), \"\")","v":""}]
["",108,"","","",null,null,null,null,"","",108,null,{"$f":"IF(AND(K$2>0,M116>0),Calc_Emissions(),\"\")","v":""},null,null,{"$f":"IF(P116>0, Calc_Conversion(Q$6),\"\")","v":""},null,null,{"$f":"IF(S116>0, Calc_Conversion(T$6),\"\")","v":""},108,null,{"$f":"IF(V116>0, Calc_Conversion(W$6),\"\")","v":""},null,null,{"$f":"IF(Y116>0, Calc_Conversion(Z$6),\"\")","v":""},108,null,{"$f":"IF(AB116>0, Calc_Conversion(AC$6),\"\")","v":""},null,null,"",{"$f":"IF(AE116>0, Calc_Conversion_elandheat(AG$4,  AG$6,   AG$4,  AG$6,  AI$4,  AG$4), \"\")","v":""},"",{"$f":"IF(AE116>0, Calc_Conversion_elandheat(AI$4,  1,   AI$4,  AG$6,  AG$4,  AI$4), \"\")","v":""},null,"",{"$f":"IF(A116<>\"\",#REF!,\"\")","v":""},null,{"$f":"IF(A116<>\"\",    IF(G116=\"Gas\", IF(H116=\"kg\", ((#REF!*Denscalc(I116) +#REF!+#REF!*Denscalc(I116)+#REF!)-F116), ( (#REF!+#REF!/Denscalc(I116) +#REF!+#REF!/Denscalc(I116))-F116)), ( (#REF!*   Denscalc(I116)+#REF!+AL116+#REF!*Denscalc(I116)+#REF!+#REF!)-F116)  ), \"\")","v":""}]
["",109,"","","",null,null,null,null,"","",109,null,{"$f":"IF(AND(K$2>0,M117>0),Calc_Emissions(),\"\")","v":""},null,null,{"$f":"IF(P117>0, Calc_Conversion(Q$6),\"\")","v":""},null,null,{"$f":"IF(S117>0, Calc_Conversion(T$6),\"\")","v":""},109,null,{"$f":"IF(V117>0, Calc_Conversion(W$6),\"\")","v":""},null,null,{"$f":"IF(Y117>0, Calc_Conversion(Z$6),\"\")","v":""},109,null,{"$f":"IF(AB117>0, Calc_Conversion(AC$6),\"\")","v":""},null,null,"",{"$f":"IF(AE117>0, Calc_Conversion_elandheat(AG$4,  AG$6,   AG$4,  AG$6,  AI$4,  AG$4), \"\")","v":""},"",{"$f":"IF(AE117>0, Calc_Conversion_elandheat(AI$4,  1,   AI$4,  AG$6,  AG$4,  AI$4), \"\")","v":""},null,"",{"$f":"IF(A117<>\"\",#REF!,\"\")","v":""},null,{"$f":"IF(A117<>\"\",    IF(G117=\"Gas\", IF(H117=\"kg\", ((#REF!*Denscalc(I117) +#REF!+#REF!*Denscalc(I117)+#REF!)-F117), ( (#REF!+#REF!/Denscalc(I117) +#REF!+#REF!/Denscalc(I117))-F117)), ( (#REF!*   Denscalc(I117)+#REF!+AL117+#REF!*Denscalc(I117)+#REF!+#REF!)-F117)  ), \"\")","v":""}]
["",110,"","","",null,null,null,null,"","",110,null,{"$f":"IF(AND(K$2>0,M118>0),Calc_Emissions(),\"\")","v":""},null,null,{"$f":"IF(P118>0, Calc_Conversion(Q$6),\"\")","v":""},null,null,{"$f":"IF(S118>0, Calc_Conversion(T$6),\"\")","v":""},110,null,{"$f":"IF(V118>0, Calc_Conversion(W$6),\"\")","v":""},null,null,{"$f":"IF(Y118>0, Calc_Conversion(Z$6),\"\")","v":""},110,null,{"$f":"IF(AB118>0, Calc_Conversion(AC$6),\"\")","v":""},null,null,"",{"$f":"IF(AE118>0, Calc_Conversion_elandheat(AG$4,  AG$6,   AG$4,  AG$6,  AI$4,  AG$4), \"\")","v":""},"",{"$f":"IF(AE118>0, Calc_Conversion_elandheat(AI$4,  1,   AI$4,  AG$6,  AG$4,  AI$4), \"\")","v":""},null,"",{"$f":"IF(A118<>\"\",#REF!,\"\")","v":""},null,{"$f":"IF(A118<>\"\",    IF(G118=\"Gas\", IF(H118=\"kg\", ((#REF!*Denscalc(I118) +#REF!+#REF!*Denscalc(I118)+#REF!)-F118), ( (#REF!+#REF!/Denscalc(I118) +#REF!+#REF!/Denscalc(I118))-F118)), ( (#REF!*   Denscalc(I118)+#REF!+AL118+#REF!*Denscalc(I118)+#REF!+#REF!)-F118)  ), \"\")","v":""}]
["",111,"","","",null,null,null,null,"","",111,null,{"$f":"IF(AND(K$2>0,M119>0),Calc_Emissions(),\"\")","v":""},null,null,{"$f":"IF(P119>0, Calc_Conversion(Q$6),\"\")","v":""},null,null,{"$f":"IF(S119>0, Calc_Conversion(T$6),\"\")","v":""},111,null,{"$f":"IF(V119>0, Calc_Conversion(W$6),\"\")","v":""},null,null,{"$f":"IF(Y119>0, Calc_Conversion(Z$6),\"\")","v":""},111,null,{"$f":"IF(AB119>0, Calc_Conversion(AC$6),\"\")","v":""},null,null,"",{"$f":"IF(AE119>0, Calc_Conversion_elandheat(AG$4,  AG$6,   AG$4,  AG$6,  AI$4,  AG$4), \"\")","v":""},"",{"$f":"IF(AE119>0, Calc_Conversion_elandheat(AI$4,  1,   AI$4,  AG$6,  AG$4,  AI$4), \"\")","v":""},null,"",{"$f":"IF(A119<>\"\",#REF!,\"\")","v":""},null,{"$f":"IF(A119<>\"\",    IF(G119=\"Gas\", IF(H119=\"kg\", ((#REF!*Denscalc(I119) +#REF!+#REF!*Denscalc(I119)+#REF!)-F119), ( (#REF!+#REF!/Denscalc(I119) +#REF!+#REF!/Denscalc(I119))-F119)), ( (#REF!*   Denscalc(I119)+#REF!+AL119+#REF!*Denscalc(I119)+#REF!+#REF!)-F119)  ), \"\")","v":""}]
["",112,"","","",null,null,null,null,"","",112,null,{"$f":"IF(AND(K$2>0,M120>0),Calc_Emissions(),\"\")","v":""},null,null,{"$f":"IF(P120>0, Calc_Conversion(Q$6),\"\")","v":""},null,null,{"$f":"IF(S120>0, Calc_Conversion(T$6),\"\")","v":""},112,null,{"$f":"IF(V120>0, Calc_Conversion(W$6),\"\")","v":""},null,null,{"$f":"IF(Y120>0, Calc_Conversion(Z$6),\"\")","v":""},112,null,{"$f":"IF(AB120>0, Calc_Conversion(AC$6),\"\")","v":""},null,null,"",{"$f":"IF(AE120>0, Calc_Conversion_elandheat(AG$4,  AG$6,   AG$4,  AG$6,  AI$4,  AG$4), \"\")","v":""},"",{"$f":"IF(AE120>0, Calc_Conversion_elandheat(AI$4,  1,   AI$4,  AG$6,  AG$4,  AI$4), \"\")","v":""},null,"",{"$f":"IF(A120<>\"\",#REF!,\"\")","v":""},null,{"$f":"IF(A120<>\"\",    IF(G120=\"Gas\", IF(H120=\"kg\", ((#REF!*Denscalc(I120) +#REF!+#REF!*Denscalc(I120)+#REF!)-F120), ( (#REF!+#REF!/Denscalc(I120) +#REF!+#REF!/Denscalc(I120))-F120)), ( (#REF!*   Denscalc(I120)+#REF!+AL120+#REF!*Denscalc(I120)+#REF!+#REF!)-F120)  ), \"\")","v":""}]
["",113,"","","",null,null,null,null,"","",113,null,{"$f":"IF(AND(K$2>0,M121>0),Calc_Emissions(),\"\")","v":""},null,null,{"$f":"IF(P121>0, Calc_Conversion(Q$6),\"\")","v":""},null,null,{"$f":"IF(S121>0, Calc_Conversion(T$6),\"\")","v":""},113,null,{"$f":"IF(V121>0, Calc_Conversion(W$6),\"\")","v":""},null,null,{"$f":"IF(Y121>0, Calc_Conversion(Z$6),\"\")","v":""},113,null,{"$f":"IF(AB121>0, Calc_Conversion(AC$6),\"\")","v":""},null,null,"",{"$f":"IF(AE121>0, Calc_Conversion_elandheat(AG$4,  AG$6,   AG$4,  AG$6,  AI$4,  AG$4), \"\")","v":""},"",{"$f":"IF(AE121>0, Calc_Conversion_elandheat(AI$4,  1,   AI$4,  AG$6,  AG$4,  AI$4), \"\")","v":""},null,"",{"$f":"IF(A121<>\"\",#REF!,\"\")","v":""},null,{"$f":"IF(A121<>\"\",    IF(G121=\"Gas\", IF(H121=\"kg\", ((#REF!*Denscalc(I121) +#REF!+#REF!*Denscalc(I121)+#REF!)-F121), ( (#REF!+#REF!/Denscalc(I121) +#REF!+#REF!/Denscalc(I121))-F121)), ( (#REF!*   Denscalc(I121)+#REF!+AL121+#REF!*Denscalc(I121)+#REF!+#REF!)-F121)  ), \"\")","v":""}]
["",114,"","","",null,null,null,null,"","",114,null,{"$f":"IF(AND(K$2>0,M122>0),Calc_Emissions(),\"\")","v":""},null,null,{"$f":"IF(P122>0, Calc_Conversion(Q$6),\"\")","v":""},null,null,{"$f":"IF(S122>0, Calc_Conversion(T$6),\"\")","v":""},114,null,{"$f":"IF(V122>0, Calc_Conversion(W$6),\"\")","v":""},null,null,{"$f":"IF(Y122>0, Calc_Conversion(Z$6),\"\")","v":""},114,null,{"$f":"IF(AB122>0, Calc_Conversion(AC$6),\"\")","v":""},null,null,"",{"$f":"IF(AE122>0, Calc_Conversion_elandheat(AG$4,  AG$6,   AG$4,  AG$6,  AI$4,  AG$4), \"\")","v":""},"",{"$f":"IF(AE122>0, Calc_Conversion_elandheat(AI$4,  1,   AI$4,  AG$6,  AG$4,  AI$4), \"\")","v":""},null,"",{"$f":"IF(A122<>\"\",#REF!,\"\")","v":""},null,{"$f":"IF(A122<>\"\",    IF(G122=\"Gas\", IF(H122=\"kg\", ((#REF!*Denscalc(I122) +#REF!+#REF!*Denscalc(I122)+#REF!)-F122), ( (#REF!+#REF!/Denscalc(I122) +#REF!+#REF!/Denscalc(I122))-F122)), ( (#REF!*   Denscalc(I122)+#REF!+AL122+#REF!*Denscalc(I122)+#REF!+#REF!)-F122)  ), \"\")","v":""}]
["",115,"","","",null,null,null,null,"","",115,null,{"$f":"IF(AND(K$2>0,M123>0),Calc_Emissions(),\"\")","v":""},null,null,{"$f":"IF(P123>0, Calc_Conversion(Q$6),\"\")","v":""},null,null,{"$f":"IF(S123>0, Calc_Conversion(T$6),\"\")","v":""},115,null,{"$f":"IF(V123>0, Calc_Conversion(W$6),\"\")","v":""},null,null,{"$f":"IF(Y123>0, Calc_Conversion(Z$6),\"\")","v":""},115,null,{"$f":"IF(AB123>0, Calc_Conversion(AC$6),\"\")","v":""},null,null,"",{"$f":"IF(AE123>0, Calc_Conversion_elandheat(AG$4,  AG$6,   AG$4,  AG$6,  AI$4,  AG$4), \"\")","v":""},"",{"$f":"IF(AE123>0, Calc_Conversion_elandheat(AI$4,  1,   AI$4,  AG$6,  AG$4,  AI$4), \"\")","v":""},null,"",{"$f":"IF(A123<>\"\",#REF!,\"\")","v":""},null,{"$f":"IF(A123<>\"\",    IF(G123=\"Gas\", IF(H123=\"kg\", ((#REF!*Denscalc(I123) +#REF!+#REF!*Denscalc(I123)+#REF!)-F123), ( (#REF!+#REF!/Denscalc(I123) +#REF!+#REF!/Denscalc(I123))-F123)), ( (#REF!*   Denscalc(I123)+#REF!+AL123+#REF!*Denscalc(I123)+#REF!+#REF!)-F123)  ), \"\")","v":""}]
["",116,"","","",null,null,null,null,"","",116,null,{"$f":"IF(AND(K$2>0,M124>0),Calc_Emissions(),\"\")","v":""},null,null,{"$f":"IF(P124>0, Calc_Conversion(Q$6),\"\")","v":""},null,null,{"$f":"IF(S124>0, Calc_Conversion(T$6),\"\")","v":""},116,null,{"$f":"IF(V124>0, Calc_Conversion(W$6),\"\")","v":""},null,null,{"$f":"IF(Y124>0, Calc_Conversion(Z$6),\"\")","v":""},116,null,{"$f":"IF(AB124>0, Calc_Conversion(AC$6),\"\")","v":""},null,null,"",{"$f":"IF(AE124>0, Calc_Conversion_elandheat(AG$4,  AG$6,   AG$4,  AG$6,  AI$4,  AG$4), \"\")","v":""},"",{"$f":"IF(AE124>0, Calc_Conversion_elandheat(AI$4,  1,   AI$4,  AG$6,  AG$4,  AI$4), \"\")","v":""},null,"",{"$f":"IF(A124<>\"\",#REF!,\"\")","v":""},null,{"$f":"IF(A124<>\"\",    IF(G124=\"Gas\", IF(H124=\"kg\", ((#REF!*Denscalc(I124) +#REF!+#REF!*Denscalc(I124)+#REF!)-F124), ( (#REF!+#REF!/Denscalc(I124) +#REF!+#REF!/Denscalc(I124))-F124)), ( (#REF!*   Denscalc(I124)+#REF!+AL124+#REF!*Denscalc(I124)+#REF!+#REF!)-F124)  ), \"\")","v":""}]
["",117,"","","",null,null,null,null,"","",117,null,{"$f":"IF(AND(K$2>0,M125>0),Calc_Emissions(),\"\")","v":""},null,null,{"$f":"IF(P125>0, Calc_Conversion(Q$6),\"\")","v":""},null,null,{"$f":"IF(S125>0, Calc_Conversion(T$6),\"\")","v":""},117,null,{"$f":"IF(V125>0, Calc_Conversion(W$6),\"\")","v":""},null,null,{"$f":"IF(Y125>0, Calc_Conversion(Z$6),\"\")","v":""},117,null,{"$f":"IF(AB125>0, Calc_Conversion(AC$6),\"\")","v":""},null,null,"",{"$f":"IF(AE125>0, Calc_Conversion_elandheat(AG$4,  AG$6,   AG$4,  AG$6,  AI$4,  AG$4), \"\")","v":""},"",{"$f":"IF(AE125>0, Calc_Conversion_elandheat(AI$4,  1,   AI$4,  AG$6,  AG$4,  AI$4), \"\")","v":""},null,"",{"$f":"IF(A125<>\"\",#REF!,\"\")","v":""},null,{"$f":"IF(A125<>\"\",    IF(G125=\"Gas\", IF(H125=\"kg\", ((#REF!*Denscalc(I125) +#REF!+#REF!*Denscalc(I125)+#REF!)-F125), ( (#REF!+#REF!/Denscalc(I125) +#REF!+#REF!/Denscalc(I125))-F125)), ( (#REF!*   Denscalc(I125)+#REF!+AL125+#REF!*Denscalc(I125)+#REF!+#REF!)-F125)  ), \"\")","v":""}]
["",118,"","","",null,null,null,null,"","",118,null,{"$f":"IF(AND(K$2>0,M126>0),Calc_Emissions(),\"\")","v":""},null,null,{"$f":"IF(P126>0, Calc_Conversion(Q$6),\"\")","v":""},null,null,{"$f":"IF(S126>0, Calc_Conversion(T$6),\"\")","v":""},118,null,{"$f":"IF(V126>0, Calc_Conversion(W$6),\"\")","v":""},null,null,{"$f":"IF(Y126>0, Calc_Conversion(Z$6),\"\")","v":""},118,null,{"$f":"IF(AB126>0, Calc_Conversion(AC$6),\"\")","v":""},null,null,"",{"$f":"IF(AE126>0, Calc_Conversion_elandheat(AG$4,  AG$6,   AG$4,  AG$6,  AI$4,  AG$4), \"\")","v":""},"",{"$f":"IF(AE126>0, Calc_Conversion_elandheat(AI$4,  1,   AI$4,  AG$6,  AG$4,  AI$4), \"\")","v":""},null,"",{"$f":"IF(A126<>\"\",#REF!,\"\")","v":""},null,{"$f":"IF(A126<>\"\",    IF(G126=\"Gas\", IF(H126=\"kg\", ((#REF!*Denscalc(I126) +#REF!+#REF!*Denscalc(I126)+#REF!)-F126), ( (#REF!+#REF!/Denscalc(I126) +#REF!+#REF!/Denscalc(I126))-F126)), ( (#REF!*   Denscalc(I126)+#REF!+AL126+#REF!*Denscalc(I126)+#REF!+#REF!)-F126)  ), \"\")","v":""}]
["",119,"","","",null,null,null,null,"","",119,null,{"$f":"IF(AND(K$2>0,M127>0),Calc_Emissions(),\"\")","v":""},null,null,{"$f":"IF(P127>0, Calc_Conversion(Q$6),\"\")","v":""},null,null,{"$f":"IF(S127>0, Calc_Conversion(T$6),\"\")","v":""},119,null,{"$f":"IF(V127>0, Calc_Conversion(W$6),\"\")","v":""},null,null,{"$f":"IF(Y127>0, Calc_Conversion(Z$6),\"\")","v":""},119,null,{"$f":"IF(AB127>0, Calc_Conversion(AC$6),\"\")","v":""},null,null,"",{"$f":"IF(AE127>0, Calc_Conversion_elandheat(AG$4,  AG$6,   AG$4,  AG$6,  AI$4,  AG$4), \"\")","v":""},"",{"$f":"IF(AE127>0, Calc_Conversion_elandheat(AI$4,  1,   AI$4,  AG$6,  AG$4,  AI$4), \"\")","v":""},null,"",{"$f":"IF(A127<>\"\",#REF!,\"\")","v":""},null,{"$f":"IF(A127<>\"\",    IF(G127=\"Gas\", IF(H127=\"kg\", ((#REF!*Denscalc(I127) +#REF!+#REF!*Denscalc(I127)+#REF!)-F127), ( (#REF!+#REF!/Denscalc(I127) +#REF!+#REF!/Denscalc(I127))-F127)), ( (#REF!*   Denscalc(I127)+#REF!+AL127+#REF!*Denscalc(I127)+#REF!+#REF!)-F127)  ), \"\")","v":""}]
["",120,"","","",null,null,null,null,"","",120,null,{"$f":"IF(AND(K$2>0,M128>0),Calc_Emissions(),\"\")","v":""},null,null,{"$f":"IF(P128>0, Calc_Conversion(Q$6),\"\")","v":""},null,null,{"$f":"IF(S128>0, Calc_Conversion(T$6),\"\")","v":""},120,null,{"$f":"IF(V128>0, Calc_Conversion(W$6),\"\")","v":""},null,null,{"$f":"IF(Y128>0, Calc_Conversion(Z$6),\"\")","v":""},120,null,{"$f":"IF(AB128>0, Calc_Conversion(AC$6),\"\")","v":""},null,null,"",{"$f":"IF(AE128>0, Calc_Conversion_elandheat(AG$4,  AG$6,   AG$4,  AG$6,  AI$4,  AG$4), \"\")","v":""},"",{"$f":"IF(AE128>0, Calc_Conversion_elandheat(AI$4,  1,   AI$4,  AG$6,  AG$4,  AI$4), \"\")","v":""},null,"",{"$f":"IF(A128<>\"\",#REF!,\"\")","v":""},null,{"$f":"IF(A128<>\"\",    IF(G128=\"Gas\", IF(H128=\"kg\", ((#REF!*Denscalc(I128) +#REF!+#REF!*Denscalc(I128)+#REF!)-F128), ( (#REF!+#REF!/Denscalc(I128) +#REF!+#REF!/Denscalc(I128))-F128)), ( (#REF!*   Denscalc(I128)+#REF!+AL128+#REF!*Denscalc(I128)+#REF!+#REF!)-F128)  ), \"\")","v":""}]
["",121,"","","",null,null,null,null,"","",121,null,{"$f":"IF(AND(K$2>0,M129>0),Calc_Emissions(),\"\")","v":""},null,null,{"$f":"IF(P129>0, Calc_Conversion(Q$6),\"\")","v":""},null,null,{"$f":"IF(S129>0, Calc_Conversion(T$6),\"\")","v":""},121,null,{"$f":"IF(V129>0, Calc_Conversion(W$6),\"\")","v":""},null,null,{"$f":"IF(Y129>0, Calc_Conversion(Z$6),\"\")","v":""},121,null,{"$f":"IF(AB129>0, Calc_Conversion(AC$6),\"\")","v":""},null,null,"",{"$f":"IF(AE129>0, Calc_Conversion_elandheat(AG$4,  AG$6,   AG$4,  AG$6,  AI$4,  AG$4), \"\")","v":""},"",{"$f":"IF(AE129>0, Calc_Conversion_elandheat(AI$4,  1,   AI$4,  AG$6,  AG$4,  AI$4), \"\")","v":""},null,"",{"$f":"IF(A129<>\"\",#REF!,\"\")","v":""},null,{"$f":"IF(A129<>\"\",    IF(G129=\"Gas\", IF(H129=\"kg\", ((#REF!*Denscalc(I129) +#REF!+#REF!*Denscalc(I129)+#REF!)-F129), ( (#REF!+#REF!/Denscalc(I129) +#REF!+#REF!/Denscalc(I129))-F129)), ( (#REF!*   Denscalc(I129)+#REF!+AL129+#REF!*Denscalc(I129)+#REF!+#REF!)-F129)  ), \"\")","v":""}]
["",122,"","","",null,null,null,null,"","",122,null,{"$f":"IF(AND(K$2>0,M130>0),Calc_Emissions(),\"\")","v":""},null,null,{"$f":"IF(P130>0, Calc_Conversion(Q$6),\"\")","v":""},null,null,{"$f":"IF(S130>0, Calc_Conversion(T$6),\"\")","v":""},122,null,{"$f":"IF(V130>0, Calc_Conversion(W$6),\"\")","v":""},null,null,{"$f":"IF(Y130>0, Calc_Conversion(Z$6),\"\")","v":""},122,null,{"$f":"IF(AB130>0, Calc_Conversion(AC$6),\"\")","v":""},null,null,"",{"$f":"IF(AE130>0, Calc_Conversion_elandheat(AG$4,  AG$6,   AG$4,  AG$6,  AI$4,  AG$4), \"\")","v":""},"",{"$f":"IF(AE130>0, Calc_Conversion_elandheat(AI$4,  1,   AI$4,  AG$6,  AG$4,  AI$4), \"\")","v":""},null,"",{"$f":"IF(A130<>\"\",#REF!,\"\")","v":""},null,{"$f":"IF(A130<>\"\",    IF(G130=\"Gas\", IF(H130=\"kg\", ((#REF!*Denscalc(I130) +#REF!+#REF!*Denscalc(I130)+#REF!)-F130), ( (#REF!+#REF!/Denscalc(I130) +#REF!+#REF!/Denscalc(I130))-F130)), ( (#REF!*   Denscalc(I130)+#REF!+AL130+#REF!*Denscalc(I130)+#REF!+#REF!)-F130)  ), \"\")","v":""}]
["",123,"","","",null,null,null,null,"","",123,null,{"$f":"IF(AND(K$2>0,M131>0),Calc_Emissions(),\"\")","v":""},null,null,{"$f":"IF(P131>0, Calc_Conversion(Q$6),\"\")","v":""},null,null,{"$f":"IF(S131>0, Calc_Conversion(T$6),\"\")","v":""},123,null,{"$f":"IF(V131>0, Calc_Conversion(W$6),\"\")","v":""},null,null,{"$f":"IF(Y131>0, Calc_Conversion(Z$6),\"\")","v":""},123,null,{"$f":"IF(AB131>0, Calc_Conversion(AC$6),\"\")","v":""},null,null,"",{"$f":"IF(AE131>0, Calc_Conversion_elandheat(AG$4,  AG$6,   AG$4,  AG$6,  AI$4,  AG$4), \"\")","v":""},"",{"$f":"IF(AE131>0, Calc_Conversion_elandheat(AI$4,  1,   AI$4,  AG$6,  AG$4,  AI$4), \"\")","v":""},null,""]
["",124,"","","",null,null,null,null,"","",124,null,{"$f":"IF(AND(K$2>0,M132>0),Calc_Emissions(),\"\")","v":""},null,null,{"$f":"IF(P132>0, Calc_Conversion(Q$6),\"\")","v":""},null,null,{"$f":"IF(S132>0, Calc_Conversion(T$6),\"\")","v":""},124,null,{"$f":"IF(V132>0, Calc_Conversion(W$6),\"\")","v":""},null,null,{"$f":"IF(Y132>0, Calc_Conversion(Z$6),\"\")","v":""},124,null,{"$f":"IF(AB132>0, Calc_Conversion(AC$6),\"\")","v":""},null,null,"",{"$f":"IF(AE132>0, Calc_Conversion_elandheat(AG$4,  AG$6,   AG$4,  AG$6,  AI$4,  AG$4), \"\")","v":""},"",{"$f":"IF(AE132>0, Calc_Conversion_elandheat(AI$4,  1,   AI$4,  AG$6,  AG$4,  AI$4), \"\")","v":""},null,""]
["",125,"","","",null,null,null,null,"","",125,null,{"$f":"IF(AND(K$2>0,M133>0),Calc_Emissions(),\"\")","v":""},null,null,{"$f":"IF(P133>0, Calc_Conversion(Q$6),\"\")","v":""},null,null,{"$f":"IF(S133>0, Calc_Conversion(T$6),\"\")","v":""},125,null,{"$f":"IF(V133>0, Calc_Conversion(W$6),\"\")","v":""},null,null,{"$f":"IF(Y133>0, Calc_Conversion(Z$6),\"\")","v":""},125,null,{"$f":"IF(AB133>0, Calc_Conversion(AC$6),\"\")","v":""},null,null,"",{"$f":"IF(AE133>0, Calc_Conversion_elandheat(AG$4,  AG$6,   AG$4,  AG$6,  AI$4,  AG$4), \"\")","v":""},"",{"$f":"IF(AE133>0, Calc_Conversion_elandheat(AI$4,  1,   AI$4,  AG$6,  AG$4,  AI$4), \"\")","v":""},null,""]
["",126,"","","",null,null,null,null,"","",126,null,{"$f":"IF(AND(K$2>0,M134>0),Calc_Emissions(),\"\")","v":""},null,null,{"$f":"IF(P134>0, Calc_Conversion(Q$6),\"\")","v":""},null,null,{"$f":"IF(S134>0, Calc_Conversion(T$6),\"\")","v":""},126,null,{"$f":"IF(V134>0, Calc_Conversion(W$6),\"\")","v":""},null,null,{"$f":"IF(Y134>0, Calc_Conversion(Z$6),\"\")","v":""},126,null,{"$f":"IF(AB134>0, Calc_Conversion(AC$6),\"\")","v":""},null,null,"",{"$f":"IF(AE134>0, Calc_Conversion_elandheat(AG$4,  AG$6,   AG$4,  AG$6,  AI$4,  AG$4), \"\")","v":""},"",{"$f":"IF(AE134>0, Calc_Conversion_elandheat(AI$4,  1,   AI$4,  AG$6,  AG$4,  AI$4), \"\")","v":""},null,""]
["",127,"","","",null,null,null,null,"","",127,null,{"$f":"IF(AND(K$2>0,M135>0),Calc_Emissions(),\"\")","v":""},null,null,{"$f":"IF(P135>0, Calc_Conversion(Q$6),\"\")","v":""},null,null,{"$f":"IF(S135>0, Calc_Conversion(T$6),\"\")","v":""},127,null,{"$f":"IF(V135>0, Calc_Conversion(W$6),\"\")","v":""},null,null,{"$f":"IF(Y135>0, Calc_Conversion(Z$6),\"\")","v":""},127,null,{"$f":"IF(AB135>0, Calc_Conversion(AC$6),\"\")","v":""},null,null,"",{"$f":"IF(AE135>0, Calc_Conversion_elandheat(AG$4,  AG$6,   AG$4,  AG$6,  AI$4,  AG$4), \"\")","v":""},"",{"$f":"IF(AE135>0, Calc_Conversion_elandheat(AI$4,  1,   AI$4,  AG$6,  AG$4,  AI$4), \"\")","v":""},null,""]
["",128,"","","",null,null,null,null,"","",128,null,{"$f":"IF(AND(K$2>0,M136>0),Calc_Emissions(),\"\")","v":""},null,null,{"$f":"IF(P136>0, Calc_Conversion(Q$6),\"\")","v":""},null,null,{"$f":"IF(S136>0, Calc_Conversion(T$6),\"\")","v":""},128,null,{"$f":"IF(V136>0, Calc_Conversion(W$6),\"\")","v":""},null,null,{"$f":"IF(Y136>0, Calc_Conversion(Z$6),\"\")","v":""},128,null,{"$f":"IF(AB136>0, Calc_Conversion(AC$6),\"\")","v":""},null,null,"",{"$f":"IF(AE136>0, Calc_Conversion_elandheat(AG$4,  AG$6,   AG$4,  AG$6,  AI$4,  AG$4), \"\")","v":""},"",{"$f":"IF(AE136>0, Calc_Conversion_elandheat(AI$4,  1,   AI$4,  AG$6,  AG$4,  AI$4), \"\")","v":""},null,""]
["",129,"","","",null,null,null,null,"","",129,null,{"$f":"IF(AND(K$2>0,M137>0),Calc_Emissions(),\"\")","v":""},null,null,{"$f":"IF(P137>0, Calc_Conversion(Q$6),\"\")","v":""},null,null,{"$f":"IF(S137>0, Calc_Conversion(T$6),\"\")","v":""},129,null,{"$f":"IF(V137>0, Calc_Conversion(W$6),\"\")","v":""},null,null,{"$f":"IF(Y137>0, Calc_Conversion(Z$6),\"\")","v":""},129,null,{"$f":"IF(AB137>0, Calc_Conversion(AC$6),\"\")","v":""},null,null,"",{"$f":"IF(AE137>0, Calc_Conversion_elandheat(AG$4,  AG$6,   AG$4,  AG$6,  AI$4,  AG$4), \"\")","v":""},"",{"$f":"IF(AE137>0, Calc_Conversion_elandheat(AI$4,  1,   AI$4,  AG$6,  AG$4,  AI$4), \"\")","v":""},null,""]
["",130,"","","",null,null,null,null,"","",130,null,{"$f":"IF(AND(K$2>0,M138>0),Calc_Emissions(),\"\")","v":""},null,null,{"$f":"IF(P138>0, Calc_Conversion(Q$6),\"\")","v":""},null,null,{"$f":"IF(S138>0, Calc_Conversion(T$6),\"\")","v":""},130,null,{"$f":"IF(V138>0, Calc_Conversion(W$6),\"\")","v":""},null,null,{"$f":"IF(Y138>0, Calc_Conversion(Z$6),\"\")","v":""},130,null,{"$f":"IF(AB138>0, Calc_Conversion(AC$6),\"\")","v":""},null,null,"",{"$f":"IF(AE138>0, Calc_Conversion_elandheat(AG$4,  AG$6,   AG$4,  AG$6,  AI$4,  AG$4), \"\")","v":""},"",{"$f":"IF(AE138>0, Calc_Conversion_elandheat(AI$4,  1,   AI$4,  AG$6,  AG$4,  AI$4), \"\")","v":""},null,{"$f":"IF(A138<>\"\", (P138+S138+V138+Y138+AB138+AE138)-F138, \"\")","v":""}]
["",131,"","","",null,null,null,null,"","",131,null,{"$f":"IF(AND(K$2>0,M139>0),Calc_Emissions(),\"\")","v":""},null,null,{"$f":"IF(P139>0, Calc_Conversion(Q$6),\"\")","v":""},null,null,{"$f":"IF(S139>0, Calc_Conversion(T$6),\"\")","v":""},131,null,{"$f":"IF(V139>0, Calc_Conversion(W$6),\"\")","v":""},null,null,{"$f":"IF(Y139>0, Calc_Conversion(Z$6),\"\")","v":""},131,null,{"$f":"IF(AB139>0, Calc_Conversion(AC$6),\"\")","v":""},null,null,{"$f":"IF(AND($A139<>\"\",AE139>0), AE139/($AG$3+$AI$3)*$AG$3, \"\")","v":""},{"$f":"IF(AE139>0, Calc_Conversion_elandheat(AG$4,  AG$6,   AG$4,  AG$6,  AI$4,  AG$4), \"\")","v":""},{"$f":"IF(AND($A139<>\"\",AE139>0), AE139/($AG$3+$AI$3)*$AI$3, \"\")","v":""},{"$f":"IF(AE139>0, Calc_Conversion_elandheat(AI$4,  1,   AI$4,  AG$6,  AG$4,  AI$4), \"\")","v":""},null,""]
["",132,"","","",null,null,null,null,"","",132,null,{"$f":"IF(AND(K$2>0,M140>0),Calc_Emissions(),\"\")","v":""},null,null,{"$f":"IF(P140>0, Calc_Conversion(Q$6),\"\")","v":""},null,null,{"$f":"IF(S140>0, Calc_Conversion(T$6),\"\")","v":""},132,null,{"$f":"IF(V140>0, Calc_Conversion(W$6),\"\")","v":""},null,null,{"$f":"IF(Y140>0, Calc_Conversion(Z$6),\"\")","v":""},132,null,{"$f":"IF(AB140>0, Calc_Conversion(AC$6),\"\")","v":""},null,null,"",{"$f":"IF(AE140>0, Calc_Conversion_elandheat(AG$4,  AG$6,   AG$4,  AG$6,  AI$4,  AG$4), \"\")","v":""},"",{"$f":"IF(AE140>0, Calc_Conversion_elandheat(AI$4,  1,   AI$4,  AG$6,  AG$4,  AI$4), \"\")","v":""},null,""]
["",133,"","","",null,null,null,null,"","",133,null,{"$f":"IF(AND(K$2>0,M141>0),Calc_Emissions(),\"\")","v":""},null,null,{"$f":"IF(P141>0, Calc_Conversion(Q$6),\"\")","v":""},null,null,{"$f":"IF(S141>0, Calc_Conversion(T$6),\"\")","v":""},133,null,{"$f":"IF(V141>0, Calc_Conversion(W$6),\"\")","v":""},null,null,{"$f":"IF(Y141>0, Calc_Conversion(Z$6),\"\")","v":""},133,null,{"$f":"IF(AB141>0, Calc_Conversion(AC$6),\"\")","v":""},null,null,"",{"$f":"IF(AE141>0, Calc_Conversion_elandheat(AG$4,  AG$6,   AG$4,  AG$6,  AI$4,  AG$4), \"\")","v":""},"",{"$f":"IF(AE141>0, Calc_Conversion_elandheat(AI$4,  1,   AI$4,  AG$6,  AG$4,  AI$4), \"\")","v":""},null,""]
["",134,"","","",null,null,null,null,"","",134,null,{"$f":"IF(AND(K$2>0,M142>0),Calc_Emissions(),\"\")","v":""},null,null,{"$f":"IF(P142>0, Calc_Conversion(Q$6),\"\")","v":""},null,null,{"$f":"IF(S142>0, Calc_Conversion(T$6),\"\")","v":""},134,null,{"$f":"IF(V142>0, Calc_Conversion(W$6),\"\")","v":""},null,null,{"$f":"IF(Y142>0, Calc_Conversion(Z$6),\"\")","v":""},134,null,{"$f":"IF(AB142>0, Calc_Conversion(AC$6),\"\")","v":""},null,null,"",{"$f":"IF(AE142>0, Calc_Conversion_elandheat(AG$4,  AG$6,   AG$4,  AG$6,  AI$4,  AG$4), \"\")","v":""},"",{"$f":"IF(AE142>0, Calc_Conversion_elandheat(AI$4,  1,   AI$4,  AG$6,  AG$4,  AI$4), \"\")","v":""},null,""]
["",135,"","","",null,null,null,null,"","",135,null,{"$f":"IF(AND(K$2>0,M143>0),Calc_Emissions(),\"\")","v":""},null,null,{"$f":"IF(P143>0, Calc_Conversion(Q$6),\"\")","v":""},null,null,{"$f":"IF(S143>0, Calc_Conversion(T$6),\"\")","v":""},135,null,{"$f":"IF(V143>0, Calc_Conversion(W$6),\"\")","v":""},null,null,{"$f":"IF(Y143>0, Calc_Conversion(Z$6),\"\")","v":""},135,null,{"$f":"IF(AB143>0, Calc_Conversion(AC$6),\"\")","v":""},null,null,"",{"$f":"IF(AE143>0, Calc_Conversion_elandheat(AG$4,  AG$6,   AG$4,  AG$6,  AI$4,  AG$4), \"\")","v":""},"",{"$f":"IF(AE143>0, Calc_Conversion_elandheat(AI$4,  1,   AI$4,  AG$6,  AG$4,  AI$4), \"\")","v":""},null,"",{"$f":"IF(A143<>\"\",#REF!,\"\")","v":""},null,{"$f":"IF(A143<>\"\",    IF(G143=\"Gas\", IF(H143=\"kg\", ((#REF!*Denscalc(I143) +#REF!+#REF!*Denscalc(I143)+#REF!)-F143), ( (#REF!+#REF!/Denscalc(I143) +#REF!+#REF!/Denscalc(I143))-F143)), ( (#REF!*   Denscalc(I143)+#REF!+AL143+#REF!*Denscalc(I143)+#REF!+#REF!)-F143)  ), \"\")","v":""}]
["",136,"","","",null,null,null,null,"","",136,null,{"$f":"IF(AND(K$2>0,M144>0),Calc_Emissions(),\"\")","v":""},null,null,{"$f":"IF(P144>0, Calc_Conversion(Q$6),\"\")","v":""},null,null,{"$f":"IF(S144>0, Calc_Conversion(T$6),\"\")","v":""},136,null,{"$f":"IF(V144>0, Calc_Conversion(W$6),\"\")","v":""},null,null,{"$f":"IF(Y144>0, Calc_Conversion(Z$6),\"\")","v":""},136,null,{"$f":"IF(AB144>0, Calc_Conversion(AC$6),\"\")","v":""},null,null,"",{"$f":"IF(AE144>0, Calc_Conversion_elandheat(AG$4,  AG$6,   AG$4,  AG$6,  AI$4,  AG$4), \"\")","v":""},"",{"$f":"IF(AE144>0, Calc_Conversion_elandheat(AI$4,  1,   AI$4,  AG$6,  AG$4,  AI$4), \"\")","v":""},null,"",{"$f":"IF(A144<>\"\",#REF!,\"\")","v":""},null,{"$f":"IF(A144<>\"\",    IF(G144=\"Gas\", IF(H144=\"kg\", ((#REF!*Denscalc(I144) +#REF!+#REF!*Denscalc(I144)+#REF!)-F144), ( (#REF!+#REF!/Denscalc(I144) +#REF!+#REF!/Denscalc(I144))-F144)), ( (#REF!*   Denscalc(I144)+#REF!+AL144+#REF!*Denscalc(I144)+#REF!+#REF!)-F144)  ), \"\")","v":""}]
["",137,"","","",null,null,null,null,"","",137,null,{"$f":"IF(AND(K$2>0,M145>0),Calc_Emissions(),\"\")","v":""},null,null,{"$f":"IF(P145>0, Calc_Conversion(Q$6),\"\")","v":""},null,null,{"$f":"IF(S145>0, Calc_Conversion(T$6),\"\")","v":""},137,null,{"$f":"IF(V145>0, Calc_Conversion(W$6),\"\")","v":""},null,null,{"$f":"IF(Y145>0, Calc_Conversion(Z$6),\"\")","v":""},137,null,{"$f":"IF(AB145>0, Calc_Conversion(AC$6),\"\")","v":""},null,null,"",{"$f":"IF(AE145>0, Calc_Conversion_elandheat(AG$4,  AG$6,   AG$4,  AG$6,  AI$4,  AG$4), \"\")","v":""},"",{"$f":"IF(AE145>0, Calc_Conversion_elandheat(AI$4,  1,   AI$4,  AG$6,  AG$4,  AI$4), \"\")","v":""},null,"",{"$f":"IF(A145<>\"\",#REF!,\"\")","v":""},null,{"$f":"IF(A145<>\"\",    IF(G145=\"Gas\", IF(H145=\"kg\", ((#REF!*Denscalc(I145) +#REF!+#REF!*Denscalc(I145)+#REF!)-F145), ( (#REF!+#REF!/Denscalc(I145) +#REF!+#REF!/Denscalc(I145))-F145)), ( (#REF!*   Denscalc(I145)+#REF!+AL145+#REF!*Denscalc(I145)+#REF!+#REF!)-F145)  ), \"\")","v":""}]
["",138,"","","",null,null,null,null,"","",138,null,{"$f":"IF(AND(K$2>0,M146>0),Calc_Emissions(),\"\")","v":""},null,null,{"$f":"IF(P146>0, Calc_Conversion(Q$6),\"\")","v":""},null,null,{"$f":"IF(S146>0, Calc_Conversion(T$6),\"\")","v":""},138,null,{"$f":"IF(V146>0, Calc_Conversion(W$6),\"\")","v":""},null,null,{"$f":"IF(Y146>0, Calc_Conversion(Z$6),\"\")","v":""},138,null,{"$f":"IF(AB146>0, Calc_Conversion(AC$6),\"\")","v":""},null,null,"",{"$f":"IF(AE146>0, Calc_Conversion_elandheat(AG$4,  AG$6,   AG$4,  AG$6,  AI$4,  AG$4), \"\")","v":""},"",{"$f":"IF(AE146>0, Calc_Conversion_elandheat(AI$4,  1,   AI$4,  AG$6,  AG$4,  AI$4), \"\")","v":""},null,"",{"$f":"IF(A146<>\"\",#REF!,\"\")","v":""},null,{"$f":"IF(A146<>\"\",    IF(G146=\"Gas\", IF(H146=\"kg\", ((#REF!*Denscalc(I146) +#REF!+#REF!*Denscalc(I146)+#REF!)-F146), ( (#REF!+#REF!/Denscalc(I146) +#REF!+#REF!/Denscalc(I146))-F146)), ( (#REF!*   Denscalc(I146)+#REF!+AL146+#REF!*Denscalc(I146)+#REF!+#REF!)-F146)  ), \"\")","v":""}]
["",139,"","","",null,null,null,null,"","",139,null,{"$f":"IF(AND(K$2>0,M147>0),Calc_Emissions(),\"\")","v":""},null,null,{"$f":"IF(P147>0, Calc_Conversion(Q$6),\"\")","v":""},null,null,{"$f":"IF(S147>0, Calc_Conversion(T$6),\"\")","v":""},139,null,{"$f":"IF(V147>0, Calc_Conversion(W$6),\"\")","v":""},null,null,{"$f":"IF(Y147>0, Calc_Conversion(Z$6),\"\")","v":""},139,null,{"$f":"IF(AB147>0, Calc_Conversion(AC$6),\"\")","v":""},null,null,"",{"$f":"IF(AE147>0, Calc_Conversion_elandheat(AG$4,  AG$6,   AG$4,  AG$6,  AI$4,  AG$4), \"\")","v":""},"",{"$f":"IF(AE147>0, Calc_Conversion_elandheat(AI$4,  1,   AI$4,  AG$6,  AG$4,  AI$4), \"\")","v":""},null,"",{"$f":"IF(A147<>\"\",#REF!,\"\")","v":""},null,{"$f":"IF(A147<>\"\",    IF(G147=\"Gas\", IF(H147=\"kg\", ((#REF!*Denscalc(I147) +#REF!+#REF!*Denscalc(I147)+#REF!)-F147), ( (#REF!+#REF!/Denscalc(I147) +#REF!+#REF!/Denscalc(I147))-F147)), ( (#REF!*   Denscalc(I147)+#REF!+AL147+#REF!*Denscalc(I147)+#REF!+#REF!)-F147)  ), \"\")","v":""}]
["",140,"","","",null,null,null,null,"","",140,null,{"$f":"IF(AND(K$2>0,M148>0),Calc_Emissions(),\"\")","v":""},null,null,{"$f":"IF(P148>0, Calc_Conversion(Q$6),\"\")","v":""},null,null,{"$f":"IF(S148>0, Calc_Conversion(T$6),\"\")","v":""},140,null,{"$f":"IF(V148>0, Calc_Conversion(W$6),\"\")","v":""},null,null,{"$f":"IF(Y148>0, Calc_Conversion(Z$6),\"\")","v":""},140,null,{"$f":"IF(AB148>0, Calc_Conversion(AC$6),\"\")","v":""},null,null,"",{"$f":"IF(AE148>0, Calc_Conversion_elandheat(AG$4,  AG$6,   AG$4,  AG$6,  AI$4,  AG$4), \"\")","v":""},"",{"$f":"IF(AE148>0, Calc_Conversion_elandheat(AI$4,  1,   AI$4,  AG$6,  AG$4,  AI$4), \"\")","v":""},null,"",{"$f":"IF(A148<>\"\",#REF!,\"\")","v":""}]
["",141,"","","",null,null,null,null,"","",141,null,{"$f":"IF(AND(K$2>0,M149>0),Calc_Emissions(),\"\")","v":""},null,null,{"$f":"IF(P149>0, Calc_Conversion(Q$6),\"\")","v":""},null,null,{"$f":"IF(S149>0, Calc_Conversion(T$6),\"\")","v":""},141,null,{"$f":"IF(V149>0, Calc_Conversion(W$6),\"\")","v":""},null,null,{"$f":"IF(Y149>0, Calc_Conversion(Z$6),\"\")","v":""},141,null,{"$f":"IF(AB149>0, Calc_Conversion(AC$6),\"\")","v":""},null,null,"",{"$f":"IF(AE149>0, Calc_Conversion_elandheat(AG$4,  AG$6,   AG$4,  AG$6,  AI$4,  AG$4), \"\")","v":""},"",{"$f":"IF(AE149>0, Calc_Conversion_elandheat(AI$4,  1,   AI$4,  AG$6,  AG$4,  AI$4), \"\")","v":""},null,"",{"$f":"IF(A149<>\"\",#REF!,\"\")","v":""}]
["",142,"","","",null,null,null,null,"","",142,null,{"$f":"IF(AND(K$2>0,M150>0),Calc_Emissions(),\"\")","v":""},null,null,{"$f":"IF(P150>0, Calc_Conversion(Q$6),\"\")","v":""},null,null,{"$f":"IF(S150>0, Calc_Conversion(T$6),\"\")","v":""},142,null,{"$f":"IF(V150>0, Calc_Conversion(W$6),\"\")","v":""},null,null,{"$f":"IF(Y150>0, Calc_Conversion(Z$6),\"\")","v":""},142,null,{"$f":"IF(AB150>0, Calc_Conversion(AC$6),\"\")","v":""},null,null,"",{"$f":"IF(AE150>0, Calc_Conversion_elandheat(AG$4,  AG$6,   AG$4,  AG$6,  AI$4,  AG$4), \"\")","v":""},"",{"$f":"IF(AE150>0, Calc_Conversion_elandheat(AI$4,  1,   AI$4,  AG$6,  AG$4,  AI$4), \"\")","v":""},null,"",{"$f":"IF(A150<>\"\",#REF!,\"\")","v":""}]
["",143,"","","",null,null,null,null,"","",143,null,{"$f":"IF(AND(K$2>0,M151>0),Calc_Emissions(),\"\")","v":""},null,null,{"$f":"IF(P151>0, Calc_Conversion(Q$6),\"\")","v":""},null,null,{"$f":"IF(S151>0, Calc_Conversion(T$6),\"\")","v":""},143,null,{"$f":"IF(V151>0, Calc_Conversion(W$6),\"\")","v":""},null,null,{"$f":"IF(Y151>0, Calc_Conversion(Z$6),\"\")","v":""},143,null,{"$f":"IF(AB151>0, Calc_Conversion(AC$6),\"\")","v":""},null,null,"",{"$f":"IF(AE151>0, Calc_Conversion_elandheat(AG$4,  AG$6,   AG$4,  AG$6,  AI$4,  AG$4), \"\")","v":""},"",{"$f":"IF(AE151>0, Calc_Conversion_elandheat(AI$4,  1,   AI$4,  AG$6,  AG$4,  AI$4), \"\")","v":""},null,""]
[null,144,null,null,null,null,null,null,null,null,null,144,null,{"$f":"IF(AND(K$2>0,M152>0),Calc_Emissions(),\"\")","v":""},null,null,{"$f":"IF(P152>0, Calc_Conversion(Q$6),\"\")","v":""},null,null,{"$f":"IF(S152>0, Calc_Conversion(T$6),\"\")","v":""},144,null,{"$f":"IF(V152>0, Calc_Conversion(W$6),\"\")","v":""},null,null,{"$f":"IF(Y152>0, Calc_Conversion(Z$6),\"\")","v":""},144,null,{"$f":"IF(AB152>0, Calc_Conversion(AC$6),\"\")","v":""},null,null,"",{"$f":"IF(AE152>0, Calc_Conversion_elandheat(AG$4,  AG$6,   AG$4,  AG$6,  AI$4,  AG$4), \"\")","v":""},"",{"$f":"IF(AE152>0, Calc_Conversion_elandheat(AI$4,  1,   AI$4,  AG$6,  AG$4,  AI$4), \"\")","v":""},null,"",{"$f":"IF(A152<>\"\",#REF!,\"\")","v":""},null,{"$f":"IF(A152<>\"\",    IF(G152=\"Gas\", IF(H152=\"kg\", ((#REF!*Denscalc(I152) +#REF!+#REF!*Denscalc(I152)+#REF!)-F152), ( (#REF!+#REF!/Denscalc(I152) +#REF!+#REF!/Denscalc(I152))-F152)), ( (#REF!*   Denscalc(I152)+#REF!+AL152+#REF!*Denscalc(I152)+#REF!+#REF!)-F152)  ), \"\")","v":""}]
[null,145,null,null,null,null,null,null,null,null,null,145,null,{"$f":"IF(AND(K$2>0,M153>0),Calc_Emissions(),\"\")","v":""},null,null,{"$f":"IF(P153>0, Calc_Conversion(Q$6),\"\")","v":""},null,null,{"$f":"IF(S153>0, Calc_Conversion(T$6),\"\")","v":""},145,null,{"$f":"IF(V153>0, Calc_Conversion(W$6),\"\")","v":""},null,null,{"$f":"IF(Y153>0, Calc_Conversion(Z$6),\"\")","v":""},145,null,{"$f":"IF(AB153>0, Calc_Conversion(AC$6),\"\")","v":""},null,null,"",{"$f":"IF(AE153>0, Calc_Conversion_elandheat(AG$4,  AG$6,   AG$4,  AG$6,  AI$4,  AG$4), \"\")","v":""},"",{"$f":"IF(AE153>0, Calc_Conversion_elandheat(AI$4,  1,   AI$4,  AG$6,  AG$4,  AI$4), \"\")","v":""},null,"",{"$f":"IF(A153<>\"\",#REF!,\"\")","v":""},null,{"$f":"IF(A153<>\"\",    IF(G153=\"Gas\", IF(H153=\"kg\", ((#REF!*Denscalc(I153) +#REF!+#REF!*Denscalc(I153)+#REF!)-F153), ( (#REF!+#REF!/Denscalc(I153) +#REF!+#REF!/Denscalc(I153))-F153)), ( (#REF!*   Denscalc(I153)+#REF!+AL153+#REF!*Denscalc(I153)+#REF!+#REF!)-F153)  ), \"\")","v":""}]
[null,146,null,null,null,null,null,null,null,null,null,146,null,{"$f":"IF(AND(K$2>0,M154>0),Calc_Emissions(),\"\")","v":""},null,null,{"$f":"IF(P154>0, Calc_Conversion(Q$6),\"\")","v":""},null,null,{"$f":"IF(S154>0, Calc_Conversion(T$6),\"\")","v":""},146,null,{"$f":"IF(V154>0, Calc_Conversion(W$6),\"\")","v":""},null,null,{"$f":"IF(Y154>0, Calc_Conversion(Z$6),\"\")","v":""},146,null,{"$f":"IF(AB154>0, Calc_Conversion(AC$6),\"\")","v":""},null,null,"",{"$f":"IF(AE154>0, Calc_Conversion_elandheat(AG$4,  AG$6,   AG$4,  AG$6,  AI$4,  AG$4), \"\")","v":""},"",{"$f":"IF(AE154>0, Calc_Conversion_elandheat(AI$4,  1,   AI$4,  AG$6,  AG$4,  AI$4), \"\")","v":""},null,"",{"$f":"IF(A154<>\"\",#REF!,\"\")","v":""},null,{"$f":"IF(A154<>\"\",    IF(G154=\"Gas\", IF(H154=\"kg\", ((#REF!*Denscalc(I154) +#REF!+#REF!*Denscalc(I154)+#REF!)-F154), ( (#REF!+#REF!/Denscalc(I154) +#REF!+#REF!/Denscalc(I154))-F154)), ( (#REF!*   Denscalc(I154)+#REF!+AL154+#REF!*Denscalc(I154)+#REF!+#REF!)-F154)  ), \"\")","v":""}]
[null,147,null,null,null,null,null,null,null,null,null,147,null,{"$f":"IF(AND(K$2>0,M155>0),Calc_Emissions(),\"\")","v":""},null,null,{"$f":"IF(P155>0, Calc_Conversion(Q$6),\"\")","v":""},null,null,{"$f":"IF(S155>0, Calc_Conversion(T$6),\"\")","v":""},147,null,{"$f":"IF(V155>0, Calc_Conversion(W$6),\"\")","v":""},null,null,{"$f":"IF(Y155>0, Calc_Conversion(Z$6),\"\")","v":""},147,null,{"$f":"IF(AB155>0, Calc_Conversion(AC$6),\"\")","v":""},null,null,"",{"$f":"IF(AE155>0, Calc_Conversion_elandheat(AG$4,  AG$6,   AG$4,  AG$6,  AI$4,  AG$4), \"\")","v":""},"",{"$f":"IF(AE155>0, Calc_Conversion_elandheat(AI$4,  1,   AI$4,  AG$6,  AG$4,  AI$4), \"\")","v":""},null,"",{"$f":"IF(A155<>\"\",#REF!,\"\")","v":""},null,{"$f":"IF(A155<>\"\",    IF(G155=\"Gas\", IF(H155=\"kg\", ((#REF!*Denscalc(I155) +#REF!+#REF!*Denscalc(I155)+#REF!)-F155), ( (#REF!+#REF!/Denscalc(I155) +#REF!+#REF!/Denscalc(I155))-F155)), ( (#REF!*   Denscalc(I155)+#REF!+AL155+#REF!*Denscalc(I155)+#REF!+#REF!)-F155)  ), \"\")","v":""}]
["",148,"","","",null,null,null,null,"","",148,null,{"$f":"IF(AND(K$2>0,M156>0),Calc_Emissions(),\"\")","v":""},null,null,{"$f":"IF(P156>0, Calc_Conversion(Q$6),\"\")","v":""},null,null,{"$f":"IF(S156>0, Calc_Conversion(T$6),\"\")","v":""},148,null,{"$f":"IF(V156>0, Calc_Conversion(W$6),\"\")","v":""},null,null,{"$f":"IF(Y156>0, Calc_Conversion(Z$6),\"\")","v":""},148,null,{"$f":"IF(AB156>0, Calc_Conversion(AC$6),\"\")","v":""},null,null,"",{"$f":"IF(AE156>0, Calc_Conversion_elandheat(AG$4,  AG$6,   AG$4,  AG$6,  AI$4,  AG$4), \"\")","v":""},"",{"$f":"IF(AE156>0, Calc_Conversion_elandheat(AI$4,  1,   AI$4,  AG$6,  AG$4,  AI$4), \"\")","v":""},null,"",{"$f":"IF(A156<>\"\",#REF!,\"\")","v":""},null,{"$f":"IF(A156<>\"\",    IF(G156=\"Gas\", IF(H156=\"kg\", ((#REF!*Denscalc(I156) +#REF!+#REF!*Denscalc(I156)+#REF!)-F156), ( (#REF!+#REF!/Denscalc(I156) +#REF!+#REF!/Denscalc(I156))-F156)), ( (#REF!*   Denscalc(I156)+#REF!+AL156+#REF!*Denscalc(I156)+#REF!+#REF!)-F156)  ), \"\")","v":""}]
["",149,"","","",null,null,null,null,"","",149,null,{"$f":"IF(AND(K$2>0,M157>0),Calc_Emissions(),\"\")","v":""},null,null,{"$f":"IF(P157>0, Calc_Conversion(Q$6),\"\")","v":""},null,null,{"$f":"IF(S157>0, Calc_Conversion(T$6),\"\")","v":""},149,null,{"$f":"IF(V157>0, Calc_Conversion(W$6),\"\")","v":""},null,null,{"$f":"IF(Y157>0, Calc_Conversion(Z$6),\"\")","v":""},149,null,{"$f":"IF(AB157>0, Calc_Conversion(AC$6),\"\")","v":""},null,null,"",{"$f":"IF(AE157>0, Calc_Conversion_elandheat(AG$4,  AG$6,   AG$4,  AG$6,  AI$4,  AG$4), \"\")","v":""},"",{"$f":"IF(AE157>0, Calc_Conversion_elandheat(AI$4,  1,   AI$4,  AG$6,  AG$4,  AI$4), \"\")","v":""},null,"",{"$f":"IF(A157<>\"\",#REF!,\"\")","v":""},null,{"$f":"IF(A157<>\"\",    IF(G157=\"Gas\", IF(H157=\"kg\", ((#REF!*Denscalc(I157) +#REF!+#REF!*Denscalc(I157)+#REF!)-F157), ( (#REF!+#REF!/Denscalc(I157) +#REF!+#REF!/Denscalc(I157))-F157)), ( (#REF!*   Denscalc(I157)+#REF!+AL157+#REF!*Denscalc(I157)+#REF!+#REF!)-F157)  ), \"\")","v":""}]
[null,150,"","","",null,null,null,null,"","",150,null,{"$f":"IF(AND(K$2>0,M158>0),Calc_Emissions(),\"\")","v":""},null,null,{"$f":"IF(P158>0, Calc_Conversion(Q$6),\"\")","v":""},null,null,{"$f":"IF(S158>0, Calc_Conversion(T$6),\"\")","v":""},150,null,{"$f":"IF(V158>0, Calc_Conversion(W$6),\"\")","v":""},null,null,{"$f":"IF(Y158>0, Calc_Conversion(Z$6),\"\")","v":""},150,null,{"$f":"IF(AB158>0, Calc_Conversion(AC$6),\"\")","v":""},null,null,"",{"$f":"IF(AE158>0, Calc_Conversion_elandheat(AG$4,  AG$6,   AG$4,  AG$6,  AI$4,  AG$4), \"\")","v":""},"",{"$f":"IF(AE158>0, Calc_Conversion_elandheat(AI$4,  1,   AI$4,  AG$6,  AG$4,  AI$4), \"\")","v":""},null,"",{"$f":"IF(A158<>\"\",#REF!,\"\")","v":""},null,{"$f":"IF(A158<>\"\",    IF(G158=\"Gas\", IF(H158=\"kg\", ((#REF!*Denscalc(I158) +#REF!+#REF!*Denscalc(I158)+#REF!)-F158), ( (#REF!+#REF!/Denscalc(I158) +#REF!+#REF!/Denscalc(I158))-F158)), ( (#REF!*   Denscalc(I158)+#REF!+AL158+#REF!*Denscalc(I158)+#REF!+#REF!)-F158)  ), \"\")","v":""}]
["Summa inköpt biogas i enheten, Nm3",null,null,null,null,{"$f":"SUMIF($G9:$G158,\"=Nm3\",F9:F158)","v":0},"Nm3",null,null,null,null,null,{"$f":"SUMIF($G9:$G158,\"=Nm3\",M9:M158)","v":0},"Nm3",null,{"$f":"SUMIF($G9:$G158,\"=Nm3\",P9:P158)","v":0},"Nm3",null,{"$f":"SUMIF($G9:$G158,\"=Nm3\",S9:S158)","v":0},"Nm3",null,{"$f":"SUMIF($G9:$G158,\"=Nm3\",V9:V158)","v":0},"Nm3",null,{"$f":"SUMIF($G9:$G158,\"=Nm3\",Y9:Y158)","v":0},"Nm3",null,{"$f":"SUMIF($G9:$G158,\"=Nm3\",AB9:AB158)","v":0},"Nm3",null,{"$f":"SUMIF($G9:$G158,\"=Nm3\",AE9:AE158)","v":0},{"$f":"SUMIF($G9:$G158,\"=Nm3\",AF9:AF158)","v":0},null,{"$f":"SUMIF($G9:$G158,\"=Nm3\",AH9:AH158)","v":0},null,null,{"$f":"IF(A159<>\"\", (P159+S159+V159+Y159+AB159+AE159)-F159, \"\")","v":0}]
["Summa inköpt biogas i enheten, kg",null,null,null,null,{"$f":"SUMIF($G9:$G158,\"=kg\",F9:F158)","v":0},"kg","Summa använd biogas i enheten kg",null,null,null,null,{"$f":"SUMIF($G9:$G158,\"=kg\",M9:M158)","v":0},"kg",null,{"$f":"SUMIF($G9:$G158,\"=kg\",P9:P158)","v":0},"kg",null,{"$f":"SUMIF($G9:$G158,\"=kg\",S9:S158)","v":0},"kg",null,{"$f":"SUMIF($G9:$G158,\"=kg\",V9:V158)","v":0},"kg",null,{"$f":"SUMIF($G9:$G158,\"=kg\",Y9:Y158)","v":0},"kg",null,{"$f":"SUMIF($G9:$G158,\"=kg\",AB9:AB158)","v":0},"kg",null,{"$f":"SUMIF($G9:$G158,\"=kg\",AE9:AE158)","v":0},{"$f":"SUMIF($G9:$G158,\"=kg\",AF9:AF158)","v":0},{"$f":"IF(AND($A160<>\"\",AE160>0,$K$2>0), $I160/AG$4 * ($AG$4*$AG$6/(1*$AI$4+$AG$6*$AG$4)), \"\")","v":""},{"$f":"SUMIF($G9:$G158,\"=kg\",AH9:AH158)","v":0},{"$f":"IF(AND($A160<>\"\",AE160>0,$K$2>0), $I160/AI$4 * (1*$AI$4/(1*$AI$4+$AG$6*$AG$4)), \"\")","v":""},null,0]
[null,null,null,null,null,null,null,null,null,null,null,null,null,null,null,null,null,null,null,null,null,null,null,null,null,null,null,null,null,null,null,null,null,null,null,null,null,{"$f":"#REF!+#REF!+#REF!","v":{"$error":"#REF!"}}]
[]
[null,null,null,""]
[]
[]
[]
[]
[]
[]
[]
[]
[]
[]
[null,null,null,""]
[null,null,null,""]
[]
[]
[]
[]
[]
[]
[]
[]
[]
[]
[]
[]
[]
[]
[]
[]
[null,null,null,null,null,{"$f":"SUMIF(#REF!,\"Nm3\",#REF!)","v":{"$error":"#REF!"}}]
[]
[null,null,null,null,null,null,{"$f":"IFERROR(FIND(\"N\",J9,1),\"X\")","v":"X"}]

{"sheet":"Rapport HBL","index":1,"n_rows":4,"n_cols":20,"rows_kept":4,"cut":false,"hidden":false,"merged":[[2,0,2,1],[2,2,2,5],[0,0,0,19],[1,0,1,1],[1,2,1,5]]}
["HBK-El & Värme, ver 1.1 - Underlag för rapportering enligt Hållbarhetslagen"]
["Företag:",null,{"$f":"Gasanvändning!D1","v":"företagsnamn"}]
["Rapportering för år:",null,{"$f":"Gasanvändning!K1","v":2023}]
["Bränsletyp","Bränslekategori","Anläggningens driftsättningsdatum","Användningsområde","Hållbar mängd","Enhet mängd","Effektivt värmevärde","Enhet värmevärde","Ange råvara, för mängder som ej har krav på minskade växthusgasutsläpp","Råvara vid krav på minskade växthusgasutsläpp","Råvarans ursprungsland","Restprodukt eller avfall","Livsmedel/fodergröda","Högrisk ILUC","Metod för bestämmande av växthusgasutsläpp","Produktionskedja","Växthusgasutsläpp g CO2e/MJ","VHG-bonus eb","VHG-bonus esca","Certifiering"]

{"sheet":"Substrat","index":2,"n_rows":312,"n_cols":4,"rows_kept":312,"cut":false,"hidden":false,"merged":[]}
["HBK-El & Värme, ver 1.1  - Substratlista"]
["Substrat / Råvara ( Samma som kategori)","Typ","Råvara vid ej krav på växthusgasminskning","Not"]
["Avfall från djurfodertillverkning","Avfall","Annan restprodukt eller avfall","Rester från tillverkning av foder till husdjur som nötkreatur, svin, fjäderfä, hund- och katt (hanteras i fast form)"]
["Avfall från livsmedelsindustri","Avfall","Annan restprodukt eller avfall","T ex skal från grönsaker, fiskrens, mejeriprodukter, läskedrycksrester, bröd, deg, grönsaker, rester från charkuteri och styckning samt färdig mat. Hanteras antingen i flytande form med tankbil eller i fast form med t ex med container "]
["Avloppsslam","Avfall","Annan restprodukt eller avfall","Inklusive slam från externa reningsverk utan rötkammare. "]
["Deponigas","Avfall","Annan restprodukt eller avfall","Metangas som utvinns från deponier"]
["Drank ","Avfall","Annan restprodukt eller avfall","Från tillverkning av sprit för human konsumtion eller för användning som motorbränsle. "]
["Grödrester","Avfall","Övrig agrobiomassa","Exempelvis halm (torkad och balad), blast från potatis eller sockerbetor"]
["Gödsel","Restp","Restprodukt från jordbruk","Fast eller flytande gödsel från nötkreatur, svin, fjäderfä och andra husdjur"]
["Industrislam","Avfall","Annan restprodukt eller avfall","Slam från rening av industriellt avloppsvatten/avloppsslam och verksamhetsslam, t.ex. fiberslam. "]
["Matavfall","Avfall","Annan restprodukt eller avfall","Källsorterat matavfall från hushåll, matavfall från restauranger och storkök samt matavfall från butiker"]
["Rester från spannmålshantering","Restp","Restprodukt från jordbruk","T ex sekunda spannmål och avrens etc"]
["Rester från biodieselproduktion","Restp","Annan restprodukt eller avfall"]
["Råglycerin","Restp","Annan restprodukt eller avfall","T ex från biodieseltillverkning"]
["Råtallolja","Restp","Annan restprodukt eller avfall","Råtallolja framställd från råtallsåpa, som utvinnes ur sulfatmassaindustrins restavlutar (svartlut) från kokprocesserna."]
["Slaktavfall","Avfall","Annan restprodukt eller avfall","T ex mag- och tarminnehåll, blod, fett och slam från reningsverk vid slakteri"]
["Avfall från naturvård","Avfall","Övrig agrobiomassa","Avser gräs och andra växter som skördats i samband med naturvårdsåtgärder, som till exempel från vägkanter grönområden etc. Lagrat som rundbalsensilage. Tillagd 2023-03-21"]
["Havre","Livsmedel/fodergröda","Övrig agrobiomassa"]
["Helsäd-Vete","Livsmedel/fodergröda","Övrig agrobiomassa","Kärna & halm, lagrat som ensilage"]
["Korn","Livsmedel/fodergröda","Övrig agrobiomassa","Torkad kärna"]
["Majs","Livsmedel/fodergröda","Övrig agrobiomassa","Avser hela plantan, lagrad som ensilage"]
["Mellangröda","Gröda","Övrig agrobiomassa","Är gröda som odlas mellan huvudgrödor på åkermark"]
["Råg","Livsmedel/fodergröda","Övrig agrobiomassa","Torkad kärna"]
["Rågvete","Livsmedel/fodergröda","Övrig agrobiomassa","Torkad kärna"]
["Sockerbetor","Livsmedel/fodergröda","Övrig agrobiomassa","Avser beta utan blast"]
["Vallgröda","Gröda","Övrig agrobiomassa","Klövergräsblandning, lagrat som ensilage"]
["Vete","Livsmedel/fodergröda","Övrig agrobiomassa","Torkad kärna"]
["Ej definierad","Ej def","Ej angivet"]
["Substrat typer",null,"Enl Energimyndighetens rapporteringsmall"]
["Avfall",null,"Annan restprodukt eller avfall"]
["Restp",null,"Avfall från jordbruk"]
["Sampr",null,"Fast kommunalt avfall"]
["Gröda",null,"Restprodukt från jordbruk"]
["Livsmedel/fodergröda",null,"Restprodukt från vattenbruk eller fiske"]
["Bränslekategorier",null,"Skogsbiomassa, inklusive restprodukt från skogsbruk"]
["Biogas (flytande)",null,"Övrig agrobiomassa"]
["Biogas (gasformig)"]
["Biogasol"]
["Enhet"]
["Nm3"]
["kg"]
["Beräkning"]
["F","F = Faktisk beräkning"]
["F, Esca","Esca anges om gödselbonus har tillämpats vid beräkning av växthusgasutsläpp",null,"I filen ska ett av alternativen F eller N anges, kompletterat med Esca för partier där gödselbonus ingår i växthusgasutsläppsvärdet. Exempel F, Esca. "]
["D","D = Delnormalvärde"]
["D, Esca","D = Delnormalvärde"]
["N","N = Normalvärde"]
["N, Esca"]
["Certifieringssystem"]
["2BSvs"]
["Austrian agricultural certification scheme"]
["Better Biomass"]
["Bonsucro EU"]
["ISCC EU"]
["KZR INIG System"]
["Red Cert"]
["RED Tractor"]
["RSB EU RED"]
["RTRS EU RED"]
["SBP"]
["SQC"]
["SURE"]
["Trade Assurance Combinable Crops"]
["Universal Feed Assurance Scheme"]
[]
[]
[]
[]
[]
[]
[]
[]
[]
["Ursprungsland för substrat (för val vid inmatning av substrat)"]
["Sverige"]
["Danmark"]
["Estland"]
["Finland"]
["Frankrike"]
["Lettland"]
["Litauen"]
["Nederländerna"]
["Norge"]
["Polen"]
["Portugal"]
["Storbritannien"]
["Tyskland"]
["USA"]
["Afghanistan"]
["Albanien"]
["Algeriet"]
["Amerikanska Jungfruöarna"]
["Amerikanska Samoa"]
["Andorra"]
["Angola"]
["Anguilla"]
["Antarktis"]
["Antigua och Barbuda"]
["Argentina"]
["Armenien"]
["Aruba"]
["Australien"]
["Azerbajdzjan"]
["Bahamas"]
["Bahrain"]
["Bangladesh"]
["Barbados"]
["Belarus"]
["Belgien"]
["Belize"]
["Benin"]
["Bermuda"]
["Bhutan"]
["Bolivia"]
["Bosnien och Hercegovina"]
["Botswana"]
["Bouvetön"]
["Brasilien"]
["Brittiska Jungfruöarna"]
["Brittiska territoriet i Indiska oceanen"]
["Brunei"]
["Bulgarien"]
["BurkinaFaso"]
["Burundi"]
["Caymanöarna"]
["Centralafrikanska republiken"]
["Ceuta"]
["Chile"]
["Colombia"]
["Cooköarna"]
["CostaRica"]
["Cypern"]
["De franska territorierna i södra Indiska oceanen (Terres australes françaises)"]
["Demokratiska republiken Kongo"]
["Det ockuperade palestinska territoriet"]
["Djibouti"]
["Dominica"]
["Dominikanska republiken"]
["Ecuador"]
["Egypten"]
["Ekvatorialguinea"]
["Elfenbenskusten"]
["ElSalvador"]
["Eritrea"]
["Etiopien"]
["Falklandsöarna (Islas Malvinas)"]
["Fiji"]
["Filippinerna"]
["Franska Polynesien"]
["Färöarna"]
["Förenade Arabemiraten"]
["Gabon"]
["Gambia"]
["Georgien"]
["Ghana"]
["Gibraltar"]
["Grekland"]
["Grenada"]
["Grönland"]
["Guam"]
["Guatemala"]
["Guinea"]
["Guinea-Bissau"]
["Guyana"]
["Haiti"]
["Heard- och McDonaldöarna"]
["Heliga stolen (Vatikanstaten)"]
["Honduras"]
["Hongkong"]
["Indien"]
["Indonesien"]
["Irak"]
["Iran"]
["Irland"]
["Island"]
["Israel"]
["Italien"]
["Jamaica"]
["Japan"]
["Jemen"]
["Jordanien"]
["Julön"]
["Kambodja"]
["Kamerun"]
["Kanada"]
["KapVerde"]
["Kazakstan"]
["Kenya"]
["Kina"]
["Kirgizistan"]
["Kiribati"]
["Kokosöarna (eller Keelingöarna)"]
["Komorerna"]
["Kongo"]
["Kosovov"]
["Kroatien"]
["Kuba"]
["Kuwait"]
["Laos"]
["Lesotho"]
["Libanon"]
["Liberia"]
["Libyen"]
["Liechtenstein"]
["Litauen"]
["Luxemburg"]
["Macao"]
["Madagaskar"]
["Makedonien (F.d. jugoslaviska republiken)"]
["Malawi"]
["Malaysia"]
["Maldiverna"]
["Mali"]
["Malta"]
["Marocko"]
["Marshallöarna"]
["Mauretanien"]
["Mauritius"]
["Mayotte"]
["Melilla"]
["Mexiko"]
["Mikronesien"]
["Moçambique"]
["Moldavien"]
["Mongoliet"]
["Montenegro"]
["Montserrat"]
["Myanmar"]
["Namibia"]
["Nauru"]
["Nederländska Antillerna"]
["Nepal"]
["Nicaragua"]
["Niger"]
["Nigeria"]
["Niue"]
["Nordkorea"]
["Nordmarianerna"]
["Norfolkön"]
["Nya Kaledonien"]
["Nya Zeeland"]
["Oman"]
["Pakistan"]
["Palau"]
["Panama"]
["Papua Nya Guinea"]
["Paraguay"]
["Peru"]
["Pitcairn"]
["Qatar"]
["Rumänien"]
["Rwanda"]
["Ryssland"]
["S:t Helena"]
["S:t Pierre och Miquelon"]
["Saint Kitts och Nevis"]
["Saint Lucia"]
["Saint Vincent och Grenadinerna"]
["Salomonöarna"]
["Samoa"]
["San Marino"]
["São Tomé och Príncipe"]
["Saudiarabien"]
["Schweiz"]
["Senegal"]
["Serbien"]
["Seychellerna"]
["Sierra Leone"]
["Singapore"]
["Slovakien"]
["Slovenien"]
["Somalia"]
["Spanien"]
["Sri Lanka"]
["Sudan"]
["Surinam"]
["Swaziland"]
["Sydafrika"]
["Sydgeorgien och Sydsandwichöarna"]
["Sydkorea"]
["Syrien"]
["Tadzjikistan"]
["Taiwan"]
["Tanzania"]
["Tchad"]
["Thailand"]
["Timor-Leste"]
["Tjeckien"]
["Togo"]
["Tokelau"]
["Tonga"]
["Trinidad och Tobago"]
["Tunisien"]
["Turkiet"]
["Turkmenistan"]
["Turks- och Caicosöarna"]
["Tuvalu"]
["Uganda"]
["Ukraina"]
["Ungern"]
["Ursprungsland saknas – utanför EU/EES"]
["Uruguay"]
["USAs mindre öar i Oceanien och Västindien"]
["Uzbekistan"]
["Vanuatu"]
["Venezuela"]
["Vietnam"]
["Vitryssland"]
["Wallis och Futuna"]
["Zambia"]
["Zimbabwe"]
["Österrike"]

{"sheet":"Data","index":3,"n_rows":60,"n_cols":5,"rows_kept":60,"cut":false,"hidden":false,"merged":[[0,0,0,4]]}
["HBK-El & Värme, ver 1.1  - Underlagsdata"]
["Allmänna data",null,null,null,"Kommentar"]
["Omräkningsfaktorer till CO2 eq CH4 (gram/gram)",25,null,null,"Energimyndighetens föreskrifter STEM2021:7"]
["Omräkningsfaktorer till CO2 eq N2O (gram/gram)",298,null,null,"Energimyndighetens föreskrifter STEM2021:7"]
["Densitet metan, kg/Nm3",0.71750000000000003,null,null,"Svenskt Gastekniskt Center (www.sgc.se)"]
["Energiinnehåll metan, MJ/Nm3",{"$f":"50*B5","v":35.875},null,null,"Biograce: 50,0 MJ/kg "]
["Energiinnehåll metan, MJ/kg",50,null,null,"Biograce: 50,0 MJ/kg "]
["Ef; Fossila motsvarigheten vid produktion av värme,  gCO2eq/MJ",80,null,null,"Energimyndighetens föreskrifter STEM2021:7"]
["Ef; Fossila motsvarigheten vid produktion av el,  gCO2eq/MJ",183,null,null,"Energimyndighetens föreskrifter STEM2021:7"]
["Krav på växthusgasminskning mellan 2021-01-01 och 2025-12-31",0.7]
["Krav på växthusgasminskning mellan 2021-01-01 och 2025-12-31",0.8]
["Ja",null,null,null,"För val av Ja / Nej - alternativ"]
["Nej",null,null,null,"För val av Ja / Nej - alternativ"]
["Nm3",null,null,null,"För val av kg/Nm3 - alternativ"]
["kg",null,null,null,"För val av kg/Nm3 - alternativ"]
["Datum 1 för krav på växthusgasminskning","2020-12-31",null,null,"Före detta datum inget krav. Mellan datum 1 och 2, 70% minskning"]
["Datum 2 för krav på växthusgasminskning","2025-12-31",null,null,"Efter detta datum krav på 80% minskning"]
["Gränsvärde för varning för avvikelse i massbalans",0.05,null,null,"Detta värde används vid kontroll av massbalans i distributionsbladet. Vid större avvikelse rödmarkeras avvikelsen för partiet"]
["Visa välkomstsida","Ja"]
["Elektricitet","gCO2eq/MWh","gCO2eq/MJ",null,"Kommentar"]
["El",26000,{"$f":"B21/1000/3.6","v":7.2222222222222223},null,"Källa: Energimyndigheten, uppdatarad 2022-01-27"]
["Bränsle till fordon (maskiner) och transporter","gCO2eq/liter (kg)","gCO2eq/MJ","MJ/liter (kg)","Kommentar"]
["Diesel MK1, liter",{"$f":"C23*D23","v":2354.5099999999998},66.7,35.299999999999997,"Källa: Energimyndighetens webbsida Växthusgasutsläpp, uppdatarad 2024-01-02"]
["Eco Par A",3289.8440999999998,94.3,34.887,"Källa: Well-to-tank appendix 2 - version 4A, summary of energy and GHG balance of individual pathways, well-to-wheels analysis of future automotive fuels and powertrains in the european context. http://iet.jrc.ec.europa.eu/about-jec"]
["Eco Par Bio",349.98796800000002,10.224,34.231999999999999,"Källa: Eco Par AB, 2019-01-24"]
["Preem Evolution Diesel",2298,{"$f":"B26/D26","v":66.081955427749818},34.774999999999999,"Källa: Preem 2024-01-16"]
["ACP Diesel 50",1820,{"$f":"B27/D27","v":52.631578947368425},34.58,"Källa: Preem 2024-01-16"]
["Diesel med RME",3188,{"$f":"B28/D28","v":90.725404820854308},35.139000000000003,"Källa: Preem 2024-01-16"]
["FAME100, liter",1098.8999999999999,33.299999999999997,33,"Källa: Energimyndighetens webbsida Växthusgasutsläpp, uppdaterad 2024-01-02"]
["HVO100, liter",357,10.5,34,"Källa: Energimyndighetens webbsida Växthusgasutsläpp, uppdatarad 2024-01-02"]
["Biogas-100, kg",0,0,48.8,"Källa: Energimyndighetens webbsida Växthusgasutsläpp, uppdatarad 2024-01-15"]
["Biogas-50, kg",1626.8175000000001,{"$f":"(C31*0.5)+(C33*0.5)","v":34.65},{"$f":"(D31*0.5)+(D33*0.5)","v":46.95},"Källa: Energimyndighetens webbsida Växthusgasutsläpp, uppdatarad 2024-01-15"]
["Naturgas, kg",3125.43,69.3,45.1,"Rådets direktiv (EU) 2015/652 av den 20 april 2015 om fastställande av beräkningsmetoder och rapporteringskrav i enlighet med Europaparlamentets och rådets direktiv 98/70/EG om kvaliteten på bensin och dieselbränslen"]
["LBG-100, kg",245.00000000000003,4.9000000000000004,50,"För användning i Otto-motor. Baserat på METHANE AS VEHICLE FUEL  – A WELL-TO-WHEEL ANALYSIS (METDRIV) (Börjesson et al., 2016) antas samma som för komprimerad biogas."]
["LBG-50, kg",1985.0000000000002,{"$f":"(C34*0.5)+(C36*0.5)","v":39.700000000000003},{"$f":"(D34*0.5)+(D36*0.5)","v":50},"För användning i Otto-motor. 50 % LBG och 50 % LNG"]
["LNG, kg",3725,74.5,50,"Rådets direktiv (EU) 2015/652 av den 20 april 2015 om fastställande av beräkningsmetoder och rapporteringskrav i enlighet med Europaparlamentets och rådets direktiv 98/70/EG om kvaliteten på bensin och dieselbränslen"]
["LBG+10% diesel, kg+liter",null,{"$f":"(0.9*C34)+(0.1*C23)","v":11.080000000000002},null,"För användning i dual-fuel motorer. Utsläpp från en mix bestående av 90 % biogas/naturgas och 10 % diesel. Energiinnehåll anges inte pga blandning mellan diesel och gas. "]
["LBG 50+10% diesel, kg+liter",null,{"$f":"(0.9*C35)+(0.1*C23)","v":42.400000000000006},null,"För användning i dual-fuel motorer. Utsläpp från en mix bestående av 90 % biogas/naturgas och 10 % diesel. Energiinnehåll anges inte pga blandning mellan diesel och gas. "]
["LNG+10% diesel, liter+kg",null,{"$f":"(0.9*C36)+(0.1*C23)","v":73.72},null,"För användning i dual-fuel motorer. Utsläpp från en mix bestående av 90 % biogas/naturgas och 10 % diesel. Energiinnehåll anges inte pga blandning mellan diesel och gas. "]
["Etanol E85, liter",{"$f":"C40*D40","v":1133.73},45.9,24.7,"Källa: Energimyndighetens webbsida Växthusgasutsläpp, uppdatarad 2022-10-31"]
["Eget värde 1",999999,999999,999999,"Eget värde som ska kunna verifieras"]
["Eget värde 2",999999,999999,999999,"Eget värde som ska kunna verifieras"]
["Eget värde 3",999999,999999,999999,"Eget värde som ska kunna verifieras"]
["Eget värde 4",999999,999999,999999,"Eget värde som ska kunna verifieras"]
["Transport av gas till anläggning","Bränsleförbruk-ning, MJ/km",null,null,"Kommentar"]
["Lastbil, 1 cont, flytande bränsle",{"$f":"((0.251+0.495)/2)*D23","v":13.166899999999998},null,null,"NTM Fordonskategori 9. City trailer. 33 ton lastkapacitet. Landsväg. Genomsnittligförbrukning för hela transporten då tom återtransport inkluderas.  Förbrukning vid 100% lastgrad dit + Förbrukning vid 0 % lastgrad tillbaka."]
["Lastbil, m  släp, flytande bränsle",{"$f":"((0.608+0.334)/2)*D23","v":16.626299999999997},null,null,"Baserat på 58 tons total lastvikt ( Benjaminsson & Nilsson 2009). NTM Fordonskategori 10. . 40 ton lastkapacitet. Landsväg. Genomsnittligförbrukning för hela transporten då tom återtransport inkluderas.  Förbrukning vid 100% lastgrad dit + Förbrukning vid 0 % lastgrad tillbaka."]
["Tankbil LBG, flytande bränsle",{"$f":"((0.268+0.528)/2)*D23","v":14.0494},null,null,"NTM Fordonskategori 9. 33 ton lastkapacitet. Landsväg. Genomsnittlig förbrukning för hela transporten då tom återtransport inkluderas.  Förbrukning vid 100% lastgrad dit + Förbrukning vid 0 % lastgrad tillbaka."]
["Tankbil Gasol, flytande bränsle",{"$f":"((0.268+0.528)/2)*D23","v":14.0494},null,null,"NTM Fordonskategori 9. 33 ton lastkapacitet. Landsväg. Genomsnittlig förbrukning för hela transporten då tom återtransport inkluderas.  Förbrukning vid 100% lastgrad dit + Förbrukning vid 0 % lastgrad tillbaka."]
["Lastbil, 1 cont, gas",{"$f":"((0.251+0.495)/2)*D31*1.18","v":21.478831999999997},null,null,"NTM Fordonskategori 9. City trailer. 33 ton lastkapacitet. Landsväg. Genomsnittligförbrukning för hela transporten då tom återtransport inkluderas.  Förbrukning vid 100% lastgrad dit + Förbrukning vid 0 % lastgrad tillbaka. Energiförbrukning antas öka med 18 % pga gas baserat på MetDriv (Börjesson et al. 2017). "]
["Lastbil, m  släp, gas",{"$f":"((0.608+0.334)/2)*D31*1.18","v":27.122063999999995},null,null,"Baserat på 58 tons total lastvikt ( Benjaminsson & Nilsson 2009). NTM Fordonskategori 10. . 40 ton lastkapacitet. Landsväg. Genomsnittligförbrukning för hela transporten då tom återtransport inkluderas.  Förbrukning vid 100% lastgrad dit + Förbrukning vid 0 % lastgrad tillbaka. Energiförbrukning antas öka med 18 % pga gas baserat på MetDriv (Börjesson et al. 2017). "]
["Tankbil LBG, gas",{"$f":"((0.268+0.528)/2)*D31*1.18","v":22.918431999999999},null,null,"NTM Fordonskategori 9. 33 ton lastkapacitet. Landsväg. Genomsnittlig förbrukning för hela transporten då tom återtransport inkluderas.  Förbrukning vid 100% lastgrad dit + Förbrukning vid 0 % lastgrad tillbaka. Energiförbrukning antas öka med 18 % pga gas baserat på MetDriv (Börjesson et al. 2017). "]
["Lastbil, 1 cont, dual-fuel",{"$f":"B46","v":13.166899999999998},null,null,"NTM Fordonskategori 9. City trailer. 33 ton lastkapacitet. Landsväg. Genomsnittligförbrukning för hela transporten då tom återtransport inkluderas.  Förbrukning vid 100% lastgrad dit + Förbrukning vid 0 % lastgrad tillbaka."]
["Lastbil, m  släp, dual-fuel",{"$f":"B47","v":16.626299999999997},null,null,"Baserat på 58 tons total lastvikt ( Benjaminsson & Nilsson 2009). NTM Fordonskategori 10. . 40 ton lastkapacitet. Landsväg. Genomsnittligförbrukning för hela transporten då tom återtransport inkluderas.  Förbrukning vid 100% lastgrad dit + Förbrukning vid 0 % lastgrad tillbaka."]
["Tankbil LBG, dual-fuel",{"$f":"B49","v":14.0494},null,null,"NTM Fordonskategori 9. 33 ton lastkapacitet. Landsväg. Genomsnittlig förbrukning för hela transporten då tom återtransport inkluderas.  Förbrukning vid 100% lastgrad dit + Förbrukning vid 0 % lastgrad tillbaka."]
["Eget värde 1",99,null,null,"Eget värde som ska kunna verifieras"]
["Eget värde 2",99,null,null,"Eget värde som ska kunna verifieras"]
["Eget värde 3",99,null,null,"Eget värde som ska kunna verifieras"]
["Eget värde 4",99,null,null,"Eget värde som ska kunna verifieras"]
["Eget värde 5",99,null,null,"Eget värde som ska kunna verifieras"]

{"sheet":"Egna Data","index":4,"n_rows":1,"n_cols":1,"rows_kept":1,"cut":false,"hidden":false,"merged":[[0,0,0,13]]}
["HBK-El & Värme, ver 1.1  - Egna data, blad 1"]